{"text_format":"1","workbook":"xlsx","n_sheets":12,"sheets":["الرئيسية","اسماء المتعلمين","FirstPartDegrees1","SeconedPartDegrees1","للطباعة1","كشف الدرجات المختصر1","Final Degree1","FirstPartDegrees2","SeconedPartDegrees2","كشف الدرجات المختصر2","Final Degree2","للطباعة"],"not_rendered":{"charts":0,"images":14,"macros":1,"external_links":0,"defined_names":13,"comments":0,"pivot_tables":0},"unopened":[],"bounds":{"document_bytes":16777216,"sheet_cells":100000,"rows_first":2000,"rows_last":500,"rows_between":2000,"halvings":0,"cell_chars":16384,"cell_head_chars":4096},"cells_cut":0,"cells_raw":0,"read":"whole","date_system":"1900"}

{"sheet":"الرئيسية","index":0,"n_rows":40,"n_cols":13,"rows_kept":40,"cut":false,"hidden":false,"merged":[[17,5,18,8],[17,12,18,17],[20,4,21,5],[20,8,21,9],[20,11,21,12],[20,14,21,15],[20,17,21,18],[14,4,14,5],[14,7,14,11],[2,2,4,17],[9,4,9,5],[9,7,9,11],[10,4,10,5],[10,7,10,11],[11,4,11,5],[11,7,11,11],[12,1,13,2],[12,4,12,5],[12,7,12,11],[13,4,13,5],[13,7,13,11]]}
[]
[]
[]
[]
[]
[]
[]
[]
[]
[]
[null,null,null,null,null,null,1,{"$f":"INDEX(E31:E34,M11)","v":"2018-2017"},null,null,null,null,1]
[null,null,null,null,null,null,null,{"$f":"INDEX(A31:A37,M12)","v":"منطقة حولي التعليمية"},null,null,null,null,2]
[null,null,null,null,null,null,null,""]
[null,null,null,null,null,null,null,""]
[null,null,null,null,null,null,null,{"$f":"INDEX(C31:C40,M15)","v":"7-1"},null,null,null,null,1]
[]
[]
[]
[]
[]
[]
[]
[]
[]
[]
[]
[]
[]
[]
[]
["منطقة العاصمة التعليمية",null,"7-1",null,"2018-2017"]
["منطقة حولي التعليمية",null,"7-2",null,"2019-2018"]
["منطقة الفروانية التعليمية",null,"7-3",null,"2020-2019"]
["منطقة الاحمدي التعليمية",null,"7-4",null,"2021-2020"]
["منطقة الجهراء التعليمية",null,"7-5"]
["منطقة مبارك الكبير التعليمية",null,"7-6"]
["إدارة التعليم الخاص",null,"7-7"]
[null,null,"7-8"]
[null,null,"7-9"]
[null,null,"7-10"]

{"sheet":"اسماء المتعلمين","index":1,"n_rows":0,"n_cols":0,"rows_kept":0,"cut":false,"hidden":false,"merged":[]}

{"sheet":"FirstPartDegrees1","index":2,"n_rows":152,"n_cols":23,"rows_kept":152,"cut":false,"hidden":false,"merged":[[146,0,147,0],[148,0,149,0],[150,0,151,0],[136,0,137,0],[138,0,139,0],[140,0,141,0],[142,0,143,0],[144,0,145,0],[126,0,127,0],[128,0,129,0],[130,0,131,0],[132,0,133,0],[134,0,135,0],[116,0,117,0],[118,0,119,0],[120,0,121,0],[122,0,123,0],[124,0,125,0],[110,0,111,0],[112,0,113,0],[114,0,115,0],[92,0,93,0],[94,0,95,0],[96,0,97,0],[98,0,99,0],[100,0,101,0],[102,0,103,0],[104,0,105,0],[106,0,107,0],[108,0,109,0],[90,0,91,0],[88,0,89,0],[86,0,87,0],[84,0,85,0],[82,0,83,0],[68,0,69,0],[66,0,67,0],[64,0,65,0],[62,0,63,0],[70,0,71,0],[72,0,73,0],[74,0,75,0],[76,0,77,0],[78,0,79,0],[80,0,81,0],[60,0,61,0],[58,0,59,0],[56,0,57,0],[54,0,55,0],[52,0,53,0],[50,0,51,0],[48,0,49,0],[46,0,47,0],[44,0,45,0],[42,0,43,0],[40,0,41,0],[38,0,39,0],[36,0,37,0],[34,0,35,0],[32,0,33,0],[30,0,31,0],[28,0,29,0],[26,0,27,0],[24,0,25,0],[22,0,23,0],[20,0,21,0],[18,0,19,0],[16,0,17,0],[14,0,15,0],[12,0,13,0],[7,10,7,11],[7,12,7,13],[8,2,8,3],[8,4,8,5],[8,6,8,7],[8,8,8,9],[8,10,8,11],[8,12,8,13],[7,8,7,9],[7,0,11,0],[7,1,11,1],[7,2,7,3],[7,4,7,5],[7,6,7,7],[6,12,6,13],[3,0,3,1],[4,0,4,1],[5,0,5,1],[5,5,5,9],[6,2,6,3],[4,2,4,11]]}
[null,null,null,null,null,null,null,null,null,null,null,null,null,null,null,null,null,null,null,null,null,4,"غياب"]
[null,null,null,null,null,null,null,null,null,null,null,null,null,null,null,null,null,null,null,null,null,3,"عزوف عن تطبيق ورقة العمل"]
[null,null,null,null,null,null,null,null,null,null,null,null,null,null,null,null,null,null,null,null,null,2,"قليل المشاركة في الانشطة الصفية"]
[null,null,null,null,null,null,null,null,null,null,null,null,null,null,null,null,null,null,null,null,null,1,"يحتاج إلى تعزيز في السلوكيات التربوية"]
[{"$f":"الرئيسية!H12","v":"منطقة حولي التعليمية"},null,"كشــــــف درجات المتعلمين في مادة تكنولوجيا المعلومات والاتصالات",null,null,null,null,null,null,null,null,null,null,null,null,null,null,null,null,null,null,0,"لا يحضر ادواته ( الكتاب ، .... ) "]
[{"$f":"\"مدرسة \"& الرئيسية!H13","v":"مدرسة "},null,null,null,null,null,null,null,null,null,null,null,"العام الدراسي :",{"$f":"الرئيسية!H11","v":"2018-2017"},null,null,null,null,null,null,null,null,"أخرى"]
[null,"اسم المعلم :",{"$f":"الرئيسية!H14","v":""},null,null,null,"الصف : ",{"$f":"الرئيسية!H15","v":"7-1"},null,null,null,null,"الفصل الدراسي الأول"]
["م","اسم المتعلم / المتعلمة","الدرس الأول - الشبكات",null,"الدرس الثاني - الانترنت",null,"الدرس الثالث - كيف انظم ملفاتي",null,"الدرس الرابع - كيف أجري حساباتي",null,"الدرس الخامس - كيف إنشيء مخطط بياني",null,"الدرس السادس  - كيف انسق بياناتي"]
[]
[null,null,"كفاية 2.2","كفاية 3.2","كفاية 3.1","كفاية 2.2","كفاية 1.1","كفاية 1.3","كفاية 2.1","كفاية 4.1","كفاية 2.3","كفاية 4.1","كفاية 2.1","كفاية 4.3"]
[null,null,"النقاط","النقاط","النقاط","النقاط","النقاط","النقاط","النقاط","النقاط","النقاط","النقاط","النقاط","النقاط"]
[null,null,4,4,4,4,4,4,4,4,4,4,4,4]
[1,{"$f":"IF(INDIRECT(ADDRESS(A13,1,1,,\"اسماء المتعلمين\"))=\"\",\"\",INDIRECT(ADDRESS(A13,1,1,,\"اسماء المتعلمين\")))","v":""}]
[null,"ملاحظات"]
[2,{"$f":"IF(INDIRECT(ADDRESS(A15,1,1,,\"اسماء المتعلمين\"))=\"\",\"\",INDIRECT(ADDRESS(A15,1,1,,\"اسماء المتعلمين\")))","v":""}]
[null,"ملاحظات"]
[3,""]
[null,"ملاحظات"]
[4,""]
[null,"ملاحظات"]
[5,""]
[null,"ملاحظات"]
[6,""]
[null,"ملاحظات"]
[7,""]
[null,"ملاحظات"]
[8,""]
[null,"ملاحظات"]
[9,""]
[null,"ملاحظات"]
[10,""]
[null,"ملاحظات"]
[11,""]
[null,"ملاحظات"]
[12,""]
[null,"ملاحظات"]
[13,""]
[null,"ملاحظات"]
[14,""]
[null,"ملاحظات"]
[15,""]
[null,"ملاحظات"]
[16,""]
[null,"ملاحظات"]
[17,""]
[null,"ملاحظات"]
[18,""]
[null,"ملاحظات"]
[19,""]
[null,"ملاحظات"]
[20,""]
[null,"ملاحظات"]
[21,""]
[null,"ملاحظات"]
[22,""]
[null,"ملاحظات"]
[23,""]
[null,"ملاحظات"]
[24,""]
[null,"ملاحظات"]
[25,""]
[null,"ملاحظات"]
[26,""]
[null,"ملاحظات"]
[27,""]
[null,"ملاحظات"]
[28,""]
[null,"ملاحظات"]
[29,""]
[null,"ملاحظات"]
[30,""]
[null,"ملاحظات"]
[31,""]
[null,"ملاحظات"]
[32,""]
[null,"ملاحظات"]
[33,""]
[null,"ملاحظات"]
[34,{"$f":"IF(INDIRECT(ADDRESS(A79,1,1,,\"اسماء المتعلمين\"))=\"\",\"\",INDIRECT(ADDRESS(A79,1,1,,\"اسماء المتعلمين\")))","v":""}]
[null,"ملاحظات"]
[35,""]
[null,"ملاحظات"]
[36,""]
[null,"ملاحظات"]
[37,""]
[null,"ملاحظات"]
[38,""]
[null,"ملاحظات"]
[39,""]
[null,"ملاحظات"]
[40,""]
[null,"ملاحظات"]
[41,""]
[null,"ملاحظات"]
[42,""]
[null,"ملاحظات"]
[43,""]
[null,"ملاحظات"]
[44,""]
[null,"ملاحظات"]
[45,""]
[null,"ملاحظات"]
[46,""]
[null,"ملاحظات"]
[47,""]
[null,"ملاحظات"]
[48,""]
[null,"ملاحظات"]
[49,""]
[null,"ملاحظات"]
[50,""]
[null,"ملاحظات"]
[51,""]
[null,"ملاحظات"]
[52,""]
[null,"ملاحظات"]
[53,""]
[null,"ملاحظات"]
[54,""]
[null,"ملاحظات"]
[55,""]
[null,"ملاحظات"]
[56,""]
[null,"ملاحظات"]
[57,""]
[null,"ملاحظات"]
[58,""]
[null,"ملاحظات"]
[59,""]
[null,"ملاحظات"]
[60,""]
[null,"ملاحظات"]
[61,""]
[null,"ملاحظات"]
[62,""]
[null,"ملاحظات"]
[63,""]
[null,"ملاحظات"]
[64,""]
[null,"ملاحظات"]
[65,""]
[null,"ملاحظات"]
[66,{"$f":"IF(INDIRECT(ADDRESS(A143,1,1,,\"اسماء المتعلمين\"))=\"\",\"\",INDIRECT(ADDRESS(A143,1,1,,\"اسماء المتعلمين\")))","v":""}]
[null,"ملاحظات"]
[67,""]
[null,"ملاحظات"]
[68,""]
[null,"ملاحظات"]
[69,""]
[null,"ملاحظات"]
[70,""]
[null,"ملاحظات"]

{"sheet":"SeconedPartDegrees1","index":3,"n_rows":152,"n_cols":29,"rows_kept":152,"cut":false,"hidden":false,"merged":[[148,0,149,0],[148,15,149,15],[148,16,149,16],[148,17,149,17],[148,18,149,18],[148,19,149,19],[148,20,149,20],[150,0,151,0],[150,15,151,15],[150,16,151,16],[150,17,151,17],[150,18,151,18],[150,19,151,19],[150,20,151,20],[144,0,145,0],[144,15,145,15],[144,16,145,16],[144,17,145,17],[144,18,145,18],[144,19,145,19],[144,20,145,20],[146,0,147,0],[146,15,147,15],[146,16,147,16],[146,17,147,17],[146,18,147,18],[146,19,147,19],[146,20,147,20],[140,0,141,0],[140,15,141,15],[140,16,141,16],[140,17,141,17],[140,18,141,18],[140,19,141,19],[140,20,141,20],[142,0,143,0],[142,15,143,15],[142,16,143,16],[142,17,143,17],[142,18,143,18],[142,19,143,19],[142,20,143,20],[136,0,137,0],[136,15,137,15],[136,16,137,16],[136,17,137,17],[136,18,137,18],[136,19,137,19],[136,20,137,20],[138,0,139,0],[138,15,139,15],[138,16,139,16],[138,17,139,17],[138,18,139,18],[138,19,139,19],[138,20,139,20],[132,0,133,0],[132,15,133,15],[132,16,133,16],[132,17,133,17],[132,18,133,18],[132,19,133,19],[132,20,133,20],[134,0,135,0],[134,15,135,15],[134,16,135,16],[134,17,135,17],[134,18,135,18],[134,19,135,19],[134,20,135,20],[128,0,129,0],[128,15,129,15],[128,16,129,16],[128,17,129,17],[128,18,129,18],[128,19,129,19],[128,20,129,20],[130,0,131,0],[130,15,131,15],[130,16,131,16],[130,17,131,17],[130,18,131,18],[130,19,131,19],[130,20,131,20],[124,0,125,0],[124,15,125,15],[124,16,125,16],[124,17,125,17],[124,18,125,18],[124,19,125,19],[124,20,125,20],[126,0,127,0],[126,15,127,15],[126,16,127,16],[126,17,127,17],[126,18,127,18],[126,19,127,19],[126,20,127,20],[120,0,121,0],[120,15,121,15],[120,16,121,16],[120,17,121,17],[120,18,121,18],[120,19,121,19],[120,20,121,20],[122,0,123,0],[122,15,123,15],[122,16,123,16],[122,17,123,17],[122,18,123,18],[122,19,123,19],[122,20,123,20],[116,0,117,0],[116,15,117,15],[116,16,117,16],[116,17,117,17],[116,18,117,18],[116,19,117,19],[116,20,117,20],[118,0,119,0],[118,15,119,15],[118,16,119,16],[118,17,119,17],[118,18,119,18],[118,19,119,19],[118,20,119,20],[112,0,113,0],[112,15,113,15],[112,16,113,16],[112,17,113,17],[112,18,113,18],[112,19,113,19],[112,20,113,20],[114,0,115,0],[114,15,115,15],[114,16,115,16],[114,17,115,17],[114,18,115,18],[114,19,115,19],[114,20,115,20],[108,0,109,0],[108,15,109,15],[108,16,109,16],[108,17,109,17],[108,18,109,18],[108,19,109,19],[108,20,109,20],[110,0,111,0],[110,15,111,15],[110,16,111,16],[110,17,111,17],[110,18,111,18],[110,19,111,19],[110,20,111,20],[104,0,105,0],[104,15,105,15],[104,16,105,16],[104,17,105,17],[104,18,105,18],[104,19,105,19],[104,20,105,20],[106,0,107,0],[106,15,107,15],[106,16,107,16],[106,17,107,17],[106,18,107,18],[106,19,107,19],[106,20,107,20],[100,0,101,0],[100,15,101,15],[100,16,101,16],[100,17,101,17],[100,18,101,18],[100,19,101,19],[100,20,101,20],[102,0,103,0],[102,15,103,15],[102,16,103,16],[102,17,103,17],[102,18,103,18],[102,19,103,19],[102,20,103,20],[96,0,97,0],[96,15,97,15],[96,16,97,16],[96,17,97,17],[96,18,97,18],[96,19,97,19],[96,20,97,20],[98,0,99,0],[98,15,99,15],[98,16,99,16],[98,17,99,17],[98,18,99,18],[98,19,99,19],[98,20,99,20],[92,0,93,0],[92,15,93,15],[92,16,93,16],[92,17,93,17],[92,18,93,18],[92,19,93,19],[92,20,93,20],[94,0,95,0],[94,15,95,15],[94,16,95,16],[94,17,95,17],[94,18,95,18],[94,19,95,19],[94,20,95,20],[80,19,81,19],[80,20,81,20],[80,0,81,0],[80,15,81,15],[80,16,81,16],[80,17,81,17],[80,18,81,18],[78,19,79,19],[78,20,79,20],[78,0,79,0],[78,15,79,15],[78,16,79,16],[78,17,79,17],[78,18,79,18],[76,19,77,19],[76,20,77,20],[76,0,77,0],[76,15,77,15],[76,16,77,16],[76,17,77,17],[76,18,77,18],[74,19,75,19],[74,20,75,20],[74,0,75,0],[74,15,75,15],[74,16,75,16],[74,17,75,17],[74,18,75,18],[72,19,73,19],[72,20,73,20],[72,0,73,0],[72,15,73,15],[72,16,73,16],[72,17,73,17],[72,18,73,18],[70,19,71,19],[70,20,71,20],[70,0,71,0],[70,15,71,15],[70,16,71,16],[70,17,71,17],[70,18,71,18],[68,19,69,19],[68,20,69,20],[68,0,69,0],[68,15,69,15],[68,16,69,16],[68,17,69,17],[68,18,69,18],[66,19,67,19],[66,20,67,20],[66,0,67,0],[66,15,67,15],[66,16,67,16],[66,17,67,17],[66,18,67,18],[64,19,65,19],[64,20,65,20],[64,0,65,0],[64,15,65,15],[64,16,65,16],[64,17,65,17],[64,18,65,18],[62,19,63,19],[62,20,63,20],[62,0,63,0],[62,15,63,15],[62,16,63,16],[62,17,63,17],[62,18,63,18],[60,19,61,19],[60,20,61,20],[60,0,61,0],[60,15,61,15],[60,16,61,16],[60,17,61,17],[60,18,61,18],[58,19,59,19],[58,20,59,20],[58,0,59,0],[58,15,59,15],[58,16,59,16],[58,17,59,17],[58,18,59,18],[56,19,57,19],[56,20,57,20],[56,0,57,0],[56,15,57,15],[56,16,57,16],[56,17,57,17],[56,18,57,18],[54,19,55,19],[54,20,55,20],[54,0,55,0],[54,15,55,15],[54,16,55,16],[54,17,55,17],[54,18,55,18],[52,19,53,19],[52,20,53,20],[52,0,53,0],[52,15,53,15],[52,16,53,16],[52,17,53,17],[52,18,53,18],[50,19,51,19],[50,20,51,20],[50,0,51,0],[50,15,51,15],[50,16,51,16],[50,17,51,17],[50,18,51,18],[48,19,49,19],[48,20,49,20],[48,0,49,0],[48,15,49,15],[48,16,49,16],[48,17,49,17],[48,18,49,18],[46,19,47,19],[46,20,47,20],[46,0,47,0],[46,15,47,15],[46,16,47,16],[46,17,47,17],[46,18,47,18],[44,19,45,19],[44,20,45,20],[44,0,45,0],[44,15,45,15],[44,16,45,16],[44,17,45,17],[44,18,45,18],[42,19,43,19],[42,20,43,20],[42,0,43,0],[42,15,43,15],[42,16,43,16],[42,17,43,17],[42,18,43,18],[40,19,41,19],[40,20,41,20],[40,0,41,0],[40,15,41,15],[40,16,41,16],[40,17,41,17],[40,18,41,18],[38,19,39,19],[38,20,39,20],[38,0,39,0],[38,15,39,15],[38,16,39,16],[38,17,39,17],[38,18,39,18],[36,19,37,19],[36,20,37,20],[36,0,37,0],[36,15,37,15],[36,16,37,16],[36,17,37,17],[36,18,37,18],[34,19,35,19],[34,20,35,20],[34,0,35,0],[34,15,35,15],[34,16,35,16],[34,17,35,17],[34,18,35,18],[32,19,33,19],[32,20,33,20],[32,0,33,0],[32,15,33,15],[32,16,33,16],[32,17,33,17],[32,18,33,18],[30,19,31,19],[30,20,31,20],[30,0,31,0],[30,15,31,15],[30,16,31,16],[30,17,31,17],[30,18,31,18],[28,19,29,19],[28,20,29,20],[28,0,29,0],[28,15,29,15],[28,16,29,16],[28,17,29,17],[28,18,29,18],[26,19,27,19],[26,20,27,20],[26,0,27,0],[26,15,27,15],[26,16,27,16],[26,17,27,17],[26,18,27,18],[24,19,25,19],[24,20,25,20],[24,0,25,0],[24,15,25,15],[24,16,25,16],[24,17,25,17],[24,18,25,18],[22,19,23,19],[22,20,23,20],[22,0,23,0],[22,15,23,15],[22,16,23,16],[22,17,23,17],[22,18,23,18],[20,19,21,19],[20,20,21,20],[20,0,21,0],[20,15,21,15],[20,16,21,16],[20,17,21,17],[20,18,21,18],[18,19,19,19],[18,20,19,20],[18,0,19,0],[18,15,19,15],[18,16,19,16],[18,17,19,17],[18,18,19,18],[16,19,17,19],[16,20,17,20],[16,0,17,0],[16,15,17,15],[16,16,17,16],[16,17,17,17],[16,18,17,18],[14,19,15,19],[14,20,15,20],[14,0,15,0],[14,15,15,15],[14,16,15,16],[14,17,15,17],[14,18,15,18],[12,19,13,19],[12,20,13,20],[7,17,10,17],[12,0,13,0],[12,15,13,15],[12,16,13,16],[12,17,13,17],[12,18,13,18],[7,0,11,0],[7,1,11,1],[7,2,7,3],[7,4,7,5],[7,6,7,10],[7,11,7,14],[7,15,10,15],[7,16,10,16],[3,0,3,1],[4,0,4,1],[5,0,5,1],[5,15,5,17],[5,21,5,22],[6,2,6,3],[4,2,4,14],[5,18,5,20],[7,19,10,19],[7,20,10,20],[8,2,8,3],[8,4,8,5],[8,6,8,7],[8,8,8,10],[8,11,8,12],[8,13,8,14],[6,16,6,20],[7,18,10,18],[82,0,83,0],[82,15,83,15],[82,16,83,16],[82,17,83,17],[82,18,83,18],[82,19,83,19],[82,20,83,20],[84,0,85,0],[84,15,85,15],[84,16,85,16],[84,17,85,17],[84,18,85,18],[84,19,85,19],[84,20,85,20],[90,0,91,0],[90,15,91,15],[90,16,91,16],[90,17,91,17],[90,18,91,18],[90,19,91,19],[90,20,91,20],[86,0,87,0],[86,15,87,15],[86,16,87,16],[86,17,87,17],[86,18,87,18],[86,19,87,19],[86,20,87,20],[88,0,89,0],[88,15,89,15],[88,16,89,16],[88,17,89,17],[88,18,89,18],[88,19,89,19],[88,20,89,20]]}
[null,null,null,null,null,null,null,null,null,null,null,null,null,null,null,null,null,null,null,null,null,null,null,null,null,null,null,4,"غياب"]
[null,null,null,null,null,null,null,null,null,null,null,null,null,null,null,null,null,null,null,null,null,null,null,null,null,null,null,3,"عزوف عن تطبيق ورقة العمل"]
[null,null,null,null,null,null,null,null,null,null,null,null,null,null,null,null,null,null,null,null,null,null,null,null,null,null,null,2,"قليل المشاركة في الانشطة الصفية"]
[null,null,null,null,null,null,null,null,null,null,null,null,null,null,null,null,null,null,null,null,null,null,null,null,null,null,null,1,"يحتاج إلى تعزيز في السلوكيات التربوية"]
[{"$f":"الرئيسية!H12","v":"منطقة حولي التعليمية"},null,"كشــــــف درجات المتعلمين في مادة تكنولوجيا المعلومات والاتصالات",null,null,null,null,null,null,null,null,null,null,null,null,null,null,null,null,null,null,null,null,null,null,null,null,0,"لا يحضر ادواته ( الكتاب ، .... ) "]
[{"$f":"\"مدرسة \"& الرئيسية!H13","v":"مدرسة "},null,null,null,null,null,null,null,null,null,null,null,null,null,null,"العام الدراسي :",null,null,{"$f":"الرئيسية!H11","v":"2018-2017"},null,null,null,null,null,null,null,null,null,"أخرى"]
[null,{"$f":"FirstPartDegrees1!B7","v":"اسم المعلم :"},{"$f":"الرئيسية!H14","v":""},null,null,null,null,"الصف:",{"$f":"الرئيسية!H15","v":"7-1"},null,null,null,null,null,null,null,"الفصل الدراسي الأول"]
["م","اسم المتعلم / المتعلمة","الدرس السابع - كيف اصنف بياناتي",null,"الدرس الثامن - كيف أحمي بياناتي",null,"الدرس التاسع والعاشر - مشاريع",null,null,null,null,"الدرس الحادي عشر والثاني عشر - المدونات وانواعها",null,null,null,"معدل النقاط","درجة التقييم البنائي","درجة المشروع","اختبار نهاية الفصل","مجموع الاختبار","نهاية الفصل الأول"]
[]
[null,null,"كفاية 1.1","كفاية 2.1","كفاية 3.3","كفاية 3.1","كفاية 1.2","كفاية 2.3","كفاية 4.2","كفاية 3.3","كفاية 4.3","كفاية 4.2","كفاية 1.2","كفاية 3.2","كفاية 1.3"]
[null,null,"النقاط","النقاط","النقاط","النقاط","النقاط","النقاط","النقاط","النقاط","النقاط","النقاط","النقاط","النقاط","النقاط"]
[null,null,4,4,4,4,4,4,4,4,4,4,4,4,4,12,40,20,40,60,100]
[1,{"$f":"IF(INDIRECT(ADDRESS(A13,1,1,,\"اسماء المتعلمين\"))=\"\",\"\",INDIRECT(ADDRESS(A13,1,1,,\"اسماء المتعلمين\")))","v":""},null,null,null,null,null,null,null,null,null,null,null,null,null,{"$f":"INDIRECT(ADDRESS(9+A13*3,30,,,\"Final Degree1\"))","v":""},{"$f":"IF($B13=\"\",\"\",IF((P13*40/12-INT(P13*40/12))>=0.75,INT(P13*40/12)+1,IF((P13*40/12-INT(P13*40/12))<0.25,INT(P13*40/12),INT(P13*40/12)+0.5)))","v":""},null,null,{"$f":"IF(OR(R13=\"\",S13=\"\"),\"\",R13+S13)","v":""},{"$f":"IF($B13=\"\",\"\",IF(OR(Q13=\"\",S13=\"\"),\"\",S13+Q13+R13))","v":""},null,null,{"$f":"ROUNDUP(((FirstPartDegrees1!#REF!+C13)/2+(FirstPartDegrees1!E13+#REF!)/2+(FirstPartDegrees1!#REF!+#REF!)/2+(FirstPartDegrees1!C13+#REF!)/2 )/4,0)","v":{"$error":"#REF!"}},{"$f":"ROUNDUP(((FirstPartDegrees1!#REF!+FirstPartDegrees1!#REF!)/2+(FirstPartDegrees1!F13+D13)/2+(FirstPartDegrees1!#REF!+#REF!)/2+(FirstPartDegrees1!I13+#REF!)/2 )/4,0)","v":{"$error":"#REF!"}},{"$f":"ROUNDUP(((FirstPartDegrees1!#REF!+FirstPartDegrees1!J13)/2+(FirstPartDegrees1!#REF!+FirstPartDegrees1!#REF!)/2+(FirstPartDegrees1!#REF!+#REF!)/2+(#REF!+#REF!)/2)/4,0)","v":{"$error":"#REF!"}},{"$f":"(Z13+Y13+X13)*40/12","v":{"$error":"#REF!"}}]
[null,"ملاحظات"]
[2,{"$f":"IF(INDIRECT(ADDRESS(A15,1,1,,\"اسماء المتعلمين\"))=\"\",\"\",INDIRECT(ADDRESS(A15,1,1,,\"اسماء المتعلمين\")))","v":""},null,null,null,null,null,null,null,null,null,null,null,null,null,{"$f":"INDIRECT(ADDRESS(9+A15*3,30,,,\"Final Degree1\"))","v":""},{"$f":"IF($B15=\"\",\"\",IF((P15*40/12-INT(P15*40/12))>=0.75,INT(P15*40/12)+1,IF((P15*40/12-INT(P15*40/12))<0.25,INT(P15*40/12),INT(P15*40/12)+0.5)))","v":""},null,null,{"$f":"IF(OR(R15=\"\",S15=\"\"),\"\",R15+S15)","v":""},{"$f":"IF(OR(Q15=\"\",S15=\"\"),\"\",S15+Q15+R15)","v":""},null,null,{"$f":"ROUNDUP(((FirstPartDegrees1!#REF!+C15)/2+(FirstPartDegrees1!E15+#REF!)/2+(FirstPartDegrees1!#REF!+#REF!)/2+(FirstPartDegrees1!C15+#REF!)/2 )/4,0)","v":{"$error":"#REF!"}},{"$f":"ROUNDUP(((FirstPartDegrees1!#REF!+FirstPartDegrees1!#REF!)/2+(FirstPartDegrees1!F15+D15)/2+(FirstPartDegrees1!#REF!+#REF!)/2+(FirstPartDegrees1!I15+#REF!)/2 )/4,0)","v":{"$error":"#REF!"}},{"$f":"ROUNDUP(((FirstPartDegrees1!#REF!+FirstPartDegrees1!J15)/2+(FirstPartDegrees1!#REF!+FirstPartDegrees1!#REF!)/2+(FirstPartDegrees1!#REF!+#REF!)/2+(#REF!+#REF!)/2)/4,0)","v":{"$error":"#REF!"}},{"$f":"(Z15+Y15+X15)*40/12","v":{"$error":"#REF!"}}]
[null,"ملاحظات"]
[3,"",null,null,null,null,null,null,null,null,null,null,null,null,null,{"$f":"INDIRECT(ADDRESS(9+A17*3,30,,,\"Final Degree1\"))","v":""},{"$f":"IF($B17=\"\",\"\",IF((P17*40/12-INT(P17*40/12))>=0.75,INT(P17*40/12)+1,IF((P17*40/12-INT(P17*40/12))<0.25,INT(P17*40/12),INT(P17*40/12)+0.5)))","v":""},null,null,{"$f":"IF(OR(R17=\"\",S17=\"\"),\"\",R17+S17)","v":""},{"$f":"IF(OR(Q17=\"\",S17=\"\"),\"\",S17+Q17+R17)","v":""},null,null,{"$f":"ROUNDUP(((FirstPartDegrees1!#REF!+C17)/2+(FirstPartDegrees1!E17+#REF!)/2+(FirstPartDegrees1!#REF!+#REF!)/2+(FirstPartDegrees1!C17+#REF!)/2 )/4,0)","v":{"$error":"#REF!"}},{"$f":"ROUNDUP(((FirstPartDegrees1!#REF!+FirstPartDegrees1!#REF!)/2+(FirstPartDegrees1!F17+D17)/2+(FirstPartDegrees1!#REF!+#REF!)/2+(FirstPartDegrees1!I17+#REF!)/2 )/4,0)","v":{"$error":"#REF!"}},{"$f":"ROUNDUP(((FirstPartDegrees1!#REF!+FirstPartDegrees1!J17)/2+(FirstPartDegrees1!#REF!+FirstPartDegrees1!#REF!)/2+(FirstPartDegrees1!#REF!+#REF!)/2+(#REF!+#REF!)/2)/4,0)","v":{"$error":"#REF!"}},{"$f":"(Z17+Y17+X17)*40/12","v":{"$error":"#REF!"}}]
[null,"ملاحظات"]
[4,"",null,null,null,null,null,null,null,null,null,null,null,null,null,{"$f":"INDIRECT(ADDRESS(9+A19*3,30,,,\"Final Degree1\"))","v":""},{"$f":"IF($B19=\"\",\"\",IF((P19*40/12-INT(P19*40/12))>=0.75,INT(P19*40/12)+1,IF((P19*40/12-INT(P19*40/12))<0.25,INT(P19*40/12),INT(P19*40/12)+0.5)))","v":""},null,null,{"$f":"IF(OR(R19=\"\",S19=\"\"),\"\",R19+S19)","v":""},{"$f":"IF(OR(Q19=\"\",S19=\"\"),\"\",S19+Q19+R19)","v":""},null,null,{"$f":"ROUNDUP(((FirstPartDegrees1!#REF!+C19)/2+(FirstPartDegrees1!E19+#REF!)/2+(FirstPartDegrees1!#REF!+#REF!)/2+(FirstPartDegrees1!C19+#REF!)/2 )/4,0)","v":{"$error":"#REF!"}},{"$f":"ROUNDUP(((FirstPartDegrees1!#REF!+FirstPartDegrees1!#REF!)/2+(FirstPartDegrees1!F19+D19)/2+(FirstPartDegrees1!#REF!+#REF!)/2+(FirstPartDegrees1!I19+#REF!)/2 )/4,0)","v":{"$error":"#REF!"}},{"$f":"ROUNDUP(((FirstPartDegrees1!#REF!+FirstPartDegrees1!J19)/2+(FirstPartDegrees1!#REF!+FirstPartDegrees1!#REF!)/2+(FirstPartDegrees1!#REF!+#REF!)/2+(#REF!+#REF!)/2)/4,0)","v":{"$error":"#REF!"}},{"$f":"(Z19+Y19+X19)*40/12","v":{"$error":"#REF!"}}]
[null,"ملاحظات"]
[5,"",null,null,null,null,null,null,null,null,null,null,null,null,null,{"$f":"INDIRECT(ADDRESS(9+A21*3,30,,,\"Final Degree1\"))","v":""},{"$f":"IF($B21=\"\",\"\",IF((P21*40/12-INT(P21*40/12))>=0.75,INT(P21*40/12)+1,IF((P21*40/12-INT(P21*40/12))<0.25,INT(P21*40/12),INT(P21*40/12)+0.5)))","v":""},null,null,{"$f":"IF(OR(R21=\"\",S21=\"\"),\"\",R21+S21)","v":""},{"$f":"IF(OR(Q21=\"\",S21=\"\"),\"\",S21+Q21+R21)","v":""},null,null,{"$f":"ROUNDUP(((FirstPartDegrees1!#REF!+C21)/2+(FirstPartDegrees1!E21+#REF!)/2+(FirstPartDegrees1!#REF!+#REF!)/2+(FirstPartDegrees1!C21+#REF!)/2 )/4,0)","v":{"$error":"#REF!"}},{"$f":"ROUNDUP(((FirstPartDegrees1!#REF!+FirstPartDegrees1!#REF!)/2+(FirstPartDegrees1!F21+D21)/2+(FirstPartDegrees1!#REF!+#REF!)/2+(FirstPartDegrees1!I21+#REF!)/2 )/4,0)","v":{"$error":"#REF!"}},{"$f":"ROUNDUP(((FirstPartDegrees1!#REF!+FirstPartDegrees1!J21)/2+(FirstPartDegrees1!#REF!+FirstPartDegrees1!#REF!)/2+(FirstPartDegrees1!#REF!+#REF!)/2+(#REF!+#REF!)/2)/4,0)","v":{"$error":"#REF!"}},{"$f":"(Z21+Y21+X21)*40/12","v":{"$error":"#REF!"}}]
[null,"ملاحظات"]
[6,"",null,null,null,null,null,null,null,null,null,null,null,null,null,{"$f":"INDIRECT(ADDRESS(9+A23*3,30,,,\"Final Degree1\"))","v":""},{"$f":"IF($B23=\"\",\"\",IF((P23*40/12-INT(P23*40/12))>=0.75,INT(P23*40/12)+1,IF((P23*40/12-INT(P23*40/12))<0.25,INT(P23*40/12),INT(P23*40/12)+0.5)))","v":""},null,null,{"$f":"IF(OR(R23=\"\",S23=\"\"),\"\",R23+S23)","v":""},{"$f":"IF(OR(Q23=\"\",S23=\"\"),\"\",S23+Q23+R23)","v":""},null,null,{"$f":"ROUNDUP(((FirstPartDegrees1!#REF!+C23)/2+(FirstPartDegrees1!E23+#REF!)/2+(FirstPartDegrees1!#REF!+#REF!)/2+(FirstPartDegrees1!C23+#REF!)/2 )/4,0)","v":{"$error":"#REF!"}},{"$f":"ROUNDUP(((FirstPartDegrees1!#REF!+FirstPartDegrees1!#REF!)/2+(FirstPartDegrees1!F23+D23)/2+(FirstPartDegrees1!#REF!+#REF!)/2+(FirstPartDegrees1!I23+#REF!)/2 )/4,0)","v":{"$error":"#REF!"}},{"$f":"ROUNDUP(((FirstPartDegrees1!#REF!+FirstPartDegrees1!J23)/2+(FirstPartDegrees1!#REF!+FirstPartDegrees1!#REF!)/2+(FirstPartDegrees1!#REF!+#REF!)/2+(#REF!+#REF!)/2)/4,0)","v":{"$error":"#REF!"}},{"$f":"(Z23+Y23+X23)*40/12","v":{"$error":"#REF!"}}]
[null,"ملاحظات"]
[7,"",null,null,null,null,null,null,null,null,null,null,null,null,null,{"$f":"INDIRECT(ADDRESS(9+A25*3,30,,,\"Final Degree1\"))","v":""},{"$f":"IF($B25=\"\",\"\",IF((P25*40/12-INT(P25*40/12))>=0.75,INT(P25*40/12)+1,IF((P25*40/12-INT(P25*40/12))<0.25,INT(P25*40/12),INT(P25*40/12)+0.5)))","v":""},null,null,{"$f":"IF(OR(R25=\"\",S25=\"\"),\"\",R25+S25)","v":""},{"$f":"IF(OR(Q25=\"\",S25=\"\"),\"\",S25+Q25+R25)","v":""},null,null,{"$f":"ROUNDUP(((FirstPartDegrees1!#REF!+C25)/2+(FirstPartDegrees1!E25+#REF!)/2+(FirstPartDegrees1!#REF!+#REF!)/2+(FirstPartDegrees1!C25+#REF!)/2 )/4,0)","v":{"$error":"#REF!"}},{"$f":"ROUNDUP(((FirstPartDegrees1!#REF!+FirstPartDegrees1!#REF!)/2+(FirstPartDegrees1!F25+D25)/2+(FirstPartDegrees1!#REF!+#REF!)/2+(FirstPartDegrees1!I25+#REF!)/2 )/4,0)","v":{"$error":"#REF!"}},{"$f":"ROUNDUP(((FirstPartDegrees1!#REF!+FirstPartDegrees1!J25)/2+(FirstPartDegrees1!#REF!+FirstPartDegrees1!#REF!)/2+(FirstPartDegrees1!#REF!+#REF!)/2+(#REF!+#REF!)/2)/4,0)","v":{"$error":"#REF!"}},{"$f":"(Z25+Y25+X25)*40/12","v":{"$error":"#REF!"}}]
[null,"ملاحظات"]
[8,"",null,null,null,null,null,null,null,null,null,null,null,null,null,{"$f":"INDIRECT(ADDRESS(9+A27*3,30,,,\"Final Degree1\"))","v":""},{"$f":"IF($B27=\"\",\"\",IF((P27*40/12-INT(P27*40/12))>=0.75,INT(P27*40/12)+1,IF((P27*40/12-INT(P27*40/12))<0.25,INT(P27*40/12),INT(P27*40/12)+0.5)))","v":""},null,null,{"$f":"IF(OR(R27=\"\",S27=\"\"),\"\",R27+S27)","v":""},{"$f":"IF(OR(Q27=\"\",S27=\"\"),\"\",S27+Q27+R27)","v":""},null,null,{"$f":"ROUNDUP(((FirstPartDegrees1!#REF!+C27)/2+(FirstPartDegrees1!E27+#REF!)/2+(FirstPartDegrees1!#REF!+#REF!)/2+(FirstPartDegrees1!C27+#REF!)/2 )/4,0)","v":{"$error":"#REF!"}},{"$f":"ROUNDUP(((FirstPartDegrees1!#REF!+FirstPartDegrees1!#REF!)/2+(FirstPartDegrees1!F27+D27)/2+(FirstPartDegrees1!#REF!+#REF!)/2+(FirstPartDegrees1!I27+#REF!)/2 )/4,0)","v":{"$error":"#REF!"}},{"$f":"ROUNDUP(((FirstPartDegrees1!#REF!+FirstPartDegrees1!J27)/2+(FirstPartDegrees1!#REF!+FirstPartDegrees1!#REF!)/2+(FirstPartDegrees1!#REF!+#REF!)/2+(#REF!+#REF!)/2)/4,0)","v":{"$error":"#REF!"}},{"$f":"(Z27+Y27+X27)*40/12","v":{"$error":"#REF!"}}]
[null,"ملاحظات"]
[9,"",null,null,null,null,null,null,null,null,null,null,null,null,null,{"$f":"INDIRECT(ADDRESS(9+A29*3,30,,,\"Final Degree1\"))","v":""},{"$f":"IF($B29=\"\",\"\",IF((P29*40/12-INT(P29*40/12))>=0.75,INT(P29*40/12)+1,IF((P29*40/12-INT(P29*40/12))<0.25,INT(P29*40/12),INT(P29*40/12)+0.5)))","v":""},null,null,{"$f":"IF(OR(R29=\"\",S29=\"\"),\"\",R29+S29)","v":""},{"$f":"IF(OR(Q29=\"\",S29=\"\"),\"\",S29+Q29+R29)","v":""},null,null,{"$f":"ROUNDUP(((FirstPartDegrees1!#REF!+C29)/2+(FirstPartDegrees1!E29+#REF!)/2+(FirstPartDegrees1!#REF!+#REF!)/2+(FirstPartDegrees1!C29+#REF!)/2 )/4,0)","v":{"$error":"#REF!"}},{"$f":"ROUNDUP(((FirstPartDegrees1!#REF!+FirstPartDegrees1!#REF!)/2+(FirstPartDegrees1!F29+D29)/2+(FirstPartDegrees1!#REF!+#REF!)/2+(FirstPartDegrees1!I29+#REF!)/2 )/4,0)","v":{"$error":"#REF!"}},{"$f":"ROUNDUP(((FirstPartDegrees1!#REF!+FirstPartDegrees1!J29)/2+(FirstPartDegrees1!#REF!+FirstPartDegrees1!#REF!)/2+(FirstPartDegrees1!#REF!+#REF!)/2+(#REF!+#REF!)/2)/4,0)","v":{"$error":"#REF!"}},{"$f":"(Z29+Y29+X29)*40/12","v":{"$error":"#REF!"}}]
[null,"ملاحظات"]
[10,"",null,null,null,null,null,null,null,null,null,null,null,null,null,{"$f":"INDIRECT(ADDRESS(9+A31*3,30,,,\"Final Degree1\"))","v":""},{"$f":"IF($B31=\"\",\"\",IF((P31*40/12-INT(P31*40/12))>=0.75,INT(P31*40/12)+1,IF((P31*40/12-INT(P31*40/12))<0.25,INT(P31*40/12),INT(P31*40/12)+0.5)))","v":""},null,null,{"$f":"IF(OR(R31=\"\",S31=\"\"),\"\",R31+S31)","v":""},{"$f":"IF(OR(Q31=\"\",S31=\"\"),\"\",S31+Q31+R31)","v":""},null,null,{"$f":"ROUNDUP(((FirstPartDegrees1!#REF!+C31)/2+(FirstPartDegrees1!E31+#REF!)/2+(FirstPartDegrees1!#REF!+#REF!)/2+(FirstPartDegrees1!C31+#REF!)/2 )/4,0)","v":{"$error":"#REF!"}},{"$f":"ROUNDUP(((FirstPartDegrees1!#REF!+FirstPartDegrees1!#REF!)/2+(FirstPartDegrees1!F31+D31)/2+(FirstPartDegrees1!#REF!+#REF!)/2+(FirstPartDegrees1!I31+#REF!)/2 )/4,0)","v":{"$error":"#REF!"}},{"$f":"ROUNDUP(((FirstPartDegrees1!#REF!+FirstPartDegrees1!J31)/2+(FirstPartDegrees1!#REF!+FirstPartDegrees1!#REF!)/2+(FirstPartDegrees1!#REF!+#REF!)/2+(#REF!+#REF!)/2)/4,0)","v":{"$error":"#REF!"}},{"$f":"(Z31+Y31+X31)*40/12","v":{"$error":"#REF!"}}]
[null,"ملاحظات"]
[11,"",null,null,null,null,null,null,null,null,null,null,null,null,null,{"$f":"INDIRECT(ADDRESS(9+A33*3,30,,,\"Final Degree1\"))","v":""},{"$f":"IF($B33=\"\",\"\",IF((P33*40/12-INT(P33*40/12))>=0.75,INT(P33*40/12)+1,IF((P33*40/12-INT(P33*40/12))<0.25,INT(P33*40/12),INT(P33*40/12)+0.5)))","v":""},null,null,{"$f":"IF(OR(R33=\"\",S33=\"\"),\"\",R33+S33)","v":""},{"$f":"IF(OR(Q33=\"\",S33=\"\"),\"\",S33+Q33+R33)","v":""},null,null,{"$f":"ROUNDUP(((FirstPartDegrees1!#REF!+C33)/2+(FirstPartDegrees1!E33+#REF!)/2+(FirstPartDegrees1!#REF!+#REF!)/2+(FirstPartDegrees1!C33+#REF!)/2 )/4,0)","v":{"$error":"#REF!"}},{"$f":"ROUNDUP(((FirstPartDegrees1!#REF!+FirstPartDegrees1!#REF!)/2+(FirstPartDegrees1!F33+D33)/2+(FirstPartDegrees1!#REF!+#REF!)/2+(FirstPartDegrees1!I33+#REF!)/2 )/4,0)","v":{"$error":"#REF!"}},{"$f":"ROUNDUP(((FirstPartDegrees1!#REF!+FirstPartDegrees1!J33)/2+(FirstPartDegrees1!#REF!+FirstPartDegrees1!#REF!)/2+(FirstPartDegrees1!#REF!+#REF!)/2+(#REF!+#REF!)/2)/4,0)","v":{"$error":"#REF!"}},{"$f":"(Z33+Y33+X33)*40/12","v":{"$error":"#REF!"}}]
[null,"ملاحظات"]
[12,"",null,null,null,null,null,null,null,null,null,null,null,null,null,{"$f":"INDIRECT(ADDRESS(9+A35*3,30,,,\"Final Degree1\"))","v":""},{"$f":"IF($B35=\"\",\"\",IF((P35*40/12-INT(P35*40/12))>=0.75,INT(P35*40/12)+1,IF((P35*40/12-INT(P35*40/12))<0.25,INT(P35*40/12),INT(P35*40/12)+0.5)))","v":""},null,null,{"$f":"IF(OR(R35=\"\",S35=\"\"),\"\",R35+S35)","v":""},{"$f":"IF(OR(Q35=\"\",S35=\"\"),\"\",S35+Q35+R35)","v":""},null,null,{"$f":"ROUNDUP(((FirstPartDegrees1!#REF!+C35)/2+(FirstPartDegrees1!E35+#REF!)/2+(FirstPartDegrees1!#REF!+#REF!)/2+(FirstPartDegrees1!C35+#REF!)/2 )/4,0)","v":{"$error":"#REF!"}},{"$f":"ROUNDUP(((FirstPartDegrees1!#REF!+FirstPartDegrees1!#REF!)/2+(FirstPartDegrees1!F35+D35)/2+(FirstPartDegrees1!#REF!+#REF!)/2+(FirstPartDegrees1!I35+#REF!)/2 )/4,0)","v":{"$error":"#REF!"}},{"$f":"ROUNDUP(((FirstPartDegrees1!#REF!+FirstPartDegrees1!J35)/2+(FirstPartDegrees1!#REF!+FirstPartDegrees1!#REF!)/2+(FirstPartDegrees1!#REF!+#REF!)/2+(#REF!+#REF!)/2)/4,0)","v":{"$error":"#REF!"}},{"$f":"(Z35+Y35+X35)*40/12","v":{"$error":"#REF!"}}]
[null,"ملاحظات"]
[13,"",null,null,null,null,null,null,null,null,null,null,null,null,null,{"$f":"INDIRECT(ADDRESS(9+A37*3,30,,,\"Final Degree1\"))","v":""},{"$f":"IF($B37=\"\",\"\",IF((P37*40/12-INT(P37*40/12))>=0.75,INT(P37*40/12)+1,IF((P37*40/12-INT(P37*40/12))<0.25,INT(P37*40/12),INT(P37*40/12)+0.5)))","v":""},null,null,{"$f":"IF(OR(R37=\"\",S37=\"\"),\"\",R37+S37)","v":""},{"$f":"IF(OR(Q37=\"\",S37=\"\"),\"\",S37+Q37+R37)","v":""},null,null,{"$f":"ROUNDUP(((FirstPartDegrees1!#REF!+C37)/2+(FirstPartDegrees1!E37+#REF!)/2+(FirstPartDegrees1!#REF!+#REF!)/2+(FirstPartDegrees1!C37+#REF!)/2 )/4,0)","v":{"$error":"#REF!"}},{"$f":"ROUNDUP(((FirstPartDegrees1!#REF!+FirstPartDegrees1!#REF!)/2+(FirstPartDegrees1!F37+D37)/2+(FirstPartDegrees1!#REF!+#REF!)/2+(FirstPartDegrees1!I37+#REF!)/2 )/4,0)","v":{"$error":"#REF!"}},{"$f":"ROUNDUP(((FirstPartDegrees1!#REF!+FirstPartDegrees1!J37)/2+(FirstPartDegrees1!#REF!+FirstPartDegrees1!#REF!)/2+(FirstPartDegrees1!#REF!+#REF!)/2+(#REF!+#REF!)/2)/4,0)","v":{"$error":"#REF!"}},{"$f":"(Z37+Y37+X37)*40/12","v":{"$error":"#REF!"}}]
[null,"ملاحظات"]
[14,"",null,null,null,null,null,null,null,null,null,null,null,null,null,{"$f":"INDIRECT(ADDRESS(9+A39*3,30,,,\"Final Degree1\"))","v":""},{"$f":"IF($B39=\"\",\"\",IF((P39*40/12-INT(P39*40/12))>=0.75,INT(P39*40/12)+1,IF((P39*40/12-INT(P39*40/12))<0.25,INT(P39*40/12),INT(P39*40/12)+0.5)))","v":""},null,null,{"$f":"IF(OR(R39=\"\",S39=\"\"),\"\",R39+S39)","v":""},{"$f":"IF(OR(Q39=\"\",S39=\"\"),\"\",S39+Q39+R39)","v":""},null,null,{"$f":"ROUNDUP(((FirstPartDegrees1!#REF!+C39)/2+(FirstPartDegrees1!E39+#REF!)/2+(FirstPartDegrees1!#REF!+#REF!)/2+(FirstPartDegrees1!C39+#REF!)/2 )/4,0)","v":{"$error":"#REF!"}},{"$f":"ROUNDUP(((FirstPartDegrees1!#REF!+FirstPartDegrees1!#REF!)/2+(FirstPartDegrees1!F39+D39)/2+(FirstPartDegrees1!#REF!+#REF!)/2+(FirstPartDegrees1!I39+#REF!)/2 )/4,0)","v":{"$error":"#REF!"}},{"$f":"ROUNDUP(((FirstPartDegrees1!#REF!+FirstPartDegrees1!J39)/2+(FirstPartDegrees1!#REF!+FirstPartDegrees1!#REF!)/2+(FirstPartDegrees1!#REF!+#REF!)/2+(#REF!+#REF!)/2)/4,0)","v":{"$error":"#REF!"}},{"$f":"(Z39+Y39+X39)*40/12","v":{"$error":"#REF!"}}]
[null,"ملاحظات"]
[15,"",null,null,null,null,null,null,null,null,null,null,null,null,null,{"$f":"INDIRECT(ADDRESS(9+A41*3,30,,,\"Final Degree1\"))","v":""},{"$f":"IF($B41=\"\",\"\",IF((P41*40/12-INT(P41*40/12))>=0.75,INT(P41*40/12)+1,IF((P41*40/12-INT(P41*40/12))<0.25,INT(P41*40/12),INT(P41*40/12)+0.5)))","v":""},null,null,{"$f":"IF(OR(R41=\"\",S41=\"\"),\"\",R41+S41)","v":""},{"$f":"IF(OR(Q41=\"\",S41=\"\"),\"\",S41+Q41+R41)","v":""},null,null,{"$f":"ROUNDUP(((FirstPartDegrees1!#REF!+C41)/2+(FirstPartDegrees1!E41+#REF!)/2+(FirstPartDegrees1!#REF!+#REF!)/2+(FirstPartDegrees1!C41+#REF!)/2 )/4,0)","v":{"$error":"#REF!"}},{"$f":"ROUNDUP(((FirstPartDegrees1!#REF!+FirstPartDegrees1!#REF!)/2+(FirstPartDegrees1!F41+D41)/2+(FirstPartDegrees1!#REF!+#REF!)/2+(FirstPartDegrees1!I41+#REF!)/2 )/4,0)","v":{"$error":"#REF!"}},{"$f":"ROUNDUP(((FirstPartDegrees1!#REF!+FirstPartDegrees1!J41)/2+(FirstPartDegrees1!#REF!+FirstPartDegrees1!#REF!)/2+(FirstPartDegrees1!#REF!+#REF!)/2+(#REF!+#REF!)/2)/4,0)","v":{"$error":"#REF!"}},{"$f":"(Z41+Y41+X41)*40/12","v":{"$error":"#REF!"}}]
[null,"ملاحظات"]
[16,"",null,null,null,null,null,null,null,null,null,null,null,null,null,{"$f":"INDIRECT(ADDRESS(9+A43*3,30,,,\"Final Degree1\"))","v":""},{"$f":"IF($B43=\"\",\"\",IF((P43*40/12-INT(P43*40/12))>=0.75,INT(P43*40/12)+1,IF((P43*40/12-INT(P43*40/12))<0.25,INT(P43*40/12),INT(P43*40/12)+0.5)))","v":""},null,null,{"$f":"IF(OR(R43=\"\",S43=\"\"),\"\",R43+S43)","v":""},{"$f":"IF(OR(Q43=\"\",S43=\"\"),\"\",S43+Q43+R43)","v":""},null,null,{"$f":"ROUNDUP(((FirstPartDegrees1!#REF!+C43)/2+(FirstPartDegrees1!E43+#REF!)/2+(FirstPartDegrees1!#REF!+#REF!)/2+(FirstPartDegrees1!C43+#REF!)/2 )/4,0)","v":{"$error":"#REF!"}},{"$f":"ROUNDUP(((FirstPartDegrees1!#REF!+FirstPartDegrees1!#REF!)/2+(FirstPartDegrees1!F43+D43)/2+(FirstPartDegrees1!#REF!+#REF!)/2+(FirstPartDegrees1!I43+#REF!)/2 )/4,0)","v":{"$error":"#REF!"}},{"$f":"ROUNDUP(((FirstPartDegrees1!#REF!+FirstPartDegrees1!J43)/2+(FirstPartDegrees1!#REF!+FirstPartDegrees1!#REF!)/2+(FirstPartDegrees1!#REF!+#REF!)/2+(#REF!+#REF!)/2)/4,0)","v":{"$error":"#REF!"}},{"$f":"(Z43+Y43+X43)*40/12","v":{"$error":"#REF!"}}]
[null,"ملاحظات"]
[17,"",null,null,null,null,null,null,null,null,null,null,null,null,null,{"$f":"INDIRECT(ADDRESS(9+A45*3,30,,,\"Final Degree1\"))","v":""},{"$f":"IF($B45=\"\",\"\",IF((P45*40/12-INT(P45*40/12))>=0.75,INT(P45*40/12)+1,IF((P45*40/12-INT(P45*40/12))<0.25,INT(P45*40/12),INT(P45*40/12)+0.5)))","v":""},null,null,{"$f":"IF(OR(R45=\"\",S45=\"\"),\"\",R45+S45)","v":""},{"$f":"IF(OR(Q45=\"\",S45=\"\"),\"\",S45+Q45+R45)","v":""},null,null,{"$f":"ROUNDUP(((FirstPartDegrees1!#REF!+C45)/2+(FirstPartDegrees1!E45+#REF!)/2+(FirstPartDegrees1!#REF!+#REF!)/2+(FirstPartDegrees1!C45+#REF!)/2 )/4,0)","v":{"$error":"#REF!"}},{"$f":"ROUNDUP(((FirstPartDegrees1!#REF!+FirstPartDegrees1!#REF!)/2+(FirstPartDegrees1!F45+D45)/2+(FirstPartDegrees1!#REF!+#REF!)/2+(FirstPartDegrees1!I45+#REF!)/2 )/4,0)","v":{"$error":"#REF!"}},{"$f":"ROUNDUP(((FirstPartDegrees1!#REF!+FirstPartDegrees1!J45)/2+(FirstPartDegrees1!#REF!+FirstPartDegrees1!#REF!)/2+(FirstPartDegrees1!#REF!+#REF!)/2+(#REF!+#REF!)/2)/4,0)","v":{"$error":"#REF!"}},{"$f":"(Z45+Y45+X45)*40/12","v":{"$error":"#REF!"}}]
[null,"ملاحظات"]
[18,"",null,null,null,null,null,null,null,null,null,null,null,null,null,{"$f":"INDIRECT(ADDRESS(9+A47*3,30,,,\"Final Degree1\"))","v":""},{"$f":"IF($B47=\"\",\"\",IF((P47*40/12-INT(P47*40/12))>=0.75,INT(P47*40/12)+1,IF((P47*40/12-INT(P47*40/12))<0.25,INT(P47*40/12),INT(P47*40/12)+0.5)))","v":""},null,null,{"$f":"IF(OR(R47=\"\",S47=\"\"),\"\",R47+S47)","v":""},{"$f":"IF(OR(Q47=\"\",S47=\"\"),\"\",S47+Q47+R47)","v":""},null,null,{"$f":"ROUNDUP(((FirstPartDegrees1!#REF!+C47)/2+(FirstPartDegrees1!E47+#REF!)/2+(FirstPartDegrees1!#REF!+#REF!)/2+(FirstPartDegrees1!C47+#REF!)/2 )/4,0)","v":{"$error":"#REF!"}},{"$f":"ROUNDUP(((FirstPartDegrees1!#REF!+FirstPartDegrees1!#REF!)/2+(FirstPartDegrees1!F47+D47)/2+(FirstPartDegrees1!#REF!+#REF!)/2+(FirstPartDegrees1!I47+#REF!)/2 )/4,0)","v":{"$error":"#REF!"}},{"$f":"ROUNDUP(((FirstPartDegrees1!#REF!+FirstPartDegrees1!J47)/2+(FirstPartDegrees1!#REF!+FirstPartDegrees1!#REF!)/2+(FirstPartDegrees1!#REF!+#REF!)/2+(#REF!+#REF!)/2)/4,0)","v":{"$error":"#REF!"}},{"$f":"(Z47+Y47+X47)*40/12","v":{"$error":"#REF!"}}]
[null,"ملاحظات"]
[19,"",null,null,null,null,null,null,null,null,null,null,null,null,null,{"$f":"INDIRECT(ADDRESS(9+A49*3,30,,,\"Final Degree1\"))","v":""},{"$f":"IF($B49=\"\",\"\",IF((P49*40/12-INT(P49*40/12))>=0.75,INT(P49*40/12)+1,IF((P49*40/12-INT(P49*40/12))<0.25,INT(P49*40/12),INT(P49*40/12)+0.5)))","v":""},null,null,{"$f":"IF(OR(R49=\"\",S49=\"\"),\"\",R49+S49)","v":""},{"$f":"IF(OR(Q49=\"\",S49=\"\"),\"\",S49+Q49+R49)","v":""},null,null,{"$f":"ROUNDUP(((FirstPartDegrees1!#REF!+C49)/2+(FirstPartDegrees1!E49+#REF!)/2+(FirstPartDegrees1!#REF!+#REF!)/2+(FirstPartDegrees1!C49+#REF!)/2 )/4,0)","v":{"$error":"#REF!"}},{"$f":"ROUNDUP(((FirstPartDegrees1!#REF!+FirstPartDegrees1!#REF!)/2+(FirstPartDegrees1!F49+D49)/2+(FirstPartDegrees1!#REF!+#REF!)/2+(FirstPartDegrees1!I49+#REF!)/2 )/4,0)","v":{"$error":"#REF!"}},{"$f":"ROUNDUP(((FirstPartDegrees1!#REF!+FirstPartDegrees1!J49)/2+(FirstPartDegrees1!#REF!+FirstPartDegrees1!#REF!)/2+(FirstPartDegrees1!#REF!+#REF!)/2+(#REF!+#REF!)/2)/4,0)","v":{"$error":"#REF!"}},{"$f":"(Z49+Y49+X49)*40/12","v":{"$error":"#REF!"}}]
[null,"ملاحظات"]
[20,"",null,null,null,null,null,null,null,null,null,null,null,null,null,{"$f":"INDIRECT(ADDRESS(9+A51*3,30,,,\"Final Degree1\"))","v":""},{"$f":"IF($B51=\"\",\"\",IF((P51*40/12-INT(P51*40/12))>=0.75,INT(P51*40/12)+1,IF((P51*40/12-INT(P51*40/12))<0.25,INT(P51*40/12),INT(P51*40/12)+0.5)))","v":""},null,null,{"$f":"IF(OR(R51=\"\",S51=\"\"),\"\",R51+S51)","v":""},{"$f":"IF(OR(Q51=\"\",S51=\"\"),\"\",S51+Q51+R51)","v":""},null,null,{"$f":"ROUNDUP(((FirstPartDegrees1!#REF!+C51)/2+(FirstPartDegrees1!E51+#REF!)/2+(FirstPartDegrees1!#REF!+#REF!)/2+(FirstPartDegrees1!C51+#REF!)/2 )/4,0)","v":{"$error":"#REF!"}},{"$f":"ROUNDUP(((FirstPartDegrees1!#REF!+FirstPartDegrees1!#REF!)/2+(FirstPartDegrees1!F51+D51)/2+(FirstPartDegrees1!#REF!+#REF!)/2+(FirstPartDegrees1!I51+#REF!)/2 )/4,0)","v":{"$error":"#REF!"}},{"$f":"ROUNDUP(((FirstPartDegrees1!#REF!+FirstPartDegrees1!J51)/2+(FirstPartDegrees1!#REF!+FirstPartDegrees1!#REF!)/2+(FirstPartDegrees1!#REF!+#REF!)/2+(#REF!+#REF!)/2)/4,0)","v":{"$error":"#REF!"}},{"$f":"(Z51+Y51+X51)*40/12","v":{"$error":"#REF!"}}]
[null,"ملاحظات"]
[21,"",null,null,null,null,null,null,null,null,null,null,null,null,null,{"$f":"INDIRECT(ADDRESS(9+A53*3,30,,,\"Final Degree1\"))","v":""},{"$f":"IF($B53=\"\",\"\",IF((P53*40/12-INT(P53*40/12))>=0.75,INT(P53*40/12)+1,IF((P53*40/12-INT(P53*40/12))<0.25,INT(P53*40/12),INT(P53*40/12)+0.5)))","v":""},null,null,{"$f":"IF(OR(R53=\"\",S53=\"\"),\"\",R53+S53)","v":""},{"$f":"IF(OR(Q53=\"\",S53=\"\"),\"\",S53+Q53+R53)","v":""},null,null,{"$f":"ROUNDUP(((FirstPartDegrees1!#REF!+C53)/2+(FirstPartDegrees1!E53+#REF!)/2+(FirstPartDegrees1!#REF!+#REF!)/2+(FirstPartDegrees1!C53+#REF!)/2 )/4,0)","v":{"$error":"#REF!"}},{"$f":"ROUNDUP(((FirstPartDegrees1!#REF!+FirstPartDegrees1!#REF!)/2+(FirstPartDegrees1!F53+D53)/2+(FirstPartDegrees1!#REF!+#REF!)/2+(FirstPartDegrees1!I53+#REF!)/2 )/4,0)","v":{"$error":"#REF!"}},{"$f":"ROUNDUP(((FirstPartDegrees1!#REF!+FirstPartDegrees1!J53)/2+(FirstPartDegrees1!#REF!+FirstPartDegrees1!#REF!)/2+(FirstPartDegrees1!#REF!+#REF!)/2+(#REF!+#REF!)/2)/4,0)","v":{"$error":"#REF!"}},{"$f":"(Z53+Y53+X53)*40/12","v":{"$error":"#REF!"}}]
[null,"ملاحظات"]
[22,"",null,null,null,null,null,null,null,null,null,null,null,null,null,{"$f":"INDIRECT(ADDRESS(9+A55*3,30,,,\"Final Degree1\"))","v":""},{"$f":"IF($B55=\"\",\"\",IF((P55*40/12-INT(P55*40/12))>=0.75,INT(P55*40/12)+1,IF((P55*40/12-INT(P55*40/12))<0.25,INT(P55*40/12),INT(P55*40/12)+0.5)))","v":""},null,null,{"$f":"IF(OR(R55=\"\",S55=\"\"),\"\",R55+S55)","v":""},{"$f":"IF(OR(Q55=\"\",S55=\"\"),\"\",S55+Q55+R55)","v":""},null,null,{"$f":"ROUNDUP(((FirstPartDegrees1!#REF!+C55)/2+(FirstPartDegrees1!E55+#REF!)/2+(FirstPartDegrees1!#REF!+#REF!)/2+(FirstPartDegrees1!C55+#REF!)/2 )/4,0)","v":{"$error":"#REF!"}},{"$f":"ROUNDUP(((FirstPartDegrees1!#REF!+FirstPartDegrees1!#REF!)/2+(FirstPartDegrees1!F55+D55)/2+(FirstPartDegrees1!#REF!+#REF!)/2+(FirstPartDegrees1!I55+#REF!)/2 )/4,0)","v":{"$error":"#REF!"}},{"$f":"ROUNDUP(((FirstPartDegrees1!#REF!+FirstPartDegrees1!J55)/2+(FirstPartDegrees1!#REF!+FirstPartDegrees1!#REF!)/2+(FirstPartDegrees1!#REF!+#REF!)/2+(#REF!+#REF!)/2)/4,0)","v":{"$error":"#REF!"}},{"$f":"(Z55+Y55+X55)*40/12","v":{"$error":"#REF!"}}]
[null,"ملاحظات"]
[23,"",null,null,null,null,null,null,null,null,null,null,null,null,null,{"$f":"INDIRECT(ADDRESS(9+A57*3,30,,,\"Final Degree1\"))","v":""},{"$f":"IF($B57=\"\",\"\",IF((P57*40/12-INT(P57*40/12))>=0.75,INT(P57*40/12)+1,IF((P57*40/12-INT(P57*40/12))<0.25,INT(P57*40/12),INT(P57*40/12)+0.5)))","v":""},null,null,{"$f":"IF(OR(R57=\"\",S57=\"\"),\"\",R57+S57)","v":""},{"$f":"IF(OR(Q57=\"\",S57=\"\"),\"\",S57+Q57+R57)","v":""},null,null,{"$f":"ROUNDUP(((FirstPartDegrees1!#REF!+C57)/2+(FirstPartDegrees1!E57+#REF!)/2+(FirstPartDegrees1!#REF!+#REF!)/2+(FirstPartDegrees1!C57+#REF!)/2 )/4,0)","v":{"$error":"#REF!"}},{"$f":"ROUNDUP(((FirstPartDegrees1!#REF!+FirstPartDegrees1!#REF!)/2+(FirstPartDegrees1!F57+D57)/2+(FirstPartDegrees1!#REF!+#REF!)/2+(FirstPartDegrees1!I57+#REF!)/2 )/4,0)","v":{"$error":"#REF!"}},{"$f":"ROUNDUP(((FirstPartDegrees1!#REF!+FirstPartDegrees1!J57)/2+(FirstPartDegrees1!#REF!+FirstPartDegrees1!#REF!)/2+(FirstPartDegrees1!#REF!+#REF!)/2+(#REF!+#REF!)/2)/4,0)","v":{"$error":"#REF!"}},{"$f":"(Z57+Y57+X57)*40/12","v":{"$error":"#REF!"}}]
[null,"ملاحظات"]
[24,"",null,null,null,null,null,null,null,null,null,null,null,null,null,{"$f":"INDIRECT(ADDRESS(9+A59*3,30,,,\"Final Degree1\"))","v":""},{"$f":"IF($B59=\"\",\"\",IF((P59*40/12-INT(P59*40/12))>=0.75,INT(P59*40/12)+1,IF((P59*40/12-INT(P59*40/12))<0.25,INT(P59*40/12),INT(P59*40/12)+0.5)))","v":""},null,null,{"$f":"IF(OR(R59=\"\",S59=\"\"),\"\",R59+S59)","v":""},{"$f":"IF(OR(Q59=\"\",S59=\"\"),\"\",S59+Q59+R59)","v":""},null,null,{"$f":"ROUNDUP(((FirstPartDegrees1!#REF!+C59)/2+(FirstPartDegrees1!E59+#REF!)/2+(FirstPartDegrees1!#REF!+#REF!)/2+(FirstPartDegrees1!C59+#REF!)/2 )/4,0)","v":{"$error":"#REF!"}},{"$f":"ROUNDUP(((FirstPartDegrees1!#REF!+FirstPartDegrees1!#REF!)/2+(FirstPartDegrees1!F59+D59)/2+(FirstPartDegrees1!#REF!+#REF!)/2+(FirstPartDegrees1!I59+#REF!)/2 )/4,0)","v":{"$error":"#REF!"}},{"$f":"ROUNDUP(((FirstPartDegrees1!#REF!+FirstPartDegrees1!J59)/2+(FirstPartDegrees1!#REF!+FirstPartDegrees1!#REF!)/2+(FirstPartDegrees1!#REF!+#REF!)/2+(#REF!+#REF!)/2)/4,0)","v":{"$error":"#REF!"}},{"$f":"(Z59+Y59+X59)*40/12","v":{"$error":"#REF!"}}]
[null,"ملاحظات"]
[25,"",null,null,null,null,null,null,null,null,null,null,null,null,null,{"$f":"INDIRECT(ADDRESS(9+A61*3,30,,,\"Final Degree1\"))","v":""},{"$f":"IF($B61=\"\",\"\",IF((P61*40/12-INT(P61*40/12))>=0.75,INT(P61*40/12)+1,IF((P61*40/12-INT(P61*40/12))<0.25,INT(P61*40/12),INT(P61*40/12)+0.5)))","v":""},null,null,{"$f":"IF(OR(R61=\"\",S61=\"\"),\"\",R61+S61)","v":""},{"$f":"IF(OR(Q61=\"\",S61=\"\"),\"\",S61+Q61+R61)","v":""},null,null,{"$f":"ROUNDUP(((FirstPartDegrees1!#REF!+C61)/2+(FirstPartDegrees1!E61+#REF!)/2+(FirstPartDegrees1!#REF!+#REF!)/2+(FirstPartDegrees1!C61+#REF!)/2 )/4,0)","v":{"$error":"#REF!"}},{"$f":"ROUNDUP(((FirstPartDegrees1!#REF!+FirstPartDegrees1!#REF!)/2+(FirstPartDegrees1!F61+D61)/2+(FirstPartDegrees1!#REF!+#REF!)/2+(FirstPartDegrees1!I61+#REF!)/2 )/4,0)","v":{"$error":"#REF!"}},{"$f":"ROUNDUP(((FirstPartDegrees1!#REF!+FirstPartDegrees1!J61)/2+(FirstPartDegrees1!#REF!+FirstPartDegrees1!#REF!)/2+(FirstPartDegrees1!#REF!+#REF!)/2+(#REF!+#REF!)/2)/4,0)","v":{"$error":"#REF!"}},{"$f":"(Z61+Y61+X61)*40/12","v":{"$error":"#REF!"}}]
[null,"ملاحظات"]
[26,"",null,null,null,null,null,null,null,null,null,null,null,null,null,{"$f":"INDIRECT(ADDRESS(9+A63*3,30,,,\"Final Degree1\"))","v":""},{"$f":"IF($B63=\"\",\"\",IF((P63*40/12-INT(P63*40/12))>=0.75,INT(P63*40/12)+1,IF((P63*40/12-INT(P63*40/12))<0.25,INT(P63*40/12),INT(P63*40/12)+0.5)))","v":""},null,null,{"$f":"IF(OR(R63=\"\",S63=\"\"),\"\",R63+S63)","v":""},{"$f":"IF(OR(Q63=\"\",S63=\"\"),\"\",S63+Q63+R63)","v":""},null,null,{"$f":"ROUNDUP(((FirstPartDegrees1!#REF!+C63)/2+(FirstPartDegrees1!E63+#REF!)/2+(FirstPartDegrees1!#REF!+#REF!)/2+(FirstPartDegrees1!C63+#REF!)/2 )/4,0)","v":{"$error":"#REF!"}},{"$f":"ROUNDUP(((FirstPartDegrees1!#REF!+FirstPartDegrees1!#REF!)/2+(FirstPartDegrees1!F63+D63)/2+(FirstPartDegrees1!#REF!+#REF!)/2+(FirstPartDegrees1!I63+#REF!)/2 )/4,0)","v":{"$error":"#REF!"}},{"$f":"ROUNDUP(((FirstPartDegrees1!#REF!+FirstPartDegrees1!J63)/2+(FirstPartDegrees1!#REF!+FirstPartDegrees1!#REF!)/2+(FirstPartDegrees1!#REF!+#REF!)/2+(#REF!+#REF!)/2)/4,0)","v":{"$error":"#REF!"}},{"$f":"(Z63+Y63+X63)*40/12","v":{"$error":"#REF!"}}]
[null,"ملاحظات"]
[27,"",null,null,null,null,null,null,null,null,null,null,null,null,null,{"$f":"INDIRECT(ADDRESS(9+A65*3,30,,,\"Final Degree1\"))","v":""},{"$f":"IF($B65=\"\",\"\",IF((P65*40/12-INT(P65*40/12))>=0.75,INT(P65*40/12)+1,IF((P65*40/12-INT(P65*40/12))<0.25,INT(P65*40/12),INT(P65*40/12)+0.5)))","v":""},null,null,{"$f":"IF(OR(R65=\"\",S65=\"\"),\"\",R65+S65)","v":""},{"$f":"IF(OR(Q65=\"\",S65=\"\"),\"\",S65+Q65+R65)","v":""},null,null,{"$f":"ROUNDUP(((FirstPartDegrees1!#REF!+C65)/2+(FirstPartDegrees1!E65+#REF!)/2+(FirstPartDegrees1!#REF!+#REF!)/2+(FirstPartDegrees1!C65+#REF!)/2 )/4,0)","v":{"$error":"#REF!"}},{"$f":"ROUNDUP(((FirstPartDegrees1!#REF!+FirstPartDegrees1!#REF!)/2+(FirstPartDegrees1!F65+D65)/2+(FirstPartDegrees1!#REF!+#REF!)/2+(FirstPartDegrees1!I65+#REF!)/2 )/4,0)","v":{"$error":"#REF!"}},{"$f":"ROUNDUP(((FirstPartDegrees1!#REF!+FirstPartDegrees1!J65)/2+(FirstPartDegrees1!#REF!+FirstPartDegrees1!#REF!)/2+(FirstPartDegrees1!#REF!+#REF!)/2+(#REF!+#REF!)/2)/4,0)","v":{"$error":"#REF!"}},{"$f":"(Z65+Y65+X65)*40/12","v":{"$error":"#REF!"}}]
[null,"ملاحظات"]
[28,"",null,null,null,null,null,null,null,null,null,null,null,null,null,{"$f":"INDIRECT(ADDRESS(9+A67*3,30,,,\"Final Degree1\"))","v":""},{"$f":"IF($B67=\"\",\"\",IF((P67*40/12-INT(P67*40/12))>=0.75,INT(P67*40/12)+1,IF((P67*40/12-INT(P67*40/12))<0.25,INT(P67*40/12),INT(P67*40/12)+0.5)))","v":""},null,null,{"$f":"IF(OR(R67=\"\",S67=\"\"),\"\",R67+S67)","v":""},{"$f":"IF(OR(Q67=\"\",S67=\"\"),\"\",S67+Q67+R67)","v":""},null,null,{"$f":"ROUNDUP(((FirstPartDegrees1!#REF!+C67)/2+(FirstPartDegrees1!E67+#REF!)/2+(FirstPartDegrees1!#REF!+#REF!)/2+(FirstPartDegrees1!C67+#REF!)/2 )/4,0)","v":{"$error":"#REF!"}},{"$f":"ROUNDUP(((FirstPartDegrees1!#REF!+FirstPartDegrees1!#REF!)/2+(FirstPartDegrees1!F67+D67)/2+(FirstPartDegrees1!#REF!+#REF!)/2+(FirstPartDegrees1!I67+#REF!)/2 )/4,0)","v":{"$error":"#REF!"}},{"$f":"ROUNDUP(((FirstPartDegrees1!#REF!+FirstPartDegrees1!J67)/2+(FirstPartDegrees1!#REF!+FirstPartDegrees1!#REF!)/2+(FirstPartDegrees1!#REF!+#REF!)/2+(#REF!+#REF!)/2)/4,0)","v":{"$error":"#REF!"}},{"$f":"(Z67+Y67+X67)*40/12","v":{"$error":"#REF!"}}]
[null,"ملاحظات"]
[29,"",null,null,null,null,null,null,null,null,null,null,null,null,null,{"$f":"INDIRECT(ADDRESS(9+A69*3,30,,,\"Final Degree1\"))","v":""},{"$f":"IF($B69=\"\",\"\",IF((P69*40/12-INT(P69*40/12))>=0.75,INT(P69*40/12)+1,IF((P69*40/12-INT(P69*40/12))<0.25,INT(P69*40/12),INT(P69*40/12)+0.5)))","v":""},null,null,{"$f":"IF(OR(R69=\"\",S69=\"\"),\"\",R69+S69)","v":""},{"$f":"IF(OR(Q69=\"\",S69=\"\"),\"\",S69+Q69+R69)","v":""},null,null,{"$f":"ROUNDUP(((FirstPartDegrees1!#REF!+C69)/2+(FirstPartDegrees1!E69+#REF!)/2+(FirstPartDegrees1!#REF!+#REF!)/2+(FirstPartDegrees1!C69+#REF!)/2 )/4,0)","v":{"$error":"#REF!"}},{"$f":"ROUNDUP(((FirstPartDegrees1!#REF!+FirstPartDegrees1!#REF!)/2+(FirstPartDegrees1!F69+D69)/2+(FirstPartDegrees1!#REF!+#REF!)/2+(FirstPartDegrees1!I69+#REF!)/2 )/4,0)","v":{"$error":"#REF!"}},{"$f":"ROUNDUP(((FirstPartDegrees1!#REF!+FirstPartDegrees1!J69)/2+(FirstPartDegrees1!#REF!+FirstPartDegrees1!#REF!)/2+(FirstPartDegrees1!#REF!+#REF!)/2+(#REF!+#REF!)/2)/4,0)","v":{"$error":"#REF!"}},{"$f":"(Z69+Y69+X69)*40/12","v":{"$error":"#REF!"}}]
[null,"ملاحظات"]
[30,"",null,null,null,null,null,null,null,null,null,null,null,null,null,{"$f":"INDIRECT(ADDRESS(9+A71*3,30,,,\"Final Degree1\"))","v":""},{"$f":"IF($B71=\"\",\"\",IF((P71*40/12-INT(P71*40/12))>=0.75,INT(P71*40/12)+1,IF((P71*40/12-INT(P71*40/12))<0.25,INT(P71*40/12),INT(P71*40/12)+0.5)))","v":""},null,null,{"$f":"IF(OR(R71=\"\",S71=\"\"),\"\",R71+S71)","v":""},{"$f":"IF(OR(Q71=\"\",S71=\"\"),\"\",S71+Q71+R71)","v":""},null,null,{"$f":"ROUNDUP(((FirstPartDegrees1!#REF!+C71)/2+(FirstPartDegrees1!E71+#REF!)/2+(FirstPartDegrees1!#REF!+#REF!)/2+(FirstPartDegrees1!C71+#REF!)/2 )/4,0)","v":{"$error":"#REF!"}},{"$f":"ROUNDUP(((FirstPartDegrees1!#REF!+FirstPartDegrees1!#REF!)/2+(FirstPartDegrees1!F71+D71)/2+(FirstPartDegrees1!#REF!+#REF!)/2+(FirstPartDegrees1!I71+#REF!)/2 )/4,0)","v":{"$error":"#REF!"}},{"$f":"ROUNDUP(((FirstPartDegrees1!#REF!+FirstPartDegrees1!J71)/2+(FirstPartDegrees1!#REF!+FirstPartDegrees1!#REF!)/2+(FirstPartDegrees1!#REF!+#REF!)/2+(#REF!+#REF!)/2)/4,0)","v":{"$error":"#REF!"}},{"$f":"(Z71+Y71+X71)*40/12","v":{"$error":"#REF!"}}]
[null,"ملاحظات"]
[31,"",null,null,null,null,null,null,null,null,null,null,null,null,null,{"$f":"INDIRECT(ADDRESS(9+A73*3,30,,,\"Final Degree1\"))","v":""},{"$f":"IF($B73=\"\",\"\",IF((P73*40/12-INT(P73*40/12))>=0.75,INT(P73*40/12)+1,IF((P73*40/12-INT(P73*40/12))<0.25,INT(P73*40/12),INT(P73*40/12)+0.5)))","v":""},null,null,{"$f":"IF(OR(R73=\"\",S73=\"\"),\"\",R73+S73)","v":""},{"$f":"IF(OR(Q73=\"\",S73=\"\"),\"\",S73+Q73+R73)","v":""},null,null,{"$f":"ROUNDUP(((FirstPartDegrees1!#REF!+C73)/2+(FirstPartDegrees1!E73+#REF!)/2+(FirstPartDegrees1!#REF!+#REF!)/2+(FirstPartDegrees1!C73+#REF!)/2 )/4,0)","v":{"$error":"#REF!"}},{"$f":"ROUNDUP(((FirstPartDegrees1!#REF!+FirstPartDegrees1!#REF!)/2+(FirstPartDegrees1!F73+D73)/2+(FirstPartDegrees1!#REF!+#REF!)/2+(FirstPartDegrees1!I73+#REF!)/2 )/4,0)","v":{"$error":"#REF!"}},{"$f":"ROUNDUP(((FirstPartDegrees1!#REF!+FirstPartDegrees1!J73)/2+(FirstPartDegrees1!#REF!+FirstPartDegrees1!#REF!)/2+(FirstPartDegrees1!#REF!+#REF!)/2+(#REF!+#REF!)/2)/4,0)","v":{"$error":"#REF!"}},{"$f":"(Z73+Y73+X73)*40/12","v":{"$error":"#REF!"}}]
[null,"ملاحظات"]
[32,"",null,null,null,null,null,null,null,null,null,null,null,null,null,{"$f":"INDIRECT(ADDRESS(9+A75*3,30,,,\"Final Degree1\"))","v":""},{"$f":"IF($B75=\"\",\"\",IF((P75*40/12-INT(P75*40/12))>=0.75,INT(P75*40/12)+1,IF((P75*40/12-INT(P75*40/12))<0.25,INT(P75*40/12),INT(P75*40/12)+0.5)))","v":""},null,null,{"$f":"IF(OR(R75=\"\",S75=\"\"),\"\",R75+S75)","v":""},{"$f":"IF(OR(Q75=\"\",S75=\"\"),\"\",S75+Q75+R75)","v":""},null,null,{"$f":"ROUNDUP(((FirstPartDegrees1!#REF!+C75)/2+(FirstPartDegrees1!E75+#REF!)/2+(FirstPartDegrees1!#REF!+#REF!)/2+(FirstPartDegrees1!C75+#REF!)/2 )/4,0)","v":{"$error":"#REF!"}},{"$f":"ROUNDUP(((FirstPartDegrees1!#REF!+FirstPartDegrees1!#REF!)/2+(FirstPartDegrees1!F75+D75)/2+(FirstPartDegrees1!#REF!+#REF!)/2+(FirstPartDegrees1!I75+#REF!)/2 )/4,0)","v":{"$error":"#REF!"}},{"$f":"ROUNDUP(((FirstPartDegrees1!#REF!+FirstPartDegrees1!J75)/2+(FirstPartDegrees1!#REF!+FirstPartDegrees1!#REF!)/2+(FirstPartDegrees1!#REF!+#REF!)/2+(#REF!+#REF!)/2)/4,0)","v":{"$error":"#REF!"}},{"$f":"(Z75+Y75+X75)*40/12","v":{"$error":"#REF!"}}]
[null,"ملاحظات"]
[33,"",null,null,null,null,null,null,null,null,null,null,null,null,null,{"$f":"INDIRECT(ADDRESS(9+A77*3,30,,,\"Final Degree1\"))","v":""},{"$f":"IF($B77=\"\",\"\",IF((P77*40/12-INT(P77*40/12))>=0.75,INT(P77*40/12)+1,IF((P77*40/12-INT(P77*40/12))<0.25,INT(P77*40/12),INT(P77*40/12)+0.5)))","v":""},null,null,{"$f":"IF(OR(R77=\"\",S77=\"\"),\"\",R77+S77)","v":""},{"$f":"IF(OR(Q77=\"\",S77=\"\"),\"\",S77+Q77+R77)","v":""},null,null,{"$f":"ROUNDUP(((FirstPartDegrees1!#REF!+C77)/2+(FirstPartDegrees1!E77+#REF!)/2+(FirstPartDegrees1!#REF!+#REF!)/2+(FirstPartDegrees1!C77+#REF!)/2 )/4,0)","v":{"$error":"#REF!"}},{"$f":"ROUNDUP(((FirstPartDegrees1!#REF!+FirstPartDegrees1!#REF!)/2+(FirstPartDegrees1!F77+D77)/2+(FirstPartDegrees1!#REF!+#REF!)/2+(FirstPartDegrees1!I77+#REF!)/2 )/4,0)","v":{"$error":"#REF!"}},{"$f":"ROUNDUP(((FirstPartDegrees1!#REF!+FirstPartDegrees1!J77)/2+(FirstPartDegrees1!#REF!+FirstPartDegrees1!#REF!)/2+(FirstPartDegrees1!#REF!+#REF!)/2+(#REF!+#REF!)/2)/4,0)","v":{"$error":"#REF!"}},{"$f":"(Z77+Y77+X77)*40/12","v":{"$error":"#REF!"}}]
[null,"ملاحظات"]
[34,{"$f":"IF(INDIRECT(ADDRESS(A79,1,1,,\"اسماء المتعلمين\"))=\"\",\"\",INDIRECT(ADDRESS(A79,1,1,,\"اسماء المتعلمين\")))","v":""},null,null,null,null,null,null,null,null,null,null,null,null,null,{"$f":"INDIRECT(ADDRESS(9+A79*3,30,,,\"Final Degree1\"))","v":""},{"$f":"IF($B79=\"\",\"\",IF((P79*40/12-INT(P79*40/12))>=0.75,INT(P79*40/12)+1,IF((P79*40/12-INT(P79*40/12))<0.25,INT(P79*40/12),INT(P79*40/12)+0.5)))","v":""},null,null,{"$f":"IF(OR(R79=\"\",S79=\"\"),\"\",R79+S79)","v":""},{"$f":"IF(OR(Q79=\"\",S79=\"\"),\"\",S79+Q79+R79)","v":""},null,null,{"$f":"ROUNDUP(((FirstPartDegrees1!#REF!+C79)/2+(FirstPartDegrees1!E79+#REF!)/2+(FirstPartDegrees1!#REF!+#REF!)/2+(FirstPartDegrees1!C79+#REF!)/2 )/4,0)","v":{"$error":"#REF!"}},{"$f":"ROUNDUP(((FirstPartDegrees1!#REF!+FirstPartDegrees1!#REF!)/2+(FirstPartDegrees1!F79+D79)/2+(FirstPartDegrees1!#REF!+#REF!)/2+(FirstPartDegrees1!I79+#REF!)/2 )/4,0)","v":{"$error":"#REF!"}},{"$f":"ROUNDUP(((FirstPartDegrees1!#REF!+FirstPartDegrees1!J79)/2+(FirstPartDegrees1!#REF!+FirstPartDegrees1!#REF!)/2+(FirstPartDegrees1!#REF!+#REF!)/2+(#REF!+#REF!)/2)/4,0)","v":{"$error":"#REF!"}},{"$f":"(Z79+Y79+X79)*40/12","v":{"$error":"#REF!"}}]
[null,"ملاحظات"]
[35,"",null,null,null,null,null,null,null,null,null,null,null,null,null,{"$f":"INDIRECT(ADDRESS(9+A81*3,30,,,\"Final Degree1\"))","v":""},{"$f":"IF($B81=\"\",\"\",IF((P81*40/12-INT(P81*40/12))>=0.75,INT(P81*40/12)+1,IF((P81*40/12-INT(P81*40/12))<0.25,INT(P81*40/12),INT(P81*40/12)+0.5)))","v":""},null,null,{"$f":"IF(OR(R81=\"\",S81=\"\"),\"\",R81+S81)","v":""},{"$f":"IF(OR(Q81=\"\",S81=\"\"),\"\",S81+Q81+R81)","v":""},null,null,{"$f":"ROUNDUP(((FirstPartDegrees1!#REF!+C81)/2+(FirstPartDegrees1!E81+#REF!)/2+(FirstPartDegrees1!#REF!+#REF!)/2+(FirstPartDegrees1!C81+#REF!)/2 )/4,0)","v":{"$error":"#REF!"}},{"$f":"ROUNDUP(((FirstPartDegrees1!#REF!+FirstPartDegrees1!#REF!)/2+(FirstPartDegrees1!F81+D81)/2+(FirstPartDegrees1!#REF!+#REF!)/2+(FirstPartDegrees1!I81+#REF!)/2 )/4,0)","v":{"$error":"#REF!"}},{"$f":"ROUNDUP(((FirstPartDegrees1!#REF!+FirstPartDegrees1!J81)/2+(FirstPartDegrees1!#REF!+FirstPartDegrees1!#REF!)/2+(FirstPartDegrees1!#REF!+#REF!)/2+(#REF!+#REF!)/2)/4,0)","v":{"$error":"#REF!"}},{"$f":"(Z81+Y81+X81)*40/12","v":{"$error":"#REF!"}}]
[null,"ملاحظات"]
[36,"",null,null,null,null,null,null,null,null,null,null,null,null,null,{"$f":"INDIRECT(ADDRESS(9+A83*3,30,,,\"Final Degree1\"))","v":""},{"$f":"IF($B83=\"\",\"\",IF((P83*40/12-INT(P83*40/12))>=0.75,INT(P83*40/12)+1,IF((P83*40/12-INT(P83*40/12))<0.25,INT(P83*40/12),INT(P83*40/12)+0.5)))","v":""},null,null,{"$f":"IF(OR(R83=\"\",S83=\"\"),\"\",R83+S83)","v":""},{"$f":"IF(OR(Q83=\"\",S83=\"\"),\"\",S83+Q83+R83)","v":""},null,null,{"$f":"ROUNDUP(((FirstPartDegrees1!#REF!+C83)/2+(FirstPartDegrees1!E83+#REF!)/2+(FirstPartDegrees1!#REF!+#REF!)/2+(FirstPartDegrees1!C83+#REF!)/2 )/4,0)","v":{"$error":"#REF!"}},{"$f":"ROUNDUP(((FirstPartDegrees1!#REF!+FirstPartDegrees1!#REF!)/2+(FirstPartDegrees1!F83+D83)/2+(FirstPartDegrees1!#REF!+#REF!)/2+(FirstPartDegrees1!I83+#REF!)/2 )/4,0)","v":{"$error":"#REF!"}},{"$f":"ROUNDUP(((FirstPartDegrees1!#REF!+FirstPartDegrees1!J83)/2+(FirstPartDegrees1!#REF!+FirstPartDegrees1!#REF!)/2+(FirstPartDegrees1!#REF!+#REF!)/2+(#REF!+#REF!)/2)/4,0)","v":{"$error":"#REF!"}},{"$f":"(Z83+Y83+X83)*40/12","v":{"$error":"#REF!"}}]
[null,"ملاحظات"]
[37,"",null,null,null,null,null,null,null,null,null,null,null,null,null,{"$f":"INDIRECT(ADDRESS(9+A85*3,30,,,\"Final Degree1\"))","v":""},{"$f":"IF($B85=\"\",\"\",IF((P85*40/12-INT(P85*40/12))>=0.75,INT(P85*40/12)+1,IF((P85*40/12-INT(P85*40/12))<0.25,INT(P85*40/12),INT(P85*40/12)+0.5)))","v":""},null,null,{"$f":"IF(OR(R85=\"\",S85=\"\"),\"\",R85+S85)","v":""},{"$f":"IF(OR(Q85=\"\",S85=\"\"),\"\",S85+Q85+R85)","v":""},null,null,{"$f":"ROUNDUP(((FirstPartDegrees1!#REF!+C85)/2+(FirstPartDegrees1!E85+#REF!)/2+(FirstPartDegrees1!#REF!+#REF!)/2+(FirstPartDegrees1!C85+#REF!)/2 )/4,0)","v":{"$error":"#REF!"}},{"$f":"ROUNDUP(((FirstPartDegrees1!#REF!+FirstPartDegrees1!#REF!)/2+(FirstPartDegrees1!F85+D85)/2+(FirstPartDegrees1!#REF!+#REF!)/2+(FirstPartDegrees1!I85+#REF!)/2 )/4,0)","v":{"$error":"#REF!"}},{"$f":"ROUNDUP(((FirstPartDegrees1!#REF!+FirstPartDegrees1!J85)/2+(FirstPartDegrees1!#REF!+FirstPartDegrees1!#REF!)/2+(FirstPartDegrees1!#REF!+#REF!)/2+(#REF!+#REF!)/2)/4,0)","v":{"$error":"#REF!"}},{"$f":"(Z85+Y85+X85)*40/12","v":{"$error":"#REF!"}}]
[null,"ملاحظات"]
[38,"",null,null,null,null,null,null,null,null,null,null,null,null,null,{"$f":"INDIRECT(ADDRESS(9+A87*3,30,,,\"Final Degree1\"))","v":""},{"$f":"IF($B87=\"\",\"\",IF((P87*40/12-INT(P87*40/12))>=0.75,INT(P87*40/12)+1,IF((P87*40/12-INT(P87*40/12))<0.25,INT(P87*40/12),INT(P87*40/12)+0.5)))","v":""},null,null,{"$f":"IF(OR(R87=\"\",S87=\"\"),\"\",R87+S87)","v":""},{"$f":"IF(OR(Q87=\"\",S87=\"\"),\"\",S87+Q87+R87)","v":""},null,null,{"$f":"ROUNDUP(((FirstPartDegrees1!#REF!+C87)/2+(FirstPartDegrees1!E87+#REF!)/2+(FirstPartDegrees1!#REF!+#REF!)/2+(FirstPartDegrees1!C87+#REF!)/2 )/4,0)","v":{"$error":"#REF!"}},{"$f":"ROUNDUP(((FirstPartDegrees1!#REF!+FirstPartDegrees1!#REF!)/2+(FirstPartDegrees1!F87+D87)/2+(FirstPartDegrees1!#REF!+#REF!)/2+(FirstPartDegrees1!I87+#REF!)/2 )/4,0)","v":{"$error":"#REF!"}},{"$f":"ROUNDUP(((FirstPartDegrees1!#REF!+FirstPartDegrees1!J87)/2+(FirstPartDegrees1!#REF!+FirstPartDegrees1!#REF!)/2+(FirstPartDegrees1!#REF!+#REF!)/2+(#REF!+#REF!)/2)/4,0)","v":{"$error":"#REF!"}},{"$f":"(Z87+Y87+X87)*40/12","v":{"$error":"#REF!"}}]
[null,"ملاحظات"]
[39,"",null,null,null,null,null,null,null,null,null,null,null,null,null,{"$f":"INDIRECT(ADDRESS(9+A89*3,30,,,\"Final Degree1\"))","v":""},{"$f":"IF($B89=\"\",\"\",IF((P89*40/12-INT(P89*40/12))>=0.75,INT(P89*40/12)+1,IF((P89*40/12-INT(P89*40/12))<0.25,INT(P89*40/12),INT(P89*40/12)+0.5)))","v":""},null,null,{"$f":"IF(OR(R89=\"\",S89=\"\"),\"\",R89+S89)","v":""},{"$f":"IF(OR(Q89=\"\",S89=\"\"),\"\",S89+Q89+R89)","v":""},null,null,{"$f":"ROUNDUP(((FirstPartDegrees1!#REF!+C89)/2+(FirstPartDegrees1!E89+#REF!)/2+(FirstPartDegrees1!#REF!+#REF!)/2+(FirstPartDegrees1!C89+#REF!)/2 )/4,0)","v":{"$error":"#REF!"}},{"$f":"ROUNDUP(((FirstPartDegrees1!#REF!+FirstPartDegrees1!#REF!)/2+(FirstPartDegrees1!F89+D89)/2+(FirstPartDegrees1!#REF!+#REF!)/2+(FirstPartDegrees1!I89+#REF!)/2 )/4,0)","v":{"$error":"#REF!"}},{"$f":"ROUNDUP(((FirstPartDegrees1!#REF!+FirstPartDegrees1!J89)/2+(FirstPartDegrees1!#REF!+FirstPartDegrees1!#REF!)/2+(FirstPartDegrees1!#REF!+#REF!)/2+(#REF!+#REF!)/2)/4,0)","v":{"$error":"#REF!"}},{"$f":"(Z89+Y89+X89)*40/12","v":{"$error":"#REF!"}}]
[null,"ملاحظات"]
[40,"",null,null,null,null,null,null,null,null,null,null,null,null,null,{"$f":"INDIRECT(ADDRESS(9+A91*3,30,,,\"Final Degree1\"))","v":""},{"$f":"IF($B91=\"\",\"\",IF((P91*40/12-INT(P91*40/12))>=0.75,INT(P91*40/12)+1,IF((P91*40/12-INT(P91*40/12))<0.25,INT(P91*40/12),INT(P91*40/12)+0.5)))","v":""},null,null,{"$f":"IF(OR(R91=\"\",S91=\"\"),\"\",R91+S91)","v":""},{"$f":"IF(OR(Q91=\"\",S91=\"\"),\"\",S91+Q91+R91)","v":""},null,null,{"$f":"ROUNDUP(((FirstPartDegrees1!#REF!+C91)/2+(FirstPartDegrees1!E91+#REF!)/2+(FirstPartDegrees1!#REF!+#REF!)/2+(FirstPartDegrees1!C91+#REF!)/2 )/4,0)","v":{"$error":"#REF!"}},{"$f":"ROUNDUP(((FirstPartDegrees1!#REF!+FirstPartDegrees1!#REF!)/2+(FirstPartDegrees1!F91+D91)/2+(FirstPartDegrees1!#REF!+#REF!)/2+(FirstPartDegrees1!I91+#REF!)/2 )/4,0)","v":{"$error":"#REF!"}},{"$f":"ROUNDUP(((FirstPartDegrees1!#REF!+FirstPartDegrees1!J91)/2+(FirstPartDegrees1!#REF!+FirstPartDegrees1!#REF!)/2+(FirstPartDegrees1!#REF!+#REF!)/2+(#REF!+#REF!)/2)/4,0)","v":{"$error":"#REF!"}},{"$f":"(Z91+Y91+X91)*40/12","v":{"$error":"#REF!"}}]
[null,"ملاحظات"]
[41,"",null,null,null,null,null,null,null,null,null,null,null,null,null,{"$f":"INDIRECT(ADDRESS(9+A93*3,30,,,\"Final Degree1\"))","v":""},{"$f":"IF($B93=\"\",\"\",IF((P93*40/12-INT(P93*40/12))>=0.75,INT(P93*40/12)+1,IF((P93*40/12-INT(P93*40/12))<0.25,INT(P93*40/12),INT(P93*40/12)+0.5)))","v":""},null,null,{"$f":"IF(OR(R93=\"\",S93=\"\"),\"\",R93+S93)","v":""},{"$f":"IF(OR(Q93=\"\",S93=\"\"),\"\",S93+Q93+R93)","v":""},null,null,{"$f":"ROUNDUP(((FirstPartDegrees1!#REF!+C93)/2+(FirstPartDegrees1!E93+#REF!)/2+(FirstPartDegrees1!#REF!+#REF!)/2+(FirstPartDegrees1!C93+#REF!)/2 )/4,0)","v":{"$error":"#REF!"}},{"$f":"ROUNDUP(((FirstPartDegrees1!#REF!+FirstPartDegrees1!#REF!)/2+(FirstPartDegrees1!F93+D93)/2+(FirstPartDegrees1!#REF!+#REF!)/2+(FirstPartDegrees1!I93+#REF!)/2 )/4,0)","v":{"$error":"#REF!"}},{"$f":"ROUNDUP(((FirstPartDegrees1!#REF!+FirstPartDegrees1!J93)/2+(FirstPartDegrees1!#REF!+FirstPartDegrees1!#REF!)/2+(FirstPartDegrees1!#REF!+#REF!)/2+(#REF!+#REF!)/2)/4,0)","v":{"$error":"#REF!"}},{"$f":"(Z93+Y93+X93)*40/12","v":{"$error":"#REF!"}}]
[null,"ملاحظات"]
[42,"",null,null,null,null,null,null,null,null,null,null,null,null,null,{"$f":"INDIRECT(ADDRESS(9+A95*3,30,,,\"Final Degree1\"))","v":""},{"$f":"IF($B95=\"\",\"\",IF((P95*40/12-INT(P95*40/12))>=0.75,INT(P95*40/12)+1,IF((P95*40/12-INT(P95*40/12))<0.25,INT(P95*40/12),INT(P95*40/12)+0.5)))","v":""},null,null,{"$f":"IF(OR(R95=\"\",S95=\"\"),\"\",R95+S95)","v":""},{"$f":"IF(OR(Q95=\"\",S95=\"\"),\"\",S95+Q95+R95)","v":""},null,null,{"$f":"ROUNDUP(((FirstPartDegrees1!#REF!+C95)/2+(FirstPartDegrees1!E95+#REF!)/2+(FirstPartDegrees1!#REF!+#REF!)/2+(FirstPartDegrees1!C95+#REF!)/2 )/4,0)","v":{"$error":"#REF!"}},{"$f":"ROUNDUP(((FirstPartDegrees1!#REF!+FirstPartDegrees1!#REF!)/2+(FirstPartDegrees1!F95+D95)/2+(FirstPartDegrees1!#REF!+#REF!)/2+(FirstPartDegrees1!I95+#REF!)/2 )/4,0)","v":{"$error":"#REF!"}},{"$f":"ROUNDUP(((FirstPartDegrees1!#REF!+FirstPartDegrees1!J95)/2+(FirstPartDegrees1!#REF!+FirstPartDegrees1!#REF!)/2+(FirstPartDegrees1!#REF!+#REF!)/2+(#REF!+#REF!)/2)/4,0)","v":{"$error":"#REF!"}},{"$f":"(Z95+Y95+X95)*40/12","v":{"$error":"#REF!"}}]
[null,"ملاحظات"]
[43,"",null,null,null,null,null,null,null,null,null,null,null,null,null,{"$f":"INDIRECT(ADDRESS(9+A97*3,30,,,\"Final Degree1\"))","v":""},{"$f":"IF($B97=\"\",\"\",IF((P97*40/12-INT(P97*40/12))>=0.75,INT(P97*40/12)+1,IF((P97*40/12-INT(P97*40/12))<0.25,INT(P97*40/12),INT(P97*40/12)+0.5)))","v":""},null,null,{"$f":"IF(OR(R97=\"\",S97=\"\"),\"\",R97+S97)","v":""},{"$f":"IF(OR(Q97=\"\",S97=\"\"),\"\",S97+Q97+R97)","v":""},null,null,{"$f":"ROUNDUP(((FirstPartDegrees1!#REF!+C97)/2+(FirstPartDegrees1!E97+#REF!)/2+(FirstPartDegrees1!#REF!+#REF!)/2+(FirstPartDegrees1!C97+#REF!)/2 )/4,0)","v":{"$error":"#REF!"}},{"$f":"ROUNDUP(((FirstPartDegrees1!#REF!+FirstPartDegrees1!#REF!)/2+(FirstPartDegrees1!F97+D97)/2+(FirstPartDegrees1!#REF!+#REF!)/2+(FirstPartDegrees1!I97+#REF!)/2 )/4,0)","v":{"$error":"#REF!"}},{"$f":"ROUNDUP(((FirstPartDegrees1!#REF!+FirstPartDegrees1!J97)/2+(FirstPartDegrees1!#REF!+FirstPartDegrees1!#REF!)/2+(FirstPartDegrees1!#REF!+#REF!)/2+(#REF!+#REF!)/2)/4,0)","v":{"$error":"#REF!"}},{"$f":"(Z97+Y97+X97)*40/12","v":{"$error":"#REF!"}}]
[null,"ملاحظات"]
[44,"",null,null,null,null,null,null,null,null,null,null,null,null,null,{"$f":"INDIRECT(ADDRESS(9+A99*3,30,,,\"Final Degree1\"))","v":""},{"$f":"IF($B99=\"\",\"\",IF((P99*40/12-INT(P99*40/12))>=0.75,INT(P99*40/12)+1,IF((P99*40/12-INT(P99*40/12))<0.25,INT(P99*40/12),INT(P99*40/12)+0.5)))","v":""},null,null,{"$f":"IF(OR(R99=\"\",S99=\"\"),\"\",R99+S99)","v":""},{"$f":"IF(OR(Q99=\"\",S99=\"\"),\"\",S99+Q99+R99)","v":""},null,null,{"$f":"ROUNDUP(((FirstPartDegrees1!#REF!+C99)/2+(FirstPartDegrees1!E99+#REF!)/2+(FirstPartDegrees1!#REF!+#REF!)/2+(FirstPartDegrees1!C99+#REF!)/2 )/4,0)","v":{"$error":"#REF!"}},{"$f":"ROUNDUP(((FirstPartDegrees1!#REF!+FirstPartDegrees1!#REF!)/2+(FirstPartDegrees1!F99+D99)/2+(FirstPartDegrees1!#REF!+#REF!)/2+(FirstPartDegrees1!I99+#REF!)/2 )/4,0)","v":{"$error":"#REF!"}},{"$f":"ROUNDUP(((FirstPartDegrees1!#REF!+FirstPartDegrees1!J99)/2+(FirstPartDegrees1!#REF!+FirstPartDegrees1!#REF!)/2+(FirstPartDegrees1!#REF!+#REF!)/2+(#REF!+#REF!)/2)/4,0)","v":{"$error":"#REF!"}},{"$f":"(Z99+Y99+X99)*40/12","v":{"$error":"#REF!"}}]
[null,"ملاحظات"]
[45,"",null,null,null,null,null,null,null,null,null,null,null,null,null,{"$f":"INDIRECT(ADDRESS(9+A101*3,30,,,\"Final Degree1\"))","v":""},{"$f":"IF($B101=\"\",\"\",IF((P101*40/12-INT(P101*40/12))>=0.75,INT(P101*40/12)+1,IF((P101*40/12-INT(P101*40/12))<0.25,INT(P101*40/12),INT(P101*40/12)+0.5)))","v":""},null,null,{"$f":"IF(OR(R101=\"\",S101=\"\"),\"\",R101+S101)","v":""},{"$f":"IF(OR(Q101=\"\",S101=\"\"),\"\",S101+Q101+R101)","v":""},null,null,{"$f":"ROUNDUP(((FirstPartDegrees1!#REF!+C101)/2+(FirstPartDegrees1!E101+#REF!)/2+(FirstPartDegrees1!#REF!+#REF!)/2+(FirstPartDegrees1!C101+#REF!)/2 )/4,0)","v":{"$error":"#REF!"}},{"$f":"ROUNDUP(((FirstPartDegrees1!#REF!+FirstPartDegrees1!#REF!)/2+(FirstPartDegrees1!F101+D101)/2+(FirstPartDegrees1!#REF!+#REF!)/2+(FirstPartDegrees1!I101+#REF!)/2 )/4,0)","v":{"$error":"#REF!"}},{"$f":"ROUNDUP(((FirstPartDegrees1!#REF!+FirstPartDegrees1!J101)/2+(FirstPartDegrees1!#REF!+FirstPartDegrees1!#REF!)/2+(FirstPartDegrees1!#REF!+#REF!)/2+(#REF!+#REF!)/2)/4,0)","v":{"$error":"#REF!"}},{"$f":"(Z101+Y101+X101)*40/12","v":{"$error":"#REF!"}}]
[null,"ملاحظات"]
[46,"",null,null,null,null,null,null,null,null,null,null,null,null,null,{"$f":"INDIRECT(ADDRESS(9+A103*3,30,,,\"Final Degree1\"))","v":""},{"$f":"IF($B103=\"\",\"\",IF((P103*40/12-INT(P103*40/12))>=0.75,INT(P103*40/12)+1,IF((P103*40/12-INT(P103*40/12))<0.25,INT(P103*40/12),INT(P103*40/12)+0.5)))","v":""},null,null,{"$f":"IF(OR(R103=\"\",S103=\"\"),\"\",R103+S103)","v":""},{"$f":"IF(OR(Q103=\"\",S103=\"\"),\"\",S103+Q103+R103)","v":""},null,null,{"$f":"ROUNDUP(((FirstPartDegrees1!#REF!+C103)/2+(FirstPartDegrees1!E103+#REF!)/2+(FirstPartDegrees1!#REF!+#REF!)/2+(FirstPartDegrees1!C103+#REF!)/2 )/4,0)","v":{"$error":"#REF!"}},{"$f":"ROUNDUP(((FirstPartDegrees1!#REF!+FirstPartDegrees1!#REF!)/2+(FirstPartDegrees1!F103+D103)/2+(FirstPartDegrees1!#REF!+#REF!)/2+(FirstPartDegrees1!I103+#REF!)/2 )/4,0)","v":{"$error":"#REF!"}},{"$f":"ROUNDUP(((FirstPartDegrees1!#REF!+FirstPartDegrees1!J103)/2+(FirstPartDegrees1!#REF!+FirstPartDegrees1!#REF!)/2+(FirstPartDegrees1!#REF!+#REF!)/2+(#REF!+#REF!)/2)/4,0)","v":{"$error":"#REF!"}},{"$f":"(Z103+Y103+X103)*40/12","v":{"$error":"#REF!"}}]
[null,"ملاحظات"]
[47,"",null,null,null,null,null,null,null,null,null,null,null,null,null,{"$f":"INDIRECT(ADDRESS(9+A105*3,30,,,\"Final Degree1\"))","v":""},{"$f":"IF($B105=\"\",\"\",IF((P105*40/12-INT(P105*40/12))>=0.75,INT(P105*40/12)+1,IF((P105*40/12-INT(P105*40/12))<0.25,INT(P105*40/12),INT(P105*40/12)+0.5)))","v":""},null,null,{"$f":"IF(OR(R105=\"\",S105=\"\"),\"\",R105+S105)","v":""},{"$f":"IF(OR(Q105=\"\",S105=\"\"),\"\",S105+Q105+R105)","v":""},null,null,{"$f":"ROUNDUP(((FirstPartDegrees1!#REF!+C105)/2+(FirstPartDegrees1!E105+#REF!)/2+(FirstPartDegrees1!#REF!+#REF!)/2+(FirstPartDegrees1!C105+#REF!)/2 )/4,0)","v":{"$error":"#REF!"}},{"$f":"ROUNDUP(((FirstPartDegrees1!#REF!+FirstPartDegrees1!#REF!)/2+(FirstPartDegrees1!F105+D105)/2+(FirstPartDegrees1!#REF!+#REF!)/2+(FirstPartDegrees1!I105+#REF!)/2 )/4,0)","v":{"$error":"#REF!"}},{"$f":"ROUNDUP(((FirstPartDegrees1!#REF!+FirstPartDegrees1!J105)/2+(FirstPartDegrees1!#REF!+FirstPartDegrees1!#REF!)/2+(FirstPartDegrees1!#REF!+#REF!)/2+(#REF!+#REF!)/2)/4,0)","v":{"$error":"#REF!"}},{"$f":"(Z105+Y105+X105)*40/12","v":{"$error":"#REF!"}}]
[null,"ملاحظات"]
[48,"",null,null,null,null,null,null,null,null,null,null,null,null,null,{"$f":"INDIRECT(ADDRESS(9+A107*3,30,,,\"Final Degree1\"))","v":""},{"$f":"IF($B107=\"\",\"\",IF((P107*40/12-INT(P107*40/12))>=0.75,INT(P107*40/12)+1,IF((P107*40/12-INT(P107*40/12))<0.25,INT(P107*40/12),INT(P107*40/12)+0.5)))","v":""},null,null,{"$f":"IF(OR(R107=\"\",S107=\"\"),\"\",R107+S107)","v":""},{"$f":"IF(OR(Q107=\"\",S107=\"\"),\"\",S107+Q107+R107)","v":""},null,null,{"$f":"ROUNDUP(((FirstPartDegrees1!#REF!+C107)/2+(FirstPartDegrees1!E107+#REF!)/2+(FirstPartDegrees1!#REF!+#REF!)/2+(FirstPartDegrees1!C107+#REF!)/2 )/4,0)","v":{"$error":"#REF!"}},{"$f":"ROUNDUP(((FirstPartDegrees1!#REF!+FirstPartDegrees1!#REF!)/2+(FirstPartDegrees1!F107+D107)/2+(FirstPartDegrees1!#REF!+#REF!)/2+(FirstPartDegrees1!I107+#REF!)/2 )/4,0)","v":{"$error":"#REF!"}},{"$f":"ROUNDUP(((FirstPartDegrees1!#REF!+FirstPartDegrees1!J107)/2+(FirstPartDegrees1!#REF!+FirstPartDegrees1!#REF!)/2+(FirstPartDegrees1!#REF!+#REF!)/2+(#REF!+#REF!)/2)/4,0)","v":{"$error":"#REF!"}},{"$f":"(Z107+Y107+X107)*40/12","v":{"$error":"#REF!"}}]
[null,"ملاحظات"]
[49,"",null,null,null,null,null,null,null,null,null,null,null,null,null,{"$f":"INDIRECT(ADDRESS(9+A109*3,30,,,\"Final Degree1\"))","v":""},{"$f":"IF($B109=\"\",\"\",IF((P109*40/12-INT(P109*40/12))>=0.75,INT(P109*40/12)+1,IF((P109*40/12-INT(P109*40/12))<0.25,INT(P109*40/12),INT(P109*40/12)+0.5)))","v":""},null,null,{"$f":"IF(OR(R109=\"\",S109=\"\"),\"\",R109+S109)","v":""},{"$f":"IF(OR(Q109=\"\",S109=\"\"),\"\",S109+Q109+R109)","v":""},null,null,{"$f":"ROUNDUP(((FirstPartDegrees1!#REF!+C109)/2+(FirstPartDegrees1!E109+#REF!)/2+(FirstPartDegrees1!#REF!+#REF!)/2+(FirstPartDegrees1!C109+#REF!)/2 )/4,0)","v":{"$error":"#REF!"}},{"$f":"ROUNDUP(((FirstPartDegrees1!#REF!+FirstPartDegrees1!#REF!)/2+(FirstPartDegrees1!F109+D109)/2+(FirstPartDegrees1!#REF!+#REF!)/2+(FirstPartDegrees1!I109+#REF!)/2 )/4,0)","v":{"$error":"#REF!"}},{"$f":"ROUNDUP(((FirstPartDegrees1!#REF!+FirstPartDegrees1!J109)/2+(FirstPartDegrees1!#REF!+FirstPartDegrees1!#REF!)/2+(FirstPartDegrees1!#REF!+#REF!)/2+(#REF!+#REF!)/2)/4,0)","v":{"$error":"#REF!"}},{"$f":"(Z109+Y109+X109)*40/12","v":{"$error":"#REF!"}}]
[null,"ملاحظات"]
[50,"",null,null,null,null,null,null,null,null,null,null,null,null,null,{"$f":"INDIRECT(ADDRESS(9+A111*3,30,,,\"Final Degree1\"))","v":""},{"$f":"IF($B111=\"\",\"\",IF((P111*40/12-INT(P111*40/12))>=0.75,INT(P111*40/12)+1,IF((P111*40/12-INT(P111*40/12))<0.25,INT(P111*40/12),INT(P111*40/12)+0.5)))","v":""},null,null,{"$f":"IF(OR(R111=\"\",S111=\"\"),\"\",R111+S111)","v":""},{"$f":"IF(OR(Q111=\"\",S111=\"\"),\"\",S111+Q111+R111)","v":""},null,null,{"$f":"ROUNDUP(((FirstPartDegrees1!#REF!+C111)/2+(FirstPartDegrees1!E111+#REF!)/2+(FirstPartDegrees1!#REF!+#REF!)/2+(FirstPartDegrees1!C111+#REF!)/2 )/4,0)","v":{"$error":"#REF!"}},{"$f":"ROUNDUP(((FirstPartDegrees1!#REF!+FirstPartDegrees1!#REF!)/2+(FirstPartDegrees1!F111+D111)/2+(FirstPartDegrees1!#REF!+#REF!)/2+(FirstPartDegrees1!I111+#REF!)/2 )/4,0)","v":{"$error":"#REF!"}},{"$f":"ROUNDUP(((FirstPartDegrees1!#REF!+FirstPartDegrees1!J111)/2+(FirstPartDegrees1!#REF!+FirstPartDegrees1!#REF!)/2+(FirstPartDegrees1!#REF!+#REF!)/2+(#REF!+#REF!)/2)/4,0)","v":{"$error":"#REF!"}},{"$f":"(Z111+Y111+X111)*40/12","v":{"$error":"#REF!"}}]
[null,"ملاحظات"]
[51,"",null,null,null,null,null,null,null,null,null,null,null,null,null,{"$f":"INDIRECT(ADDRESS(9+A113*3,30,,,\"Final Degree1\"))","v":""},{"$f":"IF($B113=\"\",\"\",IF((P113*40/12-INT(P113*40/12))>=0.75,INT(P113*40/12)+1,IF((P113*40/12-INT(P113*40/12))<0.25,INT(P113*40/12),INT(P113*40/12)+0.5)))","v":""},null,null,{"$f":"IF(OR(R113=\"\",S113=\"\"),\"\",R113+S113)","v":""},{"$f":"IF(OR(Q113=\"\",S113=\"\"),\"\",S113+Q113+R113)","v":""},null,null,{"$f":"ROUNDUP(((FirstPartDegrees1!#REF!+C113)/2+(FirstPartDegrees1!E113+#REF!)/2+(FirstPartDegrees1!#REF!+#REF!)/2+(FirstPartDegrees1!C113+#REF!)/2 )/4,0)","v":{"$error":"#REF!"}},{"$f":"ROUNDUP(((FirstPartDegrees1!#REF!+FirstPartDegrees1!#REF!)/2+(FirstPartDegrees1!F113+D113)/2+(FirstPartDegrees1!#REF!+#REF!)/2+(FirstPartDegrees1!I113+#REF!)/2 )/4,0)","v":{"$error":"#REF!"}},{"$f":"ROUNDUP(((FirstPartDegrees1!#REF!+FirstPartDegrees1!J113)/2+(FirstPartDegrees1!#REF!+FirstPartDegrees1!#REF!)/2+(FirstPartDegrees1!#REF!+#REF!)/2+(#REF!+#REF!)/2)/4,0)","v":{"$error":"#REF!"}},{"$f":"(Z113+Y113+X113)*40/12","v":{"$error":"#REF!"}}]
[null,"ملاحظات"]
[52,"",null,null,null,null,null,null,null,null,null,null,null,null,null,{"$f":"INDIRECT(ADDRESS(9+A115*3,30,,,\"Final Degree1\"))","v":""},{"$f":"IF($B115=\"\",\"\",IF((P115*40/12-INT(P115*40/12))>=0.75,INT(P115*40/12)+1,IF((P115*40/12-INT(P115*40/12))<0.25,INT(P115*40/12),INT(P115*40/12)+0.5)))","v":""},null,null,{"$f":"IF(OR(R115=\"\",S115=\"\"),\"\",R115+S115)","v":""},{"$f":"IF(OR(Q115=\"\",S115=\"\"),\"\",S115+Q115+R115)","v":""},null,null,{"$f":"ROUNDUP(((FirstPartDegrees1!#REF!+C115)/2+(FirstPartDegrees1!E115+#REF!)/2+(FirstPartDegrees1!#REF!+#REF!)/2+(FirstPartDegrees1!C115+#REF!)/2 )/4,0)","v":{"$error":"#REF!"}},{"$f":"ROUNDUP(((FirstPartDegrees1!#REF!+FirstPartDegrees1!#REF!)/2+(FirstPartDegrees1!F115+D115)/2+(FirstPartDegrees1!#REF!+#REF!)/2+(FirstPartDegrees1!I115+#REF!)/2 )/4,0)","v":{"$error":"#REF!"}},{"$f":"ROUNDUP(((FirstPartDegrees1!#REF!+FirstPartDegrees1!J115)/2+(FirstPartDegrees1!#REF!+FirstPartDegrees1!#REF!)/2+(FirstPartDegrees1!#REF!+#REF!)/2+(#REF!+#REF!)/2)/4,0)","v":{"$error":"#REF!"}},{"$f":"(Z115+Y115+X115)*40/12","v":{"$error":"#REF!"}}]
[null,"ملاحظات"]
[53,"",null,null,null,null,null,null,null,null,null,null,null,null,null,{"$f":"INDIRECT(ADDRESS(9+A117*3,30,,,\"Final Degree1\"))","v":""},{"$f":"IF($B117=\"\",\"\",IF((P117*40/12-INT(P117*40/12))>=0.75,INT(P117*40/12)+1,IF((P117*40/12-INT(P117*40/12))<0.25,INT(P117*40/12),INT(P117*40/12)+0.5)))","v":""},null,null,{"$f":"IF(OR(R117=\"\",S117=\"\"),\"\",R117+S117)","v":""},{"$f":"IF(OR(Q117=\"\",S117=\"\"),\"\",S117+Q117+R117)","v":""},null,null,{"$f":"ROUNDUP(((FirstPartDegrees1!#REF!+C117)/2+(FirstPartDegrees1!E117+#REF!)/2+(FirstPartDegrees1!#REF!+#REF!)/2+(FirstPartDegrees1!C117+#REF!)/2 )/4,0)","v":{"$error":"#REF!"}},{"$f":"ROUNDUP(((FirstPartDegrees1!#REF!+FirstPartDegrees1!#REF!)/2+(FirstPartDegrees1!F117+D117)/2+(FirstPartDegrees1!#REF!+#REF!)/2+(FirstPartDegrees1!I117+#REF!)/2 )/4,0)","v":{"$error":"#REF!"}},{"$f":"ROUNDUP(((FirstPartDegrees1!#REF!+FirstPartDegrees1!J117)/2+(FirstPartDegrees1!#REF!+FirstPartDegrees1!#REF!)/2+(FirstPartDegrees1!#REF!+#REF!)/2+(#REF!+#REF!)/2)/4,0)","v":{"$error":"#REF!"}},{"$f":"(Z117+Y117+X117)*40/12","v":{"$error":"#REF!"}}]
[null,"ملاحظات"]
[54,"",null,null,null,null,null,null,null,null,null,null,null,null,null,{"$f":"INDIRECT(ADDRESS(9+A119*3,30,,,\"Final Degree1\"))","v":""},{"$f":"IF($B119=\"\",\"\",IF((P119*40/12-INT(P119*40/12))>=0.75,INT(P119*40/12)+1,IF((P119*40/12-INT(P119*40/12))<0.25,INT(P119*40/12),INT(P119*40/12)+0.5)))","v":""},null,null,{"$f":"IF(OR(R119=\"\",S119=\"\"),\"\",R119+S119)","v":""},{"$f":"IF(OR(Q119=\"\",S119=\"\"),\"\",S119+Q119+R119)","v":""},null,null,{"$f":"ROUNDUP(((FirstPartDegrees1!#REF!+C119)/2+(FirstPartDegrees1!E119+#REF!)/2+(FirstPartDegrees1!#REF!+#REF!)/2+(FirstPartDegrees1!C119+#REF!)/2 )/4,0)","v":{"$error":"#REF!"}},{"$f":"ROUNDUP(((FirstPartDegrees1!#REF!+FirstPartDegrees1!#REF!)/2+(FirstPartDegrees1!F119+D119)/2+(FirstPartDegrees1!#REF!+#REF!)/2+(FirstPartDegrees1!I119+#REF!)/2 )/4,0)","v":{"$error":"#REF!"}},{"$f":"ROUNDUP(((FirstPartDegrees1!#REF!+FirstPartDegrees1!J119)/2+(FirstPartDegrees1!#REF!+FirstPartDegrees1!#REF!)/2+(FirstPartDegrees1!#REF!+#REF!)/2+(#REF!+#REF!)/2)/4,0)","v":{"$error":"#REF!"}},{"$f":"(Z119+Y119+X119)*40/12","v":{"$error":"#REF!"}}]
[null,"ملاحظات"]
[55,"",null,null,null,null,null,null,null,null,null,null,null,null,null,{"$f":"INDIRECT(ADDRESS(9+A121*3,30,,,\"Final Degree1\"))","v":""},{"$f":"IF($B121=\"\",\"\",IF((P121*40/12-INT(P121*40/12))>=0.75,INT(P121*40/12)+1,IF((P121*40/12-INT(P121*40/12))<0.25,INT(P121*40/12),INT(P121*40/12)+0.5)))","v":""},null,null,{"$f":"IF(OR(R121=\"\",S121=\"\"),\"\",R121+S121)","v":""},{"$f":"IF(OR(Q121=\"\",S121=\"\"),\"\",S121+Q121+R121)","v":""},null,null,{"$f":"ROUNDUP(((FirstPartDegrees1!#REF!+C121)/2+(FirstPartDegrees1!E121+#REF!)/2+(FirstPartDegrees1!#REF!+#REF!)/2+(FirstPartDegrees1!C121+#REF!)/2 )/4,0)","v":{"$error":"#REF!"}},{"$f":"ROUNDUP(((FirstPartDegrees1!#REF!+FirstPartDegrees1!#REF!)/2+(FirstPartDegrees1!F121+D121)/2+(FirstPartDegrees1!#REF!+#REF!)/2+(FirstPartDegrees1!I121+#REF!)/2 )/4,0)","v":{"$error":"#REF!"}},{"$f":"ROUNDUP(((FirstPartDegrees1!#REF!+FirstPartDegrees1!J121)/2+(FirstPartDegrees1!#REF!+FirstPartDegrees1!#REF!)/2+(FirstPartDegrees1!#REF!+#REF!)/2+(#REF!+#REF!)/2)/4,0)","v":{"$error":"#REF!"}},{"$f":"(Z121+Y121+X121)*40/12","v":{"$error":"#REF!"}}]
[null,"ملاحظات"]
[56,"",null,null,null,null,null,null,null,null,null,null,null,null,null,{"$f":"INDIRECT(ADDRESS(9+A123*3,30,,,\"Final Degree1\"))","v":""},{"$f":"IF($B123=\"\",\"\",IF((P123*40/12-INT(P123*40/12))>=0.75,INT(P123*40/12)+1,IF((P123*40/12-INT(P123*40/12))<0.25,INT(P123*40/12),INT(P123*40/12)+0.5)))","v":""},null,null,{"$f":"IF(OR(R123=\"\",S123=\"\"),\"\",R123+S123)","v":""},{"$f":"IF(OR(Q123=\"\",S123=\"\"),\"\",S123+Q123+R123)","v":""},null,null,{"$f":"ROUNDUP(((FirstPartDegrees1!#REF!+C123)/2+(FirstPartDegrees1!E123+#REF!)/2+(FirstPartDegrees1!#REF!+#REF!)/2+(FirstPartDegrees1!C123+#REF!)/2 )/4,0)","v":{"$error":"#REF!"}},{"$f":"ROUNDUP(((FirstPartDegrees1!#REF!+FirstPartDegrees1!#REF!)/2+(FirstPartDegrees1!F123+D123)/2+(FirstPartDegrees1!#REF!+#REF!)/2+(FirstPartDegrees1!I123+#REF!)/2 )/4,0)","v":{"$error":"#REF!"}},{"$f":"ROUNDUP(((FirstPartDegrees1!#REF!+FirstPartDegrees1!J123)/2+(FirstPartDegrees1!#REF!+FirstPartDegrees1!#REF!)/2+(FirstPartDegrees1!#REF!+#REF!)/2+(#REF!+#REF!)/2)/4,0)","v":{"$error":"#REF!"}},{"$f":"(Z123+Y123+X123)*40/12","v":{"$error":"#REF!"}}]
[null,"ملاحظات"]
[57,"",null,null,null,null,null,null,null,null,null,null,null,null,null,{"$f":"INDIRECT(ADDRESS(9+A125*3,30,,,\"Final Degree1\"))","v":""},{"$f":"IF($B125=\"\",\"\",IF((P125*40/12-INT(P125*40/12))>=0.75,INT(P125*40/12)+1,IF((P125*40/12-INT(P125*40/12))<0.25,INT(P125*40/12),INT(P125*40/12)+0.5)))","v":""},null,null,{"$f":"IF(OR(R125=\"\",S125=\"\"),\"\",R125+S125)","v":""},{"$f":"IF(OR(Q125=\"\",S125=\"\"),\"\",S125+Q125+R125)","v":""},null,null,{"$f":"ROUNDUP(((FirstPartDegrees1!#REF!+C125)/2+(FirstPartDegrees1!E125+#REF!)/2+(FirstPartDegrees1!#REF!+#REF!)/2+(FirstPartDegrees1!C125+#REF!)/2 )/4,0)","v":{"$error":"#REF!"}},{"$f":"ROUNDUP(((FirstPartDegrees1!#REF!+FirstPartDegrees1!#REF!)/2+(FirstPartDegrees1!F125+D125)/2+(FirstPartDegrees1!#REF!+#REF!)/2+(FirstPartDegrees1!I125+#REF!)/2 )/4,0)","v":{"$error":"#REF!"}},{"$f":"ROUNDUP(((FirstPartDegrees1!#REF!+FirstPartDegrees1!J125)/2+(FirstPartDegrees1!#REF!+FirstPartDegrees1!#REF!)/2+(FirstPartDegrees1!#REF!+#REF!)/2+(#REF!+#REF!)/2)/4,0)","v":{"$error":"#REF!"}},{"$f":"(Z125+Y125+X125)*40/12","v":{"$error":"#REF!"}}]
[null,"ملاحظات"]
[58,"",null,null,null,null,null,null,null,null,null,null,null,null,null,{"$f":"INDIRECT(ADDRESS(9+A127*3,30,,,\"Final Degree1\"))","v":""},{"$f":"IF($B127=\"\",\"\",IF((P127*40/12-INT(P127*40/12))>=0.75,INT(P127*40/12)+1,IF((P127*40/12-INT(P127*40/12))<0.25,INT(P127*40/12),INT(P127*40/12)+0.5)))","v":""},null,null,{"$f":"IF(OR(R127=\"\",S127=\"\"),\"\",R127+S127)","v":""},{"$f":"IF(OR(Q127=\"\",S127=\"\"),\"\",S127+Q127+R127)","v":""},null,null,{"$f":"ROUNDUP(((FirstPartDegrees1!#REF!+C127)/2+(FirstPartDegrees1!E127+#REF!)/2+(FirstPartDegrees1!#REF!+#REF!)/2+(FirstPartDegrees1!C127+#REF!)/2 )/4,0)","v":{"$error":"#REF!"}},{"$f":"ROUNDUP(((FirstPartDegrees1!#REF!+FirstPartDegrees1!#REF!)/2+(FirstPartDegrees1!F127+D127)/2+(FirstPartDegrees1!#REF!+#REF!)/2+(FirstPartDegrees1!I127+#REF!)/2 )/4,0)","v":{"$error":"#REF!"}},{"$f":"ROUNDUP(((FirstPartDegrees1!#REF!+FirstPartDegrees1!J127)/2+(FirstPartDegrees1!#REF!+FirstPartDegrees1!#REF!)/2+(FirstPartDegrees1!#REF!+#REF!)/2+(#REF!+#REF!)/2)/4,0)","v":{"$error":"#REF!"}},{"$f":"(Z127+Y127+X127)*40/12","v":{"$error":"#REF!"}}]
[null,"ملاحظات"]
[59,"",null,null,null,null,null,null,null,null,null,null,null,null,null,{"$f":"INDIRECT(ADDRESS(9+A129*3,30,,,\"Final Degree1\"))","v":""},{"$f":"IF($B129=\"\",\"\",IF((P129*40/12-INT(P129*40/12))>=0.75,INT(P129*40/12)+1,IF((P129*40/12-INT(P129*40/12))<0.25,INT(P129*40/12),INT(P129*40/12)+0.5)))","v":""},null,null,{"$f":"IF(OR(R129=\"\",S129=\"\"),\"\",R129+S129)","v":""},{"$f":"IF(OR(Q129=\"\",S129=\"\"),\"\",S129+Q129+R129)","v":""},null,null,{"$f":"ROUNDUP(((FirstPartDegrees1!#REF!+C129)/2+(FirstPartDegrees1!E129+#REF!)/2+(FirstPartDegrees1!#REF!+#REF!)/2+(FirstPartDegrees1!C129+#REF!)/2 )/4,0)","v":{"$error":"#REF!"}},{"$f":"ROUNDUP(((FirstPartDegrees1!#REF!+FirstPartDegrees1!#REF!)/2+(FirstPartDegrees1!F129+D129)/2+(FirstPartDegrees1!#REF!+#REF!)/2+(FirstPartDegrees1!I129+#REF!)/2 )/4,0)","v":{"$error":"#REF!"}},{"$f":"ROUNDUP(((FirstPartDegrees1!#REF!+FirstPartDegrees1!J129)/2+(FirstPartDegrees1!#REF!+FirstPartDegrees1!#REF!)/2+(FirstPartDegrees1!#REF!+#REF!)/2+(#REF!+#REF!)/2)/4,0)","v":{"$error":"#REF!"}},{"$f":"(Z129+Y129+X129)*40/12","v":{"$error":"#REF!"}}]
[null,"ملاحظات"]
[60,"",null,null,null,null,null,null,null,null,null,null,null,null,null,{"$f":"INDIRECT(ADDRESS(9+A131*3,30,,,\"Final Degree1\"))","v":""},{"$f":"IF($B131=\"\",\"\",IF((P131*40/12-INT(P131*40/12))>=0.75,INT(P131*40/12)+1,IF((P131*40/12-INT(P131*40/12))<0.25,INT(P131*40/12),INT(P131*40/12)+0.5)))","v":""},null,null,{"$f":"IF(OR(R131=\"\",S131=\"\"),\"\",R131+S131)","v":""},{"$f":"IF(OR(Q131=\"\",S131=\"\"),\"\",S131+Q131+R131)","v":""},null,null,{"$f":"ROUNDUP(((FirstPartDegrees1!#REF!+C131)/2+(FirstPartDegrees1!E131+#REF!)/2+(FirstPartDegrees1!#REF!+#REF!)/2+(FirstPartDegrees1!C131+#REF!)/2 )/4,0)","v":{"$error":"#REF!"}},{"$f":"ROUNDUP(((FirstPartDegrees1!#REF!+FirstPartDegrees1!#REF!)/2+(FirstPartDegrees1!F131+D131)/2+(FirstPartDegrees1!#REF!+#REF!)/2+(FirstPartDegrees1!I131+#REF!)/2 )/4,0)","v":{"$error":"#REF!"}},{"$f":"ROUNDUP(((FirstPartDegrees1!#REF!+FirstPartDegrees1!J131)/2+(FirstPartDegrees1!#REF!+FirstPartDegrees1!#REF!)/2+(FirstPartDegrees1!#REF!+#REF!)/2+(#REF!+#REF!)/2)/4,0)","v":{"$error":"#REF!"}},{"$f":"(Z131+Y131+X131)*40/12","v":{"$error":"#REF!"}}]
[null,"ملاحظات"]
[61,"",null,null,null,null,null,null,null,null,null,null,null,null,null,{"$f":"INDIRECT(ADDRESS(9+A133*3,30,,,\"Final Degree1\"))","v":""},{"$f":"IF($B133=\"\",\"\",IF((P133*40/12-INT(P133*40/12))>=0.75,INT(P133*40/12)+1,IF((P133*40/12-INT(P133*40/12))<0.25,INT(P133*40/12),INT(P133*40/12)+0.5)))","v":""},null,null,{"$f":"IF(OR(R133=\"\",S133=\"\"),\"\",R133+S133)","v":""},{"$f":"IF(OR(Q133=\"\",S133=\"\"),\"\",S133+Q133+R133)","v":""},null,null,{"$f":"ROUNDUP(((FirstPartDegrees1!#REF!+C133)/2+(FirstPartDegrees1!E133+#REF!)/2+(FirstPartDegrees1!#REF!+#REF!)/2+(FirstPartDegrees1!C133+#REF!)/2 )/4,0)","v":{"$error":"#REF!"}},{"$f":"ROUNDUP(((FirstPartDegrees1!#REF!+FirstPartDegrees1!#REF!)/2+(FirstPartDegrees1!F133+D133)/2+(FirstPartDegrees1!#REF!+#REF!)/2+(FirstPartDegrees1!I133+#REF!)/2 )/4,0)","v":{"$error":"#REF!"}},{"$f":"ROUNDUP(((FirstPartDegrees1!#REF!+FirstPartDegrees1!J133)/2+(FirstPartDegrees1!#REF!+FirstPartDegrees1!#REF!)/2+(FirstPartDegrees1!#REF!+#REF!)/2+(#REF!+#REF!)/2)/4,0)","v":{"$error":"#REF!"}},{"$f":"(Z133+Y133+X133)*40/12","v":{"$error":"#REF!"}}]
[null,"ملاحظات"]
[62,"",null,null,null,null,null,null,null,null,null,null,null,null,null,{"$f":"INDIRECT(ADDRESS(9+A135*3,30,,,\"Final Degree1\"))","v":""},{"$f":"IF($B135=\"\",\"\",IF((P135*40/12-INT(P135*40/12))>=0.75,INT(P135*40/12)+1,IF((P135*40/12-INT(P135*40/12))<0.25,INT(P135*40/12),INT(P135*40/12)+0.5)))","v":""},null,null,{"$f":"IF(OR(R135=\"\",S135=\"\"),\"\",R135+S135)","v":""},{"$f":"IF(OR(Q135=\"\",S135=\"\"),\"\",S135+Q135+R135)","v":""},null,null,{"$f":"ROUNDUP(((FirstPartDegrees1!#REF!+C135)/2+(FirstPartDegrees1!E135+#REF!)/2+(FirstPartDegrees1!#REF!+#REF!)/2+(FirstPartDegrees1!C135+#REF!)/2 )/4,0)","v":{"$error":"#REF!"}},{"$f":"ROUNDUP(((FirstPartDegrees1!#REF!+FirstPartDegrees1!#REF!)/2+(FirstPartDegrees1!F135+D135)/2+(FirstPartDegrees1!#REF!+#REF!)/2+(FirstPartDegrees1!I135+#REF!)/2 )/4,0)","v":{"$error":"#REF!"}},{"$f":"ROUNDUP(((FirstPartDegrees1!#REF!+FirstPartDegrees1!J135)/2+(FirstPartDegrees1!#REF!+FirstPartDegrees1!#REF!)/2+(FirstPartDegrees1!#REF!+#REF!)/2+(#REF!+#REF!)/2)/4,0)","v":{"$error":"#REF!"}},{"$f":"(Z135+Y135+X135)*40/12","v":{"$error":"#REF!"}}]
[null,"ملاحظات"]
[63,"",null,null,null,null,null,null,null,null,null,null,null,null,null,{"$f":"INDIRECT(ADDRESS(9+A137*3,30,,,\"Final Degree1\"))","v":""},{"$f":"IF($B137=\"\",\"\",IF((P137*40/12-INT(P137*40/12))>=0.75,INT(P137*40/12)+1,IF((P137*40/12-INT(P137*40/12))<0.25,INT(P137*40/12),INT(P137*40/12)+0.5)))","v":""},null,null,{"$f":"IF(OR(R137=\"\",S137=\"\"),\"\",R137+S137)","v":""},{"$f":"IF(OR(Q137=\"\",S137=\"\"),\"\",S137+Q137+R137)","v":""},null,null,{"$f":"ROUNDUP(((FirstPartDegrees1!#REF!+C137)/2+(FirstPartDegrees1!E137+#REF!)/2+(FirstPartDegrees1!#REF!+#REF!)/2+(FirstPartDegrees1!C137+#REF!)/2 )/4,0)","v":{"$error":"#REF!"}},{"$f":"ROUNDUP(((FirstPartDegrees1!#REF!+FirstPartDegrees1!#REF!)/2+(FirstPartDegrees1!F137+D137)/2+(FirstPartDegrees1!#REF!+#REF!)/2+(FirstPartDegrees1!I137+#REF!)/2 )/4,0)","v":{"$error":"#REF!"}},{"$f":"ROUNDUP(((FirstPartDegrees1!#REF!+FirstPartDegrees1!J137)/2+(FirstPartDegrees1!#REF!+FirstPartDegrees1!#REF!)/2+(FirstPartDegrees1!#REF!+#REF!)/2+(#REF!+#REF!)/2)/4,0)","v":{"$error":"#REF!"}},{"$f":"(Z137+Y137+X137)*40/12","v":{"$error":"#REF!"}}]
[null,"ملاحظات"]
[64,"",null,null,null,null,null,null,null,null,null,null,null,null,null,{"$f":"INDIRECT(ADDRESS(9+A139*3,30,,,\"Final Degree1\"))","v":""},{"$f":"IF($B139=\"\",\"\",IF((P139*40/12-INT(P139*40/12))>=0.75,INT(P139*40/12)+1,IF((P139*40/12-INT(P139*40/12))<0.25,INT(P139*40/12),INT(P139*40/12)+0.5)))","v":""},null,null,{"$f":"IF(OR(R139=\"\",S139=\"\"),\"\",R139+S139)","v":""},{"$f":"IF(OR(Q139=\"\",S139=\"\"),\"\",S139+Q139+R139)","v":""},null,null,{"$f":"ROUNDUP(((FirstPartDegrees1!#REF!+C139)/2+(FirstPartDegrees1!E139+#REF!)/2+(FirstPartDegrees1!#REF!+#REF!)/2+(FirstPartDegrees1!C139+#REF!)/2 )/4,0)","v":{"$error":"#REF!"}},{"$f":"ROUNDUP(((FirstPartDegrees1!#REF!+FirstPartDegrees1!#REF!)/2+(FirstPartDegrees1!F139+D139)/2+(FirstPartDegrees1!#REF!+#REF!)/2+(FirstPartDegrees1!I139+#REF!)/2 )/4,0)","v":{"$error":"#REF!"}},{"$f":"ROUNDUP(((FirstPartDegrees1!#REF!+FirstPartDegrees1!J139)/2+(FirstPartDegrees1!#REF!+FirstPartDegrees1!#REF!)/2+(FirstPartDegrees1!#REF!+#REF!)/2+(#REF!+#REF!)/2)/4,0)","v":{"$error":"#REF!"}},{"$f":"(Z139+Y139+X139)*40/12","v":{"$error":"#REF!"}}]
[null,"ملاحظات"]
[65,"",null,null,null,null,null,null,null,null,null,null,null,null,null,{"$f":"INDIRECT(ADDRESS(9+A141*3,30,,,\"Final Degree1\"))","v":""},{"$f":"IF($B141=\"\",\"\",IF((P141*40/12-INT(P141*40/12))>=0.75,INT(P141*40/12)+1,IF((P141*40/12-INT(P141*40/12))<0.25,INT(P141*40/12),INT(P141*40/12)+0.5)))","v":""},null,null,{"$f":"IF(OR(R141=\"\",S141=\"\"),\"\",R141+S141)","v":""},{"$f":"IF(OR(Q141=\"\",S141=\"\"),\"\",S141+Q141+R141)","v":""},null,null,{"$f":"ROUNDUP(((FirstPartDegrees1!#REF!+C141)/2+(FirstPartDegrees1!E141+#REF!)/2+(FirstPartDegrees1!#REF!+#REF!)/2+(FirstPartDegrees1!C141+#REF!)/2 )/4,0)","v":{"$error":"#REF!"}},{"$f":"ROUNDUP(((FirstPartDegrees1!#REF!+FirstPartDegrees1!#REF!)/2+(FirstPartDegrees1!F141+D141)/2+(FirstPartDegrees1!#REF!+#REF!)/2+(FirstPartDegrees1!I141+#REF!)/2 )/4,0)","v":{"$error":"#REF!"}},{"$f":"ROUNDUP(((FirstPartDegrees1!#REF!+FirstPartDegrees1!J141)/2+(FirstPartDegrees1!#REF!+FirstPartDegrees1!#REF!)/2+(FirstPartDegrees1!#REF!+#REF!)/2+(#REF!+#REF!)/2)/4,0)","v":{"$error":"#REF!"}},{"$f":"(Z141+Y141+X141)*40/12","v":{"$error":"#REF!"}}]
[null,"ملاحظات"]
[66,{"$f":"IF(INDIRECT(ADDRESS(A143,1,1,,\"اسماء المتعلمين\"))=\"\",\"\",INDIRECT(ADDRESS(A143,1,1,,\"اسماء المتعلمين\")))","v":""},null,null,null,null,null,null,null,null,null,null,null,null,null,{"$f":"INDIRECT(ADDRESS(9+A143*3,30,,,\"Final Degree1\"))","v":""},{"$f":"IF($B143=\"\",\"\",IF((P143*40/12-INT(P143*40/12))>=0.75,INT(P143*40/12)+1,IF((P143*40/12-INT(P143*40/12))<0.25,INT(P143*40/12),INT(P143*40/12)+0.5)))","v":""},null,null,{"$f":"IF(OR(R143=\"\",S143=\"\"),\"\",R143+S143)","v":""},{"$f":"IF(OR(Q143=\"\",S143=\"\"),\"\",S143+Q143+R143)","v":""},null,null,{"$f":"ROUNDUP(((FirstPartDegrees1!#REF!+C143)/2+(FirstPartDegrees1!E143+#REF!)/2+(FirstPartDegrees1!#REF!+#REF!)/2+(FirstPartDegrees1!C143+#REF!)/2 )/4,0)","v":{"$error":"#REF!"}},{"$f":"ROUNDUP(((FirstPartDegrees1!#REF!+FirstPartDegrees1!#REF!)/2+(FirstPartDegrees1!F143+D143)/2+(FirstPartDegrees1!#REF!+#REF!)/2+(FirstPartDegrees1!I143+#REF!)/2 )/4,0)","v":{"$error":"#REF!"}},{"$f":"ROUNDUP(((FirstPartDegrees1!#REF!+FirstPartDegrees1!J143)/2+(FirstPartDegrees1!#REF!+FirstPartDegrees1!#REF!)/2+(FirstPartDegrees1!#REF!+#REF!)/2+(#REF!+#REF!)/2)/4,0)","v":{"$error":"#REF!"}},{"$f":"(Z143+Y143+X143)*40/12","v":{"$error":"#REF!"}}]
[null,"ملاحظات"]
[67,"",null,null,null,null,null,null,null,null,null,null,null,null,null,{"$f":"INDIRECT(ADDRESS(9+A145*3,30,,,\"Final Degree1\"))","v":""},{"$f":"IF($B145=\"\",\"\",IF((P145*40/12-INT(P145*40/12))>=0.75,INT(P145*40/12)+1,IF((P145*40/12-INT(P145*40/12))<0.25,INT(P145*40/12),INT(P145*40/12)+0.5)))","v":""},null,null,{"$f":"IF(OR(R145=\"\",S145=\"\"),\"\",R145+S145)","v":""},{"$f":"IF(OR(Q145=\"\",S145=\"\"),\"\",S145+Q145+R145)","v":""},null,null,{"$f":"ROUNDUP(((FirstPartDegrees1!#REF!+C145)/2+(FirstPartDegrees1!E145+#REF!)/2+(FirstPartDegrees1!#REF!+#REF!)/2+(FirstPartDegrees1!C145+#REF!)/2 )/4,0)","v":{"$error":"#REF!"}},{"$f":"ROUNDUP(((FirstPartDegrees1!#REF!+FirstPartDegrees1!#REF!)/2+(FirstPartDegrees1!F145+D145)/2+(FirstPartDegrees1!#REF!+#REF!)/2+(FirstPartDegrees1!I145+#REF!)/2 )/4,0)","v":{"$error":"#REF!"}},{"$f":"ROUNDUP(((FirstPartDegrees1!#REF!+FirstPartDegrees1!J145)/2+(FirstPartDegrees1!#REF!+FirstPartDegrees1!#REF!)/2+(FirstPartDegrees1!#REF!+#REF!)/2+(#REF!+#REF!)/2)/4,0)","v":{"$error":"#REF!"}},{"$f":"(Z145+Y145+X145)*40/12","v":{"$error":"#REF!"}}]
[null,"ملاحظات"]
[68,"",null,null,null,null,null,null,null,null,null,null,null,null,null,{"$f":"INDIRECT(ADDRESS(9+A147*3,30,,,\"Final Degree1\"))","v":""},{"$f":"IF($B147=\"\",\"\",IF((P147*40/12-INT(P147*40/12))>=0.75,INT(P147*40/12)+1,IF((P147*40/12-INT(P147*40/12))<0.25,INT(P147*40/12),INT(P147*40/12)+0.5)))","v":""},null,null,{"$f":"IF(OR(R147=\"\",S147=\"\"),\"\",R147+S147)","v":""},{"$f":"IF(OR(Q147=\"\",S147=\"\"),\"\",S147+Q147+R147)","v":""},null,null,{"$f":"ROUNDUP(((FirstPartDegrees1!#REF!+C147)/2+(FirstPartDegrees1!E147+#REF!)/2+(FirstPartDegrees1!#REF!+#REF!)/2+(FirstPartDegrees1!C147+#REF!)/2 )/4,0)","v":{"$error":"#REF!"}},{"$f":"ROUNDUP(((FirstPartDegrees1!#REF!+FirstPartDegrees1!#REF!)/2+(FirstPartDegrees1!F147+D147)/2+(FirstPartDegrees1!#REF!+#REF!)/2+(FirstPartDegrees1!I147+#REF!)/2 )/4,0)","v":{"$error":"#REF!"}},{"$f":"ROUNDUP(((FirstPartDegrees1!#REF!+FirstPartDegrees1!J147)/2+(FirstPartDegrees1!#REF!+FirstPartDegrees1!#REF!)/2+(FirstPartDegrees1!#REF!+#REF!)/2+(#REF!+#REF!)/2)/4,0)","v":{"$error":"#REF!"}},{"$f":"(Z147+Y147+X147)*40/12","v":{"$error":"#REF!"}}]
[null,"ملاحظات"]
[69,"",null,null,null,null,null,null,null,null,null,null,null,null,null,{"$f":"INDIRECT(ADDRESS(9+A149*3,30,,,\"Final Degree1\"))","v":""},{"$f":"IF($B149=\"\",\"\",IF((P149*40/12-INT(P149*40/12))>=0.75,INT(P149*40/12)+1,IF((P149*40/12-INT(P149*40/12))<0.25,INT(P149*40/12),INT(P149*40/12)+0.5)))","v":""},null,null,{"$f":"IF(OR(R149=\"\",S149=\"\"),\"\",R149+S149)","v":""},{"$f":"IF(OR(Q149=\"\",S149=\"\"),\"\",S149+Q149+R149)","v":""},null,null,{"$f":"ROUNDUP(((FirstPartDegrees1!#REF!+C149)/2+(FirstPartDegrees1!E149+#REF!)/2+(FirstPartDegrees1!#REF!+#REF!)/2+(FirstPartDegrees1!C149+#REF!)/2 )/4,0)","v":{"$error":"#REF!"}},{"$f":"ROUNDUP(((FirstPartDegrees1!#REF!+FirstPartDegrees1!#REF!)/2+(FirstPartDegrees1!F149+D149)/2+(FirstPartDegrees1!#REF!+#REF!)/2+(FirstPartDegrees1!I149+#REF!)/2 )/4,0)","v":{"$error":"#REF!"}},{"$f":"ROUNDUP(((FirstPartDegrees1!#REF!+FirstPartDegrees1!J149)/2+(FirstPartDegrees1!#REF!+FirstPartDegrees1!#REF!)/2+(FirstPartDegrees1!#REF!+#REF!)/2+(#REF!+#REF!)/2)/4,0)","v":{"$error":"#REF!"}},{"$f":"(Z149+Y149+X149)*40/12","v":{"$error":"#REF!"}}]
[null,"ملاحظات"]
[70,"",null,null,null,null,null,null,null,null,null,null,null,null,null,{"$f":"INDIRECT(ADDRESS(9+A151*3,30,,,\"Final Degree1\"))","v":""},{"$f":"IF($B151=\"\",\"\",IF((P151*40/12-INT(P151*40/12))>=0.75,INT(P151*40/12)+1,IF((P151*40/12-INT(P151*40/12))<0.25,INT(P151*40/12),INT(P151*40/12)+0.5)))","v":""},null,null,{"$f":"IF(OR(R151=\"\",S151=\"\"),\"\",R151+S151)","v":""},{"$f":"IF(OR(Q151=\"\",S151=\"\"),\"\",S151+Q151+R151)","v":""},null,null,{"$f":"ROUNDUP(((FirstPartDegrees1!#REF!+C151)/2+(FirstPartDegrees1!E151+#REF!)/2+(FirstPartDegrees1!#REF!+#REF!)/2+(FirstPartDegrees1!C151+#REF!)/2 )/4,0)","v":{"$error":"#REF!"}},{"$f":"ROUNDUP(((FirstPartDegrees1!#REF!+FirstPartDegrees1!#REF!)/2+(FirstPartDegrees1!F151+D151)/2+(FirstPartDegrees1!#REF!+#REF!)/2+(FirstPartDegrees1!I151+#REF!)/2 )/4,0)","v":{"$error":"#REF!"}},{"$f":"ROUNDUP(((FirstPartDegrees1!#REF!+FirstPartDegrees1!J151)/2+(FirstPartDegrees1!#REF!+FirstPartDegrees1!#REF!)/2+(FirstPartDegrees1!#REF!+#REF!)/2+(#REF!+#REF!)/2)/4,0)","v":{"$error":"#REF!"}},{"$f":"(Z151+Y151+X151)*40/12","v":{"$error":"#REF!"}}]
[null,"ملاحظات"]

{"sheet":"للطباعة1","index":4,"n_rows":76,"n_cols":93,"rows_kept":76,"cut":false,"hidden":true,"merged":[]}
["ser","full name","class","k111","d111","k112","d112","k113","d113","11avg","k121","d121","k122","d122","k123","d123","12avg","k131","d131","k132","d132","k133","d133","13avg","k141","d141","k142","d142","k143","d143","14avg","general1","k211","d211","k212","d212","k213","d213","21avg","k221","d221","k222","d222","k223","d223","22avg","k231","d231","k232","d232","k233","d233","23avg","k241","d241","k242","d242","k243","d243","24avg","general2","k311","d311","k312","d312","k313","d313","31avg","k321","d321","k322","d322","k323","d323","32avg","k331","d331","k332","d332","k333","d333","33avg","k341","d341","k342","d342","k343","d343","34avg","generl3","generalTotal","final","cs"]
[{"$f":"SeconedPartDegrees1!A13","v":1},{"$f":"FirstPartDegrees1!B13","v":""},{"$f":"FirstPartDegrees1!$H$7","v":"7-1"},{"$f":"FirstPartDegrees1!G13","v":0},{"$f":"IF(ISBLANK(SeconedPartDegrees1!$G$9),\"\",SeconedPartDegrees1!$G$9)","v":""},{"$f":"SeconedPartDegrees1!C13","v":0},{"$f":"IF(ISBLANK(SeconedPartDegrees1!$C$9),\"\",SeconedPartDegrees1!$C$9)","v":""},null,null,{"$f":"(F2+D2)/2","v":0},{"$f":"FirstPartDegrees1!I13","v":0},{"$f":"IF(ISBLANK(FirstPartDegrees1!$I$9),\"\",FirstPartDegrees1!$I$9)","v":""},{"$f":"FirstPartDegrees1!M13","v":0},{"$f":"IF(ISBLANK(FirstPartDegrees1!$M$9),\"\",FirstPartDegrees1!$M$9)","v":""},null,null,{"$f":"(M2+K2)/2","v":0},{"$f":"FirstPartDegrees1!E13","v":0},{"$f":"IF(ISBLANK(FirstPartDegrees1!$E$9),\"\",FirstPartDegrees1!$E$9)","v":""},{"$f":"SeconedPartDegrees1!F13","v":0},{"$f":"IF(ISBLANK(SeconedPartDegrees1!$E$9),\"\",SeconedPartDegrees1!$E$9)","v":""},null,null,{"$f":"(T2+R2)/2","v":0},{"$f":"FirstPartDegrees1!J13","v":0},{"$f":"IF(ISBLANK(FirstPartDegrees1!$I$9),\"\",FirstPartDegrees1!$I$9)","v":""},{"$f":"FirstPartDegrees1!L13","v":0},{"$f":"IF(ISBLANK(FirstPartDegrees1!$K$9),\"\",FirstPartDegrees1!$K$9)","v":""},null,null,{"$f":"(AA2+Y2)/2","v":0},{"$f":"ROUNDUP((J2+Q2+X2+AE2)/4,0)","v":0},{"$f":"SeconedPartDegrees1!G13","v":0},{"$f":"IF(ISBLANK(SeconedPartDegrees1!$G$9),\"\",SeconedPartDegrees1!$G$9)","v":""},{"$f":"SeconedPartDegrees1!M13","v":0},{"$f":"IF(ISBLANK(SeconedPartDegrees1!$L$9),\"\",SeconedPartDegrees1!$L$9)","v":""},null,null,{"$f":"(AI2+AG2)/2","v":0},{"$f":"FirstPartDegrees1!C13","v":0},{"$f":"IF(ISBLANK(FirstPartDegrees1!$C$9),\"\",FirstPartDegrees1!$C$9)","v":""},{"$f":"FirstPartDegrees1!F13","v":0},{"$f":"IF(ISBLANK(FirstPartDegrees1!$E$9),\"\",FirstPartDegrees1!$E$9)","v":""},null,null,{"$f":"(AP2+AN2)/2","v":0},{"$f":"FirstPartDegrees1!D13","v":0},{"$f":"IF(ISBLANK(FirstPartDegrees1!$C$9),\"\",FirstPartDegrees1!$C$9)","v":""},{"$f":"SeconedPartDegrees1!N13","v":0},{"$f":"IF(ISBLANK(SeconedPartDegrees1!$N$9),\"\",SeconedPartDegrees1!$N$9)","v":""},null,null,{"$f":"(AW2+AU2)/2","v":0},{"$f":"SeconedPartDegrees1!I13","v":0},{"$f":"IF(ISBLANK(SeconedPartDegrees1!$I$9),\"\",SeconedPartDegrees1!$I$9)","v":""},{"$f":"SeconedPartDegrees1!L13","v":0},{"$f":"IF(ISBLANK(SeconedPartDegrees1!$L$9),\"\",SeconedPartDegrees1!$L$9)","v":""},null,null,{"$f":"(BD2+BB2)/2","v":0},{"$f":"ROUNDUP((AM2+AT2+BA2+BH2)/4,0)","v":0},{"$f":"FirstPartDegrees1!H13","v":0},{"$f":"IF(ISBLANK(FirstPartDegrees1!$G$9),\"\",FirstPartDegrees1!$G$9)","v":""},{"$f":"SeconedPartDegrees1!O13","v":0},{"$f":"IF(ISBLANK(SeconedPartDegrees1!$N$9),\"\",SeconedPartDegrees1!$N$9)","v":""},null,null,{"$f":"(BL2+BJ2)/2","v":0},{"$f":"FirstPartDegrees1!K13","v":0},{"$f":"IF(ISBLANK(FirstPartDegrees1!$K$9),\"\",FirstPartDegrees1!$K$9)","v":""},{"$f":"SeconedPartDegrees1!H13","v":0},{"$f":"IF(ISBLANK(SeconedPartDegrees1!$G$9),\"\",SeconedPartDegrees1!$G$9)","v":""},null,null,{"$f":"(BS2+BQ2)/2","v":0},{"$f":"SeconedPartDegrees1!E13","v":0},{"$f":"IF(ISBLANK(SeconedPartDegrees1!$E$9),\"\",SeconedPartDegrees1!$E$9)","v":""},{"$f":"SeconedPartDegrees1!J13","v":0},{"$f":"IF(ISBLANK(SeconedPartDegrees1!$I$9),\"\",SeconedPartDegrees1!$I$9)","v":""},null,null,{"$f":"(BZ2+BX2)/2","v":0},{"$f":"FirstPartDegrees1!N13","v":0},{"$f":"IF(ISBLANK(FirstPartDegrees1!$M$9),\"\",FirstPartDegrees1!$M$9)","v":""},{"$f":"SeconedPartDegrees1!K13","v":0},{"$f":"IF(ISBLANK(SeconedPartDegrees1!$I$9),\"\",SeconedPartDegrees1!$I$9)","v":""},null,null,{"$f":"(CG2+CE2)/2","v":0},{"$f":"ROUNDUP((BP2+BW2+CD2+CK2)/4,0)","v":0},{"$f":"(CL2+AF2+BI2)*40/12","v":0},{"$f":"SeconedPartDegrees1!Q13","v":""},"1-7"]
[{"$f":"SeconedPartDegrees1!A15","v":2},{"$f":"FirstPartDegrees1!B15","v":""},{"$f":"FirstPartDegrees1!$H$7","v":"7-1"},{"$f":"FirstPartDegrees1!G15","v":0},{"$f":"IF(ISBLANK(SeconedPartDegrees1!$G$9),\"\",SeconedPartDegrees1!$G$9)","v":""},{"$f":"SeconedPartDegrees1!C15","v":0},{"$f":"IF(ISBLANK(SeconedPartDegrees1!$C$9),\"\",SeconedPartDegrees1!$C$9)","v":""},null,null,{"$f":"(F3+D3)/2","v":0},{"$f":"FirstPartDegrees1!I15","v":0},{"$f":"IF(ISBLANK(FirstPartDegrees1!$I$9),\"\",FirstPartDegrees1!$I$9)","v":""},{"$f":"FirstPartDegrees1!M15","v":0},{"$f":"IF(ISBLANK(FirstPartDegrees1!$M$9),\"\",FirstPartDegrees1!$M$9)","v":""},null,null,{"$f":"(M3+K3)/2","v":0},{"$f":"FirstPartDegrees1!E15","v":0},{"$f":"IF(ISBLANK(FirstPartDegrees1!$E$9),\"\",FirstPartDegrees1!$E$9)","v":""},{"$f":"SeconedPartDegrees1!F15","v":0},{"$f":"IF(ISBLANK(SeconedPartDegrees1!$E$9),\"\",SeconedPartDegrees1!$E$9)","v":""},null,null,{"$f":"(T3+R3)/2","v":0},{"$f":"FirstPartDegrees1!J15","v":0},{"$f":"IF(ISBLANK(FirstPartDegrees1!$I$9),\"\",FirstPartDegrees1!$I$9)","v":""},{"$f":"FirstPartDegrees1!L15","v":0},{"$f":"IF(ISBLANK(FirstPartDegrees1!$K$9),\"\",FirstPartDegrees1!$K$9)","v":""},null,null,{"$f":"(AA3+Y3)/2","v":0},{"$f":"ROUNDUP((J3+Q3+X3+AE3)/4,0)","v":0},{"$f":"SeconedPartDegrees1!G15","v":0},{"$f":"IF(ISBLANK(SeconedPartDegrees1!$G$9),\"\",SeconedPartDegrees1!$G$9)","v":""},{"$f":"SeconedPartDegrees1!M15","v":0},{"$f":"IF(ISBLANK(SeconedPartDegrees1!$L$9),\"\",SeconedPartDegrees1!$L$9)","v":""},null,null,{"$f":"(AI3+AG3)/2","v":0},{"$f":"FirstPartDegrees1!C15","v":0},{"$f":"IF(ISBLANK(FirstPartDegrees1!$C$9),\"\",FirstPartDegrees1!$C$9)","v":""},{"$f":"FirstPartDegrees1!F15","v":0},{"$f":"IF(ISBLANK(FirstPartDegrees1!$E$9),\"\",FirstPartDegrees1!$E$9)","v":""},null,null,{"$f":"(AP3+AN3)/2","v":0},{"$f":"FirstPartDegrees1!D15","v":0},{"$f":"IF(ISBLANK(FirstPartDegrees1!$C$9),\"\",FirstPartDegrees1!$C$9)","v":""},{"$f":"SeconedPartDegrees1!N15","v":0},{"$f":"IF(ISBLANK(SeconedPartDegrees1!$N$9),\"\",SeconedPartDegrees1!$N$9)","v":""},null,null,{"$f":"(AW3+AU3)/2","v":0},{"$f":"SeconedPartDegrees1!I15","v":0},{"$f":"IF(ISBLANK(SeconedPartDegrees1!$I$9),\"\",SeconedPartDegrees1!$I$9)","v":""},{"$f":"SeconedPartDegrees1!L15","v":0},{"$f":"IF(ISBLANK(SeconedPartDegrees1!$L$9),\"\",SeconedPartDegrees1!$L$9)","v":""},null,null,{"$f":"(BD3+BB3)/2","v":0},{"$f":"ROUNDUP((AM3+AT3+BA3+BH3)/4,0)","v":0},{"$f":"FirstPartDegrees1!H15","v":0},{"$f":"IF(ISBLANK(FirstPartDegrees1!$G$9),\"\",FirstPartDegrees1!$G$9)","v":""},{"$f":"SeconedPartDegrees1!O15","v":0},{"$f":"IF(ISBLANK(SeconedPartDegrees1!$N$9),\"\",SeconedPartDegrees1!$N$9)","v":""},null,null,{"$f":"(BL3+BJ3)/2","v":0},{"$f":"FirstPartDegrees1!K15","v":0},{"$f":"IF(ISBLANK(FirstPartDegrees1!$K$9),\"\",FirstPartDegrees1!$K$9)","v":""},{"$f":"SeconedPartDegrees1!H15","v":0},{"$f":"IF(ISBLANK(SeconedPartDegrees1!$G$9),\"\",SeconedPartDegrees1!$G$9)","v":""},null,null,{"$f":"(BS3+BQ3)/2","v":0},{"$f":"SeconedPartDegrees1!E15","v":0},{"$f":"IF(ISBLANK(SeconedPartDegrees1!$E$9),\"\",SeconedPartDegrees1!$E$9)","v":""},{"$f":"SeconedPartDegrees1!J15","v":0},{"$f":"IF(ISBLANK(SeconedPartDegrees1!$I$9),\"\",SeconedPartDegrees1!$I$9)","v":""},null,null,{"$f":"(BZ3+BX3)/2","v":0},{"$f":"FirstPartDegrees1!N15","v":0},{"$f":"IF(ISBLANK(FirstPartDegrees1!$M$9),\"\",FirstPartDegrees1!$M$9)","v":""},{"$f":"SeconedPartDegrees1!K15","v":0},{"$f":"IF(ISBLANK(SeconedPartDegrees1!$I$9),\"\",SeconedPartDegrees1!$I$9)","v":""},null,null,{"$f":"(CG3+CE3)/2","v":0},{"$f":"ROUNDUP((BP3+BW3+CD3+CK3)/4,0)","v":0},{"$f":"(CL3+AF3+BI3)*40/12","v":0},{"$f":"SeconedPartDegrees1!Q15","v":""},"2-7"]
[{"$f":"SeconedPartDegrees1!A17","v":3},{"$f":"FirstPartDegrees1!B17","v":""},{"$f":"FirstPartDegrees1!$H$7","v":"7-1"},{"$f":"FirstPartDegrees1!G17","v":0},{"$f":"IF(ISBLANK(SeconedPartDegrees1!$G$9),\"\",SeconedPartDegrees1!$G$9)","v":""},{"$f":"SeconedPartDegrees1!C17","v":0},{"$f":"IF(ISBLANK(SeconedPartDegrees1!$C$9),\"\",SeconedPartDegrees1!$C$9)","v":""},null,null,0,{"$f":"FirstPartDegrees1!I17","v":0},{"$f":"IF(ISBLANK(FirstPartDegrees1!$I$9),\"\",FirstPartDegrees1!$I$9)","v":""},{"$f":"FirstPartDegrees1!M17","v":0},{"$f":"IF(ISBLANK(FirstPartDegrees1!$M$9),\"\",FirstPartDegrees1!$M$9)","v":""},null,null,0,{"$f":"FirstPartDegrees1!E17","v":0},{"$f":"IF(ISBLANK(FirstPartDegrees1!$E$9),\"\",FirstPartDegrees1!$E$9)","v":""},{"$f":"SeconedPartDegrees1!F17","v":0},{"$f":"IF(ISBLANK(SeconedPartDegrees1!$E$9),\"\",SeconedPartDegrees1!$E$9)","v":""},null,null,0,{"$f":"FirstPartDegrees1!J17","v":0},{"$f":"IF(ISBLANK(FirstPartDegrees1!$I$9),\"\",FirstPartDegrees1!$I$9)","v":""},{"$f":"FirstPartDegrees1!L17","v":0},{"$f":"IF(ISBLANK(FirstPartDegrees1!$K$9),\"\",FirstPartDegrees1!$K$9)","v":""},null,null,0,0,{"$f":"SeconedPartDegrees1!G17","v":0},{"$f":"IF(ISBLANK(SeconedPartDegrees1!$G$9),\"\",SeconedPartDegrees1!$G$9)","v":""},{"$f":"SeconedPartDegrees1!M17","v":0},{"$f":"IF(ISBLANK(SeconedPartDegrees1!$L$9),\"\",SeconedPartDegrees1!$L$9)","v":""},null,null,0,{"$f":"FirstPartDegrees1!C17","v":0},{"$f":"IF(ISBLANK(FirstPartDegrees1!$C$9),\"\",FirstPartDegrees1!$C$9)","v":""},{"$f":"FirstPartDegrees1!F17","v":0},{"$f":"IF(ISBLANK(FirstPartDegrees1!$E$9),\"\",FirstPartDegrees1!$E$9)","v":""},null,null,0,{"$f":"FirstPartDegrees1!D17","v":0},{"$f":"IF(ISBLANK(FirstPartDegrees1!$C$9),\"\",FirstPartDegrees1!$C$9)","v":""},{"$f":"SeconedPartDegrees1!N17","v":0},{"$f":"IF(ISBLANK(SeconedPartDegrees1!$N$9),\"\",SeconedPartDegrees1!$N$9)","v":""},null,null,0,{"$f":"SeconedPartDegrees1!I17","v":0},{"$f":"IF(ISBLANK(SeconedPartDegrees1!$I$9),\"\",SeconedPartDegrees1!$I$9)","v":""},{"$f":"SeconedPartDegrees1!L17","v":0},{"$f":"IF(ISBLANK(SeconedPartDegrees1!$L$9),\"\",SeconedPartDegrees1!$L$9)","v":""},null,null,0,0,{"$f":"FirstPartDegrees1!H17","v":0},{"$f":"IF(ISBLANK(FirstPartDegrees1!$G$9),\"\",FirstPartDegrees1!$G$9)","v":""},{"$f":"SeconedPartDegrees1!O17","v":0},{"$f":"IF(ISBLANK(SeconedPartDegrees1!$N$9),\"\",SeconedPartDegrees1!$N$9)","v":""},null,null,0,{"$f":"FirstPartDegrees1!K17","v":0},{"$f":"IF(ISBLANK(FirstPartDegrees1!$K$9),\"\",FirstPartDegrees1!$K$9)","v":""},{"$f":"SeconedPartDegrees1!H17","v":0},{"$f":"IF(ISBLANK(SeconedPartDegrees1!$G$9),\"\",SeconedPartDegrees1!$G$9)","v":""},null,null,0,{"$f":"SeconedPartDegrees1!E17","v":0},{"$f":"IF(ISBLANK(SeconedPartDegrees1!$E$9),\"\",SeconedPartDegrees1!$E$9)","v":""},{"$f":"SeconedPartDegrees1!J17","v":0},{"$f":"IF(ISBLANK(SeconedPartDegrees1!$I$9),\"\",SeconedPartDegrees1!$I$9)","v":""},null,null,0,{"$f":"FirstPartDegrees1!N17","v":0},{"$f":"IF(ISBLANK(FirstPartDegrees1!$M$9),\"\",FirstPartDegrees1!$M$9)","v":""},{"$f":"SeconedPartDegrees1!K17","v":0},{"$f":"IF(ISBLANK(SeconedPartDegrees1!$I$9),\"\",SeconedPartDegrees1!$I$9)","v":""},null,null,0,0,0,{"$f":"SeconedPartDegrees1!Q17","v":""},"3-7"]
[{"$f":"SeconedPartDegrees1!A19","v":4},{"$f":"FirstPartDegrees1!B19","v":""},{"$f":"FirstPartDegrees1!$H$7","v":"7-1"},{"$f":"FirstPartDegrees1!G19","v":0},{"$f":"IF(ISBLANK(SeconedPartDegrees1!$G$9),\"\",SeconedPartDegrees1!$G$9)","v":""},{"$f":"SeconedPartDegrees1!C19","v":0},{"$f":"IF(ISBLANK(SeconedPartDegrees1!$C$9),\"\",SeconedPartDegrees1!$C$9)","v":""},null,null,0,{"$f":"FirstPartDegrees1!I19","v":0},{"$f":"IF(ISBLANK(FirstPartDegrees1!$I$9),\"\",FirstPartDegrees1!$I$9)","v":""},{"$f":"FirstPartDegrees1!M19","v":0},{"$f":"IF(ISBLANK(FirstPartDegrees1!$M$9),\"\",FirstPartDegrees1!$M$9)","v":""},null,null,0,{"$f":"FirstPartDegrees1!E19","v":0},{"$f":"IF(ISBLANK(FirstPartDegrees1!$E$9),\"\",FirstPartDegrees1!$E$9)","v":""},{"$f":"SeconedPartDegrees1!F19","v":0},{"$f":"IF(ISBLANK(SeconedPartDegrees1!$E$9),\"\",SeconedPartDegrees1!$E$9)","v":""},null,null,0,{"$f":"FirstPartDegrees1!J19","v":0},{"$f":"IF(ISBLANK(FirstPartDegrees1!$I$9),\"\",FirstPartDegrees1!$I$9)","v":""},{"$f":"FirstPartDegrees1!L19","v":0},{"$f":"IF(ISBLANK(FirstPartDegrees1!$K$9),\"\",FirstPartDegrees1!$K$9)","v":""},null,null,0,0,{"$f":"SeconedPartDegrees1!G19","v":0},{"$f":"IF(ISBLANK(SeconedPartDegrees1!$G$9),\"\",SeconedPartDegrees1!$G$9)","v":""},{"$f":"SeconedPartDegrees1!M19","v":0},{"$f":"IF(ISBLANK(SeconedPartDegrees1!$L$9),\"\",SeconedPartDegrees1!$L$9)","v":""},null,null,0,{"$f":"FirstPartDegrees1!C19","v":0},{"$f":"IF(ISBLANK(FirstPartDegrees1!$C$9),\"\",FirstPartDegrees1!$C$9)","v":""},{"$f":"FirstPartDegrees1!F19","v":0},{"$f":"IF(ISBLANK(FirstPartDegrees1!$E$9),\"\",FirstPartDegrees1!$E$9)","v":""},null,null,0,{"$f":"FirstPartDegrees1!D19","v":0},{"$f":"IF(ISBLANK(FirstPartDegrees1!$C$9),\"\",FirstPartDegrees1!$C$9)","v":""},{"$f":"SeconedPartDegrees1!N19","v":0},{"$f":"IF(ISBLANK(SeconedPartDegrees1!$N$9),\"\",SeconedPartDegrees1!$N$9)","v":""},null,null,0,{"$f":"SeconedPartDegrees1!I19","v":0},{"$f":"IF(ISBLANK(SeconedPartDegrees1!$I$9),\"\",SeconedPartDegrees1!$I$9)","v":""},{"$f":"SeconedPartDegrees1!L19","v":0},{"$f":"IF(ISBLANK(SeconedPartDegrees1!$L$9),\"\",SeconedPartDegrees1!$L$9)","v":""},null,null,0,0,{"$f":"FirstPartDegrees1!H19","v":0},{"$f":"IF(ISBLANK(FirstPartDegrees1!$G$9),\"\",FirstPartDegrees1!$G$9)","v":""},{"$f":"SeconedPartDegrees1!O19","v":0},{"$f":"IF(ISBLANK(SeconedPartDegrees1!$N$9),\"\",SeconedPartDegrees1!$N$9)","v":""},null,null,0,{"$f":"FirstPartDegrees1!K19","v":0},{"$f":"IF(ISBLANK(FirstPartDegrees1!$K$9),\"\",FirstPartDegrees1!$K$9)","v":""},{"$f":"SeconedPartDegrees1!H19","v":0},{"$f":"IF(ISBLANK(SeconedPartDegrees1!$G$9),\"\",SeconedPartDegrees1!$G$9)","v":""},null,null,0,{"$f":"SeconedPartDegrees1!E19","v":0},{"$f":"IF(ISBLANK(SeconedPartDegrees1!$E$9),\"\",SeconedPartDegrees1!$E$9)","v":""},{"$f":"SeconedPartDegrees1!J19","v":0},{"$f":"IF(ISBLANK(SeconedPartDegrees1!$I$9),\"\",SeconedPartDegrees1!$I$9)","v":""},null,null,0,{"$f":"FirstPartDegrees1!N19","v":0},{"$f":"IF(ISBLANK(FirstPartDegrees1!$M$9),\"\",FirstPartDegrees1!$M$9)","v":""},{"$f":"SeconedPartDegrees1!K19","v":0},{"$f":"IF(ISBLANK(SeconedPartDegrees1!$I$9),\"\",SeconedPartDegrees1!$I$9)","v":""},null,null,0,0,0,{"$f":"SeconedPartDegrees1!Q19","v":""},"4-7"]
[{"$f":"SeconedPartDegrees1!A21","v":5},{"$f":"FirstPartDegrees1!B21","v":""},{"$f":"FirstPartDegrees1!$H$7","v":"7-1"},{"$f":"FirstPartDegrees1!G21","v":0},{"$f":"IF(ISBLANK(SeconedPartDegrees1!$G$9),\"\",SeconedPartDegrees1!$G$9)","v":""},{"$f":"SeconedPartDegrees1!C21","v":0},{"$f":"IF(ISBLANK(SeconedPartDegrees1!$C$9),\"\",SeconedPartDegrees1!$C$9)","v":""},null,null,0,{"$f":"FirstPartDegrees1!I21","v":0},{"$f":"IF(ISBLANK(FirstPartDegrees1!$I$9),\"\",FirstPartDegrees1!$I$9)","v":""},{"$f":"FirstPartDegrees1!M21","v":0},{"$f":"IF(ISBLANK(FirstPartDegrees1!$M$9),\"\",FirstPartDegrees1!$M$9)","v":""},null,null,0,{"$f":"FirstPartDegrees1!E21","v":0},{"$f":"IF(ISBLANK(FirstPartDegrees1!$E$9),\"\",FirstPartDegrees1!$E$9)","v":""},{"$f":"SeconedPartDegrees1!F21","v":0},{"$f":"IF(ISBLANK(SeconedPartDegrees1!$E$9),\"\",SeconedPartDegrees1!$E$9)","v":""},null,null,0,{"$f":"FirstPartDegrees1!J21","v":0},{"$f":"IF(ISBLANK(FirstPartDegrees1!$I$9),\"\",FirstPartDegrees1!$I$9)","v":""},{"$f":"FirstPartDegrees1!L21","v":0},{"$f":"IF(ISBLANK(FirstPartDegrees1!$K$9),\"\",FirstPartDegrees1!$K$9)","v":""},null,null,0,0,{"$f":"SeconedPartDegrees1!G21","v":0},{"$f":"IF(ISBLANK(SeconedPartDegrees1!$G$9),\"\",SeconedPartDegrees1!$G$9)","v":""},{"$f":"SeconedPartDegrees1!M21","v":0},{"$f":"IF(ISBLANK(SeconedPartDegrees1!$L$9),\"\",SeconedPartDegrees1!$L$9)","v":""},null,null,0,{"$f":"FirstPartDegrees1!C21","v":0},{"$f":"IF(ISBLANK(FirstPartDegrees1!$C$9),\"\",FirstPartDegrees1!$C$9)","v":""},{"$f":"FirstPartDegrees1!F21","v":0},{"$f":"IF(ISBLANK(FirstPartDegrees1!$E$9),\"\",FirstPartDegrees1!$E$9)","v":""},null,null,0,{"$f":"FirstPartDegrees1!D21","v":0},{"$f":"IF(ISBLANK(FirstPartDegrees1!$C$9),\"\",FirstPartDegrees1!$C$9)","v":""},{"$f":"SeconedPartDegrees1!N21","v":0},{"$f":"IF(ISBLANK(SeconedPartDegrees1!$N$9),\"\",SeconedPartDegrees1!$N$9)","v":""},null,null,0,{"$f":"SeconedPartDegrees1!I21","v":0},{"$f":"IF(ISBLANK(SeconedPartDegrees1!$I$9),\"\",SeconedPartDegrees1!$I$9)","v":""},{"$f":"SeconedPartDegrees1!L21","v":0},{"$f":"IF(ISBLANK(SeconedPartDegrees1!$L$9),\"\",SeconedPartDegrees1!$L$9)","v":""},null,null,0,0,{"$f":"FirstPartDegrees1!H21","v":0},{"$f":"IF(ISBLANK(FirstPartDegrees1!$G$9),\"\",FirstPartDegrees1!$G$9)","v":""},{"$f":"SeconedPartDegrees1!O21","v":0},{"$f":"IF(ISBLANK(SeconedPartDegrees1!$N$9),\"\",SeconedPartDegrees1!$N$9)","v":""},null,null,0,{"$f":"FirstPartDegrees1!K21","v":0},{"$f":"IF(ISBLANK(FirstPartDegrees1!$K$9),\"\",FirstPartDegrees1!$K$9)","v":""},{"$f":"SeconedPartDegrees1!H21","v":0},{"$f":"IF(ISBLANK(SeconedPartDegrees1!$G$9),\"\",SeconedPartDegrees1!$G$9)","v":""},null,null,0,{"$f":"SeconedPartDegrees1!E21","v":0},{"$f":"IF(ISBLANK(SeconedPartDegrees1!$E$9),\"\",SeconedPartDegrees1!$E$9)","v":""},{"$f":"SeconedPartDegrees1!J21","v":0},{"$f":"IF(ISBLANK(SeconedPartDegrees1!$I$9),\"\",SeconedPartDegrees1!$I$9)","v":""},null,null,0,{"$f":"FirstPartDegrees1!N21","v":0},{"$f":"IF(ISBLANK(FirstPartDegrees1!$M$9),\"\",FirstPartDegrees1!$M$9)","v":""},{"$f":"SeconedPartDegrees1!K21","v":0},{"$f":"IF(ISBLANK(SeconedPartDegrees1!$I$9),\"\",SeconedPartDegrees1!$I$9)","v":""},null,null,0,0,0,{"$f":"SeconedPartDegrees1!Q21","v":""},"5-7"]
[{"$f":"SeconedPartDegrees1!A23","v":6},{"$f":"FirstPartDegrees1!B23","v":""},{"$f":"FirstPartDegrees1!$H$7","v":"7-1"},{"$f":"FirstPartDegrees1!G23","v":0},{"$f":"IF(ISBLANK(SeconedPartDegrees1!$G$9),\"\",SeconedPartDegrees1!$G$9)","v":""},{"$f":"SeconedPartDegrees1!C23","v":0},{"$f":"IF(ISBLANK(SeconedPartDegrees1!$C$9),\"\",SeconedPartDegrees1!$C$9)","v":""},null,null,0,{"$f":"FirstPartDegrees1!I23","v":0},{"$f":"IF(ISBLANK(FirstPartDegrees1!$I$9),\"\",FirstPartDegrees1!$I$9)","v":""},{"$f":"FirstPartDegrees1!M23","v":0},{"$f":"IF(ISBLANK(FirstPartDegrees1!$M$9),\"\",FirstPartDegrees1!$M$9)","v":""},null,null,0,{"$f":"FirstPartDegrees1!E23","v":0},{"$f":"IF(ISBLANK(FirstPartDegrees1!$E$9),\"\",FirstPartDegrees1!$E$9)","v":""},{"$f":"SeconedPartDegrees1!F23","v":0},{"$f":"IF(ISBLANK(SeconedPartDegrees1!$E$9),\"\",SeconedPartDegrees1!$E$9)","v":""},null,null,0,{"$f":"FirstPartDegrees1!J23","v":0},{"$f":"IF(ISBLANK(FirstPartDegrees1!$I$9),\"\",FirstPartDegrees1!$I$9)","v":""},{"$f":"FirstPartDegrees1!L23","v":0},{"$f":"IF(ISBLANK(FirstPartDegrees1!$K$9),\"\",FirstPartDegrees1!$K$9)","v":""},null,null,0,0,{"$f":"SeconedPartDegrees1!G23","v":0},{"$f":"IF(ISBLANK(SeconedPartDegrees1!$G$9),\"\",SeconedPartDegrees1!$G$9)","v":""},{"$f":"SeconedPartDegrees1!M23","v":0},{"$f":"IF(ISBLANK(SeconedPartDegrees1!$L$9),\"\",SeconedPartDegrees1!$L$9)","v":""},null,null,0,{"$f":"FirstPartDegrees1!C23","v":0},{"$f":"IF(ISBLANK(FirstPartDegrees1!$C$9),\"\",FirstPartDegrees1!$C$9)","v":""},{"$f":"FirstPartDegrees1!F23","v":0},{"$f":"IF(ISBLANK(FirstPartDegrees1!$E$9),\"\",FirstPartDegrees1!$E$9)","v":""},null,null,0,{"$f":"FirstPartDegrees1!D23","v":0},{"$f":"IF(ISBLANK(FirstPartDegrees1!$C$9),\"\",FirstPartDegrees1!$C$9)","v":""},{"$f":"SeconedPartDegrees1!N23","v":0},{"$f":"IF(ISBLANK(SeconedPartDegrees1!$N$9),\"\",SeconedPartDegrees1!$N$9)","v":""},null,null,0,{"$f":"SeconedPartDegrees1!I23","v":0},{"$f":"IF(ISBLANK(SeconedPartDegrees1!$I$9),\"\",SeconedPartDegrees1!$I$9)","v":""},{"$f":"SeconedPartDegrees1!L23","v":0},{"$f":"IF(ISBLANK(SeconedPartDegrees1!$L$9),\"\",SeconedPartDegrees1!$L$9)","v":""},null,null,0,0,{"$f":"FirstPartDegrees1!H23","v":0},{"$f":"IF(ISBLANK(FirstPartDegrees1!$G$9),\"\",FirstPartDegrees1!$G$9)","v":""},{"$f":"SeconedPartDegrees1!O23","v":0},{"$f":"IF(ISBLANK(SeconedPartDegrees1!$N$9),\"\",SeconedPartDegrees1!$N$9)","v":""},null,null,0,{"$f":"FirstPartDegrees1!K23","v":0},{"$f":"IF(ISBLANK(FirstPartDegrees1!$K$9),\"\",FirstPartDegrees1!$K$9)","v":""},{"$f":"SeconedPartDegrees1!H23","v":0},{"$f":"IF(ISBLANK(SeconedPartDegrees1!$G$9),\"\",SeconedPartDegrees1!$G$9)","v":""},null,null,0,{"$f":"SeconedPartDegrees1!E23","v":0},{"$f":"IF(ISBLANK(SeconedPartDegrees1!$E$9),\"\",SeconedPartDegrees1!$E$9)","v":""},{"$f":"SeconedPartDegrees1!J23","v":0},{"$f":"IF(ISBLANK(SeconedPartDegrees1!$I$9),\"\",SeconedPartDegrees1!$I$9)","v":""},null,null,0,{"$f":"FirstPartDegrees1!N23","v":0},{"$f":"IF(ISBLANK(FirstPartDegrees1!$M$9),\"\",FirstPartDegrees1!$M$9)","v":""},{"$f":"SeconedPartDegrees1!K23","v":0},{"$f":"IF(ISBLANK(SeconedPartDegrees1!$I$9),\"\",SeconedPartDegrees1!$I$9)","v":""},null,null,0,0,0,{"$f":"SeconedPartDegrees1!Q23","v":""},"6-7"]
[{"$f":"SeconedPartDegrees1!A25","v":7},{"$f":"FirstPartDegrees1!B25","v":""},{"$f":"FirstPartDegrees1!$H$7","v":"7-1"},{"$f":"FirstPartDegrees1!G25","v":0},{"$f":"IF(ISBLANK(SeconedPartDegrees1!$G$9),\"\",SeconedPartDegrees1!$G$9)","v":""},{"$f":"SeconedPartDegrees1!C25","v":0},{"$f":"IF(ISBLANK(SeconedPartDegrees1!$C$9),\"\",SeconedPartDegrees1!$C$9)","v":""},null,null,0,{"$f":"FirstPartDegrees1!I25","v":0},{"$f":"IF(ISBLANK(FirstPartDegrees1!$I$9),\"\",FirstPartDegrees1!$I$9)","v":""},{"$f":"FirstPartDegrees1!M25","v":0},{"$f":"IF(ISBLANK(FirstPartDegrees1!$M$9),\"\",FirstPartDegrees1!$M$9)","v":""},null,null,0,{"$f":"FirstPartDegrees1!E25","v":0},{"$f":"IF(ISBLANK(FirstPartDegrees1!$E$9),\"\",FirstPartDegrees1!$E$9)","v":""},{"$f":"SeconedPartDegrees1!F25","v":0},{"$f":"IF(ISBLANK(SeconedPartDegrees1!$E$9),\"\",SeconedPartDegrees1!$E$9)","v":""},null,null,0,{"$f":"FirstPartDegrees1!J25","v":0},{"$f":"IF(ISBLANK(FirstPartDegrees1!$I$9),\"\",FirstPartDegrees1!$I$9)","v":""},{"$f":"FirstPartDegrees1!L25","v":0},{"$f":"IF(ISBLANK(FirstPartDegrees1!$K$9),\"\",FirstPartDegrees1!$K$9)","v":""},null,null,0,0,{"$f":"SeconedPartDegrees1!G25","v":0},{"$f":"IF(ISBLANK(SeconedPartDegrees1!$G$9),\"\",SeconedPartDegrees1!$G$9)","v":""},{"$f":"SeconedPartDegrees1!M25","v":0},{"$f":"IF(ISBLANK(SeconedPartDegrees1!$L$9),\"\",SeconedPartDegrees1!$L$9)","v":""},null,null,0,{"$f":"FirstPartDegrees1!C25","v":0},{"$f":"IF(ISBLANK(FirstPartDegrees1!$C$9),\"\",FirstPartDegrees1!$C$9)","v":""},{"$f":"FirstPartDegrees1!F25","v":0},{"$f":"IF(ISBLANK(FirstPartDegrees1!$E$9),\"\",FirstPartDegrees1!$E$9)","v":""},null,null,0,{"$f":"FirstPartDegrees1!D25","v":0},{"$f":"IF(ISBLANK(FirstPartDegrees1!$C$9),\"\",FirstPartDegrees1!$C$9)","v":""},{"$f":"SeconedPartDegrees1!N25","v":0},{"$f":"IF(ISBLANK(SeconedPartDegrees1!$N$9),\"\",SeconedPartDegrees1!$N$9)","v":""},null,null,0,{"$f":"SeconedPartDegrees1!I25","v":0},{"$f":"IF(ISBLANK(SeconedPartDegrees1!$I$9),\"\",SeconedPartDegrees1!$I$9)","v":""},{"$f":"SeconedPartDegrees1!L25","v":0},{"$f":"IF(ISBLANK(SeconedPartDegrees1!$L$9),\"\",SeconedPartDegrees1!$L$9)","v":""},null,null,0,0,{"$f":"FirstPartDegrees1!H25","v":0},{"$f":"IF(ISBLANK(FirstPartDegrees1!$G$9),\"\",FirstPartDegrees1!$G$9)","v":""},{"$f":"SeconedPartDegrees1!O25","v":0},{"$f":"IF(ISBLANK(SeconedPartDegrees1!$N$9),\"\",SeconedPartDegrees1!$N$9)","v":""},null,null,0,{"$f":"FirstPartDegrees1!K25","v":0},{"$f":"IF(ISBLANK(FirstPartDegrees1!$K$9),\"\",FirstPartDegrees1!$K$9)","v":""},{"$f":"SeconedPartDegrees1!H25","v":0},{"$f":"IF(ISBLANK(SeconedPartDegrees1!$G$9),\"\",SeconedPartDegrees1!$G$9)","v":""},null,null,0,{"$f":"SeconedPartDegrees1!E25","v":0},{"$f":"IF(ISBLANK(SeconedPartDegrees1!$E$9),\"\",SeconedPartDegrees1!$E$9)","v":""},{"$f":"SeconedPartDegrees1!J25","v":0},{"$f":"IF(ISBLANK(SeconedPartDegrees1!$I$9),\"\",SeconedPartDegrees1!$I$9)","v":""},null,null,0,{"$f":"FirstPartDegrees1!N25","v":0},{"$f":"IF(ISBLANK(FirstPartDegrees1!$M$9),\"\",FirstPartDegrees1!$M$9)","v":""},{"$f":"SeconedPartDegrees1!K25","v":0},{"$f":"IF(ISBLANK(SeconedPartDegrees1!$I$9),\"\",SeconedPartDegrees1!$I$9)","v":""},null,null,0,0,0,{"$f":"SeconedPartDegrees1!Q25","v":""},"7-7"]
[{"$f":"SeconedPartDegrees1!A27","v":8},{"$f":"FirstPartDegrees1!B27","v":""},{"$f":"FirstPartDegrees1!$H$7","v":"7-1"},{"$f":"FirstPartDegrees1!G27","v":0},{"$f":"IF(ISBLANK(SeconedPartDegrees1!$G$9),\"\",SeconedPartDegrees1!$G$9)","v":""},{"$f":"SeconedPartDegrees1!C27","v":0},{"$f":"IF(ISBLANK(SeconedPartDegrees1!$C$9),\"\",SeconedPartDegrees1!$C$9)","v":""},null,null,0,{"$f":"FirstPartDegrees1!I27","v":0},{"$f":"IF(ISBLANK(FirstPartDegrees1!$I$9),\"\",FirstPartDegrees1!$I$9)","v":""},{"$f":"FirstPartDegrees1!M27","v":0},{"$f":"IF(ISBLANK(FirstPartDegrees1!$M$9),\"\",FirstPartDegrees1!$M$9)","v":""},null,null,0,{"$f":"FirstPartDegrees1!E27","v":0},{"$f":"IF(ISBLANK(FirstPartDegrees1!$E$9),\"\",FirstPartDegrees1!$E$9)","v":""},{"$f":"SeconedPartDegrees1!F27","v":0},{"$f":"IF(ISBLANK(SeconedPartDegrees1!$E$9),\"\",SeconedPartDegrees1!$E$9)","v":""},null,null,0,{"$f":"FirstPartDegrees1!J27","v":0},{"$f":"IF(ISBLANK(FirstPartDegrees1!$I$9),\"\",FirstPartDegrees1!$I$9)","v":""},{"$f":"FirstPartDegrees1!L27","v":0},{"$f":"IF(ISBLANK(FirstPartDegrees1!$K$9),\"\",FirstPartDegrees1!$K$9)","v":""},null,null,0,0,{"$f":"SeconedPartDegrees1!G27","v":0},{"$f":"IF(ISBLANK(SeconedPartDegrees1!$G$9),\"\",SeconedPartDegrees1!$G$9)","v":""},{"$f":"SeconedPartDegrees1!M27","v":0},{"$f":"IF(ISBLANK(SeconedPartDegrees1!$L$9),\"\",SeconedPartDegrees1!$L$9)","v":""},null,null,0,{"$f":"FirstPartDegrees1!C27","v":0},{"$f":"IF(ISBLANK(FirstPartDegrees1!$C$9),\"\",FirstPartDegrees1!$C$9)","v":""},{"$f":"FirstPartDegrees1!F27","v":0},{"$f":"IF(ISBLANK(FirstPartDegrees1!$E$9),\"\",FirstPartDegrees1!$E$9)","v":""},null,null,0,{"$f":"FirstPartDegrees1!D27","v":0},{"$f":"IF(ISBLANK(FirstPartDegrees1!$C$9),\"\",FirstPartDegrees1!$C$9)","v":""},{"$f":"SeconedPartDegrees1!N27","v":0},{"$f":"IF(ISBLANK(SeconedPartDegrees1!$N$9),\"\",SeconedPartDegrees1!$N$9)","v":""},null,null,0,{"$f":"SeconedPartDegrees1!I27","v":0},{"$f":"IF(ISBLANK(SeconedPartDegrees1!$I$9),\"\",SeconedPartDegrees1!$I$9)","v":""},{"$f":"SeconedPartDegrees1!L27","v":0},{"$f":"IF(ISBLANK(SeconedPartDegrees1!$L$9),\"\",SeconedPartDegrees1!$L$9)","v":""},null,null,0,0,{"$f":"FirstPartDegrees1!H27","v":0},{"$f":"IF(ISBLANK(FirstPartDegrees1!$G$9),\"\",FirstPartDegrees1!$G$9)","v":""},{"$f":"SeconedPartDegrees1!O27","v":0},{"$f":"IF(ISBLANK(SeconedPartDegrees1!$N$9),\"\",SeconedPartDegrees1!$N$9)","v":""},null,null,0,{"$f":"FirstPartDegrees1!K27","v":0},{"$f":"IF(ISBLANK(FirstPartDegrees1!$K$9),\"\",FirstPartDegrees1!$K$9)","v":""},{"$f":"SeconedPartDegrees1!H27","v":0},{"$f":"IF(ISBLANK(SeconedPartDegrees1!$G$9),\"\",SeconedPartDegrees1!$G$9)","v":""},null,null,0,{"$f":"SeconedPartDegrees1!E27","v":0},{"$f":"IF(ISBLANK(SeconedPartDegrees1!$E$9),\"\",SeconedPartDegrees1!$E$9)","v":""},{"$f":"SeconedPartDegrees1!J27","v":0},{"$f":"IF(ISBLANK(SeconedPartDegrees1!$I$9),\"\",SeconedPartDegrees1!$I$9)","v":""},null,null,0,{"$f":"FirstPartDegrees1!N27","v":0},{"$f":"IF(ISBLANK(FirstPartDegrees1!$M$9),\"\",FirstPartDegrees1!$M$9)","v":""},{"$f":"SeconedPartDegrees1!K27","v":0},{"$f":"IF(ISBLANK(SeconedPartDegrees1!$I$9),\"\",SeconedPartDegrees1!$I$9)","v":""},null,null,0,0,0,{"$f":"SeconedPartDegrees1!Q27","v":""},"8-7"]
[{"$f":"SeconedPartDegrees1!A29","v":9},{"$f":"FirstPartDegrees1!B29","v":""},{"$f":"FirstPartDegrees1!$H$7","v":"7-1"},{"$f":"FirstPartDegrees1!G29","v":0},{"$f":"IF(ISBLANK(SeconedPartDegrees1!$G$9),\"\",SeconedPartDegrees1!$G$9)","v":""},{"$f":"SeconedPartDegrees1!C29","v":0},{"$f":"IF(ISBLANK(SeconedPartDegrees1!$C$9),\"\",SeconedPartDegrees1!$C$9)","v":""},null,null,0,{"$f":"FirstPartDegrees1!I29","v":0},{"$f":"IF(ISBLANK(FirstPartDegrees1!$I$9),\"\",FirstPartDegrees1!$I$9)","v":""},{"$f":"FirstPartDegrees1!M29","v":0},{"$f":"IF(ISBLANK(FirstPartDegrees1!$M$9),\"\",FirstPartDegrees1!$M$9)","v":""},null,null,0,{"$f":"FirstPartDegrees1!E29","v":0},{"$f":"IF(ISBLANK(FirstPartDegrees1!$E$9),\"\",FirstPartDegrees1!$E$9)","v":""},{"$f":"SeconedPartDegrees1!F29","v":0},{"$f":"IF(ISBLANK(SeconedPartDegrees1!$E$9),\"\",SeconedPartDegrees1!$E$9)","v":""},null,null,0,{"$f":"FirstPartDegrees1!J29","v":0},{"$f":"IF(ISBLANK(FirstPartDegrees1!$I$9),\"\",FirstPartDegrees1!$I$9)","v":""},{"$f":"FirstPartDegrees1!L29","v":0},{"$f":"IF(ISBLANK(FirstPartDegrees1!$K$9),\"\",FirstPartDegrees1!$K$9)","v":""},null,null,0,0,{"$f":"SeconedPartDegrees1!G29","v":0},{"$f":"IF(ISBLANK(SeconedPartDegrees1!$G$9),\"\",SeconedPartDegrees1!$G$9)","v":""},{"$f":"SeconedPartDegrees1!M29","v":0},{"$f":"IF(ISBLANK(SeconedPartDegrees1!$L$9),\"\",SeconedPartDegrees1!$L$9)","v":""},null,null,0,{"$f":"FirstPartDegrees1!C29","v":0},{"$f":"IF(ISBLANK(FirstPartDegrees1!$C$9),\"\",FirstPartDegrees1!$C$9)","v":""},{"$f":"FirstPartDegrees1!F29","v":0},{"$f":"IF(ISBLANK(FirstPartDegrees1!$E$9),\"\",FirstPartDegrees1!$E$9)","v":""},null,null,0,{"$f":"FirstPartDegrees1!D29","v":0},{"$f":"IF(ISBLANK(FirstPartDegrees1!$C$9),\"\",FirstPartDegrees1!$C$9)","v":""},{"$f":"SeconedPartDegrees1!N29","v":0},{"$f":"IF(ISBLANK(SeconedPartDegrees1!$N$9),\"\",SeconedPartDegrees1!$N$9)","v":""},null,null,0,{"$f":"SeconedPartDegrees1!I29","v":0},{"$f":"IF(ISBLANK(SeconedPartDegrees1!$I$9),\"\",SeconedPartDegrees1!$I$9)","v":""},{"$f":"SeconedPartDegrees1!L29","v":0},{"$f":"IF(ISBLANK(SeconedPartDegrees1!$L$9),\"\",SeconedPartDegrees1!$L$9)","v":""},null,null,0,0,{"$f":"FirstPartDegrees1!H29","v":0},{"$f":"IF(ISBLANK(FirstPartDegrees1!$G$9),\"\",FirstPartDegrees1!$G$9)","v":""},{"$f":"SeconedPartDegrees1!O29","v":0},{"$f":"IF(ISBLANK(SeconedPartDegrees1!$N$9),\"\",SeconedPartDegrees1!$N$9)","v":""},null,null,0,{"$f":"FirstPartDegrees1!K29","v":0},{"$f":"IF(ISBLANK(FirstPartDegrees1!$K$9),\"\",FirstPartDegrees1!$K$9)","v":""},{"$f":"SeconedPartDegrees1!H29","v":0},{"$f":"IF(ISBLANK(SeconedPartDegrees1!$G$9),\"\",SeconedPartDegrees1!$G$9)","v":""},null,null,0,{"$f":"SeconedPartDegrees1!E29","v":0},{"$f":"IF(ISBLANK(SeconedPartDegrees1!$E$9),\"\",SeconedPartDegrees1!$E$9)","v":""},{"$f":"SeconedPartDegrees1!J29","v":0},{"$f":"IF(ISBLANK(SeconedPartDegrees1!$I$9),\"\",SeconedPartDegrees1!$I$9)","v":""},null,null,0,{"$f":"FirstPartDegrees1!N29","v":0},{"$f":"IF(ISBLANK(FirstPartDegrees1!$M$9),\"\",FirstPartDegrees1!$M$9)","v":""},{"$f":"SeconedPartDegrees1!K29","v":0},{"$f":"IF(ISBLANK(SeconedPartDegrees1!$I$9),\"\",SeconedPartDegrees1!$I$9)","v":""},null,null,0,0,0,{"$f":"SeconedPartDegrees1!Q29","v":""},"9-7"]
[{"$f":"SeconedPartDegrees1!A31","v":10},{"$f":"FirstPartDegrees1!B31","v":""},{"$f":"FirstPartDegrees1!$H$7","v":"7-1"},{"$f":"FirstPartDegrees1!G31","v":0},{"$f":"IF(ISBLANK(SeconedPartDegrees1!$G$9),\"\",SeconedPartDegrees1!$G$9)","v":""},{"$f":"SeconedPartDegrees1!C31","v":0},{"$f":"IF(ISBLANK(SeconedPartDegrees1!$C$9),\"\",SeconedPartDegrees1!$C$9)","v":""},null,null,0,{"$f":"FirstPartDegrees1!I31","v":0},{"$f":"IF(ISBLANK(FirstPartDegrees1!$I$9),\"\",FirstPartDegrees1!$I$9)","v":""},{"$f":"FirstPartDegrees1!M31","v":0},{"$f":"IF(ISBLANK(FirstPartDegrees1!$M$9),\"\",FirstPartDegrees1!$M$9)","v":""},null,null,0,{"$f":"FirstPartDegrees1!E31","v":0},{"$f":"IF(ISBLANK(FirstPartDegrees1!$E$9),\"\",FirstPartDegrees1!$E$9)","v":""},{"$f":"SeconedPartDegrees1!F31","v":0},{"$f":"IF(ISBLANK(SeconedPartDegrees1!$E$9),\"\",SeconedPartDegrees1!$E$9)","v":""},null,null,0,{"$f":"FirstPartDegrees1!J31","v":0},{"$f":"IF(ISBLANK(FirstPartDegrees1!$I$9),\"\",FirstPartDegrees1!$I$9)","v":""},{"$f":"FirstPartDegrees1!L31","v":0},{"$f":"IF(ISBLANK(FirstPartDegrees1!$K$9),\"\",FirstPartDegrees1!$K$9)","v":""},null,null,0,0,{"$f":"SeconedPartDegrees1!G31","v":0},{"$f":"IF(ISBLANK(SeconedPartDegrees1!$G$9),\"\",SeconedPartDegrees1!$G$9)","v":""},{"$f":"SeconedPartDegrees1!M31","v":0},{"$f":"IF(ISBLANK(SeconedPartDegrees1!$L$9),\"\",SeconedPartDegrees1!$L$9)","v":""},null,null,0,{"$f":"FirstPartDegrees1!C31","v":0},{"$f":"IF(ISBLANK(FirstPartDegrees1!$C$9),\"\",FirstPartDegrees1!$C$9)","v":""},{"$f":"FirstPartDegrees1!F31","v":0},{"$f":"IF(ISBLANK(FirstPartDegrees1!$E$9),\"\",FirstPartDegrees1!$E$9)","v":""},null,null,0,{"$f":"FirstPartDegrees1!D31","v":0},{"$f":"IF(ISBLANK(FirstPartDegrees1!$C$9),\"\",FirstPartDegrees1!$C$9)","v":""},{"$f":"SeconedPartDegrees1!N31","v":0},{"$f":"IF(ISBLANK(SeconedPartDegrees1!$N$9),\"\",SeconedPartDegrees1!$N$9)","v":""},null,null,0,{"$f":"SeconedPartDegrees1!I31","v":0},{"$f":"IF(ISBLANK(SeconedPartDegrees1!$I$9),\"\",SeconedPartDegrees1!$I$9)","v":""},{"$f":"SeconedPartDegrees1!L31","v":0},{"$f":"IF(ISBLANK(SeconedPartDegrees1!$L$9),\"\",SeconedPartDegrees1!$L$9)","v":""},null,null,0,0,{"$f":"FirstPartDegrees1!H31","v":0},{"$f":"IF(ISBLANK(FirstPartDegrees1!$G$9),\"\",FirstPartDegrees1!$G$9)","v":""},{"$f":"SeconedPartDegrees1!O31","v":0},{"$f":"IF(ISBLANK(SeconedPartDegrees1!$N$9),\"\",SeconedPartDegrees1!$N$9)","v":""},null,null,0,{"$f":"FirstPartDegrees1!K31","v":0},{"$f":"IF(ISBLANK(FirstPartDegrees1!$K$9),\"\",FirstPartDegrees1!$K$9)","v":""},{"$f":"SeconedPartDegrees1!H31","v":0},{"$f":"IF(ISBLANK(SeconedPartDegrees1!$G$9),\"\",SeconedPartDegrees1!$G$9)","v":""},null,null,0,{"$f":"SeconedPartDegrees1!E31","v":0},{"$f":"IF(ISBLANK(SeconedPartDegrees1!$E$9),\"\",SeconedPartDegrees1!$E$9)","v":""},{"$f":"SeconedPartDegrees1!J31","v":0},{"$f":"IF(ISBLANK(SeconedPartDegrees1!$I$9),\"\",SeconedPartDegrees1!$I$9)","v":""},null,null,0,{"$f":"FirstPartDegrees1!N31","v":0},{"$f":"IF(ISBLANK(FirstPartDegrees1!$M$9),\"\",FirstPartDegrees1!$M$9)","v":""},{"$f":"SeconedPartDegrees1!K31","v":0},{"$f":"IF(ISBLANK(SeconedPartDegrees1!$I$9),\"\",SeconedPartDegrees1!$I$9)","v":""},null,null,0,0,0,{"$f":"SeconedPartDegrees1!Q31","v":""},"10-7"]
[{"$f":"SeconedPartDegrees1!A33","v":11},{"$f":"FirstPartDegrees1!B33","v":""},{"$f":"FirstPartDegrees1!$H$7","v":"7-1"},{"$f":"FirstPartDegrees1!G33","v":0},{"$f":"IF(ISBLANK(SeconedPartDegrees1!$G$9),\"\",SeconedPartDegrees1!$G$9)","v":""},{"$f":"SeconedPartDegrees1!C33","v":0},{"$f":"IF(ISBLANK(SeconedPartDegrees1!$C$9),\"\",SeconedPartDegrees1!$C$9)","v":""},null,null,0,{"$f":"FirstPartDegrees1!I33","v":0},{"$f":"IF(ISBLANK(FirstPartDegrees1!$I$9),\"\",FirstPartDegrees1!$I$9)","v":""},{"$f":"FirstPartDegrees1!M33","v":0},{"$f":"IF(ISBLANK(FirstPartDegrees1!$M$9),\"\",FirstPartDegrees1!$M$9)","v":""},null,null,0,{"$f":"FirstPartDegrees1!E33","v":0},{"$f":"IF(ISBLANK(FirstPartDegrees1!$E$9),\"\",FirstPartDegrees1!$E$9)","v":""},{"$f":"SeconedPartDegrees1!F33","v":0},{"$f":"IF(ISBLANK(SeconedPartDegrees1!$E$9),\"\",SeconedPartDegrees1!$E$9)","v":""},null,null,0,{"$f":"FirstPartDegrees1!J33","v":0},{"$f":"IF(ISBLANK(FirstPartDegrees1!$I$9),\"\",FirstPartDegrees1!$I$9)","v":""},{"$f":"FirstPartDegrees1!L33","v":0},{"$f":"IF(ISBLANK(FirstPartDegrees1!$K$9),\"\",FirstPartDegrees1!$K$9)","v":""},null,null,0,0,{"$f":"SeconedPartDegrees1!G33","v":0},{"$f":"IF(ISBLANK(SeconedPartDegrees1!$G$9),\"\",SeconedPartDegrees1!$G$9)","v":""},{"$f":"SeconedPartDegrees1!M33","v":0},{"$f":"IF(ISBLANK(SeconedPartDegrees1!$L$9),\"\",SeconedPartDegrees1!$L$9)","v":""},null,null,0,{"$f":"FirstPartDegrees1!C33","v":0},{"$f":"IF(ISBLANK(FirstPartDegrees1!$C$9),\"\",FirstPartDegrees1!$C$9)","v":""},{"$f":"FirstPartDegrees1!F33","v":0},{"$f":"IF(ISBLANK(FirstPartDegrees1!$E$9),\"\",FirstPartDegrees1!$E$9)","v":""},null,null,0,{"$f":"FirstPartDegrees1!D33","v":0},{"$f":"IF(ISBLANK(FirstPartDegrees1!$C$9),\"\",FirstPartDegrees1!$C$9)","v":""},{"$f":"SeconedPartDegrees1!N33","v":0},{"$f":"IF(ISBLANK(SeconedPartDegrees1!$N$9),\"\",SeconedPartDegrees1!$N$9)","v":""},null,null,0,{"$f":"SeconedPartDegrees1!I33","v":0},{"$f":"IF(ISBLANK(SeconedPartDegrees1!$I$9),\"\",SeconedPartDegrees1!$I$9)","v":""},{"$f":"SeconedPartDegrees1!L33","v":0},{"$f":"IF(ISBLANK(SeconedPartDegrees1!$L$9),\"\",SeconedPartDegrees1!$L$9)","v":""},null,null,0,0,{"$f":"FirstPartDegrees1!H33","v":0},{"$f":"IF(ISBLANK(FirstPartDegrees1!$G$9),\"\",FirstPartDegrees1!$G$9)","v":""},{"$f":"SeconedPartDegrees1!O33","v":0},{"$f":"IF(ISBLANK(SeconedPartDegrees1!$N$9),\"\",SeconedPartDegrees1!$N$9)","v":""},null,null,0,{"$f":"FirstPartDegrees1!K33","v":0},{"$f":"IF(ISBLANK(FirstPartDegrees1!$K$9),\"\",FirstPartDegrees1!$K$9)","v":""},{"$f":"SeconedPartDegrees1!H33","v":0},{"$f":"IF(ISBLANK(SeconedPartDegrees1!$G$9),\"\",SeconedPartDegrees1!$G$9)","v":""},null,null,0,{"$f":"SeconedPartDegrees1!E33","v":0},{"$f":"IF(ISBLANK(SeconedPartDegrees1!$E$9),\"\",SeconedPartDegrees1!$E$9)","v":""},{"$f":"SeconedPartDegrees1!J33","v":0},{"$f":"IF(ISBLANK(SeconedPartDegrees1!$I$9),\"\",SeconedPartDegrees1!$I$9)","v":""},null,null,0,{"$f":"FirstPartDegrees1!N33","v":0},{"$f":"IF(ISBLANK(FirstPartDegrees1!$M$9),\"\",FirstPartDegrees1!$M$9)","v":""},{"$f":"SeconedPartDegrees1!K33","v":0},{"$f":"IF(ISBLANK(SeconedPartDegrees1!$I$9),\"\",SeconedPartDegrees1!$I$9)","v":""},null,null,0,0,0,{"$f":"SeconedPartDegrees1!Q33","v":""},"11-7"]
[{"$f":"SeconedPartDegrees1!A35","v":12},{"$f":"FirstPartDegrees1!B35","v":""},{"$f":"FirstPartDegrees1!$H$7","v":"7-1"},{"$f":"FirstPartDegrees1!G35","v":0},{"$f":"IF(ISBLANK(SeconedPartDegrees1!$G$9),\"\",SeconedPartDegrees1!$G$9)","v":""},{"$f":"SeconedPartDegrees1!C35","v":0},{"$f":"IF(ISBLANK(SeconedPartDegrees1!$C$9),\"\",SeconedPartDegrees1!$C$9)","v":""},null,null,0,{"$f":"FirstPartDegrees1!I35","v":0},{"$f":"IF(ISBLANK(FirstPartDegrees1!$I$9),\"\",FirstPartDegrees1!$I$9)","v":""},{"$f":"FirstPartDegrees1!M35","v":0},{"$f":"IF(ISBLANK(FirstPartDegrees1!$M$9),\"\",FirstPartDegrees1!$M$9)","v":""},null,null,0,{"$f":"FirstPartDegrees1!E35","v":0},{"$f":"IF(ISBLANK(FirstPartDegrees1!$E$9),\"\",FirstPartDegrees1!$E$9)","v":""},{"$f":"SeconedPartDegrees1!F35","v":0},{"$f":"IF(ISBLANK(SeconedPartDegrees1!$E$9),\"\",SeconedPartDegrees1!$E$9)","v":""},null,null,0,{"$f":"FirstPartDegrees1!J35","v":0},{"$f":"IF(ISBLANK(FirstPartDegrees1!$I$9),\"\",FirstPartDegrees1!$I$9)","v":""},{"$f":"FirstPartDegrees1!L35","v":0},{"$f":"IF(ISBLANK(FirstPartDegrees1!$K$9),\"\",FirstPartDegrees1!$K$9)","v":""},null,null,0,0,{"$f":"SeconedPartDegrees1!G35","v":0},{"$f":"IF(ISBLANK(SeconedPartDegrees1!$G$9),\"\",SeconedPartDegrees1!$G$9)","v":""},{"$f":"SeconedPartDegrees1!M35","v":0},{"$f":"IF(ISBLANK(SeconedPartDegrees1!$L$9),\"\",SeconedPartDegrees1!$L$9)","v":""},null,null,0,{"$f":"FirstPartDegrees1!C35","v":0},{"$f":"IF(ISBLANK(FirstPartDegrees1!$C$9),\"\",FirstPartDegrees1!$C$9)","v":""},{"$f":"FirstPartDegrees1!F35","v":0},{"$f":"IF(ISBLANK(FirstPartDegrees1!$E$9),\"\",FirstPartDegrees1!$E$9)","v":""},null,null,0,{"$f":"FirstPartDegrees1!D35","v":0},{"$f":"IF(ISBLANK(FirstPartDegrees1!$C$9),\"\",FirstPartDegrees1!$C$9)","v":""},{"$f":"SeconedPartDegrees1!N35","v":0},{"$f":"IF(ISBLANK(SeconedPartDegrees1!$N$9),\"\",SeconedPartDegrees1!$N$9)","v":""},null,null,0,{"$f":"SeconedPartDegrees1!I35","v":0},{"$f":"IF(ISBLANK(SeconedPartDegrees1!$I$9),\"\",SeconedPartDegrees1!$I$9)","v":""},{"$f":"SeconedPartDegrees1!L35","v":0},{"$f":"IF(ISBLANK(SeconedPartDegrees1!$L$9),\"\",SeconedPartDegrees1!$L$9)","v":""},null,null,0,0,{"$f":"FirstPartDegrees1!H35","v":0},{"$f":"IF(ISBLANK(FirstPartDegrees1!$G$9),\"\",FirstPartDegrees1!$G$9)","v":""},{"$f":"SeconedPartDegrees1!O35","v":0},{"$f":"IF(ISBLANK(SeconedPartDegrees1!$N$9),\"\",SeconedPartDegrees1!$N$9)","v":""},null,null,0,{"$f":"FirstPartDegrees1!K35","v":0},{"$f":"IF(ISBLANK(FirstPartDegrees1!$K$9),\"\",FirstPartDegrees1!$K$9)","v":""},{"$f":"SeconedPartDegrees1!H35","v":0},{"$f":"IF(ISBLANK(SeconedPartDegrees1!$G$9),\"\",SeconedPartDegrees1!$G$9)","v":""},null,null,0,{"$f":"SeconedPartDegrees1!E35","v":0},{"$f":"IF(ISBLANK(SeconedPartDegrees1!$E$9),\"\",SeconedPartDegrees1!$E$9)","v":""},{"$f":"SeconedPartDegrees1!J35","v":0},{"$f":"IF(ISBLANK(SeconedPartDegrees1!$I$9),\"\",SeconedPartDegrees1!$I$9)","v":""},null,null,0,{"$f":"FirstPartDegrees1!N35","v":0},{"$f":"IF(ISBLANK(FirstPartDegrees1!$M$9),\"\",FirstPartDegrees1!$M$9)","v":""},{"$f":"SeconedPartDegrees1!K35","v":0},{"$f":"IF(ISBLANK(SeconedPartDegrees1!$I$9),\"\",SeconedPartDegrees1!$I$9)","v":""},null,null,0,0,0,{"$f":"SeconedPartDegrees1!Q35","v":""},"12-7"]
[{"$f":"SeconedPartDegrees1!A37","v":13},{"$f":"FirstPartDegrees1!B37","v":""},{"$f":"FirstPartDegrees1!$H$7","v":"7-1"},{"$f":"FirstPartDegrees1!G37","v":0},{"$f":"IF(ISBLANK(SeconedPartDegrees1!$G$9),\"\",SeconedPartDegrees1!$G$9)","v":""},{"$f":"SeconedPartDegrees1!C37","v":0},{"$f":"IF(ISBLANK(SeconedPartDegrees1!$C$9),\"\",SeconedPartDegrees1!$C$9)","v":""},null,null,0,{"$f":"FirstPartDegrees1!I37","v":0},{"$f":"IF(ISBLANK(FirstPartDegrees1!$I$9),\"\",FirstPartDegrees1!$I$9)","v":""},{"$f":"FirstPartDegrees1!M37","v":0},{"$f":"IF(ISBLANK(FirstPartDegrees1!$M$9),\"\",FirstPartDegrees1!$M$9)","v":""},null,null,0,{"$f":"FirstPartDegrees1!E37","v":0},{"$f":"IF(ISBLANK(FirstPartDegrees1!$E$9),\"\",FirstPartDegrees1!$E$9)","v":""},{"$f":"SeconedPartDegrees1!F37","v":0},{"$f":"IF(ISBLANK(SeconedPartDegrees1!$E$9),\"\",SeconedPartDegrees1!$E$9)","v":""},null,null,0,{"$f":"FirstPartDegrees1!J37","v":0},{"$f":"IF(ISBLANK(FirstPartDegrees1!$I$9),\"\",FirstPartDegrees1!$I$9)","v":""},{"$f":"FirstPartDegrees1!L37","v":0},{"$f":"IF(ISBLANK(FirstPartDegrees1!$K$9),\"\",FirstPartDegrees1!$K$9)","v":""},null,null,0,0,{"$f":"SeconedPartDegrees1!G37","v":0},{"$f":"IF(ISBLANK(SeconedPartDegrees1!$G$9),\"\",SeconedPartDegrees1!$G$9)","v":""},{"$f":"SeconedPartDegrees1!M37","v":0},{"$f":"IF(ISBLANK(SeconedPartDegrees1!$L$9),\"\",SeconedPartDegrees1!$L$9)","v":""},null,null,0,{"$f":"FirstPartDegrees1!C37","v":0},{"$f":"IF(ISBLANK(FirstPartDegrees1!$C$9),\"\",FirstPartDegrees1!$C$9)","v":""},{"$f":"FirstPartDegrees1!F37","v":0},{"$f":"IF(ISBLANK(FirstPartDegrees1!$E$9),\"\",FirstPartDegrees1!$E$9)","v":""},null,null,0,{"$f":"FirstPartDegrees1!D37","v":0},{"$f":"IF(ISBLANK(FirstPartDegrees1!$C$9),\"\",FirstPartDegrees1!$C$9)","v":""},{"$f":"SeconedPartDegrees1!N37","v":0},{"$f":"IF(ISBLANK(SeconedPartDegrees1!$N$9),\"\",SeconedPartDegrees1!$N$9)","v":""},null,null,0,{"$f":"SeconedPartDegrees1!I37","v":0},{"$f":"IF(ISBLANK(SeconedPartDegrees1!$I$9),\"\",SeconedPartDegrees1!$I$9)","v":""},{"$f":"SeconedPartDegrees1!L37","v":0},{"$f":"IF(ISBLANK(SeconedPartDegrees1!$L$9),\"\",SeconedPartDegrees1!$L$9)","v":""},null,null,0,0,{"$f":"FirstPartDegrees1!H37","v":0},{"$f":"IF(ISBLANK(FirstPartDegrees1!$G$9),\"\",FirstPartDegrees1!$G$9)","v":""},{"$f":"SeconedPartDegrees1!O37","v":0},{"$f":"IF(ISBLANK(SeconedPartDegrees1!$N$9),\"\",SeconedPartDegrees1!$N$9)","v":""},null,null,0,{"$f":"FirstPartDegrees1!K37","v":0},{"$f":"IF(ISBLANK(FirstPartDegrees1!$K$9),\"\",FirstPartDegrees1!$K$9)","v":""},{"$f":"SeconedPartDegrees1!H37","v":0},{"$f":"IF(ISBLANK(SeconedPartDegrees1!$G$9),\"\",SeconedPartDegrees1!$G$9)","v":""},null,null,0,{"$f":"SeconedPartDegrees1!E37","v":0},{"$f":"IF(ISBLANK(SeconedPartDegrees1!$E$9),\"\",SeconedPartDegrees1!$E$9)","v":""},{"$f":"SeconedPartDegrees1!J37","v":0},{"$f":"IF(ISBLANK(SeconedPartDegrees1!$I$9),\"\",SeconedPartDegrees1!$I$9)","v":""},null,null,0,{"$f":"FirstPartDegrees1!N37","v":0},{"$f":"IF(ISBLANK(FirstPartDegrees1!$M$9),\"\",FirstPartDegrees1!$M$9)","v":""},{"$f":"SeconedPartDegrees1!K37","v":0},{"$f":"IF(ISBLANK(SeconedPartDegrees1!$I$9),\"\",SeconedPartDegrees1!$I$9)","v":""},null,null,0,0,0,{"$f":"SeconedPartDegrees1!Q37","v":""},"13-7"]
[{"$f":"SeconedPartDegrees1!A39","v":14},{"$f":"FirstPartDegrees1!B39","v":""},{"$f":"FirstPartDegrees1!$H$7","v":"7-1"},{"$f":"FirstPartDegrees1!G39","v":0},{"$f":"IF(ISBLANK(SeconedPartDegrees1!$G$9),\"\",SeconedPartDegrees1!$G$9)","v":""},{"$f":"SeconedPartDegrees1!C39","v":0},{"$f":"IF(ISBLANK(SeconedPartDegrees1!$C$9),\"\",SeconedPartDegrees1!$C$9)","v":""},null,null,0,{"$f":"FirstPartDegrees1!I39","v":0},{"$f":"IF(ISBLANK(FirstPartDegrees1!$I$9),\"\",FirstPartDegrees1!$I$9)","v":""},{"$f":"FirstPartDegrees1!M39","v":0},{"$f":"IF(ISBLANK(FirstPartDegrees1!$M$9),\"\",FirstPartDegrees1!$M$9)","v":""},null,null,0,{"$f":"FirstPartDegrees1!E39","v":0},{"$f":"IF(ISBLANK(FirstPartDegrees1!$E$9),\"\",FirstPartDegrees1!$E$9)","v":""},{"$f":"SeconedPartDegrees1!F39","v":0},{"$f":"IF(ISBLANK(SeconedPartDegrees1!$E$9),\"\",SeconedPartDegrees1!$E$9)","v":""},null,null,0,{"$f":"FirstPartDegrees1!J39","v":0},{"$f":"IF(ISBLANK(FirstPartDegrees1!$I$9),\"\",FirstPartDegrees1!$I$9)","v":""},{"$f":"FirstPartDegrees1!L39","v":0},{"$f":"IF(ISBLANK(FirstPartDegrees1!$K$9),\"\",FirstPartDegrees1!$K$9)","v":""},null,null,0,0,{"$f":"SeconedPartDegrees1!G39","v":0},{"$f":"IF(ISBLANK(SeconedPartDegrees1!$G$9),\"\",SeconedPartDegrees1!$G$9)","v":""},{"$f":"SeconedPartDegrees1!M39","v":0},{"$f":"IF(ISBLANK(SeconedPartDegrees1!$L$9),\"\",SeconedPartDegrees1!$L$9)","v":""},null,null,0,{"$f":"FirstPartDegrees1!C39","v":0},{"$f":"IF(ISBLANK(FirstPartDegrees1!$C$9),\"\",FirstPartDegrees1!$C$9)","v":""},{"$f":"FirstPartDegrees1!F39","v":0},{"$f":"IF(ISBLANK(FirstPartDegrees1!$E$9),\"\",FirstPartDegrees1!$E$9)","v":""},null,null,0,{"$f":"FirstPartDegrees1!D39","v":0},{"$f":"IF(ISBLANK(FirstPartDegrees1!$C$9),\"\",FirstPartDegrees1!$C$9)","v":""},{"$f":"SeconedPartDegrees1!N39","v":0},{"$f":"IF(ISBLANK(SeconedPartDegrees1!$N$9),\"\",SeconedPartDegrees1!$N$9)","v":""},null,null,0,{"$f":"SeconedPartDegrees1!I39","v":0},{"$f":"IF(ISBLANK(SeconedPartDegrees1!$I$9),\"\",SeconedPartDegrees1!$I$9)","v":""},{"$f":"SeconedPartDegrees1!L39","v":0},{"$f":"IF(ISBLANK(SeconedPartDegrees1!$L$9),\"\",SeconedPartDegrees1!$L$9)","v":""},null,null,0,0,{"$f":"FirstPartDegrees1!H39","v":0},{"$f":"IF(ISBLANK(FirstPartDegrees1!$G$9),\"\",FirstPartDegrees1!$G$9)","v":""},{"$f":"SeconedPartDegrees1!O39","v":0},{"$f":"IF(ISBLANK(SeconedPartDegrees1!$N$9),\"\",SeconedPartDegrees1!$N$9)","v":""},null,null,0,{"$f":"FirstPartDegrees1!K39","v":0},{"$f":"IF(ISBLANK(FirstPartDegrees1!$K$9),\"\",FirstPartDegrees1!$K$9)","v":""},{"$f":"SeconedPartDegrees1!H39","v":0},{"$f":"IF(ISBLANK(SeconedPartDegrees1!$G$9),\"\",SeconedPartDegrees1!$G$9)","v":""},null,null,0,{"$f":"SeconedPartDegrees1!E39","v":0},{"$f":"IF(ISBLANK(SeconedPartDegrees1!$E$9),\"\",SeconedPartDegrees1!$E$9)","v":""},{"$f":"SeconedPartDegrees1!J39","v":0},{"$f":"IF(ISBLANK(SeconedPartDegrees1!$I$9),\"\",SeconedPartDegrees1!$I$9)","v":""},null,null,0,{"$f":"FirstPartDegrees1!N39","v":0},{"$f":"IF(ISBLANK(FirstPartDegrees1!$M$9),\"\",FirstPartDegrees1!$M$9)","v":""},{"$f":"SeconedPartDegrees1!K39","v":0},{"$f":"IF(ISBLANK(SeconedPartDegrees1!$I$9),\"\",SeconedPartDegrees1!$I$9)","v":""},null,null,0,0,0,{"$f":"SeconedPartDegrees1!Q39","v":""},"14-7"]
[{"$f":"SeconedPartDegrees1!A41","v":15},{"$f":"FirstPartDegrees1!B41","v":""},{"$f":"FirstPartDegrees1!$H$7","v":"7-1"},{"$f":"FirstPartDegrees1!G41","v":0},{"$f":"IF(ISBLANK(SeconedPartDegrees1!$G$9),\"\",SeconedPartDegrees1!$G$9)","v":""},{"$f":"SeconedPartDegrees1!C41","v":0},{"$f":"IF(ISBLANK(SeconedPartDegrees1!$C$9),\"\",SeconedPartDegrees1!$C$9)","v":""},null,null,0,{"$f":"FirstPartDegrees1!I41","v":0},{"$f":"IF(ISBLANK(FirstPartDegrees1!$I$9),\"\",FirstPartDegrees1!$I$9)","v":""},{"$f":"FirstPartDegrees1!M41","v":0},{"$f":"IF(ISBLANK(FirstPartDegrees1!$M$9),\"\",FirstPartDegrees1!$M$9)","v":""},null,null,0,{"$f":"FirstPartDegrees1!E41","v":0},{"$f":"IF(ISBLANK(FirstPartDegrees1!$E$9),\"\",FirstPartDegrees1!$E$9)","v":""},{"$f":"SeconedPartDegrees1!F41","v":0},{"$f":"IF(ISBLANK(SeconedPartDegrees1!$E$9),\"\",SeconedPartDegrees1!$E$9)","v":""},null,null,0,{"$f":"FirstPartDegrees1!J41","v":0},{"$f":"IF(ISBLANK(FirstPartDegrees1!$I$9),\"\",FirstPartDegrees1!$I$9)","v":""},{"$f":"FirstPartDegrees1!L41","v":0},{"$f":"IF(ISBLANK(FirstPartDegrees1!$K$9),\"\",FirstPartDegrees1!$K$9)","v":""},null,null,0,0,{"$f":"SeconedPartDegrees1!G41","v":0},{"$f":"IF(ISBLANK(SeconedPartDegrees1!$G$9),\"\",SeconedPartDegrees1!$G$9)","v":""},{"$f":"SeconedPartDegrees1!M41","v":0},{"$f":"IF(ISBLANK(SeconedPartDegrees1!$L$9),\"\",SeconedPartDegrees1!$L$9)","v":""},null,null,0,{"$f":"FirstPartDegrees1!C41","v":0},{"$f":"IF(ISBLANK(FirstPartDegrees1!$C$9),\"\",FirstPartDegrees1!$C$9)","v":""},{"$f":"FirstPartDegrees1!F41","v":0},{"$f":"IF(ISBLANK(FirstPartDegrees1!$E$9),\"\",FirstPartDegrees1!$E$9)","v":""},null,null,0,{"$f":"FirstPartDegrees1!D41","v":0},{"$f":"IF(ISBLANK(FirstPartDegrees1!$C$9),\"\",FirstPartDegrees1!$C$9)","v":""},{"$f":"SeconedPartDegrees1!N41","v":0},{"$f":"IF(ISBLANK(SeconedPartDegrees1!$N$9),\"\",SeconedPartDegrees1!$N$9)","v":""},null,null,0,{"$f":"SeconedPartDegrees1!I41","v":0},{"$f":"IF(ISBLANK(SeconedPartDegrees1!$I$9),\"\",SeconedPartDegrees1!$I$9)","v":""},{"$f":"SeconedPartDegrees1!L41","v":0},{"$f":"IF(ISBLANK(SeconedPartDegrees1!$L$9),\"\",SeconedPartDegrees1!$L$9)","v":""},null,null,0,0,{"$f":"FirstPartDegrees1!H41","v":0},{"$f":"IF(ISBLANK(FirstPartDegrees1!$G$9),\"\",FirstPartDegrees1!$G$9)","v":""},{"$f":"SeconedPartDegrees1!O41","v":0},{"$f":"IF(ISBLANK(SeconedPartDegrees1!$N$9),\"\",SeconedPartDegrees1!$N$9)","v":""},null,null,0,{"$f":"FirstPartDegrees1!K41","v":0},{"$f":"IF(ISBLANK(FirstPartDegrees1!$K$9),\"\",FirstPartDegrees1!$K$9)","v":""},{"$f":"SeconedPartDegrees1!H41","v":0},{"$f":"IF(ISBLANK(SeconedPartDegrees1!$G$9),\"\",SeconedPartDegrees1!$G$9)","v":""},null,null,0,{"$f":"SeconedPartDegrees1!E41","v":0},{"$f":"IF(ISBLANK(SeconedPartDegrees1!$E$9),\"\",SeconedPartDegrees1!$E$9)","v":""},{"$f":"SeconedPartDegrees1!J41","v":0},{"$f":"IF(ISBLANK(SeconedPartDegrees1!$I$9),\"\",SeconedPartDegrees1!$I$9)","v":""},null,null,0,{"$f":"FirstPartDegrees1!N41","v":0},{"$f":"IF(ISBLANK(FirstPartDegrees1!$M$9),\"\",FirstPartDegrees1!$M$9)","v":""},{"$f":"SeconedPartDegrees1!K41","v":0},{"$f":"IF(ISBLANK(SeconedPartDegrees1!$I$9),\"\",SeconedPartDegrees1!$I$9)","v":""},null,null,0,0,0,{"$f":"SeconedPartDegrees1!Q41","v":""},"15-7"]
[{"$f":"SeconedPartDegrees1!A43","v":16},{"$f":"FirstPartDegrees1!B43","v":""},{"$f":"FirstPartDegrees1!$H$7","v":"7-1"},{"$f":"FirstPartDegrees1!G43","v":0},{"$f":"IF(ISBLANK(SeconedPartDegrees1!$G$9),\"\",SeconedPartDegrees1!$G$9)","v":""},{"$f":"SeconedPartDegrees1!C43","v":0},{"$f":"IF(ISBLANK(SeconedPartDegrees1!$C$9),\"\",SeconedPartDegrees1!$C$9)","v":""},null,null,0,{"$f":"FirstPartDegrees1!I43","v":0},{"$f":"IF(ISBLANK(FirstPartDegrees1!$I$9),\"\",FirstPartDegrees1!$I$9)","v":""},{"$f":"FirstPartDegrees1!M43","v":0},{"$f":"IF(ISBLANK(FirstPartDegrees1!$M$9),\"\",FirstPartDegrees1!$M$9)","v":""},null,null,0,{"$f":"FirstPartDegrees1!E43","v":0},{"$f":"IF(ISBLANK(FirstPartDegrees1!$E$9),\"\",FirstPartDegrees1!$E$9)","v":""},{"$f":"SeconedPartDegrees1!F43","v":0},{"$f":"IF(ISBLANK(SeconedPartDegrees1!$E$9),\"\",SeconedPartDegrees1!$E$9)","v":""},null,null,0,{"$f":"FirstPartDegrees1!J43","v":0},{"$f":"IF(ISBLANK(FirstPartDegrees1!$I$9),\"\",FirstPartDegrees1!$I$9)","v":""},{"$f":"FirstPartDegrees1!L43","v":0},{"$f":"IF(ISBLANK(FirstPartDegrees1!$K$9),\"\",FirstPartDegrees1!$K$9)","v":""},null,null,0,0,{"$f":"SeconedPartDegrees1!G43","v":0},{"$f":"IF(ISBLANK(SeconedPartDegrees1!$G$9),\"\",SeconedPartDegrees1!$G$9)","v":""},{"$f":"SeconedPartDegrees1!M43","v":0},{"$f":"IF(ISBLANK(SeconedPartDegrees1!$L$9),\"\",SeconedPartDegrees1!$L$9)","v":""},null,null,0,{"$f":"FirstPartDegrees1!C43","v":0},{"$f":"IF(ISBLANK(FirstPartDegrees1!$C$9),\"\",FirstPartDegrees1!$C$9)","v":""},{"$f":"FirstPartDegrees1!F43","v":0},{"$f":"IF(ISBLANK(FirstPartDegrees1!$E$9),\"\",FirstPartDegrees1!$E$9)","v":""},null,null,0,{"$f":"FirstPartDegrees1!D43","v":0},{"$f":"IF(ISBLANK(FirstPartDegrees1!$C$9),\"\",FirstPartDegrees1!$C$9)","v":""},{"$f":"SeconedPartDegrees1!N43","v":0},{"$f":"IF(ISBLANK(SeconedPartDegrees1!$N$9),\"\",SeconedPartDegrees1!$N$9)","v":""},null,null,0,{"$f":"SeconedPartDegrees1!I43","v":0},{"$f":"IF(ISBLANK(SeconedPartDegrees1!$I$9),\"\",SeconedPartDegrees1!$I$9)","v":""},{"$f":"SeconedPartDegrees1!L43","v":0},{"$f":"IF(ISBLANK(SeconedPartDegrees1!$L$9),\"\",SeconedPartDegrees1!$L$9)","v":""},null,null,0,0,{"$f":"FirstPartDegrees1!H43","v":0},{"$f":"IF(ISBLANK(FirstPartDegrees1!$G$9),\"\",FirstPartDegrees1!$G$9)","v":""},{"$f":"SeconedPartDegrees1!O43","v":0},{"$f":"IF(ISBLANK(SeconedPartDegrees1!$N$9),\"\",SeconedPartDegrees1!$N$9)","v":""},null,null,0,{"$f":"FirstPartDegrees1!K43","v":0},{"$f":"IF(ISBLANK(FirstPartDegrees1!$K$9),\"\",FirstPartDegrees1!$K$9)","v":""},{"$f":"SeconedPartDegrees1!H43","v":0},{"$f":"IF(ISBLANK(SeconedPartDegrees1!$G$9),\"\",SeconedPartDegrees1!$G$9)","v":""},null,null,0,{"$f":"SeconedPartDegrees1!E43","v":0},{"$f":"IF(ISBLANK(SeconedPartDegrees1!$E$9),\"\",SeconedPartDegrees1!$E$9)","v":""},{"$f":"SeconedPartDegrees1!J43","v":0},{"$f":"IF(ISBLANK(SeconedPartDegrees1!$I$9),\"\",SeconedPartDegrees1!$I$9)","v":""},null,null,0,{"$f":"FirstPartDegrees1!N43","v":0},{"$f":"IF(ISBLANK(FirstPartDegrees1!$M$9),\"\",FirstPartDegrees1!$M$9)","v":""},{"$f":"SeconedPartDegrees1!K43","v":0},{"$f":"IF(ISBLANK(SeconedPartDegrees1!$I$9),\"\",SeconedPartDegrees1!$I$9)","v":""},null,null,0,0,0,{"$f":"SeconedPartDegrees1!Q43","v":""},"16-7"]
[{"$f":"SeconedPartDegrees1!A45","v":17},{"$f":"FirstPartDegrees1!B45","v":""},{"$f":"FirstPartDegrees1!$H$7","v":"7-1"},{"$f":"FirstPartDegrees1!G45","v":0},{"$f":"IF(ISBLANK(SeconedPartDegrees1!$G$9),\"\",SeconedPartDegrees1!$G$9)","v":""},{"$f":"SeconedPartDegrees1!C45","v":0},{"$f":"IF(ISBLANK(SeconedPartDegrees1!$C$9),\"\",SeconedPartDegrees1!$C$9)","v":""},null,null,0,{"$f":"FirstPartDegrees1!I45","v":0},{"$f":"IF(ISBLANK(FirstPartDegrees1!$I$9),\"\",FirstPartDegrees1!$I$9)","v":""},{"$f":"FirstPartDegrees1!M45","v":0},{"$f":"IF(ISBLANK(FirstPartDegrees1!$M$9),\"\",FirstPartDegrees1!$M$9)","v":""},null,null,0,{"$f":"FirstPartDegrees1!E45","v":0},{"$f":"IF(ISBLANK(FirstPartDegrees1!$E$9),\"\",FirstPartDegrees1!$E$9)","v":""},{"$f":"SeconedPartDegrees1!F45","v":0},{"$f":"IF(ISBLANK(SeconedPartDegrees1!$E$9),\"\",SeconedPartDegrees1!$E$9)","v":""},null,null,0,{"$f":"FirstPartDegrees1!J45","v":0},{"$f":"IF(ISBLANK(FirstPartDegrees1!$I$9),\"\",FirstPartDegrees1!$I$9)","v":""},{"$f":"FirstPartDegrees1!L45","v":0},{"$f":"IF(ISBLANK(FirstPartDegrees1!$K$9),\"\",FirstPartDegrees1!$K$9)","v":""},null,null,0,0,{"$f":"SeconedPartDegrees1!G45","v":0},{"$f":"IF(ISBLANK(SeconedPartDegrees1!$G$9),\"\",SeconedPartDegrees1!$G$9)","v":""},{"$f":"SeconedPartDegrees1!M45","v":0},{"$f":"IF(ISBLANK(SeconedPartDegrees1!$L$9),\"\",SeconedPartDegrees1!$L$9)","v":""},null,null,0,{"$f":"FirstPartDegrees1!C45","v":0},{"$f":"IF(ISBLANK(FirstPartDegrees1!$C$9),\"\",FirstPartDegrees1!$C$9)","v":""},{"$f":"FirstPartDegrees1!F45","v":0},{"$f":"IF(ISBLANK(FirstPartDegrees1!$E$9),\"\",FirstPartDegrees1!$E$9)","v":""},null,null,0,{"$f":"FirstPartDegrees1!D45","v":0},{"$f":"IF(ISBLANK(FirstPartDegrees1!$C$9),\"\",FirstPartDegrees1!$C$9)","v":""},{"$f":"SeconedPartDegrees1!N45","v":0},{"$f":"IF(ISBLANK(SeconedPartDegrees1!$N$9),\"\",SeconedPartDegrees1!$N$9)","v":""},null,null,0,{"$f":"SeconedPartDegrees1!I45","v":0},{"$f":"IF(ISBLANK(SeconedPartDegrees1!$I$9),\"\",SeconedPartDegrees1!$I$9)","v":""},{"$f":"SeconedPartDegrees1!L45","v":0},{"$f":"IF(ISBLANK(SeconedPartDegrees1!$L$9),\"\",SeconedPartDegrees1!$L$9)","v":""},null,null,0,0,{"$f":"FirstPartDegrees1!H45","v":0},{"$f":"IF(ISBLANK(FirstPartDegrees1!$G$9),\"\",FirstPartDegrees1!$G$9)","v":""},{"$f":"SeconedPartDegrees1!O45","v":0},{"$f":"IF(ISBLANK(SeconedPartDegrees1!$N$9),\"\",SeconedPartDegrees1!$N$9)","v":""},null,null,0,{"$f":"FirstPartDegrees1!K45","v":0},{"$f":"IF(ISBLANK(FirstPartDegrees1!$K$9),\"\",FirstPartDegrees1!$K$9)","v":""},{"$f":"SeconedPartDegrees1!H45","v":0},{"$f":"IF(ISBLANK(SeconedPartDegrees1!$G$9),\"\",SeconedPartDegrees1!$G$9)","v":""},null,null,0,{"$f":"SeconedPartDegrees1!E45","v":0},{"$f":"IF(ISBLANK(SeconedPartDegrees1!$E$9),\"\",SeconedPartDegrees1!$E$9)","v":""},{"$f":"SeconedPartDegrees1!J45","v":0},{"$f":"IF(ISBLANK(SeconedPartDegrees1!$I$9),\"\",SeconedPartDegrees1!$I$9)","v":""},null,null,0,{"$f":"FirstPartDegrees1!N45","v":0},{"$f":"IF(ISBLANK(FirstPartDegrees1!$M$9),\"\",FirstPartDegrees1!$M$9)","v":""},{"$f":"SeconedPartDegrees1!K45","v":0},{"$f":"IF(ISBLANK(SeconedPartDegrees1!$I$9),\"\",SeconedPartDegrees1!$I$9)","v":""},null,null,0,0,0,{"$f":"SeconedPartDegrees1!Q45","v":""},"17-7"]
[{"$f":"SeconedPartDegrees1!A47","v":18},{"$f":"FirstPartDegrees1!B47","v":""},{"$f":"FirstPartDegrees1!$H$7","v":"7-1"},{"$f":"FirstPartDegrees1!G47","v":0},{"$f":"IF(ISBLANK(SeconedPartDegrees1!$G$9),\"\",SeconedPartDegrees1!$G$9)","v":""},{"$f":"SeconedPartDegrees1!C47","v":0},{"$f":"IF(ISBLANK(SeconedPartDegrees1!$C$9),\"\",SeconedPartDegrees1!$C$9)","v":""},null,null,0,{"$f":"FirstPartDegrees1!I47","v":0},{"$f":"IF(ISBLANK(FirstPartDegrees1!$I$9),\"\",FirstPartDegrees1!$I$9)","v":""},{"$f":"FirstPartDegrees1!M47","v":0},{"$f":"IF(ISBLANK(FirstPartDegrees1!$M$9),\"\",FirstPartDegrees1!$M$9)","v":""},null,null,0,{"$f":"FirstPartDegrees1!E47","v":0},{"$f":"IF(ISBLANK(FirstPartDegrees1!$E$9),\"\",FirstPartDegrees1!$E$9)","v":""},{"$f":"SeconedPartDegrees1!F47","v":0},{"$f":"IF(ISBLANK(SeconedPartDegrees1!$E$9),\"\",SeconedPartDegrees1!$E$9)","v":""},null,null,0,{"$f":"FirstPartDegrees1!J47","v":0},{"$f":"IF(ISBLANK(FirstPartDegrees1!$I$9),\"\",FirstPartDegrees1!$I$9)","v":""},{"$f":"FirstPartDegrees1!L47","v":0},{"$f":"IF(ISBLANK(FirstPartDegrees1!$K$9),\"\",FirstPartDegrees1!$K$9)","v":""},null,null,0,0,{"$f":"SeconedPartDegrees1!G47","v":0},{"$f":"IF(ISBLANK(SeconedPartDegrees1!$G$9),\"\",SeconedPartDegrees1!$G$9)","v":""},{"$f":"SeconedPartDegrees1!M47","v":0},{"$f":"IF(ISBLANK(SeconedPartDegrees1!$L$9),\"\",SeconedPartDegrees1!$L$9)","v":""},null,null,0,{"$f":"FirstPartDegrees1!C47","v":0},{"$f":"IF(ISBLANK(FirstPartDegrees1!$C$9),\"\",FirstPartDegrees1!$C$9)","v":""},{"$f":"FirstPartDegrees1!F47","v":0},{"$f":"IF(ISBLANK(FirstPartDegrees1!$E$9),\"\",FirstPartDegrees1!$E$9)","v":""},null,null,0,{"$f":"FirstPartDegrees1!D47","v":0},{"$f":"IF(ISBLANK(FirstPartDegrees1!$C$9),\"\",FirstPartDegrees1!$C$9)","v":""},{"$f":"SeconedPartDegrees1!N47","v":0},{"$f":"IF(ISBLANK(SeconedPartDegrees1!$N$9),\"\",SeconedPartDegrees1!$N$9)","v":""},null,null,0,{"$f":"SeconedPartDegrees1!I47","v":0},{"$f":"IF(ISBLANK(SeconedPartDegrees1!$I$9),\"\",SeconedPartDegrees1!$I$9)","v":""},{"$f":"SeconedPartDegrees1!L47","v":0},{"$f":"IF(ISBLANK(SeconedPartDegrees1!$L$9),\"\",SeconedPartDegrees1!$L$9)","v":""},null,null,0,0,{"$f":"FirstPartDegrees1!H47","v":0},{"$f":"IF(ISBLANK(FirstPartDegrees1!$G$9),\"\",FirstPartDegrees1!$G$9)","v":""},{"$f":"SeconedPartDegrees1!O47","v":0},{"$f":"IF(ISBLANK(SeconedPartDegrees1!$N$9),\"\",SeconedPartDegrees1!$N$9)","v":""},null,null,0,{"$f":"FirstPartDegrees1!K47","v":0},{"$f":"IF(ISBLANK(FirstPartDegrees1!$K$9),\"\",FirstPartDegrees1!$K$9)","v":""},{"$f":"SeconedPartDegrees1!H47","v":0},{"$f":"IF(ISBLANK(SeconedPartDegrees1!$G$9),\"\",SeconedPartDegrees1!$G$9)","v":""},null,null,0,{"$f":"SeconedPartDegrees1!E47","v":0},{"$f":"IF(ISBLANK(SeconedPartDegrees1!$E$9),\"\",SeconedPartDegrees1!$E$9)","v":""},{"$f":"SeconedPartDegrees1!J47","v":0},{"$f":"IF(ISBLANK(SeconedPartDegrees1!$I$9),\"\",SeconedPartDegrees1!$I$9)","v":""},null,null,0,{"$f":"FirstPartDegrees1!N47","v":0},{"$f":"IF(ISBLANK(FirstPartDegrees1!$M$9),\"\",FirstPartDegrees1!$M$9)","v":""},{"$f":"SeconedPartDegrees1!K47","v":0},{"$f":"IF(ISBLANK(SeconedPartDegrees1!$I$9),\"\",SeconedPartDegrees1!$I$9)","v":""},null,null,0,0,0,{"$f":"SeconedPartDegrees1!Q47","v":""},"18-7"]
[{"$f":"SeconedPartDegrees1!A49","v":19},{"$f":"FirstPartDegrees1!B49","v":""},{"$f":"FirstPartDegrees1!$H$7","v":"7-1"},{"$f":"FirstPartDegrees1!G49","v":0},{"$f":"IF(ISBLANK(SeconedPartDegrees1!$G$9),\"\",SeconedPartDegrees1!$G$9)","v":""},{"$f":"SeconedPartDegrees1!C49","v":0},{"$f":"IF(ISBLANK(SeconedPartDegrees1!$C$9),\"\",SeconedPartDegrees1!$C$9)","v":""},null,null,0,{"$f":"FirstPartDegrees1!I49","v":0},{"$f":"IF(ISBLANK(FirstPartDegrees1!$I$9),\"\",FirstPartDegrees1!$I$9)","v":""},{"$f":"FirstPartDegrees1!M49","v":0},{"$f":"IF(ISBLANK(FirstPartDegrees1!$M$9),\"\",FirstPartDegrees1!$M$9)","v":""},null,null,0,{"$f":"FirstPartDegrees1!E49","v":0},{"$f":"IF(ISBLANK(FirstPartDegrees1!$E$9),\"\",FirstPartDegrees1!$E$9)","v":""},{"$f":"SeconedPartDegrees1!F49","v":0},{"$f":"IF(ISBLANK(SeconedPartDegrees1!$E$9),\"\",SeconedPartDegrees1!$E$9)","v":""},null,null,0,{"$f":"FirstPartDegrees1!J49","v":0},{"$f":"IF(ISBLANK(FirstPartDegrees1!$I$9),\"\",FirstPartDegrees1!$I$9)","v":""},{"$f":"FirstPartDegrees1!L49","v":0},{"$f":"IF(ISBLANK(FirstPartDegrees1!$K$9),\"\",FirstPartDegrees1!$K$9)","v":""},null,null,0,0,{"$f":"SeconedPartDegrees1!G49","v":0},{"$f":"IF(ISBLANK(SeconedPartDegrees1!$G$9),\"\",SeconedPartDegrees1!$G$9)","v":""},{"$f":"SeconedPartDegrees1!M49","v":0},{"$f":"IF(ISBLANK(SeconedPartDegrees1!$L$9),\"\",SeconedPartDegrees1!$L$9)","v":""},null,null,0,{"$f":"FirstPartDegrees1!C49","v":0},{"$f":"IF(ISBLANK(FirstPartDegrees1!$C$9),\"\",FirstPartDegrees1!$C$9)","v":""},{"$f":"FirstPartDegrees1!F49","v":0},{"$f":"IF(ISBLANK(FirstPartDegrees1!$E$9),\"\",FirstPartDegrees1!$E$9)","v":""},null,null,0,{"$f":"FirstPartDegrees1!D49","v":0},{"$f":"IF(ISBLANK(FirstPartDegrees1!$C$9),\"\",FirstPartDegrees1!$C$9)","v":""},{"$f":"SeconedPartDegrees1!N49","v":0},{"$f":"IF(ISBLANK(SeconedPartDegrees1!$N$9),\"\",SeconedPartDegrees1!$N$9)","v":""},null,null,0,{"$f":"SeconedPartDegrees1!I49","v":0},{"$f":"IF(ISBLANK(SeconedPartDegrees1!$I$9),\"\",SeconedPartDegrees1!$I$9)","v":""},{"$f":"SeconedPartDegrees1!L49","v":0},{"$f":"IF(ISBLANK(SeconedPartDegrees1!$L$9),\"\",SeconedPartDegrees1!$L$9)","v":""},null,null,0,0,{"$f":"FirstPartDegrees1!H49","v":0},{"$f":"IF(ISBLANK(FirstPartDegrees1!$G$9),\"\",FirstPartDegrees1!$G$9)","v":""},{"$f":"SeconedPartDegrees1!O49","v":0},{"$f":"IF(ISBLANK(SeconedPartDegrees1!$N$9),\"\",SeconedPartDegrees1!$N$9)","v":""},null,null,0,{"$f":"FirstPartDegrees1!K49","v":0},{"$f":"IF(ISBLANK(FirstPartDegrees1!$K$9),\"\",FirstPartDegrees1!$K$9)","v":""},{"$f":"SeconedPartDegrees1!H49","v":0},{"$f":"IF(ISBLANK(SeconedPartDegrees1!$G$9),\"\",SeconedPartDegrees1!$G$9)","v":""},null,null,0,{"$f":"SeconedPartDegrees1!E49","v":0},{"$f":"IF(ISBLANK(SeconedPartDegrees1!$E$9),\"\",SeconedPartDegrees1!$E$9)","v":""},{"$f":"SeconedPartDegrees1!J49","v":0},{"$f":"IF(ISBLANK(SeconedPartDegrees1!$I$9),\"\",SeconedPartDegrees1!$I$9)","v":""},null,null,0,{"$f":"FirstPartDegrees1!N49","v":0},{"$f":"IF(ISBLANK(FirstPartDegrees1!$M$9),\"\",FirstPartDegrees1!$M$9)","v":""},{"$f":"SeconedPartDegrees1!K49","v":0},{"$f":"IF(ISBLANK(SeconedPartDegrees1!$I$9),\"\",SeconedPartDegrees1!$I$9)","v":""},null,null,0,0,0,{"$f":"SeconedPartDegrees1!Q49","v":""},"19-7"]
[{"$f":"SeconedPartDegrees1!A51","v":20},{"$f":"FirstPartDegrees1!B51","v":""},{"$f":"FirstPartDegrees1!$H$7","v":"7-1"},{"$f":"FirstPartDegrees1!G51","v":0},{"$f":"IF(ISBLANK(SeconedPartDegrees1!$G$9),\"\",SeconedPartDegrees1!$G$9)","v":""},{"$f":"SeconedPartDegrees1!C51","v":0},{"$f":"IF(ISBLANK(SeconedPartDegrees1!$C$9),\"\",SeconedPartDegrees1!$C$9)","v":""},null,null,0,{"$f":"FirstPartDegrees1!I51","v":0},{"$f":"IF(ISBLANK(FirstPartDegrees1!$I$9),\"\",FirstPartDegrees1!$I$9)","v":""},{"$f":"FirstPartDegrees1!M51","v":0},{"$f":"IF(ISBLANK(FirstPartDegrees1!$M$9),\"\",FirstPartDegrees1!$M$9)","v":""},null,null,0,{"$f":"FirstPartDegrees1!E51","v":0},{"$f":"IF(ISBLANK(FirstPartDegrees1!$E$9),\"\",FirstPartDegrees1!$E$9)","v":""},{"$f":"SeconedPartDegrees1!F51","v":0},{"$f":"IF(ISBLANK(SeconedPartDegrees1!$E$9),\"\",SeconedPartDegrees1!$E$9)","v":""},null,null,0,{"$f":"FirstPartDegrees1!J51","v":0},{"$f":"IF(ISBLANK(FirstPartDegrees1!$I$9),\"\",FirstPartDegrees1!$I$9)","v":""},{"$f":"FirstPartDegrees1!L51","v":0},{"$f":"IF(ISBLANK(FirstPartDegrees1!$K$9),\"\",FirstPartDegrees1!$K$9)","v":""},null,null,0,0,{"$f":"SeconedPartDegrees1!G51","v":0},{"$f":"IF(ISBLANK(SeconedPartDegrees1!$G$9),\"\",SeconedPartDegrees1!$G$9)","v":""},{"$f":"SeconedPartDegrees1!M51","v":0},{"$f":"IF(ISBLANK(SeconedPartDegrees1!$L$9),\"\",SeconedPartDegrees1!$L$9)","v":""},null,null,0,{"$f":"FirstPartDegrees1!C51","v":0},{"$f":"IF(ISBLANK(FirstPartDegrees1!$C$9),\"\",FirstPartDegrees1!$C$9)","v":""},{"$f":"FirstPartDegrees1!F51","v":0},{"$f":"IF(ISBLANK(FirstPartDegrees1!$E$9),\"\",FirstPartDegrees1!$E$9)","v":""},null,null,0,{"$f":"FirstPartDegrees1!D51","v":0},{"$f":"IF(ISBLANK(FirstPartDegrees1!$C$9),\"\",FirstPartDegrees1!$C$9)","v":""},{"$f":"SeconedPartDegrees1!N51","v":0},{"$f":"IF(ISBLANK(SeconedPartDegrees1!$N$9),\"\",SeconedPartDegrees1!$N$9)","v":""},null,null,0,{"$f":"SeconedPartDegrees1!I51","v":0},{"$f":"IF(ISBLANK(SeconedPartDegrees1!$I$9),\"\",SeconedPartDegrees1!$I$9)","v":""},{"$f":"SeconedPartDegrees1!L51","v":0},{"$f":"IF(ISBLANK(SeconedPartDegrees1!$L$9),\"\",SeconedPartDegrees1!$L$9)","v":""},null,null,0,0,{"$f":"FirstPartDegrees1!H51","v":0},{"$f":"IF(ISBLANK(FirstPartDegrees1!$G$9),\"\",FirstPartDegrees1!$G$9)","v":""},{"$f":"SeconedPartDegrees1!O51","v":0},{"$f":"IF(ISBLANK(SeconedPartDegrees1!$N$9),\"\",SeconedPartDegrees1!$N$9)","v":""},null,null,0,{"$f":"FirstPartDegrees1!K51","v":0},{"$f":"IF(ISBLANK(FirstPartDegrees1!$K$9),\"\",FirstPartDegrees1!$K$9)","v":""},{"$f":"SeconedPartDegrees1!H51","v":0},{"$f":"IF(ISBLANK(SeconedPartDegrees1!$G$9),\"\",SeconedPartDegrees1!$G$9)","v":""},null,null,0,{"$f":"SeconedPartDegrees1!E51","v":0},{"$f":"IF(ISBLANK(SeconedPartDegrees1!$E$9),\"\",SeconedPartDegrees1!$E$9)","v":""},{"$f":"SeconedPartDegrees1!J51","v":0},{"$f":"IF(ISBLANK(SeconedPartDegrees1!$I$9),\"\",SeconedPartDegrees1!$I$9)","v":""},null,null,0,{"$f":"FirstPartDegrees1!N51","v":0},{"$f":"IF(ISBLANK(FirstPartDegrees1!$M$9),\"\",FirstPartDegrees1!$M$9)","v":""},{"$f":"SeconedPartDegrees1!K51","v":0},{"$f":"IF(ISBLANK(SeconedPartDegrees1!$I$9),\"\",SeconedPartDegrees1!$I$9)","v":""},null,null,0,0,0,{"$f":"SeconedPartDegrees1!Q51","v":""},"20-7"]
[{"$f":"SeconedPartDegrees1!A53","v":21},{"$f":"FirstPartDegrees1!B53","v":""},{"$f":"FirstPartDegrees1!$H$7","v":"7-1"},{"$f":"FirstPartDegrees1!G53","v":0},{"$f":"IF(ISBLANK(SeconedPartDegrees1!$G$9),\"\",SeconedPartDegrees1!$G$9)","v":""},{"$f":"SeconedPartDegrees1!C53","v":0},{"$f":"IF(ISBLANK(SeconedPartDegrees1!$C$9),\"\",SeconedPartDegrees1!$C$9)","v":""},null,null,0,{"$f":"FirstPartDegrees1!I53","v":0},{"$f":"IF(ISBLANK(FirstPartDegrees1!$I$9),\"\",FirstPartDegrees1!$I$9)","v":""},{"$f":"FirstPartDegrees1!M53","v":0},{"$f":"IF(ISBLANK(FirstPartDegrees1!$M$9),\"\",FirstPartDegrees1!$M$9)","v":""},null,null,0,{"$f":"FirstPartDegrees1!E53","v":0},{"$f":"IF(ISBLANK(FirstPartDegrees1!$E$9),\"\",FirstPartDegrees1!$E$9)","v":""},{"$f":"SeconedPartDegrees1!F53","v":0},{"$f":"IF(ISBLANK(SeconedPartDegrees1!$E$9),\"\",SeconedPartDegrees1!$E$9)","v":""},null,null,0,{"$f":"FirstPartDegrees1!J53","v":0},{"$f":"IF(ISBLANK(FirstPartDegrees1!$I$9),\"\",FirstPartDegrees1!$I$9)","v":""},{"$f":"FirstPartDegrees1!L53","v":0},{"$f":"IF(ISBLANK(FirstPartDegrees1!$K$9),\"\",FirstPartDegrees1!$K$9)","v":""},null,null,0,0,{"$f":"SeconedPartDegrees1!G53","v":0},{"$f":"IF(ISBLANK(SeconedPartDegrees1!$G$9),\"\",SeconedPartDegrees1!$G$9)","v":""},{"$f":"SeconedPartDegrees1!M53","v":0},{"$f":"IF(ISBLANK(SeconedPartDegrees1!$L$9),\"\",SeconedPartDegrees1!$L$9)","v":""},null,null,0,{"$f":"FirstPartDegrees1!C53","v":0},{"$f":"IF(ISBLANK(FirstPartDegrees1!$C$9),\"\",FirstPartDegrees1!$C$9)","v":""},{"$f":"FirstPartDegrees1!F53","v":0},{"$f":"IF(ISBLANK(FirstPartDegrees1!$E$9),\"\",FirstPartDegrees1!$E$9)","v":""},null,null,0,{"$f":"FirstPartDegrees1!D53","v":0},{"$f":"IF(ISBLANK(FirstPartDegrees1!$C$9),\"\",FirstPartDegrees1!$C$9)","v":""},{"$f":"SeconedPartDegrees1!N53","v":0},{"$f":"IF(ISBLANK(SeconedPartDegrees1!$N$9),\"\",SeconedPartDegrees1!$N$9)","v":""},null,null,0,{"$f":"SeconedPartDegrees1!I53","v":0},{"$f":"IF(ISBLANK(SeconedPartDegrees1!$I$9),\"\",SeconedPartDegrees1!$I$9)","v":""},{"$f":"SeconedPartDegrees1!L53","v":0},{"$f":"IF(ISBLANK(SeconedPartDegrees1!$L$9),\"\",SeconedPartDegrees1!$L$9)","v":""},null,null,0,0,{"$f":"FirstPartDegrees1!H53","v":0},{"$f":"IF(ISBLANK(FirstPartDegrees1!$G$9),\"\",FirstPartDegrees1!$G$9)","v":""},{"$f":"SeconedPartDegrees1!O53","v":0},{"$f":"IF(ISBLANK(SeconedPartDegrees1!$N$9),\"\",SeconedPartDegrees1!$N$9)","v":""},null,null,0,{"$f":"FirstPartDegrees1!K53","v":0},{"$f":"IF(ISBLANK(FirstPartDegrees1!$K$9),\"\",FirstPartDegrees1!$K$9)","v":""},{"$f":"SeconedPartDegrees1!H53","v":0},{"$f":"IF(ISBLANK(SeconedPartDegrees1!$G$9),\"\",SeconedPartDegrees1!$G$9)","v":""},null,null,0,{"$f":"SeconedPartDegrees1!E53","v":0},{"$f":"IF(ISBLANK(SeconedPartDegrees1!$E$9),\"\",SeconedPartDegrees1!$E$9)","v":""},{"$f":"SeconedPartDegrees1!J53","v":0},{"$f":"IF(ISBLANK(SeconedPartDegrees1!$I$9),\"\",SeconedPartDegrees1!$I$9)","v":""},null,null,0,{"$f":"FirstPartDegrees1!N53","v":0},{"$f":"IF(ISBLANK(FirstPartDegrees1!$M$9),\"\",FirstPartDegrees1!$M$9)","v":""},{"$f":"SeconedPartDegrees1!K53","v":0},{"$f":"IF(ISBLANK(SeconedPartDegrees1!$I$9),\"\",SeconedPartDegrees1!$I$9)","v":""},null,null,0,0,0,{"$f":"SeconedPartDegrees1!Q53","v":""},"21-7"]
[{"$f":"SeconedPartDegrees1!A55","v":22},{"$f":"FirstPartDegrees1!B55","v":""},{"$f":"FirstPartDegrees1!$H$7","v":"7-1"},{"$f":"FirstPartDegrees1!G55","v":0},{"$f":"IF(ISBLANK(SeconedPartDegrees1!$G$9),\"\",SeconedPartDegrees1!$G$9)","v":""},{"$f":"SeconedPartDegrees1!C55","v":0},{"$f":"IF(ISBLANK(SeconedPartDegrees1!$C$9),\"\",SeconedPartDegrees1!$C$9)","v":""},null,null,0,{"$f":"FirstPartDegrees1!I55","v":0},{"$f":"IF(ISBLANK(FirstPartDegrees1!$I$9),\"\",FirstPartDegrees1!$I$9)","v":""},{"$f":"FirstPartDegrees1!M55","v":0},{"$f":"IF(ISBLANK(FirstPartDegrees1!$M$9),\"\",FirstPartDegrees1!$M$9)","v":""},null,null,0,{"$f":"FirstPartDegrees1!E55","v":0},{"$f":"IF(ISBLANK(FirstPartDegrees1!$E$9),\"\",FirstPartDegrees1!$E$9)","v":""},{"$f":"SeconedPartDegrees1!F55","v":0},{"$f":"IF(ISBLANK(SeconedPartDegrees1!$E$9),\"\",SeconedPartDegrees1!$E$9)","v":""},null,null,0,{"$f":"FirstPartDegrees1!J55","v":0},{"$f":"IF(ISBLANK(FirstPartDegrees1!$I$9),\"\",FirstPartDegrees1!$I$9)","v":""},{"$f":"FirstPartDegrees1!L55","v":0},{"$f":"IF(ISBLANK(FirstPartDegrees1!$K$9),\"\",FirstPartDegrees1!$K$9)","v":""},null,null,0,0,{"$f":"SeconedPartDegrees1!G55","v":0},{"$f":"IF(ISBLANK(SeconedPartDegrees1!$G$9),\"\",SeconedPartDegrees1!$G$9)","v":""},{"$f":"SeconedPartDegrees1!M55","v":0},{"$f":"IF(ISBLANK(SeconedPartDegrees1!$L$9),\"\",SeconedPartDegrees1!$L$9)","v":""},null,null,0,{"$f":"FirstPartDegrees1!C55","v":0},{"$f":"IF(ISBLANK(FirstPartDegrees1!$C$9),\"\",FirstPartDegrees1!$C$9)","v":""},{"$f":"FirstPartDegrees1!F55","v":0},{"$f":"IF(ISBLANK(FirstPartDegrees1!$E$9),\"\",FirstPartDegrees1!$E$9)","v":""},null,null,0,{"$f":"FirstPartDegrees1!D55","v":0},{"$f":"IF(ISBLANK(FirstPartDegrees1!$C$9),\"\",FirstPartDegrees1!$C$9)","v":""},{"$f":"SeconedPartDegrees1!N55","v":0},{"$f":"IF(ISBLANK(SeconedPartDegrees1!$N$9),\"\",SeconedPartDegrees1!$N$9)","v":""},null,null,0,{"$f":"SeconedPartDegrees1!I55","v":0},{"$f":"IF(ISBLANK(SeconedPartDegrees1!$I$9),\"\",SeconedPartDegrees1!$I$9)","v":""},{"$f":"SeconedPartDegrees1!L55","v":0},{"$f":"IF(ISBLANK(SeconedPartDegrees1!$L$9),\"\",SeconedPartDegrees1!$L$9)","v":""},null,null,0,0,{"$f":"FirstPartDegrees1!H55","v":0},{"$f":"IF(ISBLANK(FirstPartDegrees1!$G$9),\"\",FirstPartDegrees1!$G$9)","v":""},{"$f":"SeconedPartDegrees1!O55","v":0},{"$f":"IF(ISBLANK(SeconedPartDegrees1!$N$9),\"\",SeconedPartDegrees1!$N$9)","v":""},null,null,0,{"$f":"FirstPartDegrees1!K55","v":0},{"$f":"IF(ISBLANK(FirstPartDegrees1!$K$9),\"\",FirstPartDegrees1!$K$9)","v":""},{"$f":"SeconedPartDegrees1!H55","v":0},{"$f":"IF(ISBLANK(SeconedPartDegrees1!$G$9),\"\",SeconedPartDegrees1!$G$9)","v":""},null,null,0,{"$f":"SeconedPartDegrees1!E55","v":0},{"$f":"IF(ISBLANK(SeconedPartDegrees1!$E$9),\"\",SeconedPartDegrees1!$E$9)","v":""},{"$f":"SeconedPartDegrees1!J55","v":0},{"$f":"IF(ISBLANK(SeconedPartDegrees1!$I$9),\"\",SeconedPartDegrees1!$I$9)","v":""},null,null,0,{"$f":"FirstPartDegrees1!N55","v":0},{"$f":"IF(ISBLANK(FirstPartDegrees1!$M$9),\"\",FirstPartDegrees1!$M$9)","v":""},{"$f":"SeconedPartDegrees1!K55","v":0},{"$f":"IF(ISBLANK(SeconedPartDegrees1!$I$9),\"\",SeconedPartDegrees1!$I$9)","v":""},null,null,0,0,0,{"$f":"SeconedPartDegrees1!Q55","v":""},"22-7"]
[{"$f":"SeconedPartDegrees1!A57","v":23},{"$f":"FirstPartDegrees1!B57","v":""},{"$f":"FirstPartDegrees1!$H$7","v":"7-1"},{"$f":"FirstPartDegrees1!G57","v":0},{"$f":"IF(ISBLANK(SeconedPartDegrees1!$G$9),\"\",SeconedPartDegrees1!$G$9)","v":""},{"$f":"SeconedPartDegrees1!C57","v":0},{"$f":"IF(ISBLANK(SeconedPartDegrees1!$C$9),\"\",SeconedPartDegrees1!$C$9)","v":""},null,null,0,{"$f":"FirstPartDegrees1!I57","v":0},{"$f":"IF(ISBLANK(FirstPartDegrees1!$I$9),\"\",FirstPartDegrees1!$I$9)","v":""},{"$f":"FirstPartDegrees1!M57","v":0},{"$f":"IF(ISBLANK(FirstPartDegrees1!$M$9),\"\",FirstPartDegrees1!$M$9)","v":""},null,null,0,{"$f":"FirstPartDegrees1!E57","v":0},{"$f":"IF(ISBLANK(FirstPartDegrees1!$E$9),\"\",FirstPartDegrees1!$E$9)","v":""},{"$f":"SeconedPartDegrees1!F57","v":0},{"$f":"IF(ISBLANK(SeconedPartDegrees1!$E$9),\"\",SeconedPartDegrees1!$E$9)","v":""},null,null,0,{"$f":"FirstPartDegrees1!J57","v":0},{"$f":"IF(ISBLANK(FirstPartDegrees1!$I$9),\"\",FirstPartDegrees1!$I$9)","v":""},{"$f":"FirstPartDegrees1!L57","v":0},{"$f":"IF(ISBLANK(FirstPartDegrees1!$K$9),\"\",FirstPartDegrees1!$K$9)","v":""},null,null,0,0,{"$f":"SeconedPartDegrees1!G57","v":0},{"$f":"IF(ISBLANK(SeconedPartDegrees1!$G$9),\"\",SeconedPartDegrees1!$G$9)","v":""},{"$f":"SeconedPartDegrees1!M57","v":0},{"$f":"IF(ISBLANK(SeconedPartDegrees1!$L$9),\"\",SeconedPartDegrees1!$L$9)","v":""},null,null,0,{"$f":"FirstPartDegrees1!C57","v":0},{"$f":"IF(ISBLANK(FirstPartDegrees1!$C$9),\"\",FirstPartDegrees1!$C$9)","v":""},{"$f":"FirstPartDegrees1!F57","v":0},{"$f":"IF(ISBLANK(FirstPartDegrees1!$E$9),\"\",FirstPartDegrees1!$E$9)","v":""},null,null,0,{"$f":"FirstPartDegrees1!D57","v":0},{"$f":"IF(ISBLANK(FirstPartDegrees1!$C$9),\"\",FirstPartDegrees1!$C$9)","v":""},{"$f":"SeconedPartDegrees1!N57","v":0},{"$f":"IF(ISBLANK(SeconedPartDegrees1!$N$9),\"\",SeconedPartDegrees1!$N$9)","v":""},null,null,0,{"$f":"SeconedPartDegrees1!I57","v":0},{"$f":"IF(ISBLANK(SeconedPartDegrees1!$I$9),\"\",SeconedPartDegrees1!$I$9)","v":""},{"$f":"SeconedPartDegrees1!L57","v":0},{"$f":"IF(ISBLANK(SeconedPartDegrees1!$L$9),\"\",SeconedPartDegrees1!$L$9)","v":""},null,null,0,0,{"$f":"FirstPartDegrees1!H57","v":0},{"$f":"IF(ISBLANK(FirstPartDegrees1!$G$9),\"\",FirstPartDegrees1!$G$9)","v":""},{"$f":"SeconedPartDegrees1!O57","v":0},{"$f":"IF(ISBLANK(SeconedPartDegrees1!$N$9),\"\",SeconedPartDegrees1!$N$9)","v":""},null,null,0,{"$f":"FirstPartDegrees1!K57","v":0},{"$f":"IF(ISBLANK(FirstPartDegrees1!$K$9),\"\",FirstPartDegrees1!$K$9)","v":""},{"$f":"SeconedPartDegrees1!H57","v":0},{"$f":"IF(ISBLANK(SeconedPartDegrees1!$G$9),\"\",SeconedPartDegrees1!$G$9)","v":""},null,null,0,{"$f":"SeconedPartDegrees1!E57","v":0},{"$f":"IF(ISBLANK(SeconedPartDegrees1!$E$9),\"\",SeconedPartDegrees1!$E$9)","v":""},{"$f":"SeconedPartDegrees1!J57","v":0},{"$f":"IF(ISBLANK(SeconedPartDegrees1!$I$9),\"\",SeconedPartDegrees1!$I$9)","v":""},null,null,0,{"$f":"FirstPartDegrees1!N57","v":0},{"$f":"IF(ISBLANK(FirstPartDegrees1!$M$9),\"\",FirstPartDegrees1!$M$9)","v":""},{"$f":"SeconedPartDegrees1!K57","v":0},{"$f":"IF(ISBLANK(SeconedPartDegrees1!$I$9),\"\",SeconedPartDegrees1!$I$9)","v":""},null,null,0,0,0,{"$f":"SeconedPartDegrees1!Q57","v":""},"23-7"]
[{"$f":"SeconedPartDegrees1!A59","v":24},{"$f":"FirstPartDegrees1!B59","v":""},{"$f":"FirstPartDegrees1!$H$7","v":"7-1"},{"$f":"FirstPartDegrees1!G59","v":0},{"$f":"IF(ISBLANK(SeconedPartDegrees1!$G$9),\"\",SeconedPartDegrees1!$G$9)","v":""},{"$f":"SeconedPartDegrees1!C59","v":0},{"$f":"IF(ISBLANK(SeconedPartDegrees1!$C$9),\"\",SeconedPartDegrees1!$C$9)","v":""},null,null,0,{"$f":"FirstPartDegrees1!I59","v":0},{"$f":"IF(ISBLANK(FirstPartDegrees1!$I$9),\"\",FirstPartDegrees1!$I$9)","v":""},{"$f":"FirstPartDegrees1!M59","v":0},{"$f":"IF(ISBLANK(FirstPartDegrees1!$M$9),\"\",FirstPartDegrees1!$M$9)","v":""},null,null,0,{"$f":"FirstPartDegrees1!E59","v":0},{"$f":"IF(ISBLANK(FirstPartDegrees1!$E$9),\"\",FirstPartDegrees1!$E$9)","v":""},{"$f":"SeconedPartDegrees1!F59","v":0},{"$f":"IF(ISBLANK(SeconedPartDegrees1!$E$9),\"\",SeconedPartDegrees1!$E$9)","v":""},null,null,0,{"$f":"FirstPartDegrees1!J59","v":0},{"$f":"IF(ISBLANK(FirstPartDegrees1!$I$9),\"\",FirstPartDegrees1!$I$9)","v":""},{"$f":"FirstPartDegrees1!L59","v":0},{"$f":"IF(ISBLANK(FirstPartDegrees1!$K$9),\"\",FirstPartDegrees1!$K$9)","v":""},null,null,0,0,{"$f":"SeconedPartDegrees1!G59","v":0},{"$f":"IF(ISBLANK(SeconedPartDegrees1!$G$9),\"\",SeconedPartDegrees1!$G$9)","v":""},{"$f":"SeconedPartDegrees1!M59","v":0},{"$f":"IF(ISBLANK(SeconedPartDegrees1!$L$9),\"\",SeconedPartDegrees1!$L$9)","v":""},null,null,0,{"$f":"FirstPartDegrees1!C59","v":0},{"$f":"IF(ISBLANK(FirstPartDegrees1!$C$9),\"\",FirstPartDegrees1!$C$9)","v":""},{"$f":"FirstPartDegrees1!F59","v":0},{"$f":"IF(ISBLANK(FirstPartDegrees1!$E$9),\"\",FirstPartDegrees1!$E$9)","v":""},null,null,0,{"$f":"FirstPartDegrees1!D59","v":0},{"$f":"IF(ISBLANK(FirstPartDegrees1!$C$9),\"\",FirstPartDegrees1!$C$9)","v":""},{"$f":"SeconedPartDegrees1!N59","v":0},{"$f":"IF(ISBLANK(SeconedPartDegrees1!$N$9),\"\",SeconedPartDegrees1!$N$9)","v":""},null,null,0,{"$f":"SeconedPartDegrees1!I59","v":0},{"$f":"IF(ISBLANK(SeconedPartDegrees1!$I$9),\"\",SeconedPartDegrees1!$I$9)","v":""},{"$f":"SeconedPartDegrees1!L59","v":0},{"$f":"IF(ISBLANK(SeconedPartDegrees1!$L$9),\"\",SeconedPartDegrees1!$L$9)","v":""},null,null,0,0,{"$f":"FirstPartDegrees1!H59","v":0},{"$f":"IF(ISBLANK(FirstPartDegrees1!$G$9),\"\",FirstPartDegrees1!$G$9)","v":""},{"$f":"SeconedPartDegrees1!O59","v":0},{"$f":"IF(ISBLANK(SeconedPartDegrees1!$N$9),\"\",SeconedPartDegrees1!$N$9)","v":""},null,null,0,{"$f":"FirstPartDegrees1!K59","v":0},{"$f":"IF(ISBLANK(FirstPartDegrees1!$K$9),\"\",FirstPartDegrees1!$K$9)","v":""},{"$f":"SeconedPartDegrees1!H59","v":0},{"$f":"IF(ISBLANK(SeconedPartDegrees1!$G$9),\"\",SeconedPartDegrees1!$G$9)","v":""},null,null,0,{"$f":"SeconedPartDegrees1!E59","v":0},{"$f":"IF(ISBLANK(SeconedPartDegrees1!$E$9),\"\",SeconedPartDegrees1!$E$9)","v":""},{"$f":"SeconedPartDegrees1!J59","v":0},{"$f":"IF(ISBLANK(SeconedPartDegrees1!$I$9),\"\",SeconedPartDegrees1!$I$9)","v":""},null,null,0,{"$f":"FirstPartDegrees1!N59","v":0},{"$f":"IF(ISBLANK(FirstPartDegrees1!$M$9),\"\",FirstPartDegrees1!$M$9)","v":""},{"$f":"SeconedPartDegrees1!K59","v":0},{"$f":"IF(ISBLANK(SeconedPartDegrees1!$I$9),\"\",SeconedPartDegrees1!$I$9)","v":""},null,null,0,0,0,{"$f":"SeconedPartDegrees1!Q59","v":""},"24-7"]
[{"$f":"SeconedPartDegrees1!A61","v":25},{"$f":"FirstPartDegrees1!B61","v":""},{"$f":"FirstPartDegrees1!$H$7","v":"7-1"},{"$f":"FirstPartDegrees1!G61","v":0},{"$f":"IF(ISBLANK(SeconedPartDegrees1!$G$9),\"\",SeconedPartDegrees1!$G$9)","v":""},{"$f":"SeconedPartDegrees1!C61","v":0},{"$f":"IF(ISBLANK(SeconedPartDegrees1!$C$9),\"\",SeconedPartDegrees1!$C$9)","v":""},null,null,0,{"$f":"FirstPartDegrees1!I61","v":0},{"$f":"IF(ISBLANK(FirstPartDegrees1!$I$9),\"\",FirstPartDegrees1!$I$9)","v":""},{"$f":"FirstPartDegrees1!M61","v":0},{"$f":"IF(ISBLANK(FirstPartDegrees1!$M$9),\"\",FirstPartDegrees1!$M$9)","v":""},null,null,0,{"$f":"FirstPartDegrees1!E61","v":0},{"$f":"IF(ISBLANK(FirstPartDegrees1!$E$9),\"\",FirstPartDegrees1!$E$9)","v":""},{"$f":"SeconedPartDegrees1!F61","v":0},{"$f":"IF(ISBLANK(SeconedPartDegrees1!$E$9),\"\",SeconedPartDegrees1!$E$9)","v":""},null,null,0,{"$f":"FirstPartDegrees1!J61","v":0},{"$f":"IF(ISBLANK(FirstPartDegrees1!$I$9),\"\",FirstPartDegrees1!$I$9)","v":""},{"$f":"FirstPartDegrees1!L61","v":0},{"$f":"IF(ISBLANK(FirstPartDegrees1!$K$9),\"\",FirstPartDegrees1!$K$9)","v":""},null,null,0,0,{"$f":"SeconedPartDegrees1!G61","v":0},{"$f":"IF(ISBLANK(SeconedPartDegrees1!$G$9),\"\",SeconedPartDegrees1!$G$9)","v":""},{"$f":"SeconedPartDegrees1!M61","v":0},{"$f":"IF(ISBLANK(SeconedPartDegrees1!$L$9),\"\",SeconedPartDegrees1!$L$9)","v":""},null,null,0,{"$f":"FirstPartDegrees1!C61","v":0},{"$f":"IF(ISBLANK(FirstPartDegrees1!$C$9),\"\",FirstPartDegrees1!$C$9)","v":""},{"$f":"FirstPartDegrees1!F61","v":0},{"$f":"IF(ISBLANK(FirstPartDegrees1!$E$9),\"\",FirstPartDegrees1!$E$9)","v":""},null,null,0,{"$f":"FirstPartDegrees1!D61","v":0},{"$f":"IF(ISBLANK(FirstPartDegrees1!$C$9),\"\",FirstPartDegrees1!$C$9)","v":""},{"$f":"SeconedPartDegrees1!N61","v":0},{"$f":"IF(ISBLANK(SeconedPartDegrees1!$N$9),\"\",SeconedPartDegrees1!$N$9)","v":""},null,null,0,{"$f":"SeconedPartDegrees1!I61","v":0},{"$f":"IF(ISBLANK(SeconedPartDegrees1!$I$9),\"\",SeconedPartDegrees1!$I$9)","v":""},{"$f":"SeconedPartDegrees1!L61","v":0},{"$f":"IF(ISBLANK(SeconedPartDegrees1!$L$9),\"\",SeconedPartDegrees1!$L$9)","v":""},null,null,0,0,{"$f":"FirstPartDegrees1!H61","v":0},{"$f":"IF(ISBLANK(FirstPartDegrees1!$G$9),\"\",FirstPartDegrees1!$G$9)","v":""},{"$f":"SeconedPartDegrees1!O61","v":0},{"$f":"IF(ISBLANK(SeconedPartDegrees1!$N$9),\"\",SeconedPartDegrees1!$N$9)","v":""},null,null,0,{"$f":"FirstPartDegrees1!K61","v":0},{"$f":"IF(ISBLANK(FirstPartDegrees1!$K$9),\"\",FirstPartDegrees1!$K$9)","v":""},{"$f":"SeconedPartDegrees1!H61","v":0},{"$f":"IF(ISBLANK(SeconedPartDegrees1!$G$9),\"\",SeconedPartDegrees1!$G$9)","v":""},null,null,0,{"$f":"SeconedPartDegrees1!E61","v":0},{"$f":"IF(ISBLANK(SeconedPartDegrees1!$E$9),\"\",SeconedPartDegrees1!$E$9)","v":""},{"$f":"SeconedPartDegrees1!J61","v":0},{"$f":"IF(ISBLANK(SeconedPartDegrees1!$I$9),\"\",SeconedPartDegrees1!$I$9)","v":""},null,null,0,{"$f":"FirstPartDegrees1!N61","v":0},{"$f":"IF(ISBLANK(FirstPartDegrees1!$M$9),\"\",FirstPartDegrees1!$M$9)","v":""},{"$f":"SeconedPartDegrees1!K61","v":0},{"$f":"IF(ISBLANK(SeconedPartDegrees1!$I$9),\"\",SeconedPartDegrees1!$I$9)","v":""},null,null,0,0,0,{"$f":"SeconedPartDegrees1!Q61","v":""},"25-7"]
[{"$f":"SeconedPartDegrees1!A63","v":26},{"$f":"FirstPartDegrees1!B63","v":""},{"$f":"FirstPartDegrees1!$H$7","v":"7-1"},{"$f":"FirstPartDegrees1!G63","v":0},{"$f":"IF(ISBLANK(SeconedPartDegrees1!$G$9),\"\",SeconedPartDegrees1!$G$9)","v":""},{"$f":"SeconedPartDegrees1!C63","v":0},{"$f":"IF(ISBLANK(SeconedPartDegrees1!$C$9),\"\",SeconedPartDegrees1!$C$9)","v":""},null,null,0,{"$f":"FirstPartDegrees1!I63","v":0},{"$f":"IF(ISBLANK(FirstPartDegrees1!$I$9),\"\",FirstPartDegrees1!$I$9)","v":""},{"$f":"FirstPartDegrees1!M63","v":0},{"$f":"IF(ISBLANK(FirstPartDegrees1!$M$9),\"\",FirstPartDegrees1!$M$9)","v":""},null,null,0,{"$f":"FirstPartDegrees1!E63","v":0},{"$f":"IF(ISBLANK(FirstPartDegrees1!$E$9),\"\",FirstPartDegrees1!$E$9)","v":""},{"$f":"SeconedPartDegrees1!F63","v":0},{"$f":"IF(ISBLANK(SeconedPartDegrees1!$E$9),\"\",SeconedPartDegrees1!$E$9)","v":""},null,null,0,{"$f":"FirstPartDegrees1!J63","v":0},{"$f":"IF(ISBLANK(FirstPartDegrees1!$I$9),\"\",FirstPartDegrees1!$I$9)","v":""},{"$f":"FirstPartDegrees1!L63","v":0},{"$f":"IF(ISBLANK(FirstPartDegrees1!$K$9),\"\",FirstPartDegrees1!$K$9)","v":""},null,null,0,0,{"$f":"SeconedPartDegrees1!G63","v":0},{"$f":"IF(ISBLANK(SeconedPartDegrees1!$G$9),\"\",SeconedPartDegrees1!$G$9)","v":""},{"$f":"SeconedPartDegrees1!M63","v":0},{"$f":"IF(ISBLANK(SeconedPartDegrees1!$L$9),\"\",SeconedPartDegrees1!$L$9)","v":""},null,null,0,{"$f":"FirstPartDegrees1!C63","v":0},{"$f":"IF(ISBLANK(FirstPartDegrees1!$C$9),\"\",FirstPartDegrees1!$C$9)","v":""},{"$f":"FirstPartDegrees1!F63","v":0},{"$f":"IF(ISBLANK(FirstPartDegrees1!$E$9),\"\",FirstPartDegrees1!$E$9)","v":""},null,null,0,{"$f":"FirstPartDegrees1!D63","v":0},{"$f":"IF(ISBLANK(FirstPartDegrees1!$C$9),\"\",FirstPartDegrees1!$C$9)","v":""},{"$f":"SeconedPartDegrees1!N63","v":0},{"$f":"IF(ISBLANK(SeconedPartDegrees1!$N$9),\"\",SeconedPartDegrees1!$N$9)","v":""},null,null,0,{"$f":"SeconedPartDegrees1!I63","v":0},{"$f":"IF(ISBLANK(SeconedPartDegrees1!$I$9),\"\",SeconedPartDegrees1!$I$9)","v":""},{"$f":"SeconedPartDegrees1!L63","v":0},{"$f":"IF(ISBLANK(SeconedPartDegrees1!$L$9),\"\",SeconedPartDegrees1!$L$9)","v":""},null,null,0,0,{"$f":"FirstPartDegrees1!H63","v":0},{"$f":"IF(ISBLANK(FirstPartDegrees1!$G$9),\"\",FirstPartDegrees1!$G$9)","v":""},{"$f":"SeconedPartDegrees1!O63","v":0},{"$f":"IF(ISBLANK(SeconedPartDegrees1!$N$9),\"\",SeconedPartDegrees1!$N$9)","v":""},null,null,0,{"$f":"FirstPartDegrees1!K63","v":0},{"$f":"IF(ISBLANK(FirstPartDegrees1!$K$9),\"\",FirstPartDegrees1!$K$9)","v":""},{"$f":"SeconedPartDegrees1!H63","v":0},{"$f":"IF(ISBLANK(SeconedPartDegrees1!$G$9),\"\",SeconedPartDegrees1!$G$9)","v":""},null,null,0,{"$f":"SeconedPartDegrees1!E63","v":0},{"$f":"IF(ISBLANK(SeconedPartDegrees1!$E$9),\"\",SeconedPartDegrees1!$E$9)","v":""},{"$f":"SeconedPartDegrees1!J63","v":0},{"$f":"IF(ISBLANK(SeconedPartDegrees1!$I$9),\"\",SeconedPartDegrees1!$I$9)","v":""},null,null,0,{"$f":"FirstPartDegrees1!N63","v":0},{"$f":"IF(ISBLANK(FirstPartDegrees1!$M$9),\"\",FirstPartDegrees1!$M$9)","v":""},{"$f":"SeconedPartDegrees1!K63","v":0},{"$f":"IF(ISBLANK(SeconedPartDegrees1!$I$9),\"\",SeconedPartDegrees1!$I$9)","v":""},null,null,0,0,0,{"$f":"SeconedPartDegrees1!Q63","v":""},"26-7"]
[{"$f":"SeconedPartDegrees1!A65","v":27},{"$f":"FirstPartDegrees1!B65","v":""},{"$f":"FirstPartDegrees1!$H$7","v":"7-1"},{"$f":"FirstPartDegrees1!G65","v":0},{"$f":"IF(ISBLANK(SeconedPartDegrees1!$G$9),\"\",SeconedPartDegrees1!$G$9)","v":""},{"$f":"SeconedPartDegrees1!C65","v":0},{"$f":"IF(ISBLANK(SeconedPartDegrees1!$C$9),\"\",SeconedPartDegrees1!$C$9)","v":""},null,null,0,{"$f":"FirstPartDegrees1!I65","v":0},{"$f":"IF(ISBLANK(FirstPartDegrees1!$I$9),\"\",FirstPartDegrees1!$I$9)","v":""},{"$f":"FirstPartDegrees1!M65","v":0},{"$f":"IF(ISBLANK(FirstPartDegrees1!$M$9),\"\",FirstPartDegrees1!$M$9)","v":""},null,null,0,{"$f":"FirstPartDegrees1!E65","v":0},{"$f":"IF(ISBLANK(FirstPartDegrees1!$E$9),\"\",FirstPartDegrees1!$E$9)","v":""},{"$f":"SeconedPartDegrees1!F65","v":0},{"$f":"IF(ISBLANK(SeconedPartDegrees1!$E$9),\"\",SeconedPartDegrees1!$E$9)","v":""},null,null,0,{"$f":"FirstPartDegrees1!J65","v":0},{"$f":"IF(ISBLANK(FirstPartDegrees1!$I$9),\"\",FirstPartDegrees1!$I$9)","v":""},{"$f":"FirstPartDegrees1!L65","v":0},{"$f":"IF(ISBLANK(FirstPartDegrees1!$K$9),\"\",FirstPartDegrees1!$K$9)","v":""},null,null,0,0,{"$f":"SeconedPartDegrees1!G65","v":0},{"$f":"IF(ISBLANK(SeconedPartDegrees1!$G$9),\"\",SeconedPartDegrees1!$G$9)","v":""},{"$f":"SeconedPartDegrees1!M65","v":0},{"$f":"IF(ISBLANK(SeconedPartDegrees1!$L$9),\"\",SeconedPartDegrees1!$L$9)","v":""},null,null,0,{"$f":"FirstPartDegrees1!C65","v":0},{"$f":"IF(ISBLANK(FirstPartDegrees1!$C$9),\"\",FirstPartDegrees1!$C$9)","v":""},{"$f":"FirstPartDegrees1!F65","v":0},{"$f":"IF(ISBLANK(FirstPartDegrees1!$E$9),\"\",FirstPartDegrees1!$E$9)","v":""},null,null,0,{"$f":"FirstPartDegrees1!D65","v":0},{"$f":"IF(ISBLANK(FirstPartDegrees1!$C$9),\"\",FirstPartDegrees1!$C$9)","v":""},{"$f":"SeconedPartDegrees1!N65","v":0},{"$f":"IF(ISBLANK(SeconedPartDegrees1!$N$9),\"\",SeconedPartDegrees1!$N$9)","v":""},null,null,0,{"$f":"SeconedPartDegrees1!I65","v":0},{"$f":"IF(ISBLANK(SeconedPartDegrees1!$I$9),\"\",SeconedPartDegrees1!$I$9)","v":""},{"$f":"SeconedPartDegrees1!L65","v":0},{"$f":"IF(ISBLANK(SeconedPartDegrees1!$L$9),\"\",SeconedPartDegrees1!$L$9)","v":""},null,null,0,0,{"$f":"FirstPartDegrees1!H65","v":0},{"$f":"IF(ISBLANK(FirstPartDegrees1!$G$9),\"\",FirstPartDegrees1!$G$9)","v":""},{"$f":"SeconedPartDegrees1!O65","v":0},{"$f":"IF(ISBLANK(SeconedPartDegrees1!$N$9),\"\",SeconedPartDegrees1!$N$9)","v":""},null,null,0,{"$f":"FirstPartDegrees1!K65","v":0},{"$f":"IF(ISBLANK(FirstPartDegrees1!$K$9),\"\",FirstPartDegrees1!$K$9)","v":""},{"$f":"SeconedPartDegrees1!H65","v":0},{"$f":"IF(ISBLANK(SeconedPartDegrees1!$G$9),\"\",SeconedPartDegrees1!$G$9)","v":""},null,null,0,{"$f":"SeconedPartDegrees1!E65","v":0},{"$f":"IF(ISBLANK(SeconedPartDegrees1!$E$9),\"\",SeconedPartDegrees1!$E$9)","v":""},{"$f":"SeconedPartDegrees1!J65","v":0},{"$f":"IF(ISBLANK(SeconedPartDegrees1!$I$9),\"\",SeconedPartDegrees1!$I$9)","v":""},null,null,0,{"$f":"FirstPartDegrees1!N65","v":0},{"$f":"IF(ISBLANK(FirstPartDegrees1!$M$9),\"\",FirstPartDegrees1!$M$9)","v":""},{"$f":"SeconedPartDegrees1!K65","v":0},{"$f":"IF(ISBLANK(SeconedPartDegrees1!$I$9),\"\",SeconedPartDegrees1!$I$9)","v":""},null,null,0,0,0,{"$f":"SeconedPartDegrees1!Q65","v":""},"27-7"]
[{"$f":"SeconedPartDegrees1!A67","v":28},{"$f":"FirstPartDegrees1!B67","v":""},{"$f":"FirstPartDegrees1!$H$7","v":"7-1"},{"$f":"FirstPartDegrees1!G67","v":0},{"$f":"IF(ISBLANK(SeconedPartDegrees1!$G$9),\"\",SeconedPartDegrees1!$G$9)","v":""},{"$f":"SeconedPartDegrees1!C67","v":0},{"$f":"IF(ISBLANK(SeconedPartDegrees1!$C$9),\"\",SeconedPartDegrees1!$C$9)","v":""},null,null,0,{"$f":"FirstPartDegrees1!I67","v":0},{"$f":"IF(ISBLANK(FirstPartDegrees1!$I$9),\"\",FirstPartDegrees1!$I$9)","v":""},{"$f":"FirstPartDegrees1!M67","v":0},{"$f":"IF(ISBLANK(FirstPartDegrees1!$M$9),\"\",FirstPartDegrees1!$M$9)","v":""},null,null,0,{"$f":"FirstPartDegrees1!E67","v":0},{"$f":"IF(ISBLANK(FirstPartDegrees1!$E$9),\"\",FirstPartDegrees1!$E$9)","v":""},{"$f":"SeconedPartDegrees1!F67","v":0},{"$f":"IF(ISBLANK(SeconedPartDegrees1!$E$9),\"\",SeconedPartDegrees1!$E$9)","v":""},null,null,0,{"$f":"FirstPartDegrees1!J67","v":0},{"$f":"IF(ISBLANK(FirstPartDegrees1!$I$9),\"\",FirstPartDegrees1!$I$9)","v":""},{"$f":"FirstPartDegrees1!L67","v":0},{"$f":"IF(ISBLANK(FirstPartDegrees1!$K$9),\"\",FirstPartDegrees1!$K$9)","v":""},null,null,0,0,{"$f":"SeconedPartDegrees1!G67","v":0},{"$f":"IF(ISBLANK(SeconedPartDegrees1!$G$9),\"\",SeconedPartDegrees1!$G$9)","v":""},{"$f":"SeconedPartDegrees1!M67","v":0},{"$f":"IF(ISBLANK(SeconedPartDegrees1!$L$9),\"\",SeconedPartDegrees1!$L$9)","v":""},null,null,0,{"$f":"FirstPartDegrees1!C67","v":0},{"$f":"IF(ISBLANK(FirstPartDegrees1!$C$9),\"\",FirstPartDegrees1!$C$9)","v":""},{"$f":"FirstPartDegrees1!F67","v":0},{"$f":"IF(ISBLANK(FirstPartDegrees1!$E$9),\"\",FirstPartDegrees1!$E$9)","v":""},null,null,0,{"$f":"FirstPartDegrees1!D67","v":0},{"$f":"IF(ISBLANK(FirstPartDegrees1!$C$9),\"\",FirstPartDegrees1!$C$9)","v":""},{"$f":"SeconedPartDegrees1!N67","v":0},{"$f":"IF(ISBLANK(SeconedPartDegrees1!$N$9),\"\",SeconedPartDegrees1!$N$9)","v":""},null,null,0,{"$f":"SeconedPartDegrees1!I67","v":0},{"$f":"IF(ISBLANK(SeconedPartDegrees1!$I$9),\"\",SeconedPartDegrees1!$I$9)","v":""},{"$f":"SeconedPartDegrees1!L67","v":0},{"$f":"IF(ISBLANK(SeconedPartDegrees1!$L$9),\"\",SeconedPartDegrees1!$L$9)","v":""},null,null,0,0,{"$f":"FirstPartDegrees1!H67","v":0},{"$f":"IF(ISBLANK(FirstPartDegrees1!$G$9),\"\",FirstPartDegrees1!$G$9)","v":""},{"$f":"SeconedPartDegrees1!O67","v":0},{"$f":"IF(ISBLANK(SeconedPartDegrees1!$N$9),\"\",SeconedPartDegrees1!$N$9)","v":""},null,null,0,{"$f":"FirstPartDegrees1!K67","v":0},{"$f":"IF(ISBLANK(FirstPartDegrees1!$K$9),\"\",FirstPartDegrees1!$K$9)","v":""},{"$f":"SeconedPartDegrees1!H67","v":0},{"$f":"IF(ISBLANK(SeconedPartDegrees1!$G$9),\"\",SeconedPartDegrees1!$G$9)","v":""},null,null,0,{"$f":"SeconedPartDegrees1!E67","v":0},{"$f":"IF(ISBLANK(SeconedPartDegrees1!$E$9),\"\",SeconedPartDegrees1!$E$9)","v":""},{"$f":"SeconedPartDegrees1!J67","v":0},{"$f":"IF(ISBLANK(SeconedPartDegrees1!$I$9),\"\",SeconedPartDegrees1!$I$9)","v":""},null,null,0,{"$f":"FirstPartDegrees1!N67","v":0},{"$f":"IF(ISBLANK(FirstPartDegrees1!$M$9),\"\",FirstPartDegrees1!$M$9)","v":""},{"$f":"SeconedPartDegrees1!K67","v":0},{"$f":"IF(ISBLANK(SeconedPartDegrees1!$I$9),\"\",SeconedPartDegrees1!$I$9)","v":""},null,null,0,0,0,{"$f":"SeconedPartDegrees1!Q67","v":""},"28-7"]
[{"$f":"SeconedPartDegrees1!A69","v":29},{"$f":"FirstPartDegrees1!B69","v":""},{"$f":"FirstPartDegrees1!$H$7","v":"7-1"},{"$f":"FirstPartDegrees1!G69","v":0},{"$f":"IF(ISBLANK(SeconedPartDegrees1!$G$9),\"\",SeconedPartDegrees1!$G$9)","v":""},{"$f":"SeconedPartDegrees1!C69","v":0},{"$f":"IF(ISBLANK(SeconedPartDegrees1!$C$9),\"\",SeconedPartDegrees1!$C$9)","v":""},null,null,{"$f":"(F30+D30)/2","v":0},{"$f":"FirstPartDegrees1!I69","v":0},{"$f":"IF(ISBLANK(FirstPartDegrees1!$I$9),\"\",FirstPartDegrees1!$I$9)","v":""},{"$f":"FirstPartDegrees1!M69","v":0},{"$f":"IF(ISBLANK(FirstPartDegrees1!$M$9),\"\",FirstPartDegrees1!$M$9)","v":""},null,null,{"$f":"(M30+K30)/2","v":0},{"$f":"FirstPartDegrees1!E69","v":0},{"$f":"IF(ISBLANK(FirstPartDegrees1!$E$9),\"\",FirstPartDegrees1!$E$9)","v":""},{"$f":"SeconedPartDegrees1!F69","v":0},{"$f":"IF(ISBLANK(SeconedPartDegrees1!$E$9),\"\",SeconedPartDegrees1!$E$9)","v":""},null,null,{"$f":"(T30+R30)/2","v":0},{"$f":"FirstPartDegrees1!J69","v":0},{"$f":"IF(ISBLANK(FirstPartDegrees1!$I$9),\"\",FirstPartDegrees1!$I$9)","v":""},{"$f":"FirstPartDegrees1!L69","v":0},{"$f":"IF(ISBLANK(FirstPartDegrees1!$K$9),\"\",FirstPartDegrees1!$K$9)","v":""},null,null,{"$f":"(AA30+Y30)/2","v":0},{"$f":"ROUNDUP((J30+Q30+X30+AE30)/4,0)","v":0},{"$f":"SeconedPartDegrees1!G69","v":0},{"$f":"IF(ISBLANK(SeconedPartDegrees1!$G$9),\"\",SeconedPartDegrees1!$G$9)","v":""},{"$f":"SeconedPartDegrees1!M69","v":0},{"$f":"IF(ISBLANK(SeconedPartDegrees1!$L$9),\"\",SeconedPartDegrees1!$L$9)","v":""},null,null,{"$f":"(AI30+AG30)/2","v":0},{"$f":"FirstPartDegrees1!C69","v":0},{"$f":"IF(ISBLANK(FirstPartDegrees1!$C$9),\"\",FirstPartDegrees1!$C$9)","v":""},{"$f":"FirstPartDegrees1!F69","v":0},{"$f":"IF(ISBLANK(FirstPartDegrees1!$E$9),\"\",FirstPartDegrees1!$E$9)","v":""},null,null,{"$f":"(AP30+AN30)/2","v":0},{"$f":"FirstPartDegrees1!D69","v":0},{"$f":"IF(ISBLANK(FirstPartDegrees1!$C$9),\"\",FirstPartDegrees1!$C$9)","v":""},{"$f":"SeconedPartDegrees1!N69","v":0},{"$f":"IF(ISBLANK(SeconedPartDegrees1!$N$9),\"\",SeconedPartDegrees1!$N$9)","v":""},null,null,{"$f":"(AW30+AU30)/2","v":0},{"$f":"SeconedPartDegrees1!I69","v":0},{"$f":"IF(ISBLANK(SeconedPartDegrees1!$I$9),\"\",SeconedPartDegrees1!$I$9)","v":""},{"$f":"SeconedPartDegrees1!L69","v":0},{"$f":"IF(ISBLANK(SeconedPartDegrees1!$L$9),\"\",SeconedPartDegrees1!$L$9)","v":""},null,null,{"$f":"(BD30+BB30)/2","v":0},{"$f":"ROUNDUP((AM30+AT30+BA30+BH30)/4,0)","v":0},{"$f":"FirstPartDegrees1!H69","v":0},{"$f":"IF(ISBLANK(FirstPartDegrees1!$G$9),\"\",FirstPartDegrees1!$G$9)","v":""},{"$f":"SeconedPartDegrees1!O69","v":0},{"$f":"IF(ISBLANK(SeconedPartDegrees1!$N$9),\"\",SeconedPartDegrees1!$N$9)","v":""},null,null,{"$f":"(BL30+BJ30)/2","v":0},{"$f":"FirstPartDegrees1!K69","v":0},{"$f":"IF(ISBLANK(FirstPartDegrees1!$K$9),\"\",FirstPartDegrees1!$K$9)","v":""},{"$f":"SeconedPartDegrees1!H69","v":0},{"$f":"IF(ISBLANK(SeconedPartDegrees1!$G$9),\"\",SeconedPartDegrees1!$G$9)","v":""},null,null,{"$f":"(BS30+BQ30)/2","v":0},{"$f":"SeconedPartDegrees1!E69","v":0},{"$f":"IF(ISBLANK(SeconedPartDegrees1!$E$9),\"\",SeconedPartDegrees1!$E$9)","v":""},{"$f":"SeconedPartDegrees1!J69","v":0},{"$f":"IF(ISBLANK(SeconedPartDegrees1!$I$9),\"\",SeconedPartDegrees1!$I$9)","v":""},null,null,{"$f":"(BZ30+BX30)/2","v":0},{"$f":"FirstPartDegrees1!N69","v":0},{"$f":"IF(ISBLANK(FirstPartDegrees1!$M$9),\"\",FirstPartDegrees1!$M$9)","v":""},{"$f":"SeconedPartDegrees1!K69","v":0},{"$f":"IF(ISBLANK(SeconedPartDegrees1!$I$9),\"\",SeconedPartDegrees1!$I$9)","v":""},null,null,{"$f":"(CG30+CE30)/2","v":0},{"$f":"ROUNDUP((BP30+BW30+CD30+CK30)/4,0)","v":0},{"$f":"(CL30+AF30+BI30)*40/12","v":0},{"$f":"SeconedPartDegrees1!Q69","v":""},"29-7"]
[{"$f":"SeconedPartDegrees1!A71","v":30},{"$f":"FirstPartDegrees1!B71","v":""},{"$f":"FirstPartDegrees1!$H$7","v":"7-1"},{"$f":"FirstPartDegrees1!G71","v":0},{"$f":"IF(ISBLANK(SeconedPartDegrees1!$G$9),\"\",SeconedPartDegrees1!$G$9)","v":""},{"$f":"SeconedPartDegrees1!C71","v":0},{"$f":"IF(ISBLANK(SeconedPartDegrees1!$C$9),\"\",SeconedPartDegrees1!$C$9)","v":""},null,null,0,{"$f":"FirstPartDegrees1!I71","v":0},{"$f":"IF(ISBLANK(FirstPartDegrees1!$I$9),\"\",FirstPartDegrees1!$I$9)","v":""},{"$f":"FirstPartDegrees1!M71","v":0},{"$f":"IF(ISBLANK(FirstPartDegrees1!$M$9),\"\",FirstPartDegrees1!$M$9)","v":""},null,null,0,{"$f":"FirstPartDegrees1!E71","v":0},{"$f":"IF(ISBLANK(FirstPartDegrees1!$E$9),\"\",FirstPartDegrees1!$E$9)","v":""},{"$f":"SeconedPartDegrees1!F71","v":0},{"$f":"IF(ISBLANK(SeconedPartDegrees1!$E$9),\"\",SeconedPartDegrees1!$E$9)","v":""},null,null,0,{"$f":"FirstPartDegrees1!J71","v":0},{"$f":"IF(ISBLANK(FirstPartDegrees1!$I$9),\"\",FirstPartDegrees1!$I$9)","v":""},{"$f":"FirstPartDegrees1!L71","v":0},{"$f":"IF(ISBLANK(FirstPartDegrees1!$K$9),\"\",FirstPartDegrees1!$K$9)","v":""},null,null,0,0,{"$f":"SeconedPartDegrees1!G71","v":0},{"$f":"IF(ISBLANK(SeconedPartDegrees1!$G$9),\"\",SeconedPartDegrees1!$G$9)","v":""},{"$f":"SeconedPartDegrees1!M71","v":0},{"$f":"IF(ISBLANK(SeconedPartDegrees1!$L$9),\"\",SeconedPartDegrees1!$L$9)","v":""},null,null,0,{"$f":"FirstPartDegrees1!C71","v":0},{"$f":"IF(ISBLANK(FirstPartDegrees1!$C$9),\"\",FirstPartDegrees1!$C$9)","v":""},{"$f":"FirstPartDegrees1!F71","v":0},{"$f":"IF(ISBLANK(FirstPartDegrees1!$E$9),\"\",FirstPartDegrees1!$E$9)","v":""},null,null,0,{"$f":"FirstPartDegrees1!D71","v":0},{"$f":"IF(ISBLANK(FirstPartDegrees1!$C$9),\"\",FirstPartDegrees1!$C$9)","v":""},{"$f":"SeconedPartDegrees1!N71","v":0},{"$f":"IF(ISBLANK(SeconedPartDegrees1!$N$9),\"\",SeconedPartDegrees1!$N$9)","v":""},null,null,0,{"$f":"SeconedPartDegrees1!I71","v":0},{"$f":"IF(ISBLANK(SeconedPartDegrees1!$I$9),\"\",SeconedPartDegrees1!$I$9)","v":""},{"$f":"SeconedPartDegrees1!L71","v":0},{"$f":"IF(ISBLANK(SeconedPartDegrees1!$L$9),\"\",SeconedPartDegrees1!$L$9)","v":""},null,null,0,0,{"$f":"FirstPartDegrees1!H71","v":0},{"$f":"IF(ISBLANK(FirstPartDegrees1!$G$9),\"\",FirstPartDegrees1!$G$9)","v":""},{"$f":"SeconedPartDegrees1!O71","v":0},{"$f":"IF(ISBLANK(SeconedPartDegrees1!$N$9),\"\",SeconedPartDegrees1!$N$9)","v":""},null,null,0,{"$f":"FirstPartDegrees1!K71","v":0},{"$f":"IF(ISBLANK(FirstPartDegrees1!$K$9),\"\",FirstPartDegrees1!$K$9)","v":""},{"$f":"SeconedPartDegrees1!H71","v":0},{"$f":"IF(ISBLANK(SeconedPartDegrees1!$G$9),\"\",SeconedPartDegrees1!$G$9)","v":""},null,null,0,{"$f":"SeconedPartDegrees1!E71","v":0},{"$f":"IF(ISBLANK(SeconedPartDegrees1!$E$9),\"\",SeconedPartDegrees1!$E$9)","v":""},{"$f":"SeconedPartDegrees1!J71","v":0},{"$f":"IF(ISBLANK(SeconedPartDegrees1!$I$9),\"\",SeconedPartDegrees1!$I$9)","v":""},null,null,0,{"$f":"FirstPartDegrees1!N71","v":0},{"$f":"IF(ISBLANK(FirstPartDegrees1!$M$9),\"\",FirstPartDegrees1!$M$9)","v":""},{"$f":"SeconedPartDegrees1!K71","v":0},{"$f":"IF(ISBLANK(SeconedPartDegrees1!$I$9),\"\",SeconedPartDegrees1!$I$9)","v":""},null,null,0,0,0,{"$f":"SeconedPartDegrees1!Q71","v":""},"30-7"]
[{"$f":"SeconedPartDegrees1!A73","v":31},{"$f":"FirstPartDegrees1!B73","v":""},{"$f":"FirstPartDegrees1!$H$7","v":"7-1"},{"$f":"FirstPartDegrees1!G73","v":0},{"$f":"IF(ISBLANK(SeconedPartDegrees1!$G$9),\"\",SeconedPartDegrees1!$G$9)","v":""},{"$f":"SeconedPartDegrees1!C73","v":0},{"$f":"IF(ISBLANK(SeconedPartDegrees1!$C$9),\"\",SeconedPartDegrees1!$C$9)","v":""},null,null,0,{"$f":"FirstPartDegrees1!I73","v":0},{"$f":"IF(ISBLANK(FirstPartDegrees1!$I$9),\"\",FirstPartDegrees1!$I$9)","v":""},{"$f":"FirstPartDegrees1!M73","v":0},{"$f":"IF(ISBLANK(FirstPartDegrees1!$M$9),\"\",FirstPartDegrees1!$M$9)","v":""},null,null,0,{"$f":"FirstPartDegrees1!E73","v":0},{"$f":"IF(ISBLANK(FirstPartDegrees1!$E$9),\"\",FirstPartDegrees1!$E$9)","v":""},{"$f":"SeconedPartDegrees1!F73","v":0},{"$f":"IF(ISBLANK(SeconedPartDegrees1!$E$9),\"\",SeconedPartDegrees1!$E$9)","v":""},null,null,0,{"$f":"FirstPartDegrees1!J73","v":0},{"$f":"IF(ISBLANK(FirstPartDegrees1!$I$9),\"\",FirstPartDegrees1!$I$9)","v":""},{"$f":"FirstPartDegrees1!L73","v":0},{"$f":"IF(ISBLANK(FirstPartDegrees1!$K$9),\"\",FirstPartDegrees1!$K$9)","v":""},null,null,0,0,{"$f":"SeconedPartDegrees1!G73","v":0},{"$f":"IF(ISBLANK(SeconedPartDegrees1!$G$9),\"\",SeconedPartDegrees1!$G$9)","v":""},{"$f":"SeconedPartDegrees1!M73","v":0},{"$f":"IF(ISBLANK(SeconedPartDegrees1!$L$9),\"\",SeconedPartDegrees1!$L$9)","v":""},null,null,0,{"$f":"FirstPartDegrees1!C73","v":0},{"$f":"IF(ISBLANK(FirstPartDegrees1!$C$9),\"\",FirstPartDegrees1!$C$9)","v":""},{"$f":"FirstPartDegrees1!F73","v":0},{"$f":"IF(ISBLANK(FirstPartDegrees1!$E$9),\"\",FirstPartDegrees1!$E$9)","v":""},null,null,0,{"$f":"FirstPartDegrees1!D73","v":0},{"$f":"IF(ISBLANK(FirstPartDegrees1!$C$9),\"\",FirstPartDegrees1!$C$9)","v":""},{"$f":"SeconedPartDegrees1!N73","v":0},{"$f":"IF(ISBLANK(SeconedPartDegrees1!$N$9),\"\",SeconedPartDegrees1!$N$9)","v":""},null,null,0,{"$f":"SeconedPartDegrees1!I73","v":0},{"$f":"IF(ISBLANK(SeconedPartDegrees1!$I$9),\"\",SeconedPartDegrees1!$I$9)","v":""},{"$f":"SeconedPartDegrees1!L73","v":0},{"$f":"IF(ISBLANK(SeconedPartDegrees1!$L$9),\"\",SeconedPartDegrees1!$L$9)","v":""},null,null,0,0,{"$f":"FirstPartDegrees1!H73","v":0},{"$f":"IF(ISBLANK(FirstPartDegrees1!$G$9),\"\",FirstPartDegrees1!$G$9)","v":""},{"$f":"SeconedPartDegrees1!O73","v":0},{"$f":"IF(ISBLANK(SeconedPartDegrees1!$N$9),\"\",SeconedPartDegrees1!$N$9)","v":""},null,null,0,{"$f":"FirstPartDegrees1!K73","v":0},{"$f":"IF(ISBLANK(FirstPartDegrees1!$K$9),\"\",FirstPartDegrees1!$K$9)","v":""},{"$f":"SeconedPartDegrees1!H73","v":0},{"$f":"IF(ISBLANK(SeconedPartDegrees1!$G$9),\"\",SeconedPartDegrees1!$G$9)","v":""},null,null,0,{"$f":"SeconedPartDegrees1!E73","v":0},{"$f":"IF(ISBLANK(SeconedPartDegrees1!$E$9),\"\",SeconedPartDegrees1!$E$9)","v":""},{"$f":"SeconedPartDegrees1!J73","v":0},{"$f":"IF(ISBLANK(SeconedPartDegrees1!$I$9),\"\",SeconedPartDegrees1!$I$9)","v":""},null,null,0,{"$f":"FirstPartDegrees1!N73","v":0},{"$f":"IF(ISBLANK(FirstPartDegrees1!$M$9),\"\",FirstPartDegrees1!$M$9)","v":""},{"$f":"SeconedPartDegrees1!K73","v":0},{"$f":"IF(ISBLANK(SeconedPartDegrees1!$I$9),\"\",SeconedPartDegrees1!$I$9)","v":""},null,null,0,0,0,{"$f":"SeconedPartDegrees1!Q73","v":""}]
[{"$f":"SeconedPartDegrees1!A75","v":32},{"$f":"FirstPartDegrees1!B75","v":""},{"$f":"FirstPartDegrees1!$H$7","v":"7-1"},{"$f":"FirstPartDegrees1!G75","v":0},{"$f":"IF(ISBLANK(SeconedPartDegrees1!$G$9),\"\",SeconedPartDegrees1!$G$9)","v":""},{"$f":"SeconedPartDegrees1!C75","v":0},{"$f":"IF(ISBLANK(SeconedPartDegrees1!$C$9),\"\",SeconedPartDegrees1!$C$9)","v":""},null,null,0,{"$f":"FirstPartDegrees1!I75","v":0},{"$f":"IF(ISBLANK(FirstPartDegrees1!$I$9),\"\",FirstPartDegrees1!$I$9)","v":""},{"$f":"FirstPartDegrees1!M75","v":0},{"$f":"IF(ISBLANK(FirstPartDegrees1!$M$9),\"\",FirstPartDegrees1!$M$9)","v":""},null,null,0,{"$f":"FirstPartDegrees1!E75","v":0},{"$f":"IF(ISBLANK(FirstPartDegrees1!$E$9),\"\",FirstPartDegrees1!$E$9)","v":""},{"$f":"SeconedPartDegrees1!F75","v":0},{"$f":"IF(ISBLANK(SeconedPartDegrees1!$E$9),\"\",SeconedPartDegrees1!$E$9)","v":""},null,null,0,{"$f":"FirstPartDegrees1!J75","v":0},{"$f":"IF(ISBLANK(FirstPartDegrees1!$I$9),\"\",FirstPartDegrees1!$I$9)","v":""},{"$f":"FirstPartDegrees1!L75","v":0},{"$f":"IF(ISBLANK(FirstPartDegrees1!$K$9),\"\",FirstPartDegrees1!$K$9)","v":""},null,null,0,0,{"$f":"SeconedPartDegrees1!G75","v":0},{"$f":"IF(ISBLANK(SeconedPartDegrees1!$G$9),\"\",SeconedPartDegrees1!$G$9)","v":""},{"$f":"SeconedPartDegrees1!M75","v":0},{"$f":"IF(ISBLANK(SeconedPartDegrees1!$L$9),\"\",SeconedPartDegrees1!$L$9)","v":""},null,null,0,{"$f":"FirstPartDegrees1!C75","v":0},{"$f":"IF(ISBLANK(FirstPartDegrees1!$C$9),\"\",FirstPartDegrees1!$C$9)","v":""},{"$f":"FirstPartDegrees1!F75","v":0},{"$f":"IF(ISBLANK(FirstPartDegrees1!$E$9),\"\",FirstPartDegrees1!$E$9)","v":""},null,null,0,{"$f":"FirstPartDegrees1!D75","v":0},{"$f":"IF(ISBLANK(FirstPartDegrees1!$C$9),\"\",FirstPartDegrees1!$C$9)","v":""},{"$f":"SeconedPartDegrees1!N75","v":0},{"$f":"IF(ISBLANK(SeconedPartDegrees1!$N$9),\"\",SeconedPartDegrees1!$N$9)","v":""},null,null,0,{"$f":"SeconedPartDegrees1!I75","v":0},{"$f":"IF(ISBLANK(SeconedPartDegrees1!$I$9),\"\",SeconedPartDegrees1!$I$9)","v":""},{"$f":"SeconedPartDegrees1!L75","v":0},{"$f":"IF(ISBLANK(SeconedPartDegrees1!$L$9),\"\",SeconedPartDegrees1!$L$9)","v":""},null,null,0,0,{"$f":"FirstPartDegrees1!H75","v":0},{"$f":"IF(ISBLANK(FirstPartDegrees1!$G$9),\"\",FirstPartDegrees1!$G$9)","v":""},{"$f":"SeconedPartDegrees1!O75","v":0},{"$f":"IF(ISBLANK(SeconedPartDegrees1!$N$9),\"\",SeconedPartDegrees1!$N$9)","v":""},null,null,0,{"$f":"FirstPartDegrees1!K75","v":0},{"$f":"IF(ISBLANK(FirstPartDegrees1!$K$9),\"\",FirstPartDegrees1!$K$9)","v":""},{"$f":"SeconedPartDegrees1!H75","v":0},{"$f":"IF(ISBLANK(SeconedPartDegrees1!$G$9),\"\",SeconedPartDegrees1!$G$9)","v":""},null,null,0,{"$f":"SeconedPartDegrees1!E75","v":0},{"$f":"IF(ISBLANK(SeconedPartDegrees1!$E$9),\"\",SeconedPartDegrees1!$E$9)","v":""},{"$f":"SeconedPartDegrees1!J75","v":0},{"$f":"IF(ISBLANK(SeconedPartDegrees1!$I$9),\"\",SeconedPartDegrees1!$I$9)","v":""},null,null,0,{"$f":"FirstPartDegrees1!N75","v":0},{"$f":"IF(ISBLANK(FirstPartDegrees1!$M$9),\"\",FirstPartDegrees1!$M$9)","v":""},{"$f":"SeconedPartDegrees1!K75","v":0},{"$f":"IF(ISBLANK(SeconedPartDegrees1!$I$9),\"\",SeconedPartDegrees1!$I$9)","v":""},null,null,0,0,0,{"$f":"SeconedPartDegrees1!Q75","v":""}]
[{"$f":"SeconedPartDegrees1!A77","v":33},{"$f":"FirstPartDegrees1!B77","v":""},{"$f":"FirstPartDegrees1!$H$7","v":"7-1"},{"$f":"FirstPartDegrees1!G77","v":0},{"$f":"IF(ISBLANK(SeconedPartDegrees1!$G$9),\"\",SeconedPartDegrees1!$G$9)","v":""},{"$f":"SeconedPartDegrees1!C77","v":0},{"$f":"IF(ISBLANK(SeconedPartDegrees1!$C$9),\"\",SeconedPartDegrees1!$C$9)","v":""},null,null,0,{"$f":"FirstPartDegrees1!I77","v":0},{"$f":"IF(ISBLANK(FirstPartDegrees1!$I$9),\"\",FirstPartDegrees1!$I$9)","v":""},{"$f":"FirstPartDegrees1!M77","v":0},{"$f":"IF(ISBLANK(FirstPartDegrees1!$M$9),\"\",FirstPartDegrees1!$M$9)","v":""},null,null,0,{"$f":"FirstPartDegrees1!E77","v":0},{"$f":"IF(ISBLANK(FirstPartDegrees1!$E$9),\"\",FirstPartDegrees1!$E$9)","v":""},{"$f":"SeconedPartDegrees1!F77","v":0},{"$f":"IF(ISBLANK(SeconedPartDegrees1!$E$9),\"\",SeconedPartDegrees1!$E$9)","v":""},null,null,0,{"$f":"FirstPartDegrees1!J77","v":0},{"$f":"IF(ISBLANK(FirstPartDegrees1!$I$9),\"\",FirstPartDegrees1!$I$9)","v":""},{"$f":"FirstPartDegrees1!L77","v":0},{"$f":"IF(ISBLANK(FirstPartDegrees1!$K$9),\"\",FirstPartDegrees1!$K$9)","v":""},null,null,0,0,{"$f":"SeconedPartDegrees1!G77","v":0},{"$f":"IF(ISBLANK(SeconedPartDegrees1!$G$9),\"\",SeconedPartDegrees1!$G$9)","v":""},{"$f":"SeconedPartDegrees1!M77","v":0},{"$f":"IF(ISBLANK(SeconedPartDegrees1!$L$9),\"\",SeconedPartDegrees1!$L$9)","v":""},null,null,0,{"$f":"FirstPartDegrees1!C77","v":0},{"$f":"IF(ISBLANK(FirstPartDegrees1!$C$9),\"\",FirstPartDegrees1!$C$9)","v":""},{"$f":"FirstPartDegrees1!F77","v":0},{"$f":"IF(ISBLANK(FirstPartDegrees1!$E$9),\"\",FirstPartDegrees1!$E$9)","v":""},null,null,0,{"$f":"FirstPartDegrees1!D77","v":0},{"$f":"IF(ISBLANK(FirstPartDegrees1!$C$9),\"\",FirstPartDegrees1!$C$9)","v":""},{"$f":"SeconedPartDegrees1!N77","v":0},{"$f":"IF(ISBLANK(SeconedPartDegrees1!$N$9),\"\",SeconedPartDegrees1!$N$9)","v":""},null,null,0,{"$f":"SeconedPartDegrees1!I77","v":0},{"$f":"IF(ISBLANK(SeconedPartDegrees1!$I$9),\"\",SeconedPartDegrees1!$I$9)","v":""},{"$f":"SeconedPartDegrees1!L77","v":0},{"$f":"IF(ISBLANK(SeconedPartDegrees1!$L$9),\"\",SeconedPartDegrees1!$L$9)","v":""},null,null,0,0,{"$f":"FirstPartDegrees1!H77","v":0},{"$f":"IF(ISBLANK(FirstPartDegrees1!$G$9),\"\",FirstPartDegrees1!$G$9)","v":""},{"$f":"SeconedPartDegrees1!O77","v":0},{"$f":"IF(ISBLANK(SeconedPartDegrees1!$N$9),\"\",SeconedPartDegrees1!$N$9)","v":""},null,null,0,{"$f":"FirstPartDegrees1!K77","v":0},{"$f":"IF(ISBLANK(FirstPartDegrees1!$K$9),\"\",FirstPartDegrees1!$K$9)","v":""},{"$f":"SeconedPartDegrees1!H77","v":0},{"$f":"IF(ISBLANK(SeconedPartDegrees1!$G$9),\"\",SeconedPartDegrees1!$G$9)","v":""},null,null,0,{"$f":"SeconedPartDegrees1!E77","v":0},{"$f":"IF(ISBLANK(SeconedPartDegrees1!$E$9),\"\",SeconedPartDegrees1!$E$9)","v":""},{"$f":"SeconedPartDegrees1!J77","v":0},{"$f":"IF(ISBLANK(SeconedPartDegrees1!$I$9),\"\",SeconedPartDegrees1!$I$9)","v":""},null,null,0,{"$f":"FirstPartDegrees1!N77","v":0},{"$f":"IF(ISBLANK(FirstPartDegrees1!$M$9),\"\",FirstPartDegrees1!$M$9)","v":""},{"$f":"SeconedPartDegrees1!K77","v":0},{"$f":"IF(ISBLANK(SeconedPartDegrees1!$I$9),\"\",SeconedPartDegrees1!$I$9)","v":""},null,null,0,0,0,{"$f":"SeconedPartDegrees1!Q77","v":""}]
[{"$f":"SeconedPartDegrees1!A79","v":34},{"$f":"FirstPartDegrees1!B79","v":""},{"$f":"FirstPartDegrees1!$H$7","v":"7-1"},{"$f":"FirstPartDegrees1!G79","v":0},{"$f":"IF(ISBLANK(SeconedPartDegrees1!$G$9),\"\",SeconedPartDegrees1!$G$9)","v":""},{"$f":"SeconedPartDegrees1!C79","v":0},{"$f":"IF(ISBLANK(SeconedPartDegrees1!$C$9),\"\",SeconedPartDegrees1!$C$9)","v":""},null,null,0,{"$f":"FirstPartDegrees1!I79","v":0},{"$f":"IF(ISBLANK(FirstPartDegrees1!$I$9),\"\",FirstPartDegrees1!$I$9)","v":""},{"$f":"FirstPartDegrees1!M79","v":0},{"$f":"IF(ISBLANK(FirstPartDegrees1!$M$9),\"\",FirstPartDegrees1!$M$9)","v":""},null,null,0,{"$f":"FirstPartDegrees1!E79","v":0},{"$f":"IF(ISBLANK(FirstPartDegrees1!$E$9),\"\",FirstPartDegrees1!$E$9)","v":""},{"$f":"SeconedPartDegrees1!F79","v":0},{"$f":"IF(ISBLANK(SeconedPartDegrees1!$E$9),\"\",SeconedPartDegrees1!$E$9)","v":""},null,null,0,{"$f":"FirstPartDegrees1!J79","v":0},{"$f":"IF(ISBLANK(FirstPartDegrees1!$I$9),\"\",FirstPartDegrees1!$I$9)","v":""},{"$f":"FirstPartDegrees1!L79","v":0},{"$f":"IF(ISBLANK(FirstPartDegrees1!$K$9),\"\",FirstPartDegrees1!$K$9)","v":""},null,null,0,0,{"$f":"SeconedPartDegrees1!G79","v":0},{"$f":"IF(ISBLANK(SeconedPartDegrees1!$G$9),\"\",SeconedPartDegrees1!$G$9)","v":""},{"$f":"SeconedPartDegrees1!M79","v":0},{"$f":"IF(ISBLANK(SeconedPartDegrees1!$L$9),\"\",SeconedPartDegrees1!$L$9)","v":""},null,null,0,{"$f":"FirstPartDegrees1!C79","v":0},{"$f":"IF(ISBLANK(FirstPartDegrees1!$C$9),\"\",FirstPartDegrees1!$C$9)","v":""},{"$f":"FirstPartDegrees1!F79","v":0},{"$f":"IF(ISBLANK(FirstPartDegrees1!$E$9),\"\",FirstPartDegrees1!$E$9)","v":""},null,null,0,{"$f":"FirstPartDegrees1!D79","v":0},{"$f":"IF(ISBLANK(FirstPartDegrees1!$C$9),\"\",FirstPartDegrees1!$C$9)","v":""},{"$f":"SeconedPartDegrees1!N79","v":0},{"$f":"IF(ISBLANK(SeconedPartDegrees1!$N$9),\"\",SeconedPartDegrees1!$N$9)","v":""},null,null,0,{"$f":"SeconedPartDegrees1!I79","v":0},{"$f":"IF(ISBLANK(SeconedPartDegrees1!$I$9),\"\",SeconedPartDegrees1!$I$9)","v":""},{"$f":"SeconedPartDegrees1!L79","v":0},{"$f":"IF(ISBLANK(SeconedPartDegrees1!$L$9),\"\",SeconedPartDegrees1!$L$9)","v":""},null,null,0,0,{"$f":"FirstPartDegrees1!H79","v":0},{"$f":"IF(ISBLANK(FirstPartDegrees1!$G$9),\"\",FirstPartDegrees1!$G$9)","v":""},{"$f":"SeconedPartDegrees1!O79","v":0},{"$f":"IF(ISBLANK(SeconedPartDegrees1!$N$9),\"\",SeconedPartDegrees1!$N$9)","v":""},null,null,0,{"$f":"FirstPartDegrees1!K79","v":0},{"$f":"IF(ISBLANK(FirstPartDegrees1!$K$9),\"\",FirstPartDegrees1!$K$9)","v":""},{"$f":"SeconedPartDegrees1!H79","v":0},{"$f":"IF(ISBLANK(SeconedPartDegrees1!$G$9),\"\",SeconedPartDegrees1!$G$9)","v":""},null,null,0,{"$f":"SeconedPartDegrees1!E79","v":0},{"$f":"IF(ISBLANK(SeconedPartDegrees1!$E$9),\"\",SeconedPartDegrees1!$E$9)","v":""},{"$f":"SeconedPartDegrees1!J79","v":0},{"$f":"IF(ISBLANK(SeconedPartDegrees1!$I$9),\"\",SeconedPartDegrees1!$I$9)","v":""},null,null,0,{"$f":"FirstPartDegrees1!N79","v":0},{"$f":"IF(ISBLANK(FirstPartDegrees1!$M$9),\"\",FirstPartDegrees1!$M$9)","v":""},{"$f":"SeconedPartDegrees1!K79","v":0},{"$f":"IF(ISBLANK(SeconedPartDegrees1!$I$9),\"\",SeconedPartDegrees1!$I$9)","v":""},null,null,0,0,0,{"$f":"SeconedPartDegrees1!Q79","v":""}]
[{"$f":"SeconedPartDegrees1!A81","v":35},{"$f":"FirstPartDegrees1!B81","v":""},{"$f":"FirstPartDegrees1!$H$7","v":"7-1"},{"$f":"FirstPartDegrees1!G81","v":0},{"$f":"IF(ISBLANK(SeconedPartDegrees1!$G$9),\"\",SeconedPartDegrees1!$G$9)","v":""},{"$f":"SeconedPartDegrees1!C81","v":0},{"$f":"IF(ISBLANK(SeconedPartDegrees1!$C$9),\"\",SeconedPartDegrees1!$C$9)","v":""},null,null,0,{"$f":"FirstPartDegrees1!I81","v":0},{"$f":"IF(ISBLANK(FirstPartDegrees1!$I$9),\"\",FirstPartDegrees1!$I$9)","v":""},{"$f":"FirstPartDegrees1!M81","v":0},{"$f":"IF(ISBLANK(FirstPartDegrees1!$M$9),\"\",FirstPartDegrees1!$M$9)","v":""},null,null,0,{"$f":"FirstPartDegrees1!E81","v":0},{"$f":"IF(ISBLANK(FirstPartDegrees1!$E$9),\"\",FirstPartDegrees1!$E$9)","v":""},{"$f":"SeconedPartDegrees1!F81","v":0},{"$f":"IF(ISBLANK(SeconedPartDegrees1!$E$9),\"\",SeconedPartDegrees1!$E$9)","v":""},null,null,0,{"$f":"FirstPartDegrees1!J81","v":0},{"$f":"IF(ISBLANK(FirstPartDegrees1!$I$9),\"\",FirstPartDegrees1!$I$9)","v":""},{"$f":"FirstPartDegrees1!L81","v":0},{"$f":"IF(ISBLANK(FirstPartDegrees1!$K$9),\"\",FirstPartDegrees1!$K$9)","v":""},null,null,0,0,{"$f":"SeconedPartDegrees1!G81","v":0},{"$f":"IF(ISBLANK(SeconedPartDegrees1!$G$9),\"\",SeconedPartDegrees1!$G$9)","v":""},{"$f":"SeconedPartDegrees1!M81","v":0},{"$f":"IF(ISBLANK(SeconedPartDegrees1!$L$9),\"\",SeconedPartDegrees1!$L$9)","v":""},null,null,0,{"$f":"FirstPartDegrees1!C81","v":0},{"$f":"IF(ISBLANK(FirstPartDegrees1!$C$9),\"\",FirstPartDegrees1!$C$9)","v":""},{"$f":"FirstPartDegrees1!F81","v":0},{"$f":"IF(ISBLANK(FirstPartDegrees1!$E$9),\"\",FirstPartDegrees1!$E$9)","v":""},null,null,0,{"$f":"FirstPartDegrees1!D81","v":0},{"$f":"IF(ISBLANK(FirstPartDegrees1!$C$9),\"\",FirstPartDegrees1!$C$9)","v":""},{"$f":"SeconedPartDegrees1!N81","v":0},{"$f":"IF(ISBLANK(SeconedPartDegrees1!$N$9),\"\",SeconedPartDegrees1!$N$9)","v":""},null,null,0,{"$f":"SeconedPartDegrees1!I81","v":0},{"$f":"IF(ISBLANK(SeconedPartDegrees1!$I$9),\"\",SeconedPartDegrees1!$I$9)","v":""},{"$f":"SeconedPartDegrees1!L81","v":0},{"$f":"IF(ISBLANK(SeconedPartDegrees1!$L$9),\"\",SeconedPartDegrees1!$L$9)","v":""},null,null,0,0,{"$f":"FirstPartDegrees1!H81","v":0},{"$f":"IF(ISBLANK(FirstPartDegrees1!$G$9),\"\",FirstPartDegrees1!$G$9)","v":""},{"$f":"SeconedPartDegrees1!O81","v":0},{"$f":"IF(ISBLANK(SeconedPartDegrees1!$N$9),\"\",SeconedPartDegrees1!$N$9)","v":""},null,null,0,{"$f":"FirstPartDegrees1!K81","v":0},{"$f":"IF(ISBLANK(FirstPartDegrees1!$K$9),\"\",FirstPartDegrees1!$K$9)","v":""},{"$f":"SeconedPartDegrees1!H81","v":0},{"$f":"IF(ISBLANK(SeconedPartDegrees1!$G$9),\"\",SeconedPartDegrees1!$G$9)","v":""},null,null,0,{"$f":"SeconedPartDegrees1!E81","v":0},{"$f":"IF(ISBLANK(SeconedPartDegrees1!$E$9),\"\",SeconedPartDegrees1!$E$9)","v":""},{"$f":"SeconedPartDegrees1!J81","v":0},{"$f":"IF(ISBLANK(SeconedPartDegrees1!$I$9),\"\",SeconedPartDegrees1!$I$9)","v":""},null,null,0,{"$f":"FirstPartDegrees1!N81","v":0},{"$f":"IF(ISBLANK(FirstPartDegrees1!$M$9),\"\",FirstPartDegrees1!$M$9)","v":""},{"$f":"SeconedPartDegrees1!K81","v":0},{"$f":"IF(ISBLANK(SeconedPartDegrees1!$I$9),\"\",SeconedPartDegrees1!$I$9)","v":""},null,null,0,0,0,{"$f":"SeconedPartDegrees1!Q81","v":""}]
[{"$f":"SeconedPartDegrees1!A83","v":36},{"$f":"FirstPartDegrees1!B83","v":""},{"$f":"FirstPartDegrees1!$H$7","v":"7-1"},{"$f":"FirstPartDegrees1!G83","v":0},{"$f":"IF(ISBLANK(SeconedPartDegrees1!$G$9),\"\",SeconedPartDegrees1!$G$9)","v":""},{"$f":"SeconedPartDegrees1!C83","v":0},{"$f":"IF(ISBLANK(SeconedPartDegrees1!$C$9),\"\",SeconedPartDegrees1!$C$9)","v":""},null,null,0,{"$f":"FirstPartDegrees1!I83","v":0},{"$f":"IF(ISBLANK(FirstPartDegrees1!$I$9),\"\",FirstPartDegrees1!$I$9)","v":""},{"$f":"FirstPartDegrees1!M83","v":0},{"$f":"IF(ISBLANK(FirstPartDegrees1!$M$9),\"\",FirstPartDegrees1!$M$9)","v":""},null,null,0,{"$f":"FirstPartDegrees1!E83","v":0},{"$f":"IF(ISBLANK(FirstPartDegrees1!$E$9),\"\",FirstPartDegrees1!$E$9)","v":""},{"$f":"SeconedPartDegrees1!F83","v":0},{"$f":"IF(ISBLANK(SeconedPartDegrees1!$E$9),\"\",SeconedPartDegrees1!$E$9)","v":""},null,null,0,{"$f":"FirstPartDegrees1!J83","v":0},{"$f":"IF(ISBLANK(FirstPartDegrees1!$I$9),\"\",FirstPartDegrees1!$I$9)","v":""},{"$f":"FirstPartDegrees1!L83","v":0},{"$f":"IF(ISBLANK(FirstPartDegrees1!$K$9),\"\",FirstPartDegrees1!$K$9)","v":""},null,null,0,0,{"$f":"SeconedPartDegrees1!G83","v":0},{"$f":"IF(ISBLANK(SeconedPartDegrees1!$G$9),\"\",SeconedPartDegrees1!$G$9)","v":""},{"$f":"SeconedPartDegrees1!M83","v":0},{"$f":"IF(ISBLANK(SeconedPartDegrees1!$L$9),\"\",SeconedPartDegrees1!$L$9)","v":""},null,null,0,{"$f":"FirstPartDegrees1!C83","v":0},{"$f":"IF(ISBLANK(FirstPartDegrees1!$C$9),\"\",FirstPartDegrees1!$C$9)","v":""},{"$f":"FirstPartDegrees1!F83","v":0},{"$f":"IF(ISBLANK(FirstPartDegrees1!$E$9),\"\",FirstPartDegrees1!$E$9)","v":""},null,null,0,{"$f":"FirstPartDegrees1!D83","v":0},{"$f":"IF(ISBLANK(FirstPartDegrees1!$C$9),\"\",FirstPartDegrees1!$C$9)","v":""},{"$f":"SeconedPartDegrees1!N83","v":0},{"$f":"IF(ISBLANK(SeconedPartDegrees1!$N$9),\"\",SeconedPartDegrees1!$N$9)","v":""},null,null,0,{"$f":"SeconedPartDegrees1!I83","v":0},{"$f":"IF(ISBLANK(SeconedPartDegrees1!$I$9),\"\",SeconedPartDegrees1!$I$9)","v":""},{"$f":"SeconedPartDegrees1!L83","v":0},{"$f":"IF(ISBLANK(SeconedPartDegrees1!$L$9),\"\",SeconedPartDegrees1!$L$9)","v":""},null,null,0,0,{"$f":"FirstPartDegrees1!H83","v":0},{"$f":"IF(ISBLANK(FirstPartDegrees1!$G$9),\"\",FirstPartDegrees1!$G$9)","v":""},{"$f":"SeconedPartDegrees1!O83","v":0},{"$f":"IF(ISBLANK(SeconedPartDegrees1!$N$9),\"\",SeconedPartDegrees1!$N$9)","v":""},null,null,0,{"$f":"FirstPartDegrees1!K83","v":0},{"$f":"IF(ISBLANK(FirstPartDegrees1!$K$9),\"\",FirstPartDegrees1!$K$9)","v":""},{"$f":"SeconedPartDegrees1!H83","v":0},{"$f":"IF(ISBLANK(SeconedPartDegrees1!$G$9),\"\",SeconedPartDegrees1!$G$9)","v":""},null,null,0,{"$f":"SeconedPartDegrees1!E83","v":0},{"$f":"IF(ISBLANK(SeconedPartDegrees1!$E$9),\"\",SeconedPartDegrees1!$E$9)","v":""},{"$f":"SeconedPartDegrees1!J83","v":0},{"$f":"IF(ISBLANK(SeconedPartDegrees1!$I$9),\"\",SeconedPartDegrees1!$I$9)","v":""},null,null,0,{"$f":"FirstPartDegrees1!N83","v":0},{"$f":"IF(ISBLANK(FirstPartDegrees1!$M$9),\"\",FirstPartDegrees1!$M$9)","v":""},{"$f":"SeconedPartDegrees1!K83","v":0},{"$f":"IF(ISBLANK(SeconedPartDegrees1!$I$9),\"\",SeconedPartDegrees1!$I$9)","v":""},null,null,0,0,0,{"$f":"SeconedPartDegrees1!Q83","v":""}]
[{"$f":"SeconedPartDegrees1!A85","v":37},{"$f":"FirstPartDegrees1!B85","v":""},{"$f":"FirstPartDegrees1!$H$7","v":"7-1"},{"$f":"FirstPartDegrees1!G85","v":0},{"$f":"IF(ISBLANK(SeconedPartDegrees1!$G$9),\"\",SeconedPartDegrees1!$G$9)","v":""},{"$f":"SeconedPartDegrees1!C85","v":0},{"$f":"IF(ISBLANK(SeconedPartDegrees1!$C$9),\"\",SeconedPartDegrees1!$C$9)","v":""},null,null,0,{"$f":"FirstPartDegrees1!I85","v":0},{"$f":"IF(ISBLANK(FirstPartDegrees1!$I$9),\"\",FirstPartDegrees1!$I$9)","v":""},{"$f":"FirstPartDegrees1!M85","v":0},{"$f":"IF(ISBLANK(FirstPartDegrees1!$M$9),\"\",FirstPartDegrees1!$M$9)","v":""},null,null,0,{"$f":"FirstPartDegrees1!E85","v":0},{"$f":"IF(ISBLANK(FirstPartDegrees1!$E$9),\"\",FirstPartDegrees1!$E$9)","v":""},{"$f":"SeconedPartDegrees1!F85","v":0},{"$f":"IF(ISBLANK(SeconedPartDegrees1!$E$9),\"\",SeconedPartDegrees1!$E$9)","v":""},null,null,0,{"$f":"FirstPartDegrees1!J85","v":0},{"$f":"IF(ISBLANK(FirstPartDegrees1!$I$9),\"\",FirstPartDegrees1!$I$9)","v":""},{"$f":"FirstPartDegrees1!L85","v":0},{"$f":"IF(ISBLANK(FirstPartDegrees1!$K$9),\"\",FirstPartDegrees1!$K$9)","v":""},null,null,0,0,{"$f":"SeconedPartDegrees1!G85","v":0},{"$f":"IF(ISBLANK(SeconedPartDegrees1!$G$9),\"\",SeconedPartDegrees1!$G$9)","v":""},{"$f":"SeconedPartDegrees1!M85","v":0},{"$f":"IF(ISBLANK(SeconedPartDegrees1!$L$9),\"\",SeconedPartDegrees1!$L$9)","v":""},null,null,0,{"$f":"FirstPartDegrees1!C85","v":0},{"$f":"IF(ISBLANK(FirstPartDegrees1!$C$9),\"\",FirstPartDegrees1!$C$9)","v":""},{"$f":"FirstPartDegrees1!F85","v":0},{"$f":"IF(ISBLANK(FirstPartDegrees1!$E$9),\"\",FirstPartDegrees1!$E$9)","v":""},null,null,0,{"$f":"FirstPartDegrees1!D85","v":0},{"$f":"IF(ISBLANK(FirstPartDegrees1!$C$9),\"\",FirstPartDegrees1!$C$9)","v":""},{"$f":"SeconedPartDegrees1!N85","v":0},{"$f":"IF(ISBLANK(SeconedPartDegrees1!$N$9),\"\",SeconedPartDegrees1!$N$9)","v":""},null,null,0,{"$f":"SeconedPartDegrees1!I85","v":0},{"$f":"IF(ISBLANK(SeconedPartDegrees1!$I$9),\"\",SeconedPartDegrees1!$I$9)","v":""},{"$f":"SeconedPartDegrees1!L85","v":0},{"$f":"IF(ISBLANK(SeconedPartDegrees1!$L$9),\"\",SeconedPartDegrees1!$L$9)","v":""},null,null,0,0,{"$f":"FirstPartDegrees1!H85","v":0},{"$f":"IF(ISBLANK(FirstPartDegrees1!$G$9),\"\",FirstPartDegrees1!$G$9)","v":""},{"$f":"SeconedPartDegrees1!O85","v":0},{"$f":"IF(ISBLANK(SeconedPartDegrees1!$N$9),\"\",SeconedPartDegrees1!$N$9)","v":""},null,null,0,{"$f":"FirstPartDegrees1!K85","v":0},{"$f":"IF(ISBLANK(FirstPartDegrees1!$K$9),\"\",FirstPartDegrees1!$K$9)","v":""},{"$f":"SeconedPartDegrees1!H85","v":0},{"$f":"IF(ISBLANK(SeconedPartDegrees1!$G$9),\"\",SeconedPartDegrees1!$G$9)","v":""},null,null,0,{"$f":"SeconedPartDegrees1!E85","v":0},{"$f":"IF(ISBLANK(SeconedPartDegrees1!$E$9),\"\",SeconedPartDegrees1!$E$9)","v":""},{"$f":"SeconedPartDegrees1!J85","v":0},{"$f":"IF(ISBLANK(SeconedPartDegrees1!$I$9),\"\",SeconedPartDegrees1!$I$9)","v":""},null,null,0,{"$f":"FirstPartDegrees1!N85","v":0},{"$f":"IF(ISBLANK(FirstPartDegrees1!$M$9),\"\",FirstPartDegrees1!$M$9)","v":""},{"$f":"SeconedPartDegrees1!K85","v":0},{"$f":"IF(ISBLANK(SeconedPartDegrees1!$I$9),\"\",SeconedPartDegrees1!$I$9)","v":""},null,null,0,0,0,{"$f":"SeconedPartDegrees1!Q85","v":""}]
[{"$f":"SeconedPartDegrees1!A87","v":38},{"$f":"FirstPartDegrees1!B87","v":""},{"$f":"FirstPartDegrees1!$H$7","v":"7-1"},{"$f":"FirstPartDegrees1!G87","v":0},{"$f":"IF(ISBLANK(SeconedPartDegrees1!$G$9),\"\",SeconedPartDegrees1!$G$9)","v":""},{"$f":"SeconedPartDegrees1!C87","v":0},{"$f":"IF(ISBLANK(SeconedPartDegrees1!$C$9),\"\",SeconedPartDegrees1!$C$9)","v":""},null,null,0,{"$f":"FirstPartDegrees1!I87","v":0},{"$f":"IF(ISBLANK(FirstPartDegrees1!$I$9),\"\",FirstPartDegrees1!$I$9)","v":""},{"$f":"FirstPartDegrees1!M87","v":0},{"$f":"IF(ISBLANK(FirstPartDegrees1!$M$9),\"\",FirstPartDegrees1!$M$9)","v":""},null,null,0,{"$f":"FirstPartDegrees1!E87","v":0},{"$f":"IF(ISBLANK(FirstPartDegrees1!$E$9),\"\",FirstPartDegrees1!$E$9)","v":""},{"$f":"SeconedPartDegrees1!F87","v":0},{"$f":"IF(ISBLANK(SeconedPartDegrees1!$E$9),\"\",SeconedPartDegrees1!$E$9)","v":""},null,null,0,{"$f":"FirstPartDegrees1!J87","v":0},{"$f":"IF(ISBLANK(FirstPartDegrees1!$I$9),\"\",FirstPartDegrees1!$I$9)","v":""},{"$f":"FirstPartDegrees1!L87","v":0},{"$f":"IF(ISBLANK(FirstPartDegrees1!$K$9),\"\",FirstPartDegrees1!$K$9)","v":""},null,null,0,0,{"$f":"SeconedPartDegrees1!G87","v":0},{"$f":"IF(ISBLANK(SeconedPartDegrees1!$G$9),\"\",SeconedPartDegrees1!$G$9)","v":""},{"$f":"SeconedPartDegrees1!M87","v":0},{"$f":"IF(ISBLANK(SeconedPartDegrees1!$L$9),\"\",SeconedPartDegrees1!$L$9)","v":""},null,null,0,{"$f":"FirstPartDegrees1!C87","v":0},{"$f":"IF(ISBLANK(FirstPartDegrees1!$C$9),\"\",FirstPartDegrees1!$C$9)","v":""},{"$f":"FirstPartDegrees1!F87","v":0},{"$f":"IF(ISBLANK(FirstPartDegrees1!$E$9),\"\",FirstPartDegrees1!$E$9)","v":""},null,null,0,{"$f":"FirstPartDegrees1!D87","v":0},{"$f":"IF(ISBLANK(FirstPartDegrees1!$C$9),\"\",FirstPartDegrees1!$C$9)","v":""},{"$f":"SeconedPartDegrees1!N87","v":0},{"$f":"IF(ISBLANK(SeconedPartDegrees1!$N$9),\"\",SeconedPartDegrees1!$N$9)","v":""},null,null,0,{"$f":"SeconedPartDegrees1!I87","v":0},{"$f":"IF(ISBLANK(SeconedPartDegrees1!$I$9),\"\",SeconedPartDegrees1!$I$9)","v":""},{"$f":"SeconedPartDegrees1!L87","v":0},{"$f":"IF(ISBLANK(SeconedPartDegrees1!$L$9),\"\",SeconedPartDegrees1!$L$9)","v":""},null,null,0,0,{"$f":"FirstPartDegrees1!H87","v":0},{"$f":"IF(ISBLANK(FirstPartDegrees1!$G$9),\"\",FirstPartDegrees1!$G$9)","v":""},{"$f":"SeconedPartDegrees1!O87","v":0},{"$f":"IF(ISBLANK(SeconedPartDegrees1!$N$9),\"\",SeconedPartDegrees1!$N$9)","v":""},null,null,0,{"$f":"FirstPartDegrees1!K87","v":0},{"$f":"IF(ISBLANK(FirstPartDegrees1!$K$9),\"\",FirstPartDegrees1!$K$9)","v":""},{"$f":"SeconedPartDegrees1!H87","v":0},{"$f":"IF(ISBLANK(SeconedPartDegrees1!$G$9),\"\",SeconedPartDegrees1!$G$9)","v":""},null,null,0,{"$f":"SeconedPartDegrees1!E87","v":0},{"$f":"IF(ISBLANK(SeconedPartDegrees1!$E$9),\"\",SeconedPartDegrees1!$E$9)","v":""},{"$f":"SeconedPartDegrees1!J87","v":0},{"$f":"IF(ISBLANK(SeconedPartDegrees1!$I$9),\"\",SeconedPartDegrees1!$I$9)","v":""},null,null,0,{"$f":"FirstPartDegrees1!N87","v":0},{"$f":"IF(ISBLANK(FirstPartDegrees1!$M$9),\"\",FirstPartDegrees1!$M$9)","v":""},{"$f":"SeconedPartDegrees1!K87","v":0},{"$f":"IF(ISBLANK(SeconedPartDegrees1!$I$9),\"\",SeconedPartDegrees1!$I$9)","v":""},null,null,0,0,0,{"$f":"SeconedPartDegrees1!Q87","v":""}]
[{"$f":"SeconedPartDegrees1!A89","v":39},{"$f":"FirstPartDegrees1!B89","v":""},{"$f":"FirstPartDegrees1!$H$7","v":"7-1"},{"$f":"FirstPartDegrees1!G89","v":0},{"$f":"IF(ISBLANK(SeconedPartDegrees1!$G$9),\"\",SeconedPartDegrees1!$G$9)","v":""},{"$f":"SeconedPartDegrees1!C89","v":0},{"$f":"IF(ISBLANK(SeconedPartDegrees1!$C$9),\"\",SeconedPartDegrees1!$C$9)","v":""},null,null,0,{"$f":"FirstPartDegrees1!I89","v":0},{"$f":"IF(ISBLANK(FirstPartDegrees1!$I$9),\"\",FirstPartDegrees1!$I$9)","v":""},{"$f":"FirstPartDegrees1!M89","v":0},{"$f":"IF(ISBLANK(FirstPartDegrees1!$M$9),\"\",FirstPartDegrees1!$M$9)","v":""},null,null,0,{"$f":"FirstPartDegrees1!E89","v":0},{"$f":"IF(ISBLANK(FirstPartDegrees1!$E$9),\"\",FirstPartDegrees1!$E$9)","v":""},{"$f":"SeconedPartDegrees1!F89","v":0},{"$f":"IF(ISBLANK(SeconedPartDegrees1!$E$9),\"\",SeconedPartDegrees1!$E$9)","v":""},null,null,0,{"$f":"FirstPartDegrees1!J89","v":0},{"$f":"IF(ISBLANK(FirstPartDegrees1!$I$9),\"\",FirstPartDegrees1!$I$9)","v":""},{"$f":"FirstPartDegrees1!L89","v":0},{"$f":"IF(ISBLANK(FirstPartDegrees1!$K$9),\"\",FirstPartDegrees1!$K$9)","v":""},null,null,0,0,{"$f":"SeconedPartDegrees1!G89","v":0},{"$f":"IF(ISBLANK(SeconedPartDegrees1!$G$9),\"\",SeconedPartDegrees1!$G$9)","v":""},{"$f":"SeconedPartDegrees1!M89","v":0},{"$f":"IF(ISBLANK(SeconedPartDegrees1!$L$9),\"\",SeconedPartDegrees1!$L$9)","v":""},null,null,0,{"$f":"FirstPartDegrees1!C89","v":0},{"$f":"IF(ISBLANK(FirstPartDegrees1!$C$9),\"\",FirstPartDegrees1!$C$9)","v":""},{"$f":"FirstPartDegrees1!F89","v":0},{"$f":"IF(ISBLANK(FirstPartDegrees1!$E$9),\"\",FirstPartDegrees1!$E$9)","v":""},null,null,0,{"$f":"FirstPartDegrees1!D89","v":0},{"$f":"IF(ISBLANK(FirstPartDegrees1!$C$9),\"\",FirstPartDegrees1!$C$9)","v":""},{"$f":"SeconedPartDegrees1!N89","v":0},{"$f":"IF(ISBLANK(SeconedPartDegrees1!$N$9),\"\",SeconedPartDegrees1!$N$9)","v":""},null,null,0,{"$f":"SeconedPartDegrees1!I89","v":0},{"$f":"IF(ISBLANK(SeconedPartDegrees1!$I$9),\"\",SeconedPartDegrees1!$I$9)","v":""},{"$f":"SeconedPartDegrees1!L89","v":0},{"$f":"IF(ISBLANK(SeconedPartDegrees1!$L$9),\"\",SeconedPartDegrees1!$L$9)","v":""},null,null,0,0,{"$f":"FirstPartDegrees1!H89","v":0},{"$f":"IF(ISBLANK(FirstPartDegrees1!$G$9),\"\",FirstPartDegrees1!$G$9)","v":""},{"$f":"SeconedPartDegrees1!O89","v":0},{"$f":"IF(ISBLANK(SeconedPartDegrees1!$N$9),\"\",SeconedPartDegrees1!$N$9)","v":""},null,null,0,{"$f":"FirstPartDegrees1!K89","v":0},{"$f":"IF(ISBLANK(FirstPartDegrees1!$K$9),\"\",FirstPartDegrees1!$K$9)","v":""},{"$f":"SeconedPartDegrees1!H89","v":0},{"$f":"IF(ISBLANK(SeconedPartDegrees1!$G$9),\"\",SeconedPartDegrees1!$G$9)","v":""},null,null,0,{"$f":"SeconedPartDegrees1!E89","v":0},{"$f":"IF(ISBLANK(SeconedPartDegrees1!$E$9),\"\",SeconedPartDegrees1!$E$9)","v":""},{"$f":"SeconedPartDegrees1!J89","v":0},{"$f":"IF(ISBLANK(SeconedPartDegrees1!$I$9),\"\",SeconedPartDegrees1!$I$9)","v":""},null,null,0,{"$f":"FirstPartDegrees1!N89","v":0},{"$f":"IF(ISBLANK(FirstPartDegrees1!$M$9),\"\",FirstPartDegrees1!$M$9)","v":""},{"$f":"SeconedPartDegrees1!K89","v":0},{"$f":"IF(ISBLANK(SeconedPartDegrees1!$I$9),\"\",SeconedPartDegrees1!$I$9)","v":""},null,null,0,0,0,{"$f":"SeconedPartDegrees1!Q89","v":""}]
[{"$f":"SeconedPartDegrees1!A91","v":40},{"$f":"FirstPartDegrees1!B91","v":""},{"$f":"FirstPartDegrees1!$H$7","v":"7-1"},{"$f":"FirstPartDegrees1!G91","v":0},{"$f":"IF(ISBLANK(SeconedPartDegrees1!$G$9),\"\",SeconedPartDegrees1!$G$9)","v":""},{"$f":"SeconedPartDegrees1!C91","v":0},{"$f":"IF(ISBLANK(SeconedPartDegrees1!$C$9),\"\",SeconedPartDegrees1!$C$9)","v":""},null,null,0,{"$f":"FirstPartDegrees1!I91","v":0},{"$f":"IF(ISBLANK(FirstPartDegrees1!$I$9),\"\",FirstPartDegrees1!$I$9)","v":""},{"$f":"FirstPartDegrees1!M91","v":0},{"$f":"IF(ISBLANK(FirstPartDegrees1!$M$9),\"\",FirstPartDegrees1!$M$9)","v":""},null,null,0,{"$f":"FirstPartDegrees1!E91","v":0},{"$f":"IF(ISBLANK(FirstPartDegrees1!$E$9),\"\",FirstPartDegrees1!$E$9)","v":""},{"$f":"SeconedPartDegrees1!F91","v":0},{"$f":"IF(ISBLANK(SeconedPartDegrees1!$E$9),\"\",SeconedPartDegrees1!$E$9)","v":""},null,null,0,{"$f":"FirstPartDegrees1!J91","v":0},{"$f":"IF(ISBLANK(FirstPartDegrees1!$I$9),\"\",FirstPartDegrees1!$I$9)","v":""},{"$f":"FirstPartDegrees1!L91","v":0},{"$f":"IF(ISBLANK(FirstPartDegrees1!$K$9),\"\",FirstPartDegrees1!$K$9)","v":""},null,null,0,0,{"$f":"SeconedPartDegrees1!G91","v":0},{"$f":"IF(ISBLANK(SeconedPartDegrees1!$G$9),\"\",SeconedPartDegrees1!$G$9)","v":""},{"$f":"SeconedPartDegrees1!M91","v":0},{"$f":"IF(ISBLANK(SeconedPartDegrees1!$L$9),\"\",SeconedPartDegrees1!$L$9)","v":""},null,null,0,{"$f":"FirstPartDegrees1!C91","v":0},{"$f":"IF(ISBLANK(FirstPartDegrees1!$C$9),\"\",FirstPartDegrees1!$C$9)","v":""},{"$f":"FirstPartDegrees1!F91","v":0},{"$f":"IF(ISBLANK(FirstPartDegrees1!$E$9),\"\",FirstPartDegrees1!$E$9)","v":""},null,null,0,{"$f":"FirstPartDegrees1!D91","v":0},{"$f":"IF(ISBLANK(FirstPartDegrees1!$C$9),\"\",FirstPartDegrees1!$C$9)","v":""},{"$f":"SeconedPartDegrees1!N91","v":0},{"$f":"IF(ISBLANK(SeconedPartDegrees1!$N$9),\"\",SeconedPartDegrees1!$N$9)","v":""},null,null,0,{"$f":"SeconedPartDegrees1!I91","v":0},{"$f":"IF(ISBLANK(SeconedPartDegrees1!$I$9),\"\",SeconedPartDegrees1!$I$9)","v":""},{"$f":"SeconedPartDegrees1!L91","v":0},{"$f":"IF(ISBLANK(SeconedPartDegrees1!$L$9),\"\",SeconedPartDegrees1!$L$9)","v":""},null,null,0,0,{"$f":"FirstPartDegrees1!H91","v":0},{"$f":"IF(ISBLANK(FirstPartDegrees1!$G$9),\"\",FirstPartDegrees1!$G$9)","v":""},{"$f":"SeconedPartDegrees1!O91","v":0},{"$f":"IF(ISBLANK(SeconedPartDegrees1!$N$9),\"\",SeconedPartDegrees1!$N$9)","v":""},null,null,0,{"$f":"FirstPartDegrees1!K91","v":0},{"$f":"IF(ISBLANK(FirstPartDegrees1!$K$9),\"\",FirstPartDegrees1!$K$9)","v":""},{"$f":"SeconedPartDegrees1!H91","v":0},{"$f":"IF(ISBLANK(SeconedPartDegrees1!$G$9),\"\",SeconedPartDegrees1!$G$9)","v":""},null,null,0,{"$f":"SeconedPartDegrees1!E91","v":0},{"$f":"IF(ISBLANK(SeconedPartDegrees1!$E$9),\"\",SeconedPartDegrees1!$E$9)","v":""},{"$f":"SeconedPartDegrees1!J91","v":0},{"$f":"IF(ISBLANK(SeconedPartDegrees1!$I$9),\"\",SeconedPartDegrees1!$I$9)","v":""},null,null,0,{"$f":"FirstPartDegrees1!N91","v":0},{"$f":"IF(ISBLANK(FirstPartDegrees1!$M$9),\"\",FirstPartDegrees1!$M$9)","v":""},{"$f":"SeconedPartDegrees1!K91","v":0},{"$f":"IF(ISBLANK(SeconedPartDegrees1!$I$9),\"\",SeconedPartDegrees1!$I$9)","v":""},null,null,0,0,0,{"$f":"SeconedPartDegrees1!Q91","v":""}]
[{"$f":"SeconedPartDegrees1!A93","v":41},{"$f":"FirstPartDegrees1!B93","v":""},{"$f":"FirstPartDegrees1!$H$7","v":"7-1"},{"$f":"FirstPartDegrees1!G93","v":0},{"$f":"IF(ISBLANK(SeconedPartDegrees1!$G$9),\"\",SeconedPartDegrees1!$G$9)","v":""},{"$f":"SeconedPartDegrees1!C93","v":0},{"$f":"IF(ISBLANK(SeconedPartDegrees1!$C$9),\"\",SeconedPartDegrees1!$C$9)","v":""},null,null,{"$f":"(F42+D42)/2","v":0},{"$f":"FirstPartDegrees1!I93","v":0},{"$f":"IF(ISBLANK(FirstPartDegrees1!$I$9),\"\",FirstPartDegrees1!$I$9)","v":""},{"$f":"FirstPartDegrees1!M93","v":0},{"$f":"IF(ISBLANK(FirstPartDegrees1!$M$9),\"\",FirstPartDegrees1!$M$9)","v":""},null,null,{"$f":"(M42+K42)/2","v":0},{"$f":"FirstPartDegrees1!E93","v":0},{"$f":"IF(ISBLANK(FirstPartDegrees1!$E$9),\"\",FirstPartDegrees1!$E$9)","v":""},{"$f":"SeconedPartDegrees1!F93","v":0},{"$f":"IF(ISBLANK(SeconedPartDegrees1!$E$9),\"\",SeconedPartDegrees1!$E$9)","v":""},null,null,{"$f":"(T42+R42)/2","v":0},{"$f":"FirstPartDegrees1!J93","v":0},{"$f":"IF(ISBLANK(FirstPartDegrees1!$I$9),\"\",FirstPartDegrees1!$I$9)","v":""},{"$f":"FirstPartDegrees1!L93","v":0},{"$f":"IF(ISBLANK(FirstPartDegrees1!$K$9),\"\",FirstPartDegrees1!$K$9)","v":""},null,null,{"$f":"(AA42+Y42)/2","v":0},{"$f":"ROUNDUP((J42+Q42+X42+AE42)/4,0)","v":0},{"$f":"SeconedPartDegrees1!G93","v":0},{"$f":"IF(ISBLANK(SeconedPartDegrees1!$G$9),\"\",SeconedPartDegrees1!$G$9)","v":""},{"$f":"SeconedPartDegrees1!M93","v":0},{"$f":"IF(ISBLANK(SeconedPartDegrees1!$L$9),\"\",SeconedPartDegrees1!$L$9)","v":""},null,null,{"$f":"(AI42+AG42)/2","v":0},{"$f":"FirstPartDegrees1!C93","v":0},{"$f":"IF(ISBLANK(FirstPartDegrees1!$C$9),\"\",FirstPartDegrees1!$C$9)","v":""},{"$f":"FirstPartDegrees1!F93","v":0},{"$f":"IF(ISBLANK(FirstPartDegrees1!$E$9),\"\",FirstPartDegrees1!$E$9)","v":""},null,null,{"$f":"(AP42+AN42)/2","v":0},{"$f":"FirstPartDegrees1!D93","v":0},{"$f":"IF(ISBLANK(FirstPartDegrees1!$C$9),\"\",FirstPartDegrees1!$C$9)","v":""},{"$f":"SeconedPartDegrees1!N93","v":0},{"$f":"IF(ISBLANK(SeconedPartDegrees1!$N$9),\"\",SeconedPartDegrees1!$N$9)","v":""},null,null,{"$f":"(AW42+AU42)/2","v":0},{"$f":"SeconedPartDegrees1!I93","v":0},{"$f":"IF(ISBLANK(SeconedPartDegrees1!$I$9),\"\",SeconedPartDegrees1!$I$9)","v":""},{"$f":"SeconedPartDegrees1!L93","v":0},{"$f":"IF(ISBLANK(SeconedPartDegrees1!$L$9),\"\",SeconedPartDegrees1!$L$9)","v":""},null,null,{"$f":"(BD42+BB42)/2","v":0},{"$f":"ROUNDUP((AM42+AT42+BA42+BH42)/4,0)","v":0},{"$f":"FirstPartDegrees1!H93","v":0},{"$f":"IF(ISBLANK(FirstPartDegrees1!$G$9),\"\",FirstPartDegrees1!$G$9)","v":""},{"$f":"SeconedPartDegrees1!O93","v":0},{"$f":"IF(ISBLANK(SeconedPartDegrees1!$N$9),\"\",SeconedPartDegrees1!$N$9)","v":""},null,null,{"$f":"(BL42+BJ42)/2","v":0},{"$f":"FirstPartDegrees1!K93","v":0},{"$f":"IF(ISBLANK(FirstPartDegrees1!$K$9),\"\",FirstPartDegrees1!$K$9)","v":""},{"$f":"SeconedPartDegrees1!H93","v":0},{"$f":"IF(ISBLANK(SeconedPartDegrees1!$G$9),\"\",SeconedPartDegrees1!$G$9)","v":""},null,null,{"$f":"(BS42+BQ42)/2","v":0},{"$f":"SeconedPartDegrees1!E93","v":0},{"$f":"IF(ISBLANK(SeconedPartDegrees1!$E$9),\"\",SeconedPartDegrees1!$E$9)","v":""},{"$f":"SeconedPartDegrees1!J93","v":0},{"$f":"IF(ISBLANK(SeconedPartDegrees1!$I$9),\"\",SeconedPartDegrees1!$I$9)","v":""},null,null,{"$f":"(BZ42+BX42)/2","v":0},{"$f":"FirstPartDegrees1!N93","v":0},{"$f":"IF(ISBLANK(FirstPartDegrees1!$M$9),\"\",FirstPartDegrees1!$M$9)","v":""},{"$f":"SeconedPartDegrees1!K93","v":0},{"$f":"IF(ISBLANK(SeconedPartDegrees1!$I$9),\"\",SeconedPartDegrees1!$I$9)","v":""},null,null,{"$f":"(CG42+CE42)/2","v":0},{"$f":"ROUNDUP((BP42+BW42+CD42+CK42)/4,0)","v":0},{"$f":"(CL42+AF42+BI42)*40/12","v":0},{"$f":"SeconedPartDegrees1!Q93","v":""}]
[{"$f":"SeconedPartDegrees1!A95","v":42},{"$f":"FirstPartDegrees1!B95","v":""},{"$f":"FirstPartDegrees1!$H$7","v":"7-1"},{"$f":"FirstPartDegrees1!G95","v":0},{"$f":"IF(ISBLANK(SeconedPartDegrees1!$G$9),\"\",SeconedPartDegrees1!$G$9)","v":""},{"$f":"SeconedPartDegrees1!C95","v":0},{"$f":"IF(ISBLANK(SeconedPartDegrees1!$C$9),\"\",SeconedPartDegrees1!$C$9)","v":""},null,null,0,{"$f":"FirstPartDegrees1!I95","v":0},{"$f":"IF(ISBLANK(FirstPartDegrees1!$I$9),\"\",FirstPartDegrees1!$I$9)","v":""},{"$f":"FirstPartDegrees1!M95","v":0},{"$f":"IF(ISBLANK(FirstPartDegrees1!$M$9),\"\",FirstPartDegrees1!$M$9)","v":""},null,null,0,{"$f":"FirstPartDegrees1!E95","v":0},{"$f":"IF(ISBLANK(FirstPartDegrees1!$E$9),\"\",FirstPartDegrees1!$E$9)","v":""},{"$f":"SeconedPartDegrees1!F95","v":0},{"$f":"IF(ISBLANK(SeconedPartDegrees1!$E$9),\"\",SeconedPartDegrees1!$E$9)","v":""},null,null,0,{"$f":"FirstPartDegrees1!J95","v":0},{"$f":"IF(ISBLANK(FirstPartDegrees1!$I$9),\"\",FirstPartDegrees1!$I$9)","v":""},{"$f":"FirstPartDegrees1!L95","v":0},{"$f":"IF(ISBLANK(FirstPartDegrees1!$K$9),\"\",FirstPartDegrees1!$K$9)","v":""},null,null,0,0,{"$f":"SeconedPartDegrees1!G95","v":0},{"$f":"IF(ISBLANK(SeconedPartDegrees1!$G$9),\"\",SeconedPartDegrees1!$G$9)","v":""},{"$f":"SeconedPartDegrees1!M95","v":0},{"$f":"IF(ISBLANK(SeconedPartDegrees1!$L$9),\"\",SeconedPartDegrees1!$L$9)","v":""},null,null,0,{"$f":"FirstPartDegrees1!C95","v":0},{"$f":"IF(ISBLANK(FirstPartDegrees1!$C$9),\"\",FirstPartDegrees1!$C$9)","v":""},{"$f":"FirstPartDegrees1!F95","v":0},{"$f":"IF(ISBLANK(FirstPartDegrees1!$E$9),\"\",FirstPartDegrees1!$E$9)","v":""},null,null,0,{"$f":"FirstPartDegrees1!D95","v":0},{"$f":"IF(ISBLANK(FirstPartDegrees1!$C$9),\"\",FirstPartDegrees1!$C$9)","v":""},{"$f":"SeconedPartDegrees1!N95","v":0},{"$f":"IF(ISBLANK(SeconedPartDegrees1!$N$9),\"\",SeconedPartDegrees1!$N$9)","v":""},null,null,0,{"$f":"SeconedPartDegrees1!I95","v":0},{"$f":"IF(ISBLANK(SeconedPartDegrees1!$I$9),\"\",SeconedPartDegrees1!$I$9)","v":""},{"$f":"SeconedPartDegrees1!L95","v":0},{"$f":"IF(ISBLANK(SeconedPartDegrees1!$L$9),\"\",SeconedPartDegrees1!$L$9)","v":""},null,null,0,0,{"$f":"FirstPartDegrees1!H95","v":0},{"$f":"IF(ISBLANK(FirstPartDegrees1!$G$9),\"\",FirstPartDegrees1!$G$9)","v":""},{"$f":"SeconedPartDegrees1!O95","v":0},{"$f":"IF(ISBLANK(SeconedPartDegrees1!$N$9),\"\",SeconedPartDegrees1!$N$9)","v":""},null,null,0,{"$f":"FirstPartDegrees1!K95","v":0},{"$f":"IF(ISBLANK(FirstPartDegrees1!$K$9),\"\",FirstPartDegrees1!$K$9)","v":""},{"$f":"SeconedPartDegrees1!H95","v":0},{"$f":"IF(ISBLANK(SeconedPartDegrees1!$G$9),\"\",SeconedPartDegrees1!$G$9)","v":""},null,null,0,{"$f":"SeconedPartDegrees1!E95","v":0},{"$f":"IF(ISBLANK(SeconedPartDegrees1!$E$9),\"\",SeconedPartDegrees1!$E$9)","v":""},{"$f":"SeconedPartDegrees1!J95","v":0},{"$f":"IF(ISBLANK(SeconedPartDegrees1!$I$9),\"\",SeconedPartDegrees1!$I$9)","v":""},null,null,0,{"$f":"FirstPartDegrees1!N95","v":0},{"$f":"IF(ISBLANK(FirstPartDegrees1!$M$9),\"\",FirstPartDegrees1!$M$9)","v":""},{"$f":"SeconedPartDegrees1!K95","v":0},{"$f":"IF(ISBLANK(SeconedPartDegrees1!$I$9),\"\",SeconedPartDegrees1!$I$9)","v":""},null,null,0,0,0,{"$f":"SeconedPartDegrees1!Q95","v":""}]
[{"$f":"SeconedPartDegrees1!A97","v":43},{"$f":"FirstPartDegrees1!B97","v":""},{"$f":"FirstPartDegrees1!$H$7","v":"7-1"},{"$f":"FirstPartDegrees1!G97","v":0},{"$f":"IF(ISBLANK(SeconedPartDegrees1!$G$9),\"\",SeconedPartDegrees1!$G$9)","v":""},{"$f":"SeconedPartDegrees1!C97","v":0},{"$f":"IF(ISBLANK(SeconedPartDegrees1!$C$9),\"\",SeconedPartDegrees1!$C$9)","v":""},null,null,0,{"$f":"FirstPartDegrees1!I97","v":0},{"$f":"IF(ISBLANK(FirstPartDegrees1!$I$9),\"\",FirstPartDegrees1!$I$9)","v":""},{"$f":"FirstPartDegrees1!M97","v":0},{"$f":"IF(ISBLANK(FirstPartDegrees1!$M$9),\"\",FirstPartDegrees1!$M$9)","v":""},null,null,0,{"$f":"FirstPartDegrees1!E97","v":0},{"$f":"IF(ISBLANK(FirstPartDegrees1!$E$9),\"\",FirstPartDegrees1!$E$9)","v":""},{"$f":"SeconedPartDegrees1!F97","v":0},{"$f":"IF(ISBLANK(SeconedPartDegrees1!$E$9),\"\",SeconedPartDegrees1!$E$9)","v":""},null,null,0,{"$f":"FirstPartDegrees1!J97","v":0},{"$f":"IF(ISBLANK(FirstPartDegrees1!$I$9),\"\",FirstPartDegrees1!$I$9)","v":""},{"$f":"FirstPartDegrees1!L97","v":0},{"$f":"IF(ISBLANK(FirstPartDegrees1!$K$9),\"\",FirstPartDegrees1!$K$9)","v":""},null,null,0,0,{"$f":"SeconedPartDegrees1!G97","v":0},{"$f":"IF(ISBLANK(SeconedPartDegrees1!$G$9),\"\",SeconedPartDegrees1!$G$9)","v":""},{"$f":"SeconedPartDegrees1!M97","v":0},{"$f":"IF(ISBLANK(SeconedPartDegrees1!$L$9),\"\",SeconedPartDegrees1!$L$9)","v":""},null,null,0,{"$f":"FirstPartDegrees1!C97","v":0},{"$f":"IF(ISBLANK(FirstPartDegrees1!$C$9),\"\",FirstPartDegrees1!$C$9)","v":""},{"$f":"FirstPartDegrees1!F97","v":0},{"$f":"IF(ISBLANK(FirstPartDegrees1!$E$9),\"\",FirstPartDegrees1!$E$9)","v":""},null,null,0,{"$f":"FirstPartDegrees1!D97","v":0},{"$f":"IF(ISBLANK(FirstPartDegrees1!$C$9),\"\",FirstPartDegrees1!$C$9)","v":""},{"$f":"SeconedPartDegrees1!N97","v":0},{"$f":"IF(ISBLANK(SeconedPartDegrees1!$N$9),\"\",SeconedPartDegrees1!$N$9)","v":""},null,null,0,{"$f":"SeconedPartDegrees1!I97","v":0},{"$f":"IF(ISBLANK(SeconedPartDegrees1!$I$9),\"\",SeconedPartDegrees1!$I$9)","v":""},{"$f":"SeconedPartDegrees1!L97","v":0},{"$f":"IF(ISBLANK(SeconedPartDegrees1!$L$9),\"\",SeconedPartDegrees1!$L$9)","v":""},null,null,0,0,{"$f":"FirstPartDegrees1!H97","v":0},{"$f":"IF(ISBLANK(FirstPartDegrees1!$G$9),\"\",FirstPartDegrees1!$G$9)","v":""},{"$f":"SeconedPartDegrees1!O97","v":0},{"$f":"IF(ISBLANK(SeconedPartDegrees1!$N$9),\"\",SeconedPartDegrees1!$N$9)","v":""},null,null,0,{"$f":"FirstPartDegrees1!K97","v":0},{"$f":"IF(ISBLANK(FirstPartDegrees1!$K$9),\"\",FirstPartDegrees1!$K$9)","v":""},{"$f":"SeconedPartDegrees1!H97","v":0},{"$f":"IF(ISBLANK(SeconedPartDegrees1!$G$9),\"\",SeconedPartDegrees1!$G$9)","v":""},null,null,0,{"$f":"SeconedPartDegrees1!E97","v":0},{"$f":"IF(ISBLANK(SeconedPartDegrees1!$E$9),\"\",SeconedPartDegrees1!$E$9)","v":""},{"$f":"SeconedPartDegrees1!J97","v":0},{"$f":"IF(ISBLANK(SeconedPartDegrees1!$I$9),\"\",SeconedPartDegrees1!$I$9)","v":""},null,null,0,{"$f":"FirstPartDegrees1!N97","v":0},{"$f":"IF(ISBLANK(FirstPartDegrees1!$M$9),\"\",FirstPartDegrees1!$M$9)","v":""},{"$f":"SeconedPartDegrees1!K97","v":0},{"$f":"IF(ISBLANK(SeconedPartDegrees1!$I$9),\"\",SeconedPartDegrees1!$I$9)","v":""},null,null,0,0,0,{"$f":"SeconedPartDegrees1!Q97","v":""}]
[{"$f":"SeconedPartDegrees1!A99","v":44},{"$f":"FirstPartDegrees1!B99","v":""},{"$f":"FirstPartDegrees1!$H$7","v":"7-1"},{"$f":"FirstPartDegrees1!G99","v":0},{"$f":"IF(ISBLANK(SeconedPartDegrees1!$G$9),\"\",SeconedPartDegrees1!$G$9)","v":""},{"$f":"SeconedPartDegrees1!C99","v":0},{"$f":"IF(ISBLANK(SeconedPartDegrees1!$C$9),\"\",SeconedPartDegrees1!$C$9)","v":""},null,null,0,{"$f":"FirstPartDegrees1!I99","v":0},{"$f":"IF(ISBLANK(FirstPartDegrees1!$I$9),\"\",FirstPartDegrees1!$I$9)","v":""},{"$f":"FirstPartDegrees1!M99","v":0},{"$f":"IF(ISBLANK(FirstPartDegrees1!$M$9),\"\",FirstPartDegrees1!$M$9)","v":""},null,null,0,{"$f":"FirstPartDegrees1!E99","v":0},{"$f":"IF(ISBLANK(FirstPartDegrees1!$E$9),\"\",FirstPartDegrees1!$E$9)","v":""},{"$f":"SeconedPartDegrees1!F99","v":0},{"$f":"IF(ISBLANK(SeconedPartDegrees1!$E$9),\"\",SeconedPartDegrees1!$E$9)","v":""},null,null,0,{"$f":"FirstPartDegrees1!J99","v":0},{"$f":"IF(ISBLANK(FirstPartDegrees1!$I$9),\"\",FirstPartDegrees1!$I$9)","v":""},{"$f":"FirstPartDegrees1!L99","v":0},{"$f":"IF(ISBLANK(FirstPartDegrees1!$K$9),\"\",FirstPartDegrees1!$K$9)","v":""},null,null,0,0,{"$f":"SeconedPartDegrees1!G99","v":0},{"$f":"IF(ISBLANK(SeconedPartDegrees1!$G$9),\"\",SeconedPartDegrees1!$G$9)","v":""},{"$f":"SeconedPartDegrees1!M99","v":0},{"$f":"IF(ISBLANK(SeconedPartDegrees1!$L$9),\"\",SeconedPartDegrees1!$L$9)","v":""},null,null,0,{"$f":"FirstPartDegrees1!C99","v":0},{"$f":"IF(ISBLANK(FirstPartDegrees1!$C$9),\"\",FirstPartDegrees1!$C$9)","v":""},{"$f":"FirstPartDegrees1!F99","v":0},{"$f":"IF(ISBLANK(FirstPartDegrees1!$E$9),\"\",FirstPartDegrees1!$E$9)","v":""},null,null,0,{"$f":"FirstPartDegrees1!D99","v":0},{"$f":"IF(ISBLANK(FirstPartDegrees1!$C$9),\"\",FirstPartDegrees1!$C$9)","v":""},{"$f":"SeconedPartDegrees1!N99","v":0},{"$f":"IF(ISBLANK(SeconedPartDegrees1!$N$9),\"\",SeconedPartDegrees1!$N$9)","v":""},null,null,0,{"$f":"SeconedPartDegrees1!I99","v":0},{"$f":"IF(ISBLANK(SeconedPartDegrees1!$I$9),\"\",SeconedPartDegrees1!$I$9)","v":""},{"$f":"SeconedPartDegrees1!L99","v":0},{"$f":"IF(ISBLANK(SeconedPartDegrees1!$L$9),\"\",SeconedPartDegrees1!$L$9)","v":""},null,null,0,0,{"$f":"FirstPartDegrees1!H99","v":0},{"$f":"IF(ISBLANK(FirstPartDegrees1!$G$9),\"\",FirstPartDegrees1!$G$9)","v":""},{"$f":"SeconedPartDegrees1!O99","v":0},{"$f":"IF(ISBLANK(SeconedPartDegrees1!$N$9),\"\",SeconedPartDegrees1!$N$9)","v":""},null,null,0,{"$f":"FirstPartDegrees1!K99","v":0},{"$f":"IF(ISBLANK(FirstPartDegrees1!$K$9),\"\",FirstPartDegrees1!$K$9)","v":""},{"$f":"SeconedPartDegrees1!H99","v":0},{"$f":"IF(ISBLANK(SeconedPartDegrees1!$G$9),\"\",SeconedPartDegrees1!$G$9)","v":""},null,null,0,{"$f":"SeconedPartDegrees1!E99","v":0},{"$f":"IF(ISBLANK(SeconedPartDegrees1!$E$9),\"\",SeconedPartDegrees1!$E$9)","v":""},{"$f":"SeconedPartDegrees1!J99","v":0},{"$f":"IF(ISBLANK(SeconedPartDegrees1!$I$9),\"\",SeconedPartDegrees1!$I$9)","v":""},null,null,0,{"$f":"FirstPartDegrees1!N99","v":0},{"$f":"IF(ISBLANK(FirstPartDegrees1!$M$9),\"\",FirstPartDegrees1!$M$9)","v":""},{"$f":"SeconedPartDegrees1!K99","v":0},{"$f":"IF(ISBLANK(SeconedPartDegrees1!$I$9),\"\",SeconedPartDegrees1!$I$9)","v":""},null,null,0,0,0,{"$f":"SeconedPartDegrees1!Q99","v":""}]
[{"$f":"SeconedPartDegrees1!A101","v":45},{"$f":"FirstPartDegrees1!B101","v":""},{"$f":"FirstPartDegrees1!$H$7","v":"7-1"},{"$f":"FirstPartDegrees1!G101","v":0},{"$f":"IF(ISBLANK(SeconedPartDegrees1!$G$9),\"\",SeconedPartDegrees1!$G$9)","v":""},{"$f":"SeconedPartDegrees1!C101","v":0},{"$f":"IF(ISBLANK(SeconedPartDegrees1!$C$9),\"\",SeconedPartDegrees1!$C$9)","v":""},null,null,0,{"$f":"FirstPartDegrees1!I101","v":0},{"$f":"IF(ISBLANK(FirstPartDegrees1!$I$9),\"\",FirstPartDegrees1!$I$9)","v":""},{"$f":"FirstPartDegrees1!M101","v":0},{"$f":"IF(ISBLANK(FirstPartDegrees1!$M$9),\"\",FirstPartDegrees1!$M$9)","v":""},null,null,0,{"$f":"FirstPartDegrees1!E101","v":0},{"$f":"IF(ISBLANK(FirstPartDegrees1!$E$9),\"\",FirstPartDegrees1!$E$9)","v":""},{"$f":"SeconedPartDegrees1!F101","v":0},{"$f":"IF(ISBLANK(SeconedPartDegrees1!$E$9),\"\",SeconedPartDegrees1!$E$9)","v":""},null,null,0,{"$f":"FirstPartDegrees1!J101","v":0},{"$f":"IF(ISBLANK(FirstPartDegrees1!$I$9),\"\",FirstPartDegrees1!$I$9)","v":""},{"$f":"FirstPartDegrees1!L101","v":0},{"$f":"IF(ISBLANK(FirstPartDegrees1!$K$9),\"\",FirstPartDegrees1!$K$9)","v":""},null,null,0,0,{"$f":"SeconedPartDegrees1!G101","v":0},{"$f":"IF(ISBLANK(SeconedPartDegrees1!$G$9),\"\",SeconedPartDegrees1!$G$9)","v":""},{"$f":"SeconedPartDegrees1!M101","v":0},{"$f":"IF(ISBLANK(SeconedPartDegrees1!$L$9),\"\",SeconedPartDegrees1!$L$9)","v":""},null,null,0,{"$f":"FirstPartDegrees1!C101","v":0},{"$f":"IF(ISBLANK(FirstPartDegrees1!$C$9),\"\",FirstPartDegrees1!$C$9)","v":""},{"$f":"FirstPartDegrees1!F101","v":0},{"$f":"IF(ISBLANK(FirstPartDegrees1!$E$9),\"\",FirstPartDegrees1!$E$9)","v":""},null,null,0,{"$f":"FirstPartDegrees1!D101","v":0},{"$f":"IF(ISBLANK(FirstPartDegrees1!$C$9),\"\",FirstPartDegrees1!$C$9)","v":""},{"$f":"SeconedPartDegrees1!N101","v":0},{"$f":"IF(ISBLANK(SeconedPartDegrees1!$N$9),\"\",SeconedPartDegrees1!$N$9)","v":""},null,null,0,{"$f":"SeconedPartDegrees1!I101","v":0},{"$f":"IF(ISBLANK(SeconedPartDegrees1!$I$9),\"\",SeconedPartDegrees1!$I$9)","v":""},{"$f":"SeconedPartDegrees1!L101","v":0},{"$f":"IF(ISBLANK(SeconedPartDegrees1!$L$9),\"\",SeconedPartDegrees1!$L$9)","v":""},null,null,0,0,{"$f":"FirstPartDegrees1!H101","v":0},{"$f":"IF(ISBLANK(FirstPartDegrees1!$G$9),\"\",FirstPartDegrees1!$G$9)","v":""},{"$f":"SeconedPartDegrees1!O101","v":0},{"$f":"IF(ISBLANK(SeconedPartDegrees1!$N$9),\"\",SeconedPartDegrees1!$N$9)","v":""},null,null,0,{"$f":"FirstPartDegrees1!K101","v":0},{"$f":"IF(ISBLANK(FirstPartDegrees1!$K$9),\"\",FirstPartDegrees1!$K$9)","v":""},{"$f":"SeconedPartDegrees1!H101","v":0},{"$f":"IF(ISBLANK(SeconedPartDegrees1!$G$9),\"\",SeconedPartDegrees1!$G$9)","v":""},null,null,0,{"$f":"SeconedPartDegrees1!E101","v":0},{"$f":"IF(ISBLANK(SeconedPartDegrees1!$E$9),\"\",SeconedPartDegrees1!$E$9)","v":""},{"$f":"SeconedPartDegrees1!J101","v":0},{"$f":"IF(ISBLANK(SeconedPartDegrees1!$I$9),\"\",SeconedPartDegrees1!$I$9)","v":""},null,null,0,{"$f":"FirstPartDegrees1!N101","v":0},{"$f":"IF(ISBLANK(FirstPartDegrees1!$M$9),\"\",FirstPartDegrees1!$M$9)","v":""},{"$f":"SeconedPartDegrees1!K101","v":0},{"$f":"IF(ISBLANK(SeconedPartDegrees1!$I$9),\"\",SeconedPartDegrees1!$I$9)","v":""},null,null,0,0,0,{"$f":"SeconedPartDegrees1!Q101","v":""}]
[{"$f":"SeconedPartDegrees1!A103","v":46},{"$f":"FirstPartDegrees1!B103","v":""},{"$f":"FirstPartDegrees1!$H$7","v":"7-1"},{"$f":"FirstPartDegrees1!G103","v":0},{"$f":"IF(ISBLANK(SeconedPartDegrees1!$G$9),\"\",SeconedPartDegrees1!$G$9)","v":""},{"$f":"SeconedPartDegrees1!C103","v":0},{"$f":"IF(ISBLANK(SeconedPartDegrees1!$C$9),\"\",SeconedPartDegrees1!$C$9)","v":""},null,null,0,{"$f":"FirstPartDegrees1!I103","v":0},{"$f":"IF(ISBLANK(FirstPartDegrees1!$I$9),\"\",FirstPartDegrees1!$I$9)","v":""},{"$f":"FirstPartDegrees1!M103","v":0},{"$f":"IF(ISBLANK(FirstPartDegrees1!$M$9),\"\",FirstPartDegrees1!$M$9)","v":""},null,null,0,{"$f":"FirstPartDegrees1!E103","v":0},{"$f":"IF(ISBLANK(FirstPartDegrees1!$E$9),\"\",FirstPartDegrees1!$E$9)","v":""},{"$f":"SeconedPartDegrees1!F103","v":0},{"$f":"IF(ISBLANK(SeconedPartDegrees1!$E$9),\"\",SeconedPartDegrees1!$E$9)","v":""},null,null,0,{"$f":"FirstPartDegrees1!J103","v":0},{"$f":"IF(ISBLANK(FirstPartDegrees1!$I$9),\"\",FirstPartDegrees1!$I$9)","v":""},{"$f":"FirstPartDegrees1!L103","v":0},{"$f":"IF(ISBLANK(FirstPartDegrees1!$K$9),\"\",FirstPartDegrees1!$K$9)","v":""},null,null,0,0,{"$f":"SeconedPartDegrees1!G103","v":0},{"$f":"IF(ISBLANK(SeconedPartDegrees1!$G$9),\"\",SeconedPartDegrees1!$G$9)","v":""},{"$f":"SeconedPartDegrees1!M103","v":0},{"$f":"IF(ISBLANK(SeconedPartDegrees1!$L$9),\"\",SeconedPartDegrees1!$L$9)","v":""},null,null,0,{"$f":"FirstPartDegrees1!C103","v":0},{"$f":"IF(ISBLANK(FirstPartDegrees1!$C$9),\"\",FirstPartDegrees1!$C$9)","v":""},{"$f":"FirstPartDegrees1!F103","v":0},{"$f":"IF(ISBLANK(FirstPartDegrees1!$E$9),\"\",FirstPartDegrees1!$E$9)","v":""},null,null,0,{"$f":"FirstPartDegrees1!D103","v":0},{"$f":"IF(ISBLANK(FirstPartDegrees1!$C$9),\"\",FirstPartDegrees1!$C$9)","v":""},{"$f":"SeconedPartDegrees1!N103","v":0},{"$f":"IF(ISBLANK(SeconedPartDegrees1!$N$9),\"\",SeconedPartDegrees1!$N$9)","v":""},null,null,0,{"$f":"SeconedPartDegrees1!I103","v":0},{"$f":"IF(ISBLANK(SeconedPartDegrees1!$I$9),\"\",SeconedPartDegrees1!$I$9)","v":""},{"$f":"SeconedPartDegrees1!L103","v":0},{"$f":"IF(ISBLANK(SeconedPartDegrees1!$L$9),\"\",SeconedPartDegrees1!$L$9)","v":""},null,null,0,0,{"$f":"FirstPartDegrees1!H103","v":0},{"$f":"IF(ISBLANK(FirstPartDegrees1!$G$9),\"\",FirstPartDegrees1!$G$9)","v":""},{"$f":"SeconedPartDegrees1!O103","v":0},{"$f":"IF(ISBLANK(SeconedPartDegrees1!$N$9),\"\",SeconedPartDegrees1!$N$9)","v":""},null,null,0,{"$f":"FirstPartDegrees1!K103","v":0},{"$f":"IF(ISBLANK(FirstPartDegrees1!$K$9),\"\",FirstPartDegrees1!$K$9)","v":""},{"$f":"SeconedPartDegrees1!H103","v":0},{"$f":"IF(ISBLANK(SeconedPartDegrees1!$G$9),\"\",SeconedPartDegrees1!$G$9)","v":""},null,null,0,{"$f":"SeconedPartDegrees1!E103","v":0},{"$f":"IF(ISBLANK(SeconedPartDegrees1!$E$9),\"\",SeconedPartDegrees1!$E$9)","v":""},{"$f":"SeconedPartDegrees1!J103","v":0},{"$f":"IF(ISBLANK(SeconedPartDegrees1!$I$9),\"\",SeconedPartDegrees1!$I$9)","v":""},null,null,0,{"$f":"FirstPartDegrees1!N103","v":0},{"$f":"IF(ISBLANK(FirstPartDegrees1!$M$9),\"\",FirstPartDegrees1!$M$9)","v":""},{"$f":"SeconedPartDegrees1!K103","v":0},{"$f":"IF(ISBLANK(SeconedPartDegrees1!$I$9),\"\",SeconedPartDegrees1!$I$9)","v":""},null,null,0,0,0,{"$f":"SeconedPartDegrees1!Q103","v":""}]
[{"$f":"SeconedPartDegrees1!A105","v":47},{"$f":"FirstPartDegrees1!B105","v":""},{"$f":"FirstPartDegrees1!$H$7","v":"7-1"},{"$f":"FirstPartDegrees1!G105","v":0},{"$f":"IF(ISBLANK(SeconedPartDegrees1!$G$9),\"\",SeconedPartDegrees1!$G$9)","v":""},{"$f":"SeconedPartDegrees1!C105","v":0},{"$f":"IF(ISBLANK(SeconedPartDegrees1!$C$9),\"\",SeconedPartDegrees1!$C$9)","v":""},null,null,0,{"$f":"FirstPartDegrees1!I105","v":0},{"$f":"IF(ISBLANK(FirstPartDegrees1!$I$9),\"\",FirstPartDegrees1!$I$9)","v":""},{"$f":"FirstPartDegrees1!M105","v":0},{"$f":"IF(ISBLANK(FirstPartDegrees1!$M$9),\"\",FirstPartDegrees1!$M$9)","v":""},null,null,0,{"$f":"FirstPartDegrees1!E105","v":0},{"$f":"IF(ISBLANK(FirstPartDegrees1!$E$9),\"\",FirstPartDegrees1!$E$9)","v":""},{"$f":"SeconedPartDegrees1!F105","v":0},{"$f":"IF(ISBLANK(SeconedPartDegrees1!$E$9),\"\",SeconedPartDegrees1!$E$9)","v":""},null,null,0,{"$f":"FirstPartDegrees1!J105","v":0},{"$f":"IF(ISBLANK(FirstPartDegrees1!$I$9),\"\",FirstPartDegrees1!$I$9)","v":""},{"$f":"FirstPartDegrees1!L105","v":0},{"$f":"IF(ISBLANK(FirstPartDegrees1!$K$9),\"\",FirstPartDegrees1!$K$9)","v":""},null,null,0,0,{"$f":"SeconedPartDegrees1!G105","v":0},{"$f":"IF(ISBLANK(SeconedPartDegrees1!$G$9),\"\",SeconedPartDegrees1!$G$9)","v":""},{"$f":"SeconedPartDegrees1!M105","v":0},{"$f":"IF(ISBLANK(SeconedPartDegrees1!$L$9),\"\",SeconedPartDegrees1!$L$9)","v":""},null,null,0,{"$f":"FirstPartDegrees1!C105","v":0},{"$f":"IF(ISBLANK(FirstPartDegrees1!$C$9),\"\",FirstPartDegrees1!$C$9)","v":""},{"$f":"FirstPartDegrees1!F105","v":0},{"$f":"IF(ISBLANK(FirstPartDegrees1!$E$9),\"\",FirstPartDegrees1!$E$9)","v":""},null,null,0,{"$f":"FirstPartDegrees1!D105","v":0},{"$f":"IF(ISBLANK(FirstPartDegrees1!$C$9),\"\",FirstPartDegrees1!$C$9)","v":""},{"$f":"SeconedPartDegrees1!N105","v":0},{"$f":"IF(ISBLANK(SeconedPartDegrees1!$N$9),\"\",SeconedPartDegrees1!$N$9)","v":""},null,null,0,{"$f":"SeconedPartDegrees1!I105","v":0},{"$f":"IF(ISBLANK(SeconedPartDegrees1!$I$9),\"\",SeconedPartDegrees1!$I$9)","v":""},{"$f":"SeconedPartDegrees1!L105","v":0},{"$f":"IF(ISBLANK(SeconedPartDegrees1!$L$9),\"\",SeconedPartDegrees1!$L$9)","v":""},null,null,0,0,{"$f":"FirstPartDegrees1!H105","v":0},{"$f":"IF(ISBLANK(FirstPartDegrees1!$G$9),\"\",FirstPartDegrees1!$G$9)","v":""},{"$f":"SeconedPartDegrees1!O105","v":0},{"$f":"IF(ISBLANK(SeconedPartDegrees1!$N$9),\"\",SeconedPartDegrees1!$N$9)","v":""},null,null,0,{"$f":"FirstPartDegrees1!K105","v":0},{"$f":"IF(ISBLANK(FirstPartDegrees1!$K$9),\"\",FirstPartDegrees1!$K$9)","v":""},{"$f":"SeconedPartDegrees1!H105","v":0},{"$f":"IF(ISBLANK(SeconedPartDegrees1!$G$9),\"\",SeconedPartDegrees1!$G$9)","v":""},null,null,0,{"$f":"SeconedPartDegrees1!E105","v":0},{"$f":"IF(ISBLANK(SeconedPartDegrees1!$E$9),\"\",SeconedPartDegrees1!$E$9)","v":""},{"$f":"SeconedPartDegrees1!J105","v":0},{"$f":"IF(ISBLANK(SeconedPartDegrees1!$I$9),\"\",SeconedPartDegrees1!$I$9)","v":""},null,null,0,{"$f":"FirstPartDegrees1!N105","v":0},{"$f":"IF(ISBLANK(FirstPartDegrees1!$M$9),\"\",FirstPartDegrees1!$M$9)","v":""},{"$f":"SeconedPartDegrees1!K105","v":0},{"$f":"IF(ISBLANK(SeconedPartDegrees1!$I$9),\"\",SeconedPartDegrees1!$I$9)","v":""},null,null,0,0,0,{"$f":"SeconedPartDegrees1!Q105","v":""}]
[{"$f":"SeconedPartDegrees1!A107","v":48},{"$f":"FirstPartDegrees1!B107","v":""},{"$f":"FirstPartDegrees1!$H$7","v":"7-1"},{"$f":"FirstPartDegrees1!G107","v":0},{"$f":"IF(ISBLANK(SeconedPartDegrees1!$G$9),\"\",SeconedPartDegrees1!$G$9)","v":""},{"$f":"SeconedPartDegrees1!C107","v":0},{"$f":"IF(ISBLANK(SeconedPartDegrees1!$C$9),\"\",SeconedPartDegrees1!$C$9)","v":""},null,null,0,{"$f":"FirstPartDegrees1!I107","v":0},{"$f":"IF(ISBLANK(FirstPartDegrees1!$I$9),\"\",FirstPartDegrees1!$I$9)","v":""},{"$f":"FirstPartDegrees1!M107","v":0},{"$f":"IF(ISBLANK(FirstPartDegrees1!$M$9),\"\",FirstPartDegrees1!$M$9)","v":""},null,null,0,{"$f":"FirstPartDegrees1!E107","v":0},{"$f":"IF(ISBLANK(FirstPartDegrees1!$E$9),\"\",FirstPartDegrees1!$E$9)","v":""},{"$f":"SeconedPartDegrees1!F107","v":0},{"$f":"IF(ISBLANK(SeconedPartDegrees1!$E$9),\"\",SeconedPartDegrees1!$E$9)","v":""},null,null,0,{"$f":"FirstPartDegrees1!J107","v":0},{"$f":"IF(ISBLANK(FirstPartDegrees1!$I$9),\"\",FirstPartDegrees1!$I$9)","v":""},{"$f":"FirstPartDegrees1!L107","v":0},{"$f":"IF(ISBLANK(FirstPartDegrees1!$K$9),\"\",FirstPartDegrees1!$K$9)","v":""},null,null,0,0,{"$f":"SeconedPartDegrees1!G107","v":0},{"$f":"IF(ISBLANK(SeconedPartDegrees1!$G$9),\"\",SeconedPartDegrees1!$G$9)","v":""},{"$f":"SeconedPartDegrees1!M107","v":0},{"$f":"IF(ISBLANK(SeconedPartDegrees1!$L$9),\"\",SeconedPartDegrees1!$L$9)","v":""},null,null,0,{"$f":"FirstPartDegrees1!C107","v":0},{"$f":"IF(ISBLANK(FirstPartDegrees1!$C$9),\"\",FirstPartDegrees1!$C$9)","v":""},{"$f":"FirstPartDegrees1!F107","v":0},{"$f":"IF(ISBLANK(FirstPartDegrees1!$E$9),\"\",FirstPartDegrees1!$E$9)","v":""},null,null,0,{"$f":"FirstPartDegrees1!D107","v":0},{"$f":"IF(ISBLANK(FirstPartDegrees1!$C$9),\"\",FirstPartDegrees1!$C$9)","v":""},{"$f":"SeconedPartDegrees1!N107","v":0},{"$f":"IF(ISBLANK(SeconedPartDegrees1!$N$9),\"\",SeconedPartDegrees1!$N$9)","v":""},null,null,0,{"$f":"SeconedPartDegrees1!I107","v":0},{"$f":"IF(ISBLANK(SeconedPartDegrees1!$I$9),\"\",SeconedPartDegrees1!$I$9)","v":""},{"$f":"SeconedPartDegrees1!L107","v":0},{"$f":"IF(ISBLANK(SeconedPartDegrees1!$L$9),\"\",SeconedPartDegrees1!$L$9)","v":""},null,null,0,0,{"$f":"FirstPartDegrees1!H107","v":0},{"$f":"IF(ISBLANK(FirstPartDegrees1!$G$9),\"\",FirstPartDegrees1!$G$9)","v":""},{"$f":"SeconedPartDegrees1!O107","v":0},{"$f":"IF(ISBLANK(SeconedPartDegrees1!$N$9),\"\",SeconedPartDegrees1!$N$9)","v":""},null,null,0,{"$f":"FirstPartDegrees1!K107","v":0},{"$f":"IF(ISBLANK(FirstPartDegrees1!$K$9),\"\",FirstPartDegrees1!$K$9)","v":""},{"$f":"SeconedPartDegrees1!H107","v":0},{"$f":"IF(ISBLANK(SeconedPartDegrees1!$G$9),\"\",SeconedPartDegrees1!$G$9)","v":""},null,null,0,{"$f":"SeconedPartDegrees1!E107","v":0},{"$f":"IF(ISBLANK(SeconedPartDegrees1!$E$9),\"\",SeconedPartDegrees1!$E$9)","v":""},{"$f":"SeconedPartDegrees1!J107","v":0},{"$f":"IF(ISBLANK(SeconedPartDegrees1!$I$9),\"\",SeconedPartDegrees1!$I$9)","v":""},null,null,0,{"$f":"FirstPartDegrees1!N107","v":0},{"$f":"IF(ISBLANK(FirstPartDegrees1!$M$9),\"\",FirstPartDegrees1!$M$9)","v":""},{"$f":"SeconedPartDegrees1!K107","v":0},{"$f":"IF(ISBLANK(SeconedPartDegrees1!$I$9),\"\",SeconedPartDegrees1!$I$9)","v":""},null,null,0,0,0,{"$f":"SeconedPartDegrees1!Q107","v":""}]
[{"$f":"SeconedPartDegrees1!A109","v":49},{"$f":"FirstPartDegrees1!B109","v":""},{"$f":"FirstPartDegrees1!$H$7","v":"7-1"},{"$f":"FirstPartDegrees1!G109","v":0},{"$f":"IF(ISBLANK(SeconedPartDegrees1!$G$9),\"\",SeconedPartDegrees1!$G$9)","v":""},{"$f":"SeconedPartDegrees1!C109","v":0},{"$f":"IF(ISBLANK(SeconedPartDegrees1!$C$9),\"\",SeconedPartDegrees1!$C$9)","v":""},null,null,0,{"$f":"FirstPartDegrees1!I109","v":0},{"$f":"IF(ISBLANK(FirstPartDegrees1!$I$9),\"\",FirstPartDegrees1!$I$9)","v":""},{"$f":"FirstPartDegrees1!M109","v":0},{"$f":"IF(ISBLANK(FirstPartDegrees1!$M$9),\"\",FirstPartDegrees1!$M$9)","v":""},null,null,0,{"$f":"FirstPartDegrees1!E109","v":0},{"$f":"IF(ISBLANK(FirstPartDegrees1!$E$9),\"\",FirstPartDegrees1!$E$9)","v":""},{"$f":"SeconedPartDegrees1!F109","v":0},{"$f":"IF(ISBLANK(SeconedPartDegrees1!$E$9),\"\",SeconedPartDegrees1!$E$9)","v":""},null,null,0,{"$f":"FirstPartDegrees1!J109","v":0},{"$f":"IF(ISBLANK(FirstPartDegrees1!$I$9),\"\",FirstPartDegrees1!$I$9)","v":""},{"$f":"FirstPartDegrees1!L109","v":0},{"$f":"IF(ISBLANK(FirstPartDegrees1!$K$9),\"\",FirstPartDegrees1!$K$9)","v":""},null,null,0,0,{"$f":"SeconedPartDegrees1!G109","v":0},{"$f":"IF(ISBLANK(SeconedPartDegrees1!$G$9),\"\",SeconedPartDegrees1!$G$9)","v":""},{"$f":"SeconedPartDegrees1!M109","v":0},{"$f":"IF(ISBLANK(SeconedPartDegrees1!$L$9),\"\",SeconedPartDegrees1!$L$9)","v":""},null,null,0,{"$f":"FirstPartDegrees1!C109","v":0},{"$f":"IF(ISBLANK(FirstPartDegrees1!$C$9),\"\",FirstPartDegrees1!$C$9)","v":""},{"$f":"FirstPartDegrees1!F109","v":0},{"$f":"IF(ISBLANK(FirstPartDegrees1!$E$9),\"\",FirstPartDegrees1!$E$9)","v":""},null,null,0,{"$f":"FirstPartDegrees1!D109","v":0},{"$f":"IF(ISBLANK(FirstPartDegrees1!$C$9),\"\",FirstPartDegrees1!$C$9)","v":""},{"$f":"SeconedPartDegrees1!N109","v":0},{"$f":"IF(ISBLANK(SeconedPartDegrees1!$N$9),\"\",SeconedPartDegrees1!$N$9)","v":""},null,null,0,{"$f":"SeconedPartDegrees1!I109","v":0},{"$f":"IF(ISBLANK(SeconedPartDegrees1!$I$9),\"\",SeconedPartDegrees1!$I$9)","v":""},{"$f":"SeconedPartDegrees1!L109","v":0},{"$f":"IF(ISBLANK(SeconedPartDegrees1!$L$9),\"\",SeconedPartDegrees1!$L$9)","v":""},null,null,0,0,{"$f":"FirstPartDegrees1!H109","v":0},{"$f":"IF(ISBLANK(FirstPartDegrees1!$G$9),\"\",FirstPartDegrees1!$G$9)","v":""},{"$f":"SeconedPartDegrees1!O109","v":0},{"$f":"IF(ISBLANK(SeconedPartDegrees1!$N$9),\"\",SeconedPartDegrees1!$N$9)","v":""},null,null,0,{"$f":"FirstPartDegrees1!K109","v":0},{"$f":"IF(ISBLANK(FirstPartDegrees1!$K$9),\"\",FirstPartDegrees1!$K$9)","v":""},{"$f":"SeconedPartDegrees1!H109","v":0},{"$f":"IF(ISBLANK(SeconedPartDegrees1!$G$9),\"\",SeconedPartDegrees1!$G$9)","v":""},null,null,0,{"$f":"SeconedPartDegrees1!E109","v":0},{"$f":"IF(ISBLANK(SeconedPartDegrees1!$E$9),\"\",SeconedPartDegrees1!$E$9)","v":""},{"$f":"SeconedPartDegrees1!J109","v":0},{"$f":"IF(ISBLANK(SeconedPartDegrees1!$I$9),\"\",SeconedPartDegrees1!$I$9)","v":""},null,null,0,{"$f":"FirstPartDegrees1!N109","v":0},{"$f":"IF(ISBLANK(FirstPartDegrees1!$M$9),\"\",FirstPartDegrees1!$M$9)","v":""},{"$f":"SeconedPartDegrees1!K109","v":0},{"$f":"IF(ISBLANK(SeconedPartDegrees1!$I$9),\"\",SeconedPartDegrees1!$I$9)","v":""},null,null,0,0,0,{"$f":"SeconedPartDegrees1!Q109","v":""}]
[{"$f":"SeconedPartDegrees1!A111","v":50},{"$f":"FirstPartDegrees1!B111","v":""},{"$f":"FirstPartDegrees1!$H$7","v":"7-1"},{"$f":"FirstPartDegrees1!G111","v":0},{"$f":"IF(ISBLANK(SeconedPartDegrees1!$G$9),\"\",SeconedPartDegrees1!$G$9)","v":""},{"$f":"SeconedPartDegrees1!C111","v":0},{"$f":"IF(ISBLANK(SeconedPartDegrees1!$C$9),\"\",SeconedPartDegrees1!$C$9)","v":""},null,null,0,{"$f":"FirstPartDegrees1!I111","v":0},{"$f":"IF(ISBLANK(FirstPartDegrees1!$I$9),\"\",FirstPartDegrees1!$I$9)","v":""},{"$f":"FirstPartDegrees1!M111","v":0},{"$f":"IF(ISBLANK(FirstPartDegrees1!$M$9),\"\",FirstPartDegrees1!$M$9)","v":""},null,null,0,{"$f":"FirstPartDegrees1!E111","v":0},{"$f":"IF(ISBLANK(FirstPartDegrees1!$E$9),\"\",FirstPartDegrees1!$E$9)","v":""},{"$f":"SeconedPartDegrees1!F111","v":0},{"$f":"IF(ISBLANK(SeconedPartDegrees1!$E$9),\"\",SeconedPartDegrees1!$E$9)","v":""},null,null,0,{"$f":"FirstPartDegrees1!J111","v":0},{"$f":"IF(ISBLANK(FirstPartDegrees1!$I$9),\"\",FirstPartDegrees1!$I$9)","v":""},{"$f":"FirstPartDegrees1!L111","v":0},{"$f":"IF(ISBLANK(FirstPartDegrees1!$K$9),\"\",FirstPartDegrees1!$K$9)","v":""},null,null,0,0,{"$f":"SeconedPartDegrees1!G111","v":0},{"$f":"IF(ISBLANK(SeconedPartDegrees1!$G$9),\"\",SeconedPartDegrees1!$G$9)","v":""},{"$f":"SeconedPartDegrees1!M111","v":0},{"$f":"IF(ISBLANK(SeconedPartDegrees1!$L$9),\"\",SeconedPartDegrees1!$L$9)","v":""},null,null,0,{"$f":"FirstPartDegrees1!C111","v":0},{"$f":"IF(ISBLANK(FirstPartDegrees1!$C$9),\"\",FirstPartDegrees1!$C$9)","v":""},{"$f":"FirstPartDegrees1!F111","v":0},{"$f":"IF(ISBLANK(FirstPartDegrees1!$E$9),\"\",FirstPartDegrees1!$E$9)","v":""},null,null,0,{"$f":"FirstPartDegrees1!D111","v":0},{"$f":"IF(ISBLANK(FirstPartDegrees1!$C$9),\"\",FirstPartDegrees1!$C$9)","v":""},{"$f":"SeconedPartDegrees1!N111","v":0},{"$f":"IF(ISBLANK(SeconedPartDegrees1!$N$9),\"\",SeconedPartDegrees1!$N$9)","v":""},null,null,0,{"$f":"SeconedPartDegrees1!I111","v":0},{"$f":"IF(ISBLANK(SeconedPartDegrees1!$I$9),\"\",SeconedPartDegrees1!$I$9)","v":""},{"$f":"SeconedPartDegrees1!L111","v":0},{"$f":"IF(ISBLANK(SeconedPartDegrees1!$L$9),\"\",SeconedPartDegrees1!$L$9)","v":""},null,null,0,0,{"$f":"FirstPartDegrees1!H111","v":0},{"$f":"IF(ISBLANK(FirstPartDegrees1!$G$9),\"\",FirstPartDegrees1!$G$9)","v":""},{"$f":"SeconedPartDegrees1!O111","v":0},{"$f":"IF(ISBLANK(SeconedPartDegrees1!$N$9),\"\",SeconedPartDegrees1!$N$9)","v":""},null,null,0,{"$f":"FirstPartDegrees1!K111","v":0},{"$f":"IF(ISBLANK(FirstPartDegrees1!$K$9),\"\",FirstPartDegrees1!$K$9)","v":""},{"$f":"SeconedPartDegrees1!H111","v":0},{"$f":"IF(ISBLANK(SeconedPartDegrees1!$G$9),\"\",SeconedPartDegrees1!$G$9)","v":""},null,null,0,{"$f":"SeconedPartDegrees1!E111","v":0},{"$f":"IF(ISBLANK(SeconedPartDegrees1!$E$9),\"\",SeconedPartDegrees1!$E$9)","v":""},{"$f":"SeconedPartDegrees1!J111","v":0},{"$f":"IF(ISBLANK(SeconedPartDegrees1!$I$9),\"\",SeconedPartDegrees1!$I$9)","v":""},null,null,0,{"$f":"FirstPartDegrees1!N111","v":0},{"$f":"IF(ISBLANK(FirstPartDegrees1!$M$9),\"\",FirstPartDegrees1!$M$9)","v":""},{"$f":"SeconedPartDegrees1!K111","v":0},{"$f":"IF(ISBLANK(SeconedPartDegrees1!$I$9),\"\",SeconedPartDegrees1!$I$9)","v":""},null,null,0,0,0,{"$f":"SeconedPartDegrees1!Q111","v":""}]
[{"$f":"SeconedPartDegrees1!A113","v":51},{"$f":"FirstPartDegrees1!B113","v":""},{"$f":"FirstPartDegrees1!$H$7","v":"7-1"},{"$f":"FirstPartDegrees1!G113","v":0},{"$f":"IF(ISBLANK(SeconedPartDegrees1!$G$9),\"\",SeconedPartDegrees1!$G$9)","v":""},{"$f":"SeconedPartDegrees1!C113","v":0},{"$f":"IF(ISBLANK(SeconedPartDegrees1!$C$9),\"\",SeconedPartDegrees1!$C$9)","v":""},null,null,0,{"$f":"FirstPartDegrees1!I113","v":0},{"$f":"IF(ISBLANK(FirstPartDegrees1!$I$9),\"\",FirstPartDegrees1!$I$9)","v":""},{"$f":"FirstPartDegrees1!M113","v":0},{"$f":"IF(ISBLANK(FirstPartDegrees1!$M$9),\"\",FirstPartDegrees1!$M$9)","v":""},null,null,0,{"$f":"FirstPartDegrees1!E113","v":0},{"$f":"IF(ISBLANK(FirstPartDegrees1!$E$9),\"\",FirstPartDegrees1!$E$9)","v":""},{"$f":"SeconedPartDegrees1!F113","v":0},{"$f":"IF(ISBLANK(SeconedPartDegrees1!$E$9),\"\",SeconedPartDegrees1!$E$9)","v":""},null,null,0,{"$f":"FirstPartDegrees1!J113","v":0},{"$f":"IF(ISBLANK(FirstPartDegrees1!$I$9),\"\",FirstPartDegrees1!$I$9)","v":""},{"$f":"FirstPartDegrees1!L113","v":0},{"$f":"IF(ISBLANK(FirstPartDegrees1!$K$9),\"\",FirstPartDegrees1!$K$9)","v":""},null,null,0,0,{"$f":"SeconedPartDegrees1!G113","v":0},{"$f":"IF(ISBLANK(SeconedPartDegrees1!$G$9),\"\",SeconedPartDegrees1!$G$9)","v":""},{"$f":"SeconedPartDegrees1!M113","v":0},{"$f":"IF(ISBLANK(SeconedPartDegrees1!$L$9),\"\",SeconedPartDegrees1!$L$9)","v":""},null,null,0,{"$f":"FirstPartDegrees1!C113","v":0},{"$f":"IF(ISBLANK(FirstPartDegrees1!$C$9),\"\",FirstPartDegrees1!$C$9)","v":""},{"$f":"FirstPartDegrees1!F113","v":0},{"$f":"IF(ISBLANK(FirstPartDegrees1!$E$9),\"\",FirstPartDegrees1!$E$9)","v":""},null,null,0,{"$f":"FirstPartDegrees1!D113","v":0},{"$f":"IF(ISBLANK(FirstPartDegrees1!$C$9),\"\",FirstPartDegrees1!$C$9)","v":""},{"$f":"SeconedPartDegrees1!N113","v":0},{"$f":"IF(ISBLANK(SeconedPartDegrees1!$N$9),\"\",SeconedPartDegrees1!$N$9)","v":""},null,null,0,{"$f":"SeconedPartDegrees1!I113","v":0},{"$f":"IF(ISBLANK(SeconedPartDegrees1!$I$9),\"\",SeconedPartDegrees1!$I$9)","v":""},{"$f":"SeconedPartDegrees1!L113","v":0},{"$f":"IF(ISBLANK(SeconedPartDegrees1!$L$9),\"\",SeconedPartDegrees1!$L$9)","v":""},null,null,0,0,{"$f":"FirstPartDegrees1!H113","v":0},{"$f":"IF(ISBLANK(FirstPartDegrees1!$G$9),\"\",FirstPartDegrees1!$G$9)","v":""},{"$f":"SeconedPartDegrees1!O113","v":0},{"$f":"IF(ISBLANK(SeconedPartDegrees1!$N$9),\"\",SeconedPartDegrees1!$N$9)","v":""},null,null,0,{"$f":"FirstPartDegrees1!K113","v":0},{"$f":"IF(ISBLANK(FirstPartDegrees1!$K$9),\"\",FirstPartDegrees1!$K$9)","v":""},{"$f":"SeconedPartDegrees1!H113","v":0},{"$f":"IF(ISBLANK(SeconedPartDegrees1!$G$9),\"\",SeconedPartDegrees1!$G$9)","v":""},null,null,0,{"$f":"SeconedPartDegrees1!E113","v":0},{"$f":"IF(ISBLANK(SeconedPartDegrees1!$E$9),\"\",SeconedPartDegrees1!$E$9)","v":""},{"$f":"SeconedPartDegrees1!J113","v":0},{"$f":"IF(ISBLANK(SeconedPartDegrees1!$I$9),\"\",SeconedPartDegrees1!$I$9)","v":""},null,null,0,{"$f":"FirstPartDegrees1!N113","v":0},{"$f":"IF(ISBLANK(FirstPartDegrees1!$M$9),\"\",FirstPartDegrees1!$M$9)","v":""},{"$f":"SeconedPartDegrees1!K113","v":0},{"$f":"IF(ISBLANK(SeconedPartDegrees1!$I$9),\"\",SeconedPartDegrees1!$I$9)","v":""},null,null,0,0,0,{"$f":"SeconedPartDegrees1!Q113","v":""}]
[{"$f":"SeconedPartDegrees1!A115","v":52},{"$f":"FirstPartDegrees1!B115","v":""},{"$f":"FirstPartDegrees1!$H$7","v":"7-1"},{"$f":"FirstPartDegrees1!G115","v":0},{"$f":"IF(ISBLANK(SeconedPartDegrees1!$G$9),\"\",SeconedPartDegrees1!$G$9)","v":""},{"$f":"SeconedPartDegrees1!C115","v":0},{"$f":"IF(ISBLANK(SeconedPartDegrees1!$C$9),\"\",SeconedPartDegrees1!$C$9)","v":""},null,null,0,{"$f":"FirstPartDegrees1!I115","v":0},{"$f":"IF(ISBLANK(FirstPartDegrees1!$I$9),\"\",FirstPartDegrees1!$I$9)","v":""},{"$f":"FirstPartDegrees1!M115","v":0},{"$f":"IF(ISBLANK(FirstPartDegrees1!$M$9),\"\",FirstPartDegrees1!$M$9)","v":""},null,null,0,{"$f":"FirstPartDegrees1!E115","v":0},{"$f":"IF(ISBLANK(FirstPartDegrees1!$E$9),\"\",FirstPartDegrees1!$E$9)","v":""},{"$f":"SeconedPartDegrees1!F115","v":0},{"$f":"IF(ISBLANK(SeconedPartDegrees1!$E$9),\"\",SeconedPartDegrees1!$E$9)","v":""},null,null,0,{"$f":"FirstPartDegrees1!J115","v":0},{"$f":"IF(ISBLANK(FirstPartDegrees1!$I$9),\"\",FirstPartDegrees1!$I$9)","v":""},{"$f":"FirstPartDegrees1!L115","v":0},{"$f":"IF(ISBLANK(FirstPartDegrees1!$K$9),\"\",FirstPartDegrees1!$K$9)","v":""},null,null,0,0,{"$f":"SeconedPartDegrees1!G115","v":0},{"$f":"IF(ISBLANK(SeconedPartDegrees1!$G$9),\"\",SeconedPartDegrees1!$G$9)","v":""},{"$f":"SeconedPartDegrees1!M115","v":0},{"$f":"IF(ISBLANK(SeconedPartDegrees1!$L$9),\"\",SeconedPartDegrees1!$L$9)","v":""},null,null,0,{"$f":"FirstPartDegrees1!C115","v":0},{"$f":"IF(ISBLANK(FirstPartDegrees1!$C$9),\"\",FirstPartDegrees1!$C$9)","v":""},{"$f":"FirstPartDegrees1!F115","v":0},{"$f":"IF(ISBLANK(FirstPartDegrees1!$E$9),\"\",FirstPartDegrees1!$E$9)","v":""},null,null,0,{"$f":"FirstPartDegrees1!D115","v":0},{"$f":"IF(ISBLANK(FirstPartDegrees1!$C$9),\"\",FirstPartDegrees1!$C$9)","v":""},{"$f":"SeconedPartDegrees1!N115","v":0},{"$f":"IF(ISBLANK(SeconedPartDegrees1!$N$9),\"\",SeconedPartDegrees1!$N$9)","v":""},null,null,0,{"$f":"SeconedPartDegrees1!I115","v":0},{"$f":"IF(ISBLANK(SeconedPartDegrees1!$I$9),\"\",SeconedPartDegrees1!$I$9)","v":""},{"$f":"SeconedPartDegrees1!L115","v":0},{"$f":"IF(ISBLANK(SeconedPartDegrees1!$L$9),\"\",SeconedPartDegrees1!$L$9)","v":""},null,null,0,0,{"$f":"FirstPartDegrees1!H115","v":0},{"$f":"IF(ISBLANK(FirstPartDegrees1!$G$9),\"\",FirstPartDegrees1!$G$9)","v":""},{"$f":"SeconedPartDegrees1!O115","v":0},{"$f":"IF(ISBLANK(SeconedPartDegrees1!$N$9),\"\",SeconedPartDegrees1!$N$9)","v":""},null,null,0,{"$f":"FirstPartDegrees1!K115","v":0},{"$f":"IF(ISBLANK(FirstPartDegrees1!$K$9),\"\",FirstPartDegrees1!$K$9)","v":""},{"$f":"SeconedPartDegrees1!H115","v":0},{"$f":"IF(ISBLANK(SeconedPartDegrees1!$G$9),\"\",SeconedPartDegrees1!$G$9)","v":""},null,null,0,{"$f":"SeconedPartDegrees1!E115","v":0},{"$f":"IF(ISBLANK(SeconedPartDegrees1!$E$9),\"\",SeconedPartDegrees1!$E$9)","v":""},{"$f":"SeconedPartDegrees1!J115","v":0},{"$f":"IF(ISBLANK(SeconedPartDegrees1!$I$9),\"\",SeconedPartDegrees1!$I$9)","v":""},null,null,0,{"$f":"FirstPartDegrees1!N115","v":0},{"$f":"IF(ISBLANK(FirstPartDegrees1!$M$9),\"\",FirstPartDegrees1!$M$9)","v":""},{"$f":"SeconedPartDegrees1!K115","v":0},{"$f":"IF(ISBLANK(SeconedPartDegrees1!$I$9),\"\",SeconedPartDegrees1!$I$9)","v":""},null,null,0,0,0,{"$f":"SeconedPartDegrees1!Q115","v":""}]
[{"$f":"SeconedPartDegrees1!A117","v":53},{"$f":"FirstPartDegrees1!B117","v":""},{"$f":"FirstPartDegrees1!$H$7","v":"7-1"},{"$f":"FirstPartDegrees1!G117","v":0},{"$f":"IF(ISBLANK(SeconedPartDegrees1!$G$9),\"\",SeconedPartDegrees1!$G$9)","v":""},{"$f":"SeconedPartDegrees1!C117","v":0},{"$f":"IF(ISBLANK(SeconedPartDegrees1!$C$9),\"\",SeconedPartDegrees1!$C$9)","v":""},null,null,0,{"$f":"FirstPartDegrees1!I117","v":0},{"$f":"IF(ISBLANK(FirstPartDegrees1!$I$9),\"\",FirstPartDegrees1!$I$9)","v":""},{"$f":"FirstPartDegrees1!M117","v":0},{"$f":"IF(ISBLANK(FirstPartDegrees1!$M$9),\"\",FirstPartDegrees1!$M$9)","v":""},null,null,0,{"$f":"FirstPartDegrees1!E117","v":0},{"$f":"IF(ISBLANK(FirstPartDegrees1!$E$9),\"\",FirstPartDegrees1!$E$9)","v":""},{"$f":"SeconedPartDegrees1!F117","v":0},{"$f":"IF(ISBLANK(SeconedPartDegrees1!$E$9),\"\",SeconedPartDegrees1!$E$9)","v":""},null,null,0,{"$f":"FirstPartDegrees1!J117","v":0},{"$f":"IF(ISBLANK(FirstPartDegrees1!$I$9),\"\",FirstPartDegrees1!$I$9)","v":""},{"$f":"FirstPartDegrees1!L117","v":0},{"$f":"IF(ISBLANK(FirstPartDegrees1!$K$9),\"\",FirstPartDegrees1!$K$9)","v":""},null,null,0,0,{"$f":"SeconedPartDegrees1!G117","v":0},{"$f":"IF(ISBLANK(SeconedPartDegrees1!$G$9),\"\",SeconedPartDegrees1!$G$9)","v":""},{"$f":"SeconedPartDegrees1!M117","v":0},{"$f":"IF(ISBLANK(SeconedPartDegrees1!$L$9),\"\",SeconedPartDegrees1!$L$9)","v":""},null,null,0,{"$f":"FirstPartDegrees1!C117","v":0},{"$f":"IF(ISBLANK(FirstPartDegrees1!$C$9),\"\",FirstPartDegrees1!$C$9)","v":""},{"$f":"FirstPartDegrees1!F117","v":0},{"$f":"IF(ISBLANK(FirstPartDegrees1!$E$9),\"\",FirstPartDegrees1!$E$9)","v":""},null,null,0,{"$f":"FirstPartDegrees1!D117","v":0},{"$f":"IF(ISBLANK(FirstPartDegrees1!$C$9),\"\",FirstPartDegrees1!$C$9)","v":""},{"$f":"SeconedPartDegrees1!N117","v":0},{"$f":"IF(ISBLANK(SeconedPartDegrees1!$N$9),\"\",SeconedPartDegrees1!$N$9)","v":""},null,null,0,{"$f":"SeconedPartDegrees1!I117","v":0},{"$f":"IF(ISBLANK(SeconedPartDegrees1!$I$9),\"\",SeconedPartDegrees1!$I$9)","v":""},{"$f":"SeconedPartDegrees1!L117","v":0},{"$f":"IF(ISBLANK(SeconedPartDegrees1!$L$9),\"\",SeconedPartDegrees1!$L$9)","v":""},null,null,0,0,{"$f":"FirstPartDegrees1!H117","v":0},{"$f":"IF(ISBLANK(FirstPartDegrees1!$G$9),\"\",FirstPartDegrees1!$G$9)","v":""},{"$f":"SeconedPartDegrees1!O117","v":0},{"$f":"IF(ISBLANK(SeconedPartDegrees1!$N$9),\"\",SeconedPartDegrees1!$N$9)","v":""},null,null,0,{"$f":"FirstPartDegrees1!K117","v":0},{"$f":"IF(ISBLANK(FirstPartDegrees1!$K$9),\"\",FirstPartDegrees1!$K$9)","v":""},{"$f":"SeconedPartDegrees1!H117","v":0},{"$f":"IF(ISBLANK(SeconedPartDegrees1!$G$9),\"\",SeconedPartDegrees1!$G$9)","v":""},null,null,0,{"$f":"SeconedPartDegrees1!E117","v":0},{"$f":"IF(ISBLANK(SeconedPartDegrees1!$E$9),\"\",SeconedPartDegrees1!$E$9)","v":""},{"$f":"SeconedPartDegrees1!J117","v":0},{"$f":"IF(ISBLANK(SeconedPartDegrees1!$I$9),\"\",SeconedPartDegrees1!$I$9)","v":""},null,null,0,{"$f":"FirstPartDegrees1!N117","v":0},{"$f":"IF(ISBLANK(FirstPartDegrees1!$M$9),\"\",FirstPartDegrees1!$M$9)","v":""},{"$f":"SeconedPartDegrees1!K117","v":0},{"$f":"IF(ISBLANK(SeconedPartDegrees1!$I$9),\"\",SeconedPartDegrees1!$I$9)","v":""},null,null,0,0,0,{"$f":"SeconedPartDegrees1!Q117","v":""}]
[{"$f":"SeconedPartDegrees1!A119","v":54},{"$f":"FirstPartDegrees1!B119","v":""},{"$f":"FirstPartDegrees1!$H$7","v":"7-1"},{"$f":"FirstPartDegrees1!G119","v":0},{"$f":"IF(ISBLANK(SeconedPartDegrees1!$G$9),\"\",SeconedPartDegrees1!$G$9)","v":""},{"$f":"SeconedPartDegrees1!C119","v":0},{"$f":"IF(ISBLANK(SeconedPartDegrees1!$C$9),\"\",SeconedPartDegrees1!$C$9)","v":""},null,null,0,{"$f":"FirstPartDegrees1!I119","v":0},{"$f":"IF(ISBLANK(FirstPartDegrees1!$I$9),\"\",FirstPartDegrees1!$I$9)","v":""},{"$f":"FirstPartDegrees1!M119","v":0},{"$f":"IF(ISBLANK(FirstPartDegrees1!$M$9),\"\",FirstPartDegrees1!$M$9)","v":""},null,null,0,{"$f":"FirstPartDegrees1!E119","v":0},{"$f":"IF(ISBLANK(FirstPartDegrees1!$E$9),\"\",FirstPartDegrees1!$E$9)","v":""},{"$f":"SeconedPartDegrees1!F119","v":0},{"$f":"IF(ISBLANK(SeconedPartDegrees1!$E$9),\"\",SeconedPartDegrees1!$E$9)","v":""},null,null,0,{"$f":"FirstPartDegrees1!J119","v":0},{"$f":"IF(ISBLANK(FirstPartDegrees1!$I$9),\"\",FirstPartDegrees1!$I$9)","v":""},{"$f":"FirstPartDegrees1!L119","v":0},{"$f":"IF(ISBLANK(FirstPartDegrees1!$K$9),\"\",FirstPartDegrees1!$K$9)","v":""},null,null,0,0,{"$f":"SeconedPartDegrees1!G119","v":0},{"$f":"IF(ISBLANK(SeconedPartDegrees1!$G$9),\"\",SeconedPartDegrees1!$G$9)","v":""},{"$f":"SeconedPartDegrees1!M119","v":0},{"$f":"IF(ISBLANK(SeconedPartDegrees1!$L$9),\"\",SeconedPartDegrees1!$L$9)","v":""},null,null,0,{"$f":"FirstPartDegrees1!C119","v":0},{"$f":"IF(ISBLANK(FirstPartDegrees1!$C$9),\"\",FirstPartDegrees1!$C$9)","v":""},{"$f":"FirstPartDegrees1!F119","v":0},{"$f":"IF(ISBLANK(FirstPartDegrees1!$E$9),\"\",FirstPartDegrees1!$E$9)","v":""},null,null,0,{"$f":"FirstPartDegrees1!D119","v":0},{"$f":"IF(ISBLANK(FirstPartDegrees1!$C$9),\"\",FirstPartDegrees1!$C$9)","v":""},{"$f":"SeconedPartDegrees1!N119","v":0},{"$f":"IF(ISBLANK(SeconedPartDegrees1!$N$9),\"\",SeconedPartDegrees1!$N$9)","v":""},null,null,0,{"$f":"SeconedPartDegrees1!I119","v":0},{"$f":"IF(ISBLANK(SeconedPartDegrees1!$I$9),\"\",SeconedPartDegrees1!$I$9)","v":""},{"$f":"SeconedPartDegrees1!L119","v":0},{"$f":"IF(ISBLANK(SeconedPartDegrees1!$L$9),\"\",SeconedPartDegrees1!$L$9)","v":""},null,null,0,0,{"$f":"FirstPartDegrees1!H119","v":0},{"$f":"IF(ISBLANK(FirstPartDegrees1!$G$9),\"\",FirstPartDegrees1!$G$9)","v":""},{"$f":"SeconedPartDegrees1!O119","v":0},{"$f":"IF(ISBLANK(SeconedPartDegrees1!$N$9),\"\",SeconedPartDegrees1!$N$9)","v":""},null,null,0,{"$f":"FirstPartDegrees1!K119","v":0},{"$f":"IF(ISBLANK(FirstPartDegrees1!$K$9),\"\",FirstPartDegrees1!$K$9)","v":""},{"$f":"SeconedPartDegrees1!H119","v":0},{"$f":"IF(ISBLANK(SeconedPartDegrees1!$G$9),\"\",SeconedPartDegrees1!$G$9)","v":""},null,null,0,{"$f":"SeconedPartDegrees1!E119","v":0},{"$f":"IF(ISBLANK(SeconedPartDegrees1!$E$9),\"\",SeconedPartDegrees1!$E$9)","v":""},{"$f":"SeconedPartDegrees1!J119","v":0},{"$f":"IF(ISBLANK(SeconedPartDegrees1!$I$9),\"\",SeconedPartDegrees1!$I$9)","v":""},null,null,0,{"$f":"FirstPartDegrees1!N119","v":0},{"$f":"IF(ISBLANK(FirstPartDegrees1!$M$9),\"\",FirstPartDegrees1!$M$9)","v":""},{"$f":"SeconedPartDegrees1!K119","v":0},{"$f":"IF(ISBLANK(SeconedPartDegrees1!$I$9),\"\",SeconedPartDegrees1!$I$9)","v":""},null,null,0,0,0,{"$f":"SeconedPartDegrees1!Q119","v":""}]
[{"$f":"SeconedPartDegrees1!A121","v":55},{"$f":"FirstPartDegrees1!B121","v":""},{"$f":"FirstPartDegrees1!$H$7","v":"7-1"},{"$f":"FirstPartDegrees1!G121","v":0},{"$f":"IF(ISBLANK(SeconedPartDegrees1!$G$9),\"\",SeconedPartDegrees1!$G$9)","v":""},{"$f":"SeconedPartDegrees1!C121","v":0},{"$f":"IF(ISBLANK(SeconedPartDegrees1!$C$9),\"\",SeconedPartDegrees1!$C$9)","v":""},null,null,0,{"$f":"FirstPartDegrees1!I121","v":0},{"$f":"IF(ISBLANK(FirstPartDegrees1!$I$9),\"\",FirstPartDegrees1!$I$9)","v":""},{"$f":"FirstPartDegrees1!M121","v":0},{"$f":"IF(ISBLANK(FirstPartDegrees1!$M$9),\"\",FirstPartDegrees1!$M$9)","v":""},null,null,0,{"$f":"FirstPartDegrees1!E121","v":0},{"$f":"IF(ISBLANK(FirstPartDegrees1!$E$9),\"\",FirstPartDegrees1!$E$9)","v":""},{"$f":"SeconedPartDegrees1!F121","v":0},{"$f":"IF(ISBLANK(SeconedPartDegrees1!$E$9),\"\",SeconedPartDegrees1!$E$9)","v":""},null,null,0,{"$f":"FirstPartDegrees1!J121","v":0},{"$f":"IF(ISBLANK(FirstPartDegrees1!$I$9),\"\",FirstPartDegrees1!$I$9)","v":""},{"$f":"FirstPartDegrees1!L121","v":0},{"$f":"IF(ISBLANK(FirstPartDegrees1!$K$9),\"\",FirstPartDegrees1!$K$9)","v":""},null,null,0,0,{"$f":"SeconedPartDegrees1!G121","v":0},{"$f":"IF(ISBLANK(SeconedPartDegrees1!$G$9),\"\",SeconedPartDegrees1!$G$9)","v":""},{"$f":"SeconedPartDegrees1!M121","v":0},{"$f":"IF(ISBLANK(SeconedPartDegrees1!$L$9),\"\",SeconedPartDegrees1!$L$9)","v":""},null,null,0,{"$f":"FirstPartDegrees1!C121","v":0},{"$f":"IF(ISBLANK(FirstPartDegrees1!$C$9),\"\",FirstPartDegrees1!$C$9)","v":""},{"$f":"FirstPartDegrees1!F121","v":0},{"$f":"IF(ISBLANK(FirstPartDegrees1!$E$9),\"\",FirstPartDegrees1!$E$9)","v":""},null,null,0,{"$f":"FirstPartDegrees1!D121","v":0},{"$f":"IF(ISBLANK(FirstPartDegrees1!$C$9),\"\",FirstPartDegrees1!$C$9)","v":""},{"$f":"SeconedPartDegrees1!N121","v":0},{"$f":"IF(ISBLANK(SeconedPartDegrees1!$N$9),\"\",SeconedPartDegrees1!$N$9)","v":""},null,null,0,{"$f":"SeconedPartDegrees1!I121","v":0},{"$f":"IF(ISBLANK(SeconedPartDegrees1!$I$9),\"\",SeconedPartDegrees1!$I$9)","v":""},{"$f":"SeconedPartDegrees1!L121","v":0},{"$f":"IF(ISBLANK(SeconedPartDegrees1!$L$9),\"\",SeconedPartDegrees1!$L$9)","v":""},null,null,0,0,{"$f":"FirstPartDegrees1!H121","v":0},{"$f":"IF(ISBLANK(FirstPartDegrees1!$G$9),\"\",FirstPartDegrees1!$G$9)","v":""},{"$f":"SeconedPartDegrees1!O121","v":0},{"$f":"IF(ISBLANK(SeconedPartDegrees1!$N$9),\"\",SeconedPartDegrees1!$N$9)","v":""},null,null,0,{"$f":"FirstPartDegrees1!K121","v":0},{"$f":"IF(ISBLANK(FirstPartDegrees1!$K$9),\"\",FirstPartDegrees1!$K$9)","v":""},{"$f":"SeconedPartDegrees1!H121","v":0},{"$f":"IF(ISBLANK(SeconedPartDegrees1!$G$9),\"\",SeconedPartDegrees1!$G$9)","v":""},null,null,0,{"$f":"SeconedPartDegrees1!E121","v":0},{"$f":"IF(ISBLANK(SeconedPartDegrees1!$E$9),\"\",SeconedPartDegrees1!$E$9)","v":""},{"$f":"SeconedPartDegrees1!J121","v":0},{"$f":"IF(ISBLANK(SeconedPartDegrees1!$I$9),\"\",SeconedPartDegrees1!$I$9)","v":""},null,null,0,{"$f":"FirstPartDegrees1!N121","v":0},{"$f":"IF(ISBLANK(FirstPartDegrees1!$M$9),\"\",FirstPartDegrees1!$M$9)","v":""},{"$f":"SeconedPartDegrees1!K121","v":0},{"$f":"IF(ISBLANK(SeconedPartDegrees1!$I$9),\"\",SeconedPartDegrees1!$I$9)","v":""},null,null,0,0,0,{"$f":"SeconedPartDegrees1!Q121","v":""}]
[{"$f":"SeconedPartDegrees1!A123","v":56},{"$f":"FirstPartDegrees1!B123","v":""},{"$f":"FirstPartDegrees1!$H$7","v":"7-1"},{"$f":"FirstPartDegrees1!G123","v":0},{"$f":"IF(ISBLANK(SeconedPartDegrees1!$G$9),\"\",SeconedPartDegrees1!$G$9)","v":""},{"$f":"SeconedPartDegrees1!C123","v":0},{"$f":"IF(ISBLANK(SeconedPartDegrees1!$C$9),\"\",SeconedPartDegrees1!$C$9)","v":""},null,null,0,{"$f":"FirstPartDegrees1!I123","v":0},{"$f":"IF(ISBLANK(FirstPartDegrees1!$I$9),\"\",FirstPartDegrees1!$I$9)","v":""},{"$f":"FirstPartDegrees1!M123","v":0},{"$f":"IF(ISBLANK(FirstPartDegrees1!$M$9),\"\",FirstPartDegrees1!$M$9)","v":""},null,null,0,{"$f":"FirstPartDegrees1!E123","v":0},{"$f":"IF(ISBLANK(FirstPartDegrees1!$E$9),\"\",FirstPartDegrees1!$E$9)","v":""},{"$f":"SeconedPartDegrees1!F123","v":0},{"$f":"IF(ISBLANK(SeconedPartDegrees1!$E$9),\"\",SeconedPartDegrees1!$E$9)","v":""},null,null,0,{"$f":"FirstPartDegrees1!J123","v":0},{"$f":"IF(ISBLANK(FirstPartDegrees1!$I$9),\"\",FirstPartDegrees1!$I$9)","v":""},{"$f":"FirstPartDegrees1!L123","v":0},{"$f":"IF(ISBLANK(FirstPartDegrees1!$K$9),\"\",FirstPartDegrees1!$K$9)","v":""},null,null,0,0,{"$f":"SeconedPartDegrees1!G123","v":0},{"$f":"IF(ISBLANK(SeconedPartDegrees1!$G$9),\"\",SeconedPartDegrees1!$G$9)","v":""},{"$f":"SeconedPartDegrees1!M123","v":0},{"$f":"IF(ISBLANK(SeconedPartDegrees1!$L$9),\"\",SeconedPartDegrees1!$L$9)","v":""},null,null,0,{"$f":"FirstPartDegrees1!C123","v":0},{"$f":"IF(ISBLANK(FirstPartDegrees1!$C$9),\"\",FirstPartDegrees1!$C$9)","v":""},{"$f":"FirstPartDegrees1!F123","v":0},{"$f":"IF(ISBLANK(FirstPartDegrees1!$E$9),\"\",FirstPartDegrees1!$E$9)","v":""},null,null,0,{"$f":"FirstPartDegrees1!D123","v":0},{"$f":"IF(ISBLANK(FirstPartDegrees1!$C$9),\"\",FirstPartDegrees1!$C$9)","v":""},{"$f":"SeconedPartDegrees1!N123","v":0},{"$f":"IF(ISBLANK(SeconedPartDegrees1!$N$9),\"\",SeconedPartDegrees1!$N$9)","v":""},null,null,0,{"$f":"SeconedPartDegrees1!I123","v":0},{"$f":"IF(ISBLANK(SeconedPartDegrees1!$I$9),\"\",SeconedPartDegrees1!$I$9)","v":""},{"$f":"SeconedPartDegrees1!L123","v":0},{"$f":"IF(ISBLANK(SeconedPartDegrees1!$L$9),\"\",SeconedPartDegrees1!$L$9)","v":""},null,null,0,0,{"$f":"FirstPartDegrees1!H123","v":0},{"$f":"IF(ISBLANK(FirstPartDegrees1!$G$9),\"\",FirstPartDegrees1!$G$9)","v":""},{"$f":"SeconedPartDegrees1!O123","v":0},{"$f":"IF(ISBLANK(SeconedPartDegrees1!$N$9),\"\",SeconedPartDegrees1!$N$9)","v":""},null,null,0,{"$f":"FirstPartDegrees1!K123","v":0},{"$f":"IF(ISBLANK(FirstPartDegrees1!$K$9),\"\",FirstPartDegrees1!$K$9)","v":""},{"$f":"SeconedPartDegrees1!H123","v":0},{"$f":"IF(ISBLANK(SeconedPartDegrees1!$G$9),\"\",SeconedPartDegrees1!$G$9)","v":""},null,null,0,{"$f":"SeconedPartDegrees1!E123","v":0},{"$f":"IF(ISBLANK(SeconedPartDegrees1!$E$9),\"\",SeconedPartDegrees1!$E$9)","v":""},{"$f":"SeconedPartDegrees1!J123","v":0},{"$f":"IF(ISBLANK(SeconedPartDegrees1!$I$9),\"\",SeconedPartDegrees1!$I$9)","v":""},null,null,0,{"$f":"FirstPartDegrees1!N123","v":0},{"$f":"IF(ISBLANK(FirstPartDegrees1!$M$9),\"\",FirstPartDegrees1!$M$9)","v":""},{"$f":"SeconedPartDegrees1!K123","v":0},{"$f":"IF(ISBLANK(SeconedPartDegrees1!$I$9),\"\",SeconedPartDegrees1!$I$9)","v":""},null,null,0,0,0,{"$f":"SeconedPartDegrees1!Q123","v":""}]
[{"$f":"SeconedPartDegrees1!A125","v":57},{"$f":"FirstPartDegrees1!B125","v":""},{"$f":"FirstPartDegrees1!$H$7","v":"7-1"},{"$f":"FirstPartDegrees1!G125","v":0},{"$f":"IF(ISBLANK(SeconedPartDegrees1!$G$9),\"\",SeconedPartDegrees1!$G$9)","v":""},{"$f":"SeconedPartDegrees1!C125","v":0},{"$f":"IF(ISBLANK(SeconedPartDegrees1!$C$9),\"\",SeconedPartDegrees1!$C$9)","v":""},null,null,0,{"$f":"FirstPartDegrees1!I125","v":0},{"$f":"IF(ISBLANK(FirstPartDegrees1!$I$9),\"\",FirstPartDegrees1!$I$9)","v":""},{"$f":"FirstPartDegrees1!M125","v":0},{"$f":"IF(ISBLANK(FirstPartDegrees1!$M$9),\"\",FirstPartDegrees1!$M$9)","v":""},null,null,0,{"$f":"FirstPartDegrees1!E125","v":0},{"$f":"IF(ISBLANK(FirstPartDegrees1!$E$9),\"\",FirstPartDegrees1!$E$9)","v":""},{"$f":"SeconedPartDegrees1!F125","v":0},{"$f":"IF(ISBLANK(SeconedPartDegrees1!$E$9),\"\",SeconedPartDegrees1!$E$9)","v":""},null,null,0,{"$f":"FirstPartDegrees1!J125","v":0},{"$f":"IF(ISBLANK(FirstPartDegrees1!$I$9),\"\",FirstPartDegrees1!$I$9)","v":""},{"$f":"FirstPartDegrees1!L125","v":0},{"$f":"IF(ISBLANK(FirstPartDegrees1!$K$9),\"\",FirstPartDegrees1!$K$9)","v":""},null,null,0,0,{"$f":"SeconedPartDegrees1!G125","v":0},{"$f":"IF(ISBLANK(SeconedPartDegrees1!$G$9),\"\",SeconedPartDegrees1!$G$9)","v":""},{"$f":"SeconedPartDegrees1!M125","v":0},{"$f":"IF(ISBLANK(SeconedPartDegrees1!$L$9),\"\",SeconedPartDegrees1!$L$9)","v":""},null,null,0,{"$f":"FirstPartDegrees1!C125","v":0},{"$f":"IF(ISBLANK(FirstPartDegrees1!$C$9),\"\",FirstPartDegrees1!$C$9)","v":""},{"$f":"FirstPartDegrees1!F125","v":0},{"$f":"IF(ISBLANK(FirstPartDegrees1!$E$9),\"\",FirstPartDegrees1!$E$9)","v":""},null,null,0,{"$f":"FirstPartDegrees1!D125","v":0},{"$f":"IF(ISBLANK(FirstPartDegrees1!$C$9),\"\",FirstPartDegrees1!$C$9)","v":""},{"$f":"SeconedPartDegrees1!N125","v":0},{"$f":"IF(ISBLANK(SeconedPartDegrees1!$N$9),\"\",SeconedPartDegrees1!$N$9)","v":""},null,null,0,{"$f":"SeconedPartDegrees1!I125","v":0},{"$f":"IF(ISBLANK(SeconedPartDegrees1!$I$9),\"\",SeconedPartDegrees1!$I$9)","v":""},{"$f":"SeconedPartDegrees1!L125","v":0},{"$f":"IF(ISBLANK(SeconedPartDegrees1!$L$9),\"\",SeconedPartDegrees1!$L$9)","v":""},null,null,0,0,{"$f":"FirstPartDegrees1!H125","v":0},{"$f":"IF(ISBLANK(FirstPartDegrees1!$G$9),\"\",FirstPartDegrees1!$G$9)","v":""},{"$f":"SeconedPartDegrees1!O125","v":0},{"$f":"IF(ISBLANK(SeconedPartDegrees1!$N$9),\"\",SeconedPartDegrees1!$N$9)","v":""},null,null,0,{"$f":"FirstPartDegrees1!K125","v":0},{"$f":"IF(ISBLANK(FirstPartDegrees1!$K$9),\"\",FirstPartDegrees1!$K$9)","v":""},{"$f":"SeconedPartDegrees1!H125","v":0},{"$f":"IF(ISBLANK(SeconedPartDegrees1!$G$9),\"\",SeconedPartDegrees1!$G$9)","v":""},null,null,0,{"$f":"SeconedPartDegrees1!E125","v":0},{"$f":"IF(ISBLANK(SeconedPartDegrees1!$E$9),\"\",SeconedPartDegrees1!$E$9)","v":""},{"$f":"SeconedPartDegrees1!J125","v":0},{"$f":"IF(ISBLANK(SeconedPartDegrees1!$I$9),\"\",SeconedPartDegrees1!$I$9)","v":""},null,null,0,{"$f":"FirstPartDegrees1!N125","v":0},{"$f":"IF(ISBLANK(FirstPartDegrees1!$M$9),\"\",FirstPartDegrees1!$M$9)","v":""},{"$f":"SeconedPartDegrees1!K125","v":0},{"$f":"IF(ISBLANK(SeconedPartDegrees1!$I$9),\"\",SeconedPartDegrees1!$I$9)","v":""},null,null,0,0,0,{"$f":"SeconedPartDegrees1!Q125","v":""}]
[{"$f":"SeconedPartDegrees1!A127","v":58},{"$f":"FirstPartDegrees1!B127","v":""},{"$f":"FirstPartDegrees1!$H$7","v":"7-1"},{"$f":"FirstPartDegrees1!G127","v":0},{"$f":"IF(ISBLANK(SeconedPartDegrees1!$G$9),\"\",SeconedPartDegrees1!$G$9)","v":""},{"$f":"SeconedPartDegrees1!C127","v":0},{"$f":"IF(ISBLANK(SeconedPartDegrees1!$C$9),\"\",SeconedPartDegrees1!$C$9)","v":""},null,null,0,{"$f":"FirstPartDegrees1!I127","v":0},{"$f":"IF(ISBLANK(FirstPartDegrees1!$I$9),\"\",FirstPartDegrees1!$I$9)","v":""},{"$f":"FirstPartDegrees1!M127","v":0},{"$f":"IF(ISBLANK(FirstPartDegrees1!$M$9),\"\",FirstPartDegrees1!$M$9)","v":""},null,null,0,{"$f":"FirstPartDegrees1!E127","v":0},{"$f":"IF(ISBLANK(FirstPartDegrees1!$E$9),\"\",FirstPartDegrees1!$E$9)","v":""},{"$f":"SeconedPartDegrees1!F127","v":0},{"$f":"IF(ISBLANK(SeconedPartDegrees1!$E$9),\"\",SeconedPartDegrees1!$E$9)","v":""},null,null,0,{"$f":"FirstPartDegrees1!J127","v":0},{"$f":"IF(ISBLANK(FirstPartDegrees1!$I$9),\"\",FirstPartDegrees1!$I$9)","v":""},{"$f":"FirstPartDegrees1!L127","v":0},{"$f":"IF(ISBLANK(FirstPartDegrees1!$K$9),\"\",FirstPartDegrees1!$K$9)","v":""},null,null,0,0,{"$f":"SeconedPartDegrees1!G127","v":0},{"$f":"IF(ISBLANK(SeconedPartDegrees1!$G$9),\"\",SeconedPartDegrees1!$G$9)","v":""},{"$f":"SeconedPartDegrees1!M127","v":0},{"$f":"IF(ISBLANK(SeconedPartDegrees1!$L$9),\"\",SeconedPartDegrees1!$L$9)","v":""},null,null,0,{"$f":"FirstPartDegrees1!C127","v":0},{"$f":"IF(ISBLANK(FirstPartDegrees1!$C$9),\"\",FirstPartDegrees1!$C$9)","v":""},{"$f":"FirstPartDegrees1!F127","v":0},{"$f":"IF(ISBLANK(FirstPartDegrees1!$E$9),\"\",FirstPartDegrees1!$E$9)","v":""},null,null,0,{"$f":"FirstPartDegrees1!D127","v":0},{"$f":"IF(ISBLANK(FirstPartDegrees1!$C$9),\"\",FirstPartDegrees1!$C$9)","v":""},{"$f":"SeconedPartDegrees1!N127","v":0},{"$f":"IF(ISBLANK(SeconedPartDegrees1!$N$9),\"\",SeconedPartDegrees1!$N$9)","v":""},null,null,0,{"$f":"SeconedPartDegrees1!I127","v":0},{"$f":"IF(ISBLANK(SeconedPartDegrees1!$I$9),\"\",SeconedPartDegrees1!$I$9)","v":""},{"$f":"SeconedPartDegrees1!L127","v":0},{"$f":"IF(ISBLANK(SeconedPartDegrees1!$L$9),\"\",SeconedPartDegrees1!$L$9)","v":""},null,null,0,0,{"$f":"FirstPartDegrees1!H127","v":0},{"$f":"IF(ISBLANK(FirstPartDegrees1!$G$9),\"\",FirstPartDegrees1!$G$9)","v":""},{"$f":"SeconedPartDegrees1!O127","v":0},{"$f":"IF(ISBLANK(SeconedPartDegrees1!$N$9),\"\",SeconedPartDegrees1!$N$9)","v":""},null,null,0,{"$f":"FirstPartDegrees1!K127","v":0},{"$f":"IF(ISBLANK(FirstPartDegrees1!$K$9),\"\",FirstPartDegrees1!$K$9)","v":""},{"$f":"SeconedPartDegrees1!H127","v":0},{"$f":"IF(ISBLANK(SeconedPartDegrees1!$G$9),\"\",SeconedPartDegrees1!$G$9)","v":""},null,null,0,{"$f":"SeconedPartDegrees1!E127","v":0},{"$f":"IF(ISBLANK(SeconedPartDegrees1!$E$9),\"\",SeconedPartDegrees1!$E$9)","v":""},{"$f":"SeconedPartDegrees1!J127","v":0},{"$f":"IF(ISBLANK(SeconedPartDegrees1!$I$9),\"\",SeconedPartDegrees1!$I$9)","v":""},null,null,0,{"$f":"FirstPartDegrees1!N127","v":0},{"$f":"IF(ISBLANK(FirstPartDegrees1!$M$9),\"\",FirstPartDegrees1!$M$9)","v":""},{"$f":"SeconedPartDegrees1!K127","v":0},{"$f":"IF(ISBLANK(SeconedPartDegrees1!$I$9),\"\",SeconedPartDegrees1!$I$9)","v":""},null,null,0,0,0,{"$f":"SeconedPartDegrees1!Q127","v":""}]
[{"$f":"SeconedPartDegrees1!A129","v":59},{"$f":"FirstPartDegrees1!B129","v":""},{"$f":"FirstPartDegrees1!$H$7","v":"7-1"},{"$f":"FirstPartDegrees1!G129","v":0},{"$f":"IF(ISBLANK(SeconedPartDegrees1!$G$9),\"\",SeconedPartDegrees1!$G$9)","v":""},{"$f":"SeconedPartDegrees1!C129","v":0},{"$f":"IF(ISBLANK(SeconedPartDegrees1!$C$9),\"\",SeconedPartDegrees1!$C$9)","v":""},null,null,0,{"$f":"FirstPartDegrees1!I129","v":0},{"$f":"IF(ISBLANK(FirstPartDegrees1!$I$9),\"\",FirstPartDegrees1!$I$9)","v":""},{"$f":"FirstPartDegrees1!M129","v":0},{"$f":"IF(ISBLANK(FirstPartDegrees1!$M$9),\"\",FirstPartDegrees1!$M$9)","v":""},null,null,0,{"$f":"FirstPartDegrees1!E129","v":0},{"$f":"IF(ISBLANK(FirstPartDegrees1!$E$9),\"\",FirstPartDegrees1!$E$9)","v":""},{"$f":"SeconedPartDegrees1!F129","v":0},{"$f":"IF(ISBLANK(SeconedPartDegrees1!$E$9),\"\",SeconedPartDegrees1!$E$9)","v":""},null,null,0,{"$f":"FirstPartDegrees1!J129","v":0},{"$f":"IF(ISBLANK(FirstPartDegrees1!$I$9),\"\",FirstPartDegrees1!$I$9)","v":""},{"$f":"FirstPartDegrees1!L129","v":0},{"$f":"IF(ISBLANK(FirstPartDegrees1!$K$9),\"\",FirstPartDegrees1!$K$9)","v":""},null,null,0,0,{"$f":"SeconedPartDegrees1!G129","v":0},{"$f":"IF(ISBLANK(SeconedPartDegrees1!$G$9),\"\",SeconedPartDegrees1!$G$9)","v":""},{"$f":"SeconedPartDegrees1!M129","v":0},{"$f":"IF(ISBLANK(SeconedPartDegrees1!$L$9),\"\",SeconedPartDegrees1!$L$9)","v":""},null,null,0,{"$f":"FirstPartDegrees1!C129","v":0},{"$f":"IF(ISBLANK(FirstPartDegrees1!$C$9),\"\",FirstPartDegrees1!$C$9)","v":""},{"$f":"FirstPartDegrees1!F129","v":0},{"$f":"IF(ISBLANK(FirstPartDegrees1!$E$9),\"\",FirstPartDegrees1!$E$9)","v":""},null,null,0,{"$f":"FirstPartDegrees1!D129","v":0},{"$f":"IF(ISBLANK(FirstPartDegrees1!$C$9),\"\",FirstPartDegrees1!$C$9)","v":""},{"$f":"SeconedPartDegrees1!N129","v":0},{"$f":"IF(ISBLANK(SeconedPartDegrees1!$N$9),\"\",SeconedPartDegrees1!$N$9)","v":""},null,null,0,{"$f":"SeconedPartDegrees1!I129","v":0},{"$f":"IF(ISBLANK(SeconedPartDegrees1!$I$9),\"\",SeconedPartDegrees1!$I$9)","v":""},{"$f":"SeconedPartDegrees1!L129","v":0},{"$f":"IF(ISBLANK(SeconedPartDegrees1!$L$9),\"\",SeconedPartDegrees1!$L$9)","v":""},null,null,0,0,{"$f":"FirstPartDegrees1!H129","v":0},{"$f":"IF(ISBLANK(FirstPartDegrees1!$G$9),\"\",FirstPartDegrees1!$G$9)","v":""},{"$f":"SeconedPartDegrees1!O129","v":0},{"$f":"IF(ISBLANK(SeconedPartDegrees1!$N$9),\"\",SeconedPartDegrees1!$N$9)","v":""},null,null,0,{"$f":"FirstPartDegrees1!K129","v":0},{"$f":"IF(ISBLANK(FirstPartDegrees1!$K$9),\"\",FirstPartDegrees1!$K$9)","v":""},{"$f":"SeconedPartDegrees1!H129","v":0},{"$f":"IF(ISBLANK(SeconedPartDegrees1!$G$9),\"\",SeconedPartDegrees1!$G$9)","v":""},null,null,0,{"$f":"SeconedPartDegrees1!E129","v":0},{"$f":"IF(ISBLANK(SeconedPartDegrees1!$E$9),\"\",SeconedPartDegrees1!$E$9)","v":""},{"$f":"SeconedPartDegrees1!J129","v":0},{"$f":"IF(ISBLANK(SeconedPartDegrees1!$I$9),\"\",SeconedPartDegrees1!$I$9)","v":""},null,null,0,{"$f":"FirstPartDegrees1!N129","v":0},{"$f":"IF(ISBLANK(FirstPartDegrees1!$M$9),\"\",FirstPartDegrees1!$M$9)","v":""},{"$f":"SeconedPartDegrees1!K129","v":0},{"$f":"IF(ISBLANK(SeconedPartDegrees1!$I$9),\"\",SeconedPartDegrees1!$I$9)","v":""},null,null,0,0,0,{"$f":"SeconedPartDegrees1!Q129","v":""}]
[{"$f":"SeconedPartDegrees1!A131","v":60},{"$f":"FirstPartDegrees1!B131","v":""},{"$f":"FirstPartDegrees1!$H$7","v":"7-1"},{"$f":"FirstPartDegrees1!G131","v":0},{"$f":"IF(ISBLANK(SeconedPartDegrees1!$G$9),\"\",SeconedPartDegrees1!$G$9)","v":""},{"$f":"SeconedPartDegrees1!C131","v":0},{"$f":"IF(ISBLANK(SeconedPartDegrees1!$C$9),\"\",SeconedPartDegrees1!$C$9)","v":""},null,null,0,{"$f":"FirstPartDegrees1!I131","v":0},{"$f":"IF(ISBLANK(FirstPartDegrees1!$I$9),\"\",FirstPartDegrees1!$I$9)","v":""},{"$f":"FirstPartDegrees1!M131","v":0},{"$f":"IF(ISBLANK(FirstPartDegrees1!$M$9),\"\",FirstPartDegrees1!$M$9)","v":""},null,null,0,{"$f":"FirstPartDegrees1!E131","v":0},{"$f":"IF(ISBLANK(FirstPartDegrees1!$E$9),\"\",FirstPartDegrees1!$E$9)","v":""},{"$f":"SeconedPartDegrees1!F131","v":0},{"$f":"IF(ISBLANK(SeconedPartDegrees1!$E$9),\"\",SeconedPartDegrees1!$E$9)","v":""},null,null,0,{"$f":"FirstPartDegrees1!J131","v":0},{"$f":"IF(ISBLANK(FirstPartDegrees1!$I$9),\"\",FirstPartDegrees1!$I$9)","v":""},{"$f":"FirstPartDegrees1!L131","v":0},{"$f":"IF(ISBLANK(FirstPartDegrees1!$K$9),\"\",FirstPartDegrees1!$K$9)","v":""},null,null,0,0,{"$f":"SeconedPartDegrees1!G131","v":0},{"$f":"IF(ISBLANK(SeconedPartDegrees1!$G$9),\"\",SeconedPartDegrees1!$G$9)","v":""},{"$f":"SeconedPartDegrees1!M131","v":0},{"$f":"IF(ISBLANK(SeconedPartDegrees1!$L$9),\"\",SeconedPartDegrees1!$L$9)","v":""},null,null,0,{"$f":"FirstPartDegrees1!C131","v":0},{"$f":"IF(ISBLANK(FirstPartDegrees1!$C$9),\"\",FirstPartDegrees1!$C$9)","v":""},{"$f":"FirstPartDegrees1!F131","v":0},{"$f":"IF(ISBLANK(FirstPartDegrees1!$E$9),\"\",FirstPartDegrees1!$E$9)","v":""},null,null,0,{"$f":"FirstPartDegrees1!D131","v":0},{"$f":"IF(ISBLANK(FirstPartDegrees1!$C$9),\"\",FirstPartDegrees1!$C$9)","v":""},{"$f":"SeconedPartDegrees1!N131","v":0},{"$f":"IF(ISBLANK(SeconedPartDegrees1!$N$9),\"\",SeconedPartDegrees1!$N$9)","v":""},null,null,0,{"$f":"SeconedPartDegrees1!I131","v":0},{"$f":"IF(ISBLANK(SeconedPartDegrees1!$I$9),\"\",SeconedPartDegrees1!$I$9)","v":""},{"$f":"SeconedPartDegrees1!L131","v":0},{"$f":"IF(ISBLANK(SeconedPartDegrees1!$L$9),\"\",SeconedPartDegrees1!$L$9)","v":""},null,null,0,0,{"$f":"FirstPartDegrees1!H131","v":0},{"$f":"IF(ISBLANK(FirstPartDegrees1!$G$9),\"\",FirstPartDegrees1!$G$9)","v":""},{"$f":"SeconedPartDegrees1!O131","v":0},{"$f":"IF(ISBLANK(SeconedPartDegrees1!$N$9),\"\",SeconedPartDegrees1!$N$9)","v":""},null,null,0,{"$f":"FirstPartDegrees1!K131","v":0},{"$f":"IF(ISBLANK(FirstPartDegrees1!$K$9),\"\",FirstPartDegrees1!$K$9)","v":""},{"$f":"SeconedPartDegrees1!H131","v":0},{"$f":"IF(ISBLANK(SeconedPartDegrees1!$G$9),\"\",SeconedPartDegrees1!$G$9)","v":""},null,null,0,{"$f":"SeconedPartDegrees1!E131","v":0},{"$f":"IF(ISBLANK(SeconedPartDegrees1!$E$9),\"\",SeconedPartDegrees1!$E$9)","v":""},{"$f":"SeconedPartDegrees1!J131","v":0},{"$f":"IF(ISBLANK(SeconedPartDegrees1!$I$9),\"\",SeconedPartDegrees1!$I$9)","v":""},null,null,0,{"$f":"FirstPartDegrees1!N131","v":0},{"$f":"IF(ISBLANK(FirstPartDegrees1!$M$9),\"\",FirstPartDegrees1!$M$9)","v":""},{"$f":"SeconedPartDegrees1!K131","v":0},{"$f":"IF(ISBLANK(SeconedPartDegrees1!$I$9),\"\",SeconedPartDegrees1!$I$9)","v":""},null,null,0,0,0,{"$f":"SeconedPartDegrees1!Q131","v":""}]
[{"$f":"SeconedPartDegrees1!A133","v":61},{"$f":"FirstPartDegrees1!B133","v":""},{"$f":"FirstPartDegrees1!$H$7","v":"7-1"},{"$f":"FirstPartDegrees1!G133","v":0},{"$f":"IF(ISBLANK(SeconedPartDegrees1!$G$9),\"\",SeconedPartDegrees1!$G$9)","v":""},{"$f":"SeconedPartDegrees1!C133","v":0},{"$f":"IF(ISBLANK(SeconedPartDegrees1!$C$9),\"\",SeconedPartDegrees1!$C$9)","v":""},null,null,0,{"$f":"FirstPartDegrees1!I133","v":0},{"$f":"IF(ISBLANK(FirstPartDegrees1!$I$9),\"\",FirstPartDegrees1!$I$9)","v":""},{"$f":"FirstPartDegrees1!M133","v":0},{"$f":"IF(ISBLANK(FirstPartDegrees1!$M$9),\"\",FirstPartDegrees1!$M$9)","v":""},null,null,0,{"$f":"FirstPartDegrees1!E133","v":0},{"$f":"IF(ISBLANK(FirstPartDegrees1!$E$9),\"\",FirstPartDegrees1!$E$9)","v":""},{"$f":"SeconedPartDegrees1!F133","v":0},{"$f":"IF(ISBLANK(SeconedPartDegrees1!$E$9),\"\",SeconedPartDegrees1!$E$9)","v":""},null,null,0,{"$f":"FirstPartDegrees1!J133","v":0},{"$f":"IF(ISBLANK(FirstPartDegrees1!$I$9),\"\",FirstPartDegrees1!$I$9)","v":""},{"$f":"FirstPartDegrees1!L133","v":0},{"$f":"IF(ISBLANK(FirstPartDegrees1!$K$9),\"\",FirstPartDegrees1!$K$9)","v":""},null,null,0,0,{"$f":"SeconedPartDegrees1!G133","v":0},{"$f":"IF(ISBLANK(SeconedPartDegrees1!$G$9),\"\",SeconedPartDegrees1!$G$9)","v":""},{"$f":"SeconedPartDegrees1!M133","v":0},{"$f":"IF(ISBLANK(SeconedPartDegrees1!$L$9),\"\",SeconedPartDegrees1!$L$9)","v":""},null,null,0,{"$f":"FirstPartDegrees1!C133","v":0},{"$f":"IF(ISBLANK(FirstPartDegrees1!$C$9),\"\",FirstPartDegrees1!$C$9)","v":""},{"$f":"FirstPartDegrees1!F133","v":0},{"$f":"IF(ISBLANK(FirstPartDegrees1!$E$9),\"\",FirstPartDegrees1!$E$9)","v":""},null,null,0,{"$f":"FirstPartDegrees1!D133","v":0},{"$f":"IF(ISBLANK(FirstPartDegrees1!$C$9),\"\",FirstPartDegrees1!$C$9)","v":""},{"$f":"SeconedPartDegrees1!N133","v":0},{"$f":"IF(ISBLANK(SeconedPartDegrees1!$N$9),\"\",SeconedPartDegrees1!$N$9)","v":""},null,null,0,{"$f":"SeconedPartDegrees1!I133","v":0},{"$f":"IF(ISBLANK(SeconedPartDegrees1!$I$9),\"\",SeconedPartDegrees1!$I$9)","v":""},{"$f":"SeconedPartDegrees1!L133","v":0},{"$f":"IF(ISBLANK(SeconedPartDegrees1!$L$9),\"\",SeconedPartDegrees1!$L$9)","v":""},null,null,0,0,{"$f":"FirstPartDegrees1!H133","v":0},{"$f":"IF(ISBLANK(FirstPartDegrees1!$G$9),\"\",FirstPartDegrees1!$G$9)","v":""},{"$f":"SeconedPartDegrees1!O133","v":0},{"$f":"IF(ISBLANK(SeconedPartDegrees1!$N$9),\"\",SeconedPartDegrees1!$N$9)","v":""},null,null,0,{"$f":"FirstPartDegrees1!K133","v":0},{"$f":"IF(ISBLANK(FirstPartDegrees1!$K$9),\"\",FirstPartDegrees1!$K$9)","v":""},{"$f":"SeconedPartDegrees1!H133","v":0},{"$f":"IF(ISBLANK(SeconedPartDegrees1!$G$9),\"\",SeconedPartDegrees1!$G$9)","v":""},null,null,0,{"$f":"SeconedPartDegrees1!E133","v":0},{"$f":"IF(ISBLANK(SeconedPartDegrees1!$E$9),\"\",SeconedPartDegrees1!$E$9)","v":""},{"$f":"SeconedPartDegrees1!J133","v":0},{"$f":"IF(ISBLANK(SeconedPartDegrees1!$I$9),\"\",SeconedPartDegrees1!$I$9)","v":""},null,null,0,{"$f":"FirstPartDegrees1!N133","v":0},{"$f":"IF(ISBLANK(FirstPartDegrees1!$M$9),\"\",FirstPartDegrees1!$M$9)","v":""},{"$f":"SeconedPartDegrees1!K133","v":0},{"$f":"IF(ISBLANK(SeconedPartDegrees1!$I$9),\"\",SeconedPartDegrees1!$I$9)","v":""},null,null,0,0,0,{"$f":"SeconedPartDegrees1!Q133","v":""}]
[{"$f":"SeconedPartDegrees1!A135","v":62},{"$f":"FirstPartDegrees1!B135","v":""},{"$f":"FirstPartDegrees1!$H$7","v":"7-1"},{"$f":"FirstPartDegrees1!G135","v":0},{"$f":"IF(ISBLANK(SeconedPartDegrees1!$G$9),\"\",SeconedPartDegrees1!$G$9)","v":""},{"$f":"SeconedPartDegrees1!C135","v":0},{"$f":"IF(ISBLANK(SeconedPartDegrees1!$C$9),\"\",SeconedPartDegrees1!$C$9)","v":""},null,null,0,{"$f":"FirstPartDegrees1!I135","v":0},{"$f":"IF(ISBLANK(FirstPartDegrees1!$I$9),\"\",FirstPartDegrees1!$I$9)","v":""},{"$f":"FirstPartDegrees1!M135","v":0},{"$f":"IF(ISBLANK(FirstPartDegrees1!$M$9),\"\",FirstPartDegrees1!$M$9)","v":""},null,null,0,{"$f":"FirstPartDegrees1!E135","v":0},{"$f":"IF(ISBLANK(FirstPartDegrees1!$E$9),\"\",FirstPartDegrees1!$E$9)","v":""},{"$f":"SeconedPartDegrees1!F135","v":0},{"$f":"IF(ISBLANK(SeconedPartDegrees1!$E$9),\"\",SeconedPartDegrees1!$E$9)","v":""},null,null,0,{"$f":"FirstPartDegrees1!J135","v":0},{"$f":"IF(ISBLANK(FirstPartDegrees1!$I$9),\"\",FirstPartDegrees1!$I$9)","v":""},{"$f":"FirstPartDegrees1!L135","v":0},{"$f":"IF(ISBLANK(FirstPartDegrees1!$K$9),\"\",FirstPartDegrees1!$K$9)","v":""},null,null,0,0,{"$f":"SeconedPartDegrees1!G135","v":0},{"$f":"IF(ISBLANK(SeconedPartDegrees1!$G$9),\"\",SeconedPartDegrees1!$G$9)","v":""},{"$f":"SeconedPartDegrees1!M135","v":0},{"$f":"IF(ISBLANK(SeconedPartDegrees1!$L$9),\"\",SeconedPartDegrees1!$L$9)","v":""},null,null,0,{"$f":"FirstPartDegrees1!C135","v":0},{"$f":"IF(ISBLANK(FirstPartDegrees1!$C$9),\"\",FirstPartDegrees1!$C$9)","v":""},{"$f":"FirstPartDegrees1!F135","v":0},{"$f":"IF(ISBLANK(FirstPartDegrees1!$E$9),\"\",FirstPartDegrees1!$E$9)","v":""},null,null,0,{"$f":"FirstPartDegrees1!D135","v":0},{"$f":"IF(ISBLANK(FirstPartDegrees1!$C$9),\"\",FirstPartDegrees1!$C$9)","v":""},{"$f":"SeconedPartDegrees1!N135","v":0},{"$f":"IF(ISBLANK(SeconedPartDegrees1!$N$9),\"\",SeconedPartDegrees1!$N$9)","v":""},null,null,0,{"$f":"SeconedPartDegrees1!I135","v":0},{"$f":"IF(ISBLANK(SeconedPartDegrees1!$I$9),\"\",SeconedPartDegrees1!$I$9)","v":""},{"$f":"SeconedPartDegrees1!L135","v":0},{"$f":"IF(ISBLANK(SeconedPartDegrees1!$L$9),\"\",SeconedPartDegrees1!$L$9)","v":""},null,null,0,0,{"$f":"FirstPartDegrees1!H135","v":0},{"$f":"IF(ISBLANK(FirstPartDegrees1!$G$9),\"\",FirstPartDegrees1!$G$9)","v":""},{"$f":"SeconedPartDegrees1!O135","v":0},{"$f":"IF(ISBLANK(SeconedPartDegrees1!$N$9),\"\",SeconedPartDegrees1!$N$9)","v":""},null,null,0,{"$f":"FirstPartDegrees1!K135","v":0},{"$f":"IF(ISBLANK(FirstPartDegrees1!$K$9),\"\",FirstPartDegrees1!$K$9)","v":""},{"$f":"SeconedPartDegrees1!H135","v":0},{"$f":"IF(ISBLANK(SeconedPartDegrees1!$G$9),\"\",SeconedPartDegrees1!$G$9)","v":""},null,null,0,{"$f":"SeconedPartDegrees1!E135","v":0},{"$f":"IF(ISBLANK(SeconedPartDegrees1!$E$9),\"\",SeconedPartDegrees1!$E$9)","v":""},{"$f":"SeconedPartDegrees1!J135","v":0},{"$f":"IF(ISBLANK(SeconedPartDegrees1!$I$9),\"\",SeconedPartDegrees1!$I$9)","v":""},null,null,0,{"$f":"FirstPartDegrees1!N135","v":0},{"$f":"IF(ISBLANK(FirstPartDegrees1!$M$9),\"\",FirstPartDegrees1!$M$9)","v":""},{"$f":"SeconedPartDegrees1!K135","v":0},{"$f":"IF(ISBLANK(SeconedPartDegrees1!$I$9),\"\",SeconedPartDegrees1!$I$9)","v":""},null,null,0,0,0,{"$f":"SeconedPartDegrees1!Q135","v":""}]
[{"$f":"SeconedPartDegrees1!A137","v":63},{"$f":"FirstPartDegrees1!B137","v":""},{"$f":"FirstPartDegrees1!$H$7","v":"7-1"},{"$f":"FirstPartDegrees1!G137","v":0},{"$f":"IF(ISBLANK(SeconedPartDegrees1!$G$9),\"\",SeconedPartDegrees1!$G$9)","v":""},{"$f":"SeconedPartDegrees1!C137","v":0},{"$f":"IF(ISBLANK(SeconedPartDegrees1!$C$9),\"\",SeconedPartDegrees1!$C$9)","v":""},null,null,0,{"$f":"FirstPartDegrees1!I137","v":0},{"$f":"IF(ISBLANK(FirstPartDegrees1!$I$9),\"\",FirstPartDegrees1!$I$9)","v":""},{"$f":"FirstPartDegrees1!M137","v":0},{"$f":"IF(ISBLANK(FirstPartDegrees1!$M$9),\"\",FirstPartDegrees1!$M$9)","v":""},null,null,0,{"$f":"FirstPartDegrees1!E137","v":0},{"$f":"IF(ISBLANK(FirstPartDegrees1!$E$9),\"\",FirstPartDegrees1!$E$9)","v":""},{"$f":"SeconedPartDegrees1!F137","v":0},{"$f":"IF(ISBLANK(SeconedPartDegrees1!$E$9),\"\",SeconedPartDegrees1!$E$9)","v":""},null,null,0,{"$f":"FirstPartDegrees1!J137","v":0},{"$f":"IF(ISBLANK(FirstPartDegrees1!$I$9),\"\",FirstPartDegrees1!$I$9)","v":""},{"$f":"FirstPartDegrees1!L137","v":0},{"$f":"IF(ISBLANK(FirstPartDegrees1!$K$9),\"\",FirstPartDegrees1!$K$9)","v":""},null,null,0,0,{"$f":"SeconedPartDegrees1!G137","v":0},{"$f":"IF(ISBLANK(SeconedPartDegrees1!$G$9),\"\",SeconedPartDegrees1!$G$9)","v":""},{"$f":"SeconedPartDegrees1!M137","v":0},{"$f":"IF(ISBLANK(SeconedPartDegrees1!$L$9),\"\",SeconedPartDegrees1!$L$9)","v":""},null,null,0,{"$f":"FirstPartDegrees1!C137","v":0},{"$f":"IF(ISBLANK(FirstPartDegrees1!$C$9),\"\",FirstPartDegrees1!$C$9)","v":""},{"$f":"FirstPartDegrees1!F137","v":0},{"$f":"IF(ISBLANK(FirstPartDegrees1!$E$9),\"\",FirstPartDegrees1!$E$9)","v":""},null,null,0,{"$f":"FirstPartDegrees1!D137","v":0},{"$f":"IF(ISBLANK(FirstPartDegrees1!$C$9),\"\",FirstPartDegrees1!$C$9)","v":""},{"$f":"SeconedPartDegrees1!N137","v":0},{"$f":"IF(ISBLANK(SeconedPartDegrees1!$N$9),\"\",SeconedPartDegrees1!$N$9)","v":""},null,null,0,{"$f":"SeconedPartDegrees1!I137","v":0},{"$f":"IF(ISBLANK(SeconedPartDegrees1!$I$9),\"\",SeconedPartDegrees1!$I$9)","v":""},{"$f":"SeconedPartDegrees1!L137","v":0},{"$f":"IF(ISBLANK(SeconedPartDegrees1!$L$9),\"\",SeconedPartDegrees1!$L$9)","v":""},null,null,0,0,{"$f":"FirstPartDegrees1!H137","v":0},{"$f":"IF(ISBLANK(FirstPartDegrees1!$G$9),\"\",FirstPartDegrees1!$G$9)","v":""},{"$f":"SeconedPartDegrees1!O137","v":0},{"$f":"IF(ISBLANK(SeconedPartDegrees1!$N$9),\"\",SeconedPartDegrees1!$N$9)","v":""},null,null,0,{"$f":"FirstPartDegrees1!K137","v":0},{"$f":"IF(ISBLANK(FirstPartDegrees1!$K$9),\"\",FirstPartDegrees1!$K$9)","v":""},{"$f":"SeconedPartDegrees1!H137","v":0},{"$f":"IF(ISBLANK(SeconedPartDegrees1!$G$9),\"\",SeconedPartDegrees1!$G$9)","v":""},null,null,0,{"$f":"SeconedPartDegrees1!E137","v":0},{"$f":"IF(ISBLANK(SeconedPartDegrees1!$E$9),\"\",SeconedPartDegrees1!$E$9)","v":""},{"$f":"SeconedPartDegrees1!J137","v":0},{"$f":"IF(ISBLANK(SeconedPartDegrees1!$I$9),\"\",SeconedPartDegrees1!$I$9)","v":""},null,null,0,{"$f":"FirstPartDegrees1!N137","v":0},{"$f":"IF(ISBLANK(FirstPartDegrees1!$M$9),\"\",FirstPartDegrees1!$M$9)","v":""},{"$f":"SeconedPartDegrees1!K137","v":0},{"$f":"IF(ISBLANK(SeconedPartDegrees1!$I$9),\"\",SeconedPartDegrees1!$I$9)","v":""},null,null,0,0,0,{"$f":"SeconedPartDegrees1!Q137","v":""}]
[{"$f":"SeconedPartDegrees1!A139","v":64},{"$f":"FirstPartDegrees1!B139","v":""},{"$f":"FirstPartDegrees1!$H$7","v":"7-1"},{"$f":"FirstPartDegrees1!G139","v":0},{"$f":"IF(ISBLANK(SeconedPartDegrees1!$G$9),\"\",SeconedPartDegrees1!$G$9)","v":""},{"$f":"SeconedPartDegrees1!C139","v":0},{"$f":"IF(ISBLANK(SeconedPartDegrees1!$C$9),\"\",SeconedPartDegrees1!$C$9)","v":""},null,null,0,{"$f":"FirstPartDegrees1!I139","v":0},{"$f":"IF(ISBLANK(FirstPartDegrees1!$I$9),\"\",FirstPartDegrees1!$I$9)","v":""},{"$f":"FirstPartDegrees1!M139","v":0},{"$f":"IF(ISBLANK(FirstPartDegrees1!$M$9),\"\",FirstPartDegrees1!$M$9)","v":""},null,null,0,{"$f":"FirstPartDegrees1!E139","v":0},{"$f":"IF(ISBLANK(FirstPartDegrees1!$E$9),\"\",FirstPartDegrees1!$E$9)","v":""},{"$f":"SeconedPartDegrees1!F139","v":0},{"$f":"IF(ISBLANK(SeconedPartDegrees1!$E$9),\"\",SeconedPartDegrees1!$E$9)","v":""},null,null,0,{"$f":"FirstPartDegrees1!J139","v":0},{"$f":"IF(ISBLANK(FirstPartDegrees1!$I$9),\"\",FirstPartDegrees1!$I$9)","v":""},{"$f":"FirstPartDegrees1!L139","v":0},{"$f":"IF(ISBLANK(FirstPartDegrees1!$K$9),\"\",FirstPartDegrees1!$K$9)","v":""},null,null,0,0,{"$f":"SeconedPartDegrees1!G139","v":0},{"$f":"IF(ISBLANK(SeconedPartDegrees1!$G$9),\"\",SeconedPartDegrees1!$G$9)","v":""},{"$f":"SeconedPartDegrees1!M139","v":0},{"$f":"IF(ISBLANK(SeconedPartDegrees1!$L$9),\"\",SeconedPartDegrees1!$L$9)","v":""},null,null,0,{"$f":"FirstPartDegrees1!C139","v":0},{"$f":"IF(ISBLANK(FirstPartDegrees1!$C$9),\"\",FirstPartDegrees1!$C$9)","v":""},{"$f":"FirstPartDegrees1!F139","v":0},{"$f":"IF(ISBLANK(FirstPartDegrees1!$E$9),\"\",FirstPartDegrees1!$E$9)","v":""},null,null,0,{"$f":"FirstPartDegrees1!D139","v":0},{"$f":"IF(ISBLANK(FirstPartDegrees1!$C$9),\"\",FirstPartDegrees1!$C$9)","v":""},{"$f":"SeconedPartDegrees1!N139","v":0},{"$f":"IF(ISBLANK(SeconedPartDegrees1!$N$9),\"\",SeconedPartDegrees1!$N$9)","v":""},null,null,0,{"$f":"SeconedPartDegrees1!I139","v":0},{"$f":"IF(ISBLANK(SeconedPartDegrees1!$I$9),\"\",SeconedPartDegrees1!$I$9)","v":""},{"$f":"SeconedPartDegrees1!L139","v":0},{"$f":"IF(ISBLANK(SeconedPartDegrees1!$L$9),\"\",SeconedPartDegrees1!$L$9)","v":""},null,null,0,0,{"$f":"FirstPartDegrees1!H139","v":0},{"$f":"IF(ISBLANK(FirstPartDegrees1!$G$9),\"\",FirstPartDegrees1!$G$9)","v":""},{"$f":"SeconedPartDegrees1!O139","v":0},{"$f":"IF(ISBLANK(SeconedPartDegrees1!$N$9),\"\",SeconedPartDegrees1!$N$9)","v":""},null,null,0,{"$f":"FirstPartDegrees1!K139","v":0},{"$f":"IF(ISBLANK(FirstPartDegrees1!$K$9),\"\",FirstPartDegrees1!$K$9)","v":""},{"$f":"SeconedPartDegrees1!H139","v":0},{"$f":"IF(ISBLANK(SeconedPartDegrees1!$G$9),\"\",SeconedPartDegrees1!$G$9)","v":""},null,null,0,{"$f":"SeconedPartDegrees1!E139","v":0},{"$f":"IF(ISBLANK(SeconedPartDegrees1!$E$9),\"\",SeconedPartDegrees1!$E$9)","v":""},{"$f":"SeconedPartDegrees1!J139","v":0},{"$f":"IF(ISBLANK(SeconedPartDegrees1!$I$9),\"\",SeconedPartDegrees1!$I$9)","v":""},null,null,0,{"$f":"FirstPartDegrees1!N139","v":0},{"$f":"IF(ISBLANK(FirstPartDegrees1!$M$9),\"\",FirstPartDegrees1!$M$9)","v":""},{"$f":"SeconedPartDegrees1!K139","v":0},{"$f":"IF(ISBLANK(SeconedPartDegrees1!$I$9),\"\",SeconedPartDegrees1!$I$9)","v":""},null,null,0,0,0,{"$f":"SeconedPartDegrees1!Q139","v":""}]
[{"$f":"SeconedPartDegrees1!A141","v":65},{"$f":"FirstPartDegrees1!B141","v":""},{"$f":"FirstPartDegrees1!$H$7","v":"7-1"},{"$f":"FirstPartDegrees1!G141","v":0},{"$f":"IF(ISBLANK(SeconedPartDegrees1!$G$9),\"\",SeconedPartDegrees1!$G$9)","v":""},{"$f":"SeconedPartDegrees1!C141","v":0},{"$f":"IF(ISBLANK(SeconedPartDegrees1!$C$9),\"\",SeconedPartDegrees1!$C$9)","v":""},null,null,0,{"$f":"FirstPartDegrees1!I141","v":0},{"$f":"IF(ISBLANK(FirstPartDegrees1!$I$9),\"\",FirstPartDegrees1!$I$9)","v":""},{"$f":"FirstPartDegrees1!M141","v":0},{"$f":"IF(ISBLANK(FirstPartDegrees1!$M$9),\"\",FirstPartDegrees1!$M$9)","v":""},null,null,0,{"$f":"FirstPartDegrees1!E141","v":0},{"$f":"IF(ISBLANK(FirstPartDegrees1!$E$9),\"\",FirstPartDegrees1!$E$9)","v":""},{"$f":"SeconedPartDegrees1!F141","v":0},{"$f":"IF(ISBLANK(SeconedPartDegrees1!$E$9),\"\",SeconedPartDegrees1!$E$9)","v":""},null,null,0,{"$f":"FirstPartDegrees1!J141","v":0},{"$f":"IF(ISBLANK(FirstPartDegrees1!$I$9),\"\",FirstPartDegrees1!$I$9)","v":""},{"$f":"FirstPartDegrees1!L141","v":0},{"$f":"IF(ISBLANK(FirstPartDegrees1!$K$9),\"\",FirstPartDegrees1!$K$9)","v":""},null,null,0,0,{"$f":"SeconedPartDegrees1!G141","v":0},{"$f":"IF(ISBLANK(SeconedPartDegrees1!$G$9),\"\",SeconedPartDegrees1!$G$9)","v":""},{"$f":"SeconedPartDegrees1!M141","v":0},{"$f":"IF(ISBLANK(SeconedPartDegrees1!$L$9),\"\",SeconedPartDegrees1!$L$9)","v":""},null,null,0,{"$f":"FirstPartDegrees1!C141","v":0},{"$f":"IF(ISBLANK(FirstPartDegrees1!$C$9),\"\",FirstPartDegrees1!$C$9)","v":""},{"$f":"FirstPartDegrees1!F141","v":0},{"$f":"IF(ISBLANK(FirstPartDegrees1!$E$9),\"\",FirstPartDegrees1!$E$9)","v":""},null,null,0,{"$f":"FirstPartDegrees1!D141","v":0},{"$f":"IF(ISBLANK(FirstPartDegrees1!$C$9),\"\",FirstPartDegrees1!$C$9)","v":""},{"$f":"SeconedPartDegrees1!N141","v":0},{"$f":"IF(ISBLANK(SeconedPartDegrees1!$N$9),\"\",SeconedPartDegrees1!$N$9)","v":""},null,null,0,{"$f":"SeconedPartDegrees1!I141","v":0},{"$f":"IF(ISBLANK(SeconedPartDegrees1!$I$9),\"\",SeconedPartDegrees1!$I$9)","v":""},{"$f":"SeconedPartDegrees1!L141","v":0},{"$f":"IF(ISBLANK(SeconedPartDegrees1!$L$9),\"\",SeconedPartDegrees1!$L$9)","v":""},null,null,0,0,{"$f":"FirstPartDegrees1!H141","v":0},{"$f":"IF(ISBLANK(FirstPartDegrees1!$G$9),\"\",FirstPartDegrees1!$G$9)","v":""},{"$f":"SeconedPartDegrees1!O141","v":0},{"$f":"IF(ISBLANK(SeconedPartDegrees1!$N$9),\"\",SeconedPartDegrees1!$N$9)","v":""},null,null,0,{"$f":"FirstPartDegrees1!K141","v":0},{"$f":"IF(ISBLANK(FirstPartDegrees1!$K$9),\"\",FirstPartDegrees1!$K$9)","v":""},{"$f":"SeconedPartDegrees1!H141","v":0},{"$f":"IF(ISBLANK(SeconedPartDegrees1!$G$9),\"\",SeconedPartDegrees1!$G$9)","v":""},null,null,0,{"$f":"SeconedPartDegrees1!E141","v":0},{"$f":"IF(ISBLANK(SeconedPartDegrees1!$E$9),\"\",SeconedPartDegrees1!$E$9)","v":""},{"$f":"SeconedPartDegrees1!J141","v":0},{"$f":"IF(ISBLANK(SeconedPartDegrees1!$I$9),\"\",SeconedPartDegrees1!$I$9)","v":""},null,null,0,{"$f":"FirstPartDegrees1!N141","v":0},{"$f":"IF(ISBLANK(FirstPartDegrees1!$M$9),\"\",FirstPartDegrees1!$M$9)","v":""},{"$f":"SeconedPartDegrees1!K141","v":0},{"$f":"IF(ISBLANK(SeconedPartDegrees1!$I$9),\"\",SeconedPartDegrees1!$I$9)","v":""},null,null,0,0,0,{"$f":"SeconedPartDegrees1!Q141","v":""}]
[{"$f":"SeconedPartDegrees1!A143","v":66},{"$f":"FirstPartDegrees1!B143","v":""},{"$f":"FirstPartDegrees1!$H$7","v":"7-1"},{"$f":"FirstPartDegrees1!G143","v":0},{"$f":"IF(ISBLANK(SeconedPartDegrees1!$G$9),\"\",SeconedPartDegrees1!$G$9)","v":""},{"$f":"SeconedPartDegrees1!C143","v":0},{"$f":"IF(ISBLANK(SeconedPartDegrees1!$C$9),\"\",SeconedPartDegrees1!$C$9)","v":""},null,null,0,{"$f":"FirstPartDegrees1!I143","v":0},{"$f":"IF(ISBLANK(FirstPartDegrees1!$I$9),\"\",FirstPartDegrees1!$I$9)","v":""},{"$f":"FirstPartDegrees1!M143","v":0},{"$f":"IF(ISBLANK(FirstPartDegrees1!$M$9),\"\",FirstPartDegrees1!$M$9)","v":""},null,null,0,{"$f":"FirstPartDegrees1!E143","v":0},{"$f":"IF(ISBLANK(FirstPartDegrees1!$E$9),\"\",FirstPartDegrees1!$E$9)","v":""},{"$f":"SeconedPartDegrees1!F143","v":0},{"$f":"IF(ISBLANK(SeconedPartDegrees1!$E$9),\"\",SeconedPartDegrees1!$E$9)","v":""},null,null,0,{"$f":"FirstPartDegrees1!J143","v":0},{"$f":"IF(ISBLANK(FirstPartDegrees1!$I$9),\"\",FirstPartDegrees1!$I$9)","v":""},{"$f":"FirstPartDegrees1!L143","v":0},{"$f":"IF(ISBLANK(FirstPartDegrees1!$K$9),\"\",FirstPartDegrees1!$K$9)","v":""},null,null,0,0,{"$f":"SeconedPartDegrees1!G143","v":0},{"$f":"IF(ISBLANK(SeconedPartDegrees1!$G$9),\"\",SeconedPartDegrees1!$G$9)","v":""},{"$f":"SeconedPartDegrees1!M143","v":0},{"$f":"IF(ISBLANK(SeconedPartDegrees1!$L$9),\"\",SeconedPartDegrees1!$L$9)","v":""},null,null,0,{"$f":"FirstPartDegrees1!C143","v":0},{"$f":"IF(ISBLANK(FirstPartDegrees1!$C$9),\"\",FirstPartDegrees1!$C$9)","v":""},{"$f":"FirstPartDegrees1!F143","v":0},{"$f":"IF(ISBLANK(FirstPartDegrees1!$E$9),\"\",FirstPartDegrees1!$E$9)","v":""},null,null,0,{"$f":"FirstPartDegrees1!D143","v":0},{"$f":"IF(ISBLANK(FirstPartDegrees1!$C$9),\"\",FirstPartDegrees1!$C$9)","v":""},{"$f":"SeconedPartDegrees1!N143","v":0},{"$f":"IF(ISBLANK(SeconedPartDegrees1!$N$9),\"\",SeconedPartDegrees1!$N$9)","v":""},null,null,0,{"$f":"SeconedPartDegrees1!I143","v":0},{"$f":"IF(ISBLANK(SeconedPartDegrees1!$I$9),\"\",SeconedPartDegrees1!$I$9)","v":""},{"$f":"SeconedPartDegrees1!L143","v":0},{"$f":"IF(ISBLANK(SeconedPartDegrees1!$L$9),\"\",SeconedPartDegrees1!$L$9)","v":""},null,null,0,0,{"$f":"FirstPartDegrees1!H143","v":0},{"$f":"IF(ISBLANK(FirstPartDegrees1!$G$9),\"\",FirstPartDegrees1!$G$9)","v":""},{"$f":"SeconedPartDegrees1!O143","v":0},{"$f":"IF(ISBLANK(SeconedPartDegrees1!$N$9),\"\",SeconedPartDegrees1!$N$9)","v":""},null,null,0,{"$f":"FirstPartDegrees1!K143","v":0},{"$f":"IF(ISBLANK(FirstPartDegrees1!$K$9),\"\",FirstPartDegrees1!$K$9)","v":""},{"$f":"SeconedPartDegrees1!H143","v":0},{"$f":"IF(ISBLANK(SeconedPartDegrees1!$G$9),\"\",SeconedPartDegrees1!$G$9)","v":""},null,null,0,{"$f":"SeconedPartDegrees1!E143","v":0},{"$f":"IF(ISBLANK(SeconedPartDegrees1!$E$9),\"\",SeconedPartDegrees1!$E$9)","v":""},{"$f":"SeconedPartDegrees1!J143","v":0},{"$f":"IF(ISBLANK(SeconedPartDegrees1!$I$9),\"\",SeconedPartDegrees1!$I$9)","v":""},null,null,0,{"$f":"FirstPartDegrees1!N143","v":0},{"$f":"IF(ISBLANK(FirstPartDegrees1!$M$9),\"\",FirstPartDegrees1!$M$9)","v":""},{"$f":"SeconedPartDegrees1!K143","v":0},{"$f":"IF(ISBLANK(SeconedPartDegrees1!$I$9),\"\",SeconedPartDegrees1!$I$9)","v":""},null,null,0,0,0,{"$f":"SeconedPartDegrees1!Q143","v":""}]
[{"$f":"SeconedPartDegrees1!A145","v":67},{"$f":"FirstPartDegrees1!B145","v":""},{"$f":"FirstPartDegrees1!$H$7","v":"7-1"},{"$f":"FirstPartDegrees1!G145","v":0},{"$f":"IF(ISBLANK(SeconedPartDegrees1!$G$9),\"\",SeconedPartDegrees1!$G$9)","v":""},{"$f":"SeconedPartDegrees1!C145","v":0},{"$f":"IF(ISBLANK(SeconedPartDegrees1!$C$9),\"\",SeconedPartDegrees1!$C$9)","v":""},null,null,0,{"$f":"FirstPartDegrees1!I145","v":0},{"$f":"IF(ISBLANK(FirstPartDegrees1!$I$9),\"\",FirstPartDegrees1!$I$9)","v":""},{"$f":"FirstPartDegrees1!M145","v":0},{"$f":"IF(ISBLANK(FirstPartDegrees1!$M$9),\"\",FirstPartDegrees1!$M$9)","v":""},null,null,0,{"$f":"FirstPartDegrees1!E145","v":0},{"$f":"IF(ISBLANK(FirstPartDegrees1!$E$9),\"\",FirstPartDegrees1!$E$9)","v":""},{"$f":"SeconedPartDegrees1!F145","v":0},{"$f":"IF(ISBLANK(SeconedPartDegrees1!$E$9),\"\",SeconedPartDegrees1!$E$9)","v":""},null,null,0,{"$f":"FirstPartDegrees1!J145","v":0},{"$f":"IF(ISBLANK(FirstPartDegrees1!$I$9),\"\",FirstPartDegrees1!$I$9)","v":""},{"$f":"FirstPartDegrees1!L145","v":0},{"$f":"IF(ISBLANK(FirstPartDegrees1!$K$9),\"\",FirstPartDegrees1!$K$9)","v":""},null,null,0,0,{"$f":"SeconedPartDegrees1!G145","v":0},{"$f":"IF(ISBLANK(SeconedPartDegrees1!$G$9),\"\",SeconedPartDegrees1!$G$9)","v":""},{"$f":"SeconedPartDegrees1!M145","v":0},{"$f":"IF(ISBLANK(SeconedPartDegrees1!$L$9),\"\",SeconedPartDegrees1!$L$9)","v":""},null,null,0,{"$f":"FirstPartDegrees1!C145","v":0},{"$f":"IF(ISBLANK(FirstPartDegrees1!$C$9),\"\",FirstPartDegrees1!$C$9)","v":""},{"$f":"FirstPartDegrees1!F145","v":0},{"$f":"IF(ISBLANK(FirstPartDegrees1!$E$9),\"\",FirstPartDegrees1!$E$9)","v":""},null,null,0,{"$f":"FirstPartDegrees1!D145","v":0},{"$f":"IF(ISBLANK(FirstPartDegrees1!$C$9),\"\",FirstPartDegrees1!$C$9)","v":""},{"$f":"SeconedPartDegrees1!N145","v":0},{"$f":"IF(ISBLANK(SeconedPartDegrees1!$N$9),\"\",SeconedPartDegrees1!$N$9)","v":""},null,null,0,{"$f":"SeconedPartDegrees1!I145","v":0},{"$f":"IF(ISBLANK(SeconedPartDegrees1!$I$9),\"\",SeconedPartDegrees1!$I$9)","v":""},{"$f":"SeconedPartDegrees1!L145","v":0},{"$f":"IF(ISBLANK(SeconedPartDegrees1!$L$9),\"\",SeconedPartDegrees1!$L$9)","v":""},null,null,0,0,{"$f":"FirstPartDegrees1!H145","v":0},{"$f":"IF(ISBLANK(FirstPartDegrees1!$G$9),\"\",FirstPartDegrees1!$G$9)","v":""},{"$f":"SeconedPartDegrees1!O145","v":0},{"$f":"IF(ISBLANK(SeconedPartDegrees1!$N$9),\"\",SeconedPartDegrees1!$N$9)","v":""},null,null,0,{"$f":"FirstPartDegrees1!K145","v":0},{"$f":"IF(ISBLANK(FirstPartDegrees1!$K$9),\"\",FirstPartDegrees1!$K$9)","v":""},{"$f":"SeconedPartDegrees1!H145","v":0},{"$f":"IF(ISBLANK(SeconedPartDegrees1!$G$9),\"\",SeconedPartDegrees1!$G$9)","v":""},null,null,0,{"$f":"SeconedPartDegrees1!E145","v":0},{"$f":"IF(ISBLANK(SeconedPartDegrees1!$E$9),\"\",SeconedPartDegrees1!$E$9)","v":""},{"$f":"SeconedPartDegrees1!J145","v":0},{"$f":"IF(ISBLANK(SeconedPartDegrees1!$I$9),\"\",SeconedPartDegrees1!$I$9)","v":""},null,null,0,{"$f":"FirstPartDegrees1!N145","v":0},{"$f":"IF(ISBLANK(FirstPartDegrees1!$M$9),\"\",FirstPartDegrees1!$M$9)","v":""},{"$f":"SeconedPartDegrees1!K145","v":0},{"$f":"IF(ISBLANK(SeconedPartDegrees1!$I$9),\"\",SeconedPartDegrees1!$I$9)","v":""},null,null,0,0,0,{"$f":"SeconedPartDegrees1!Q145","v":""}]
[{"$f":"SeconedPartDegrees1!A147","v":68},{"$f":"FirstPartDegrees1!B147","v":""},{"$f":"FirstPartDegrees1!$H$7","v":"7-1"},{"$f":"FirstPartDegrees1!G147","v":0},{"$f":"IF(ISBLANK(SeconedPartDegrees1!$G$9),\"\",SeconedPartDegrees1!$G$9)","v":""},{"$f":"SeconedPartDegrees1!C147","v":0},{"$f":"IF(ISBLANK(SeconedPartDegrees1!$C$9),\"\",SeconedPartDegrees1!$C$9)","v":""},null,null,0,{"$f":"FirstPartDegrees1!I147","v":0},{"$f":"IF(ISBLANK(FirstPartDegrees1!$I$9),\"\",FirstPartDegrees1!$I$9)","v":""},{"$f":"FirstPartDegrees1!M147","v":0},{"$f":"IF(ISBLANK(FirstPartDegrees1!$M$9),\"\",FirstPartDegrees1!$M$9)","v":""},null,null,0,{"$f":"FirstPartDegrees1!E147","v":0},{"$f":"IF(ISBLANK(FirstPartDegrees1!$E$9),\"\",FirstPartDegrees1!$E$9)","v":""},{"$f":"SeconedPartDegrees1!F147","v":0},{"$f":"IF(ISBLANK(SeconedPartDegrees1!$E$9),\"\",SeconedPartDegrees1!$E$9)","v":""},null,null,0,{"$f":"FirstPartDegrees1!J147","v":0},{"$f":"IF(ISBLANK(FirstPartDegrees1!$I$9),\"\",FirstPartDegrees1!$I$9)","v":""},{"$f":"FirstPartDegrees1!L147","v":0},{"$f":"IF(ISBLANK(FirstPartDegrees1!$K$9),\"\",FirstPartDegrees1!$K$9)","v":""},null,null,0,0,{"$f":"SeconedPartDegrees1!G147","v":0},{"$f":"IF(ISBLANK(SeconedPartDegrees1!$G$9),\"\",SeconedPartDegrees1!$G$9)","v":""},{"$f":"SeconedPartDegrees1!M147","v":0},{"$f":"IF(ISBLANK(SeconedPartDegrees1!$L$9),\"\",SeconedPartDegrees1!$L$9)","v":""},null,null,0,{"$f":"FirstPartDegrees1!C147","v":0},{"$f":"IF(ISBLANK(FirstPartDegrees1!$C$9),\"\",FirstPartDegrees1!$C$9)","v":""},{"$f":"FirstPartDegrees1!F147","v":0},{"$f":"IF(ISBLANK(FirstPartDegrees1!$E$9),\"\",FirstPartDegrees1!$E$9)","v":""},null,null,0,{"$f":"FirstPartDegrees1!D147","v":0},{"$f":"IF(ISBLANK(FirstPartDegrees1!$C$9),\"\",FirstPartDegrees1!$C$9)","v":""},{"$f":"SeconedPartDegrees1!N147","v":0},{"$f":"IF(ISBLANK(SeconedPartDegrees1!$N$9),\"\",SeconedPartDegrees1!$N$9)","v":""},null,null,0,{"$f":"SeconedPartDegrees1!I147","v":0},{"$f":"IF(ISBLANK(SeconedPartDegrees1!$I$9),\"\",SeconedPartDegrees1!$I$9)","v":""},{"$f":"SeconedPartDegrees1!L147","v":0},{"$f":"IF(ISBLANK(SeconedPartDegrees1!$L$9),\"\",SeconedPartDegrees1!$L$9)","v":""},null,null,0,0,{"$f":"FirstPartDegrees1!H147","v":0},{"$f":"IF(ISBLANK(FirstPartDegrees1!$G$9),\"\",FirstPartDegrees1!$G$9)","v":""},{"$f":"SeconedPartDegrees1!O147","v":0},{"$f":"IF(ISBLANK(SeconedPartDegrees1!$N$9),\"\",SeconedPartDegrees1!$N$9)","v":""},null,null,0,{"$f":"FirstPartDegrees1!K147","v":0},{"$f":"IF(ISBLANK(FirstPartDegrees1!$K$9),\"\",FirstPartDegrees1!$K$9)","v":""},{"$f":"SeconedPartDegrees1!H147","v":0},{"$f":"IF(ISBLANK(SeconedPartDegrees1!$G$9),\"\",SeconedPartDegrees1!$G$9)","v":""},null,null,0,{"$f":"SeconedPartDegrees1!E147","v":0},{"$f":"IF(ISBLANK(SeconedPartDegrees1!$E$9),\"\",SeconedPartDegrees1!$E$9)","v":""},{"$f":"SeconedPartDegrees1!J147","v":0},{"$f":"IF(ISBLANK(SeconedPartDegrees1!$I$9),\"\",SeconedPartDegrees1!$I$9)","v":""},null,null,0,{"$f":"FirstPartDegrees1!N147","v":0},{"$f":"IF(ISBLANK(FirstPartDegrees1!$M$9),\"\",FirstPartDegrees1!$M$9)","v":""},{"$f":"SeconedPartDegrees1!K147","v":0},{"$f":"IF(ISBLANK(SeconedPartDegrees1!$I$9),\"\",SeconedPartDegrees1!$I$9)","v":""},null,null,0,0,0,{"$f":"SeconedPartDegrees1!Q147","v":""}]
[{"$f":"SeconedPartDegrees1!A149","v":69},{"$f":"FirstPartDegrees1!B149","v":""},{"$f":"FirstPartDegrees1!$H$7","v":"7-1"},{"$f":"FirstPartDegrees1!G149","v":0},{"$f":"IF(ISBLANK(SeconedPartDegrees1!$G$9),\"\",SeconedPartDegrees1!$G$9)","v":""},{"$f":"SeconedPartDegrees1!C149","v":0},{"$f":"IF(ISBLANK(SeconedPartDegrees1!$C$9),\"\",SeconedPartDegrees1!$C$9)","v":""},null,null,0,{"$f":"FirstPartDegrees1!I149","v":0},{"$f":"IF(ISBLANK(FirstPartDegrees1!$I$9),\"\",FirstPartDegrees1!$I$9)","v":""},{"$f":"FirstPartDegrees1!M149","v":0},{"$f":"IF(ISBLANK(FirstPartDegrees1!$M$9),\"\",FirstPartDegrees1!$M$9)","v":""},null,null,0,{"$f":"FirstPartDegrees1!E149","v":0},{"$f":"IF(ISBLANK(FirstPartDegrees1!$E$9),\"\",FirstPartDegrees1!$E$9)","v":""},{"$f":"SeconedPartDegrees1!F149","v":0},{"$f":"IF(ISBLANK(SeconedPartDegrees1!$E$9),\"\",SeconedPartDegrees1!$E$9)","v":""},null,null,0,{"$f":"FirstPartDegrees1!J149","v":0},{"$f":"IF(ISBLANK(FirstPartDegrees1!$I$9),\"\",FirstPartDegrees1!$I$9)","v":""},{"$f":"FirstPartDegrees1!L149","v":0},{"$f":"IF(ISBLANK(FirstPartDegrees1!$K$9),\"\",FirstPartDegrees1!$K$9)","v":""},null,null,0,0,{"$f":"SeconedPartDegrees1!G149","v":0},{"$f":"IF(ISBLANK(SeconedPartDegrees1!$G$9),\"\",SeconedPartDegrees1!$G$9)","v":""},{"$f":"SeconedPartDegrees1!M149","v":0},{"$f":"IF(ISBLANK(SeconedPartDegrees1!$L$9),\"\",SeconedPartDegrees1!$L$9)","v":""},null,null,0,{"$f":"FirstPartDegrees1!C149","v":0},{"$f":"IF(ISBLANK(FirstPartDegrees1!$C$9),\"\",FirstPartDegrees1!$C$9)","v":""},{"$f":"FirstPartDegrees1!F149","v":0},{"$f":"IF(ISBLANK(FirstPartDegrees1!$E$9),\"\",FirstPartDegrees1!$E$9)","v":""},null,null,0,{"$f":"FirstPartDegrees1!D149","v":0},{"$f":"IF(ISBLANK(FirstPartDegrees1!$C$9),\"\",FirstPartDegrees1!$C$9)","v":""},{"$f":"SeconedPartDegrees1!N149","v":0},{"$f":"IF(ISBLANK(SeconedPartDegrees1!$N$9),\"\",SeconedPartDegrees1!$N$9)","v":""},null,null,0,{"$f":"SeconedPartDegrees1!I149","v":0},{"$f":"IF(ISBLANK(SeconedPartDegrees1!$I$9),\"\",SeconedPartDegrees1!$I$9)","v":""},{"$f":"SeconedPartDegrees1!L149","v":0},{"$f":"IF(ISBLANK(SeconedPartDegrees1!$L$9),\"\",SeconedPartDegrees1!$L$9)","v":""},null,null,0,0,{"$f":"FirstPartDegrees1!H149","v":0},{"$f":"IF(ISBLANK(FirstPartDegrees1!$G$9),\"\",FirstPartDegrees1!$G$9)","v":""},{"$f":"SeconedPartDegrees1!O149","v":0},{"$f":"IF(ISBLANK(SeconedPartDegrees1!$N$9),\"\",SeconedPartDegrees1!$N$9)","v":""},null,null,0,{"$f":"FirstPartDegrees1!K149","v":0},{"$f":"IF(ISBLANK(FirstPartDegrees1!$K$9),\"\",FirstPartDegrees1!$K$9)","v":""},{"$f":"SeconedPartDegrees1!H149","v":0},{"$f":"IF(ISBLANK(SeconedPartDegrees1!$G$9),\"\",SeconedPartDegrees1!$G$9)","v":""},null,null,0,{"$f":"SeconedPartDegrees1!E149","v":0},{"$f":"IF(ISBLANK(SeconedPartDegrees1!$E$9),\"\",SeconedPartDegrees1!$E$9)","v":""},{"$f":"SeconedPartDegrees1!J149","v":0},{"$f":"IF(ISBLANK(SeconedPartDegrees1!$I$9),\"\",SeconedPartDegrees1!$I$9)","v":""},null,null,0,{"$f":"FirstPartDegrees1!N149","v":0},{"$f":"IF(ISBLANK(FirstPartDegrees1!$M$9),\"\",FirstPartDegrees1!$M$9)","v":""},{"$f":"SeconedPartDegrees1!K149","v":0},{"$f":"IF(ISBLANK(SeconedPartDegrees1!$I$9),\"\",SeconedPartDegrees1!$I$9)","v":""},null,null,0,0,0,{"$f":"SeconedPartDegrees1!Q149","v":""}]
[{"$f":"SeconedPartDegrees1!A151","v":70},{"$f":"FirstPartDegrees1!B151","v":""},{"$f":"FirstPartDegrees1!$H$7","v":"7-1"},{"$f":"FirstPartDegrees1!G151","v":0},{"$f":"IF(ISBLANK(SeconedPartDegrees1!$G$9),\"\",SeconedPartDegrees1!$G$9)","v":""},{"$f":"SeconedPartDegrees1!C151","v":0},{"$f":"IF(ISBLANK(SeconedPartDegrees1!$C$9),\"\",SeconedPartDegrees1!$C$9)","v":""},null,null,0,{"$f":"FirstPartDegrees1!I151","v":0},{"$f":"IF(ISBLANK(FirstPartDegrees1!$I$9),\"\",FirstPartDegrees1!$I$9)","v":""},{"$f":"FirstPartDegrees1!M151","v":0},{"$f":"IF(ISBLANK(FirstPartDegrees1!$M$9),\"\",FirstPartDegrees1!$M$9)","v":""},null,null,0,{"$f":"FirstPartDegrees1!E151","v":0},{"$f":"IF(ISBLANK(FirstPartDegrees1!$E$9),\"\",FirstPartDegrees1!$E$9)","v":""},{"$f":"SeconedPartDegrees1!F151","v":0},{"$f":"IF(ISBLANK(SeconedPartDegrees1!$E$9),\"\",SeconedPartDegrees1!$E$9)","v":""},null,null,0,{"$f":"FirstPartDegrees1!J151","v":0},{"$f":"IF(ISBLANK(FirstPartDegrees1!$I$9),\"\",FirstPartDegrees1!$I$9)","v":""},{"$f":"FirstPartDegrees1!L151","v":0},{"$f":"IF(ISBLANK(FirstPartDegrees1!$K$9),\"\",FirstPartDegrees1!$K$9)","v":""},null,null,0,0,{"$f":"SeconedPartDegrees1!G151","v":0},{"$f":"IF(ISBLANK(SeconedPartDegrees1!$G$9),\"\",SeconedPartDegrees1!$G$9)","v":""},{"$f":"SeconedPartDegrees1!M151","v":0},{"$f":"IF(ISBLANK(SeconedPartDegrees1!$L$9),\"\",SeconedPartDegrees1!$L$9)","v":""},null,null,0,{"$f":"FirstPartDegrees1!C151","v":0},{"$f":"IF(ISBLANK(FirstPartDegrees1!$C$9),\"\",FirstPartDegrees1!$C$9)","v":""},{"$f":"FirstPartDegrees1!F151","v":0},{"$f":"IF(ISBLANK(FirstPartDegrees1!$E$9),\"\",FirstPartDegrees1!$E$9)","v":""},null,null,0,{"$f":"FirstPartDegrees1!D151","v":0},{"$f":"IF(ISBLANK(FirstPartDegrees1!$C$9),\"\",FirstPartDegrees1!$C$9)","v":""},{"$f":"SeconedPartDegrees1!N151","v":0},{"$f":"IF(ISBLANK(SeconedPartDegrees1!$N$9),\"\",SeconedPartDegrees1!$N$9)","v":""},null,null,0,{"$f":"SeconedPartDegrees1!I151","v":0},{"$f":"IF(ISBLANK(SeconedPartDegrees1!$I$9),\"\",SeconedPartDegrees1!$I$9)","v":""},{"$f":"SeconedPartDegrees1!L151","v":0},{"$f":"IF(ISBLANK(SeconedPartDegrees1!$L$9),\"\",SeconedPartDegrees1!$L$9)","v":""},null,null,0,0,{"$f":"FirstPartDegrees1!H151","v":0},{"$f":"IF(ISBLANK(FirstPartDegrees1!$G$9),\"\",FirstPartDegrees1!$G$9)","v":""},{"$f":"SeconedPartDegrees1!O151","v":0},{"$f":"IF(ISBLANK(SeconedPartDegrees1!$N$9),\"\",SeconedPartDegrees1!$N$9)","v":""},null,null,0,{"$f":"FirstPartDegrees1!K151","v":0},{"$f":"IF(ISBLANK(FirstPartDegrees1!$K$9),\"\",FirstPartDegrees1!$K$9)","v":""},{"$f":"SeconedPartDegrees1!H151","v":0},{"$f":"IF(ISBLANK(SeconedPartDegrees1!$G$9),\"\",SeconedPartDegrees1!$G$9)","v":""},null,null,0,{"$f":"SeconedPartDegrees1!E151","v":0},{"$f":"IF(ISBLANK(SeconedPartDegrees1!$E$9),\"\",SeconedPartDegrees1!$E$9)","v":""},{"$f":"SeconedPartDegrees1!J151","v":0},{"$f":"IF(ISBLANK(SeconedPartDegrees1!$I$9),\"\",SeconedPartDegrees1!$I$9)","v":""},null,null,0,{"$f":"FirstPartDegrees1!N151","v":0},{"$f":"IF(ISBLANK(FirstPartDegrees1!$M$9),\"\",FirstPartDegrees1!$M$9)","v":""},{"$f":"SeconedPartDegrees1!K151","v":0},{"$f":"IF(ISBLANK(SeconedPartDegrees1!$I$9),\"\",SeconedPartDegrees1!$I$9)","v":""},null,null,0,0,0,{"$f":"SeconedPartDegrees1!Q151","v":""}]
[]
[]
[]
[1,2,3,4,5,6,7,8,9,10,11,12,13,14,15,16,17,18,19,20,21,22,23,24,25,26,27,28,29,30,31,32,33,34,35,36,37,38,39,40,41,42,43,44,45,46,47,48,49,50,51,52,53,54,55,56,57,58,59,60,61,62,63,64,65,66,67,68,69,70,71,72,73,74,75,76,77,78,79,80,81,82,83,84,85,86,87,88,89,90,91,92]
["ser","full name","class","k111","d111","k112","d112","k113","d113","11avg","k121","d121","k122","d122","k123","d123","12avg","k131","d131","k132","d132","k133","d133","13avg","k141","d141","k142","d142","k143","d143","14avg","general1","k211","d211","k212","d212","k213","d213","21avg","k221","d221","k222","d222","k223","d223","22avg","k231","d231","k232","d232","k233","d233","23avg","k241","d241","k242","d242","k243","d243","24avg","general2","k311","d311","k312","d312","k313","d313","31avg","k321","d321","k322","d322","k323","d323","32avg","k331","d331","k332","d332","k333","d333","33avg","k341","d341","k342","d342","k343","d343","34avg","generl3","generalTotal","final"]

{"sheet":"كشف الدرجات المختصر1","index":5,"n_rows":80,"n_cols":6,"rows_kept":80,"cut":false,"hidden":false,"merged":[[5,16355,5,16356],[6,2,6,5],[5,16343,5,16344],[5,16345,5,16346],[5,16347,5,16348],[5,16349,5,16350],[5,16351,5,16352],[5,16353,5,16354],[5,16331,5,16332],[5,16333,5,16334],[5,16335,5,16336],[5,16337,5,16338],[5,16339,5,16340],[5,16341,5,16342],[5,16319,5,16320],[5,16321,5,16322],[5,16323,5,16324],[5,16325,5,16326],[5,16327,5,16328],[5,16329,5,16330],[5,16307,5,16308],[5,16309,5,16310],[5,16311,5,16312],[5,16313,5,16314],[5,16315,5,16316],[5,16317,5,16318],[5,16295,5,16296],[5,16297,5,16298],[5,16299,5,16300],[5,16301,5,16302],[5,16303,5,16304],[5,16305,5,16306],[5,16283,5,16284],[5,16285,5,16286],[5,16287,5,16288],[5,16289,5,16290],[5,16291,5,16292],[5,16293,5,16294],[5,16271,5,16272],[5,16273,5,16274],[5,16275,5,16276],[5,16277,5,16278],[5,16279,5,16280],[5,16281,5,16282],[5,16259,5,16260],[5,16261,5,16262],[5,16263,5,16264],[5,16265,5,16266],[5,16267,5,16268],[5,16269,5,16270],[5,16247,5,16248],[5,16249,5,16250],[5,16251,5,16252],[5,16253,5,16254],[5,16255,5,16256],[5,16257,5,16258],[5,16235,5,16236],[5,16237,5,16238],[5,16239,5,16240],[5,16241,5,16242],[5,16243,5,16244],[5,16245,5,16246],[5,16223,5,16224],[5,16225,5,16226],[5,16227,5,16228],[5,16229,5,16230],[5,16231,5,16232],[5,16233,5,16234],[5,16211,5,16212],[5,16213,5,16214],[5,16215,5,16216],[5,16217,5,16218],[5,16219,5,16220],[5,16221,5,16222],[5,16199,5,16200],[5,16201,5,16202],[5,16203,5,16204],[5,16205,5,16206],[5,16207,5,16208],[5,16209,5,16210],[5,16187,5,16188],[5,16189,5,16190],[5,16191,5,16192],[5,16193,5,16194],[5,16195,5,16196],[5,16197,5,16198],[5,16175,5,16176],[5,16177,5,16178],[5,16179,5,16180],[5,16181,5,16182],[5,16183,5,16184],[5,16185,5,16186],[5,16163,5,16164],[5,16165,5,16166],[5,16167,5,16168],[5,16169,5,16170],[5,16171,5,16172],[5,16173,5,16174],[5,16151,5,16152],[5,16153,5,16154],[5,16155,5,16156],[5,16157,5,16158],[5,16159,5,16160],[5,16161,5,16162],[5,16139,5,16140],[5,16141,5,16142],[5,16143,5,16144],[5,16145,5,16146],[5,16147,5,16148],[5,16149,5,16150],[5,16127,5,16128],[5,16129,5,16130],[5,16131,5,16132],[5,16133,5,16134],[5,16135,5,16136],[5,16137,5,16138],[5,16115,5,16116],[5,16117,5,16118],[5,16119,5,16120],[5,16121,5,16122],[5,16123,5,16124],[5,16125,5,16126],[5,16103,5,16104],[5,16105,5,16106],[5,16107,5,16108],[5,16109,5,16110],[5,16111,5,16112],[5,16113,5,16114],[5,16091,5,16092],[5,16093,5,16094],[5,16095,5,16096],[5,16097,5,16098],[5,16099,5,16100],[5,16101,5,16102],[5,16079,5,16080],[5,16081,5,16082],[5,16083,5,16084],[5,16085,5,16086],[5,16087,5,16088],[5,16089,5,16090],[5,16067,5,16068],[5,16069,5,16070],[5,16071,5,16072],[5,16073,5,16074],[5,16075,5,16076],[5,16077,5,16078],[5,16055,5,16056],[5,16057,5,16058],[5,16059,5,16060],[5,16061,5,16062],[5,16063,5,16064],[5,16065,5,16066],[5,16043,5,16044],[5,16045,5,16046],[5,16047,5,16048],[5,16049,5,16050],[5,16051,5,16052],[5,16053,5,16054],[5,16031,5,16032],[5,16033,5,16034],[5,16035,5,16036],[5,16037,5,16038],[5,16039,5,16040],[5,16041,5,16042],[5,16019,5,16020],[5,16021,5,16022],[5,16023,5,16024],[5,16025,5,16026],[5,16027,5,16028],[5,16029,5,16030],[5,16007,5,16008],[5,16009,5,16010],[5,16011,5,16012],[5,16013,5,16014],[5,16015,5,16016],[5,16017,5,16018],[5,15995,5,15996],[5,15997,5,15998],[5,15999,5,16000],[5,16001,5,16002],[5,16003,5,16004],[5,16005,5,16006],[5,15983,5,15984],[5,15985,5,15986],[5,15987,5,15988],[5,15989,5,15990],[5,15991,5,15992],[5,15993,5,15994],[5,15971,5,15972],[5,15973,5,15974],[5,15975,5,15976],[5,15977,5,15978],[5,15979,5,15980],[5,15981,5,15982],[5,15959,5,15960],[5,15961,5,15962],[5,15963,5,15964],[5,15965,5,15966],[5,15967,5,15968],[5,15969,5,15970],[5,15947,5,15948],[5,15949,5,15950],[5,15951,5,15952],[5,15953,5,15954],[5,15955,5,15956],[5,15957,5,15958],[5,15935,5,15936],[5,15937,5,15938],[5,15939,5,15940],[5,15941,5,15942],[5,15943,5,15944],[5,15945,5,15946],[5,15923,5,15924],[5,15925,5,15926],[5,15927,5,15928],[5,15929,5,15930],[5,15931,5,15932],[5,15933,5,15934],[5,15911,5,15912],[5,15913,5,15914],[5,15915,5,15916],[5,15917,5,15918],[5,15919,5,15920],[5,15921,5,15922],[5,15899,5,15900],[5,15901,5,15902],[5,15903,5,15904],[5,15905,5,15906],[5,15907,5,15908],[5,15909,5,15910],[5,15887,5,15888],[5,15889,5,15890],[5,15891,5,15892],[5,15893,5,15894],[5,15895,5,15896],[5,15897,5,15898],[5,15875,5,15876],[5,15877,5,15878],[5,15879,5,15880],[5,15881,5,15882],[5,15883,5,15884],[5,15885,5,15886],[5,15863,5,15864],[5,15865,5,15866],[5,15867,5,15868],[5,15869,5,15870],[5,15871,5,15872],[5,15873,5,15874],[5,15851,5,15852],[5,15853,5,15854],[5,15855,5,15856],[5,15857,5,15858],[5,15859,5,15860],[5,15861,5,15862],[5,15839,5,15840],[5,15841,5,15842],[5,15843,5,15844],[5,15845,5,15846],[5,15847,5,15848],[5,15849,5,15850],[5,15827,5,15828],[5,15829,5,15830],[5,15831,5,15832],[5,15833,5,15834],[5,15835,5,15836],[5,15837,5,15838],[5,15815,5,15816],[5,15817,5,15818],[5,15819,5,15820],[5,15821,5,15822],[5,15823,5,15824],[5,15825,5,15826],[5,15803,5,15804],[5,15805,5,15806],[5,15807,5,15808],[5,15809,5,15810],[5,15811,5,15812],[5,15813,5,15814],[5,15791,5,15792],[5,15793,5,15794],[5,15795,5,15796],[5,15797,5,15798],[5,15799,5,15800],[5,15801,5,15802],[5,15779,5,15780],[5,15781,5,15782],[5,15783,5,15784],[5,15785,5,15786],[5,15787,5,15788],[5,15789,5,15790],[5,15767,5,15768],[5,15769,5,15770],[5,15771,5,15772],[5,15773,5,15774],[5,15775,5,15776],[5,15777,5,15778],[5,15755,5,15756],[5,15757,5,15758],[5,15759,5,15760],[5,15761,5,15762],[5,15763,5,15764],[5,15765,5,15766],[5,15743,5,15744],[5,15745,5,15746],[5,15747,5,15748],[5,15749,5,15750],[5,15751,5,15752],[5,15753,5,15754],[5,15731,5,15732],[5,15733,5,15734],[5,15735,5,15736],[5,15737,5,15738],[5,15739,5,15740],[5,15741,5,15742],[5,15719,5,15720],[5,15721,5,15722],[5,15723,5,15724],[5,15725,5,15726],[5,15727,5,15728],[5,15729,5,15730],[5,15707,5,15708],[5,15709,5,15710],[5,15711,5,15712],[5,15713,5,15714],[5,15715,5,15716],[5,15717,5,15718],[5,15695,5,15696],[5,15697,5,15698],[5,15699,5,15700],[5,15701,5,15702],[5,15703,5,15704],[5,15705,5,15706],[5,15683,5,15684],[5,15685,5,15686],[5,15687,5,15688],[5,15689,5,15690],[5,15691,5,15692],[5,15693,5,15694],[5,15671,5,15672],[5,15673,5,15674],[5,15675,5,15676],[5,15677,5,15678],[5,15679,5,15680],[5,15681,5,15682],[5,15659,5,15660],[5,15661,5,15662],[5,15663,5,15664],[5,15665,5,15666],[5,15667,5,15668],[5,15669,5,15670],[5,15647,5,15648],[5,15649,5,15650],[5,15651,5,15652],[5,15653,5,15654],[5,15655,5,15656],[5,15657,5,15658],[5,15635,5,15636],[5,15637,5,15638],[5,15639,5,15640],[5,15641,5,15642],[5,15643,5,15644],[5,15645,5,15646],[5,15623,5,15624],[5,15625,5,15626],[5,15627,5,15628],[5,15629,5,15630],[5,15631,5,15632],[5,15633,5,15634],[5,15611,5,15612],[5,15613,5,15614],[5,15615,5,15616],[5,15617,5,15618],[5,15619,5,15620],[5,15621,5,15622],[5,15599,5,15600],[5,15601,5,15602],[5,15603,5,15604],[5,15605,5,15606],[5,15607,5,15608],[5,15609,5,15610],[5,15587,5,15588],[5,15589,5,15590],[5,15591,5,15592],[5,15593,5,15594],[5,15595,5,15596],[5,15597,5,15598],[5,15575,5,15576],[5,15577,5,15578],[5,15579,5,15580],[5,15581,5,15582],[5,15583,5,15584],[5,15585,5,15586],[5,15563,5,15564],[5,15565,5,15566],[5,15567,5,15568],[5,15569,5,15570],[5,15571,5,15572],[5,15573,5,15574],[5,15551,5,15552],[5,15553,5,15554],[5,15555,5,15556],[5,15557,5,15558],[5,15559,5,15560],[5,15561,5,15562],[5,15539,5,15540],[5,15541,5,15542],[5,15543,5,15544],[5,15545,5,15546],[5,15547,5,15548],[5,15549,5,15550],[5,15527,5,15528],[5,15529,5,15530],[5,15531,5,15532],[5,15533,5,15534],[5,15535,5,15536],[5,15537,5,15538],[5,15515,5,15516],[5,15517,5,15518],[5,15519,5,15520],[5,15521,5,15522],[5,15523,5,15524],[5,15525,5,15526],[5,15503,5,15504],[5,15505,5,15506],[5,15507,5,15508],[5,15509,5,15510],[5,15511,5,15512],[5,15513,5,15514],[5,15491,5,15492],[5,15493,5,15494],[5,15495,5,15496],[5,15497,5,15498],[5,15499,5,15500],[5,15501,5,15502],[5,15479,5,15480],[5,15481,5,15482],[5,15483,5,15484],[5,15485,5,15486],[5,15487,5,15488],[5,15489,5,15490],[5,15467,5,15468],[5,15469,5,15470],[5,15471,5,15472],[5,15473,5,15474],[5,15475,5,15476],[5,15477,5,15478],[5,15455,5,15456],[5,15457,5,15458],[5,15459,5,15460],[5,15461,5,15462],[5,15463,5,15464],[5,15465,5,15466],[5,15443,5,15444],[5,15445,5,15446],[5,15447,5,15448],[5,15449,5,15450],[5,15451,5,15452],[5,15453,5,15454],[5,15431,5,15432],[5,15433,5,15434],[5,15435,5,15436],[5,15437,5,15438],[5,15439,5,15440],[5,15441,5,15442],[5,15419,5,15420],[5,15421,5,15422],[5,15423,5,15424],[5,15425,5,15426],[5,15427,5,15428],[5,15429,5,15430],[5,15407,5,15408],[5,15409,5,15410],[5,15411,5,15412],[5,15413,5,15414],[5,15415,5,15416],[5,15417,5,15418],[5,15395,5,15396],[5,15397,5,15398],[5,15399,5,15400],[5,15401,5,15402],[5,15403,5,15404],[5,15405,5,15406],[5,15383,5,15384],[5,15385,5,15386],[5,15387,5,15388],[5,15389,5,15390],[5,15391,5,15392],[5,15393,5,15394],[5,15371,5,15372],[5,15373,5,15374],[5,15375,5,15376],[5,15377,5,15378],[5,15379,5,15380],[5,15381,5,15382],[5,15359,5,15360],[5,15361,5,15362],[5,15363,5,15364],[5,15365,5,15366],[5,15367,5,15368],[5,15369,5,15370],[5,15347,5,15348],[5,15349,5,15350],[5,15351,5,15352],[5,15353,5,15354],[5,15355,5,15356],[5,15357,5,15358],[5,15335,5,15336],[5,15337,5,15338],[5,15339,5,15340],[5,15341,5,15342],[5,15343,5,15344],[5,15345,5,15346],[5,15323,5,15324],[5,15325,5,15326],[5,15327,5,15328],[5,15329,5,15330],[5,15331,5,15332],[5,15333,5,15334],[5,15311,5,15312],[5,15313,5,15314],[5,15315,5,15316],[5,15317,5,15318],[5,15319,5,15320],[5,15321,5,15322],[5,15299,5,15300],[5,15301,5,15302],[5,15303,5,15304],[5,15305,5,15306],[5,15307,5,15308],[5,15309,5,15310],[5,15287,5,15288],[5,15289,5,15290],[5,15291,5,15292],[5,15293,5,15294],[5,15295,5,15296],[5,15297,5,15298],[5,15275,5,15276],[5,15277,5,15278],[5,15279,5,15280],[5,15281,5,15282],[5,15283,5,15284],[5,15285,5,15286],[5,15263,5,15264],[5,15265,5,15266],[5,15267,5,15268],[5,15269,5,15270],[5,15271,5,15272],[5,15273,5,15274],[5,15251,5,15252],[5,15253,5,15254],[5,15255,5,15256],[5,15257,5,15258],[5,15259,5,15260],[5,15261,5,15262],[5,15239,5,15240],[5,15241,5,15242],[5,15243,5,15244],[5,15245,5,15246],[5,15247,5,15248],[5,15249,5,15250],[5,15227,5,15228],[5,15229,5,15230],[5,15231,5,15232],[5,15233,5,15234],[5,15235,5,15236],[5,15237,5,15238],[5,15215,5,15216],[5,15217,5,15218],[5,15219,5,15220],[5,15221,5,15222],[5,15223,5,15224],[5,15225,5,15226],[5,15203,5,15204],[5,15205,5,15206],[5,15207,5,15208],[5,15209,5,15210],[5,15211,5,15212],[5,15213,5,15214],[5,15191,5,15192],[5,15193,5,15194],[5,15195,5,15196],[5,15197,5,15198],[5,15199,5,15200],[5,15201,5,15202],[5,15179,5,15180],[5,15181,5,15182],[5,15183,5,15184],[5,15185,5,15186],[5,15187,5,15188],[5,15189,5,15190],[5,15167,5,15168],[5,15169,5,15170],[5,15171,5,15172],[5,15173,5,15174],[5,15175,5,15176],[5,15177,5,15178],[5,15155,5,15156],[5,15157,5,15158],[5,15159,5,15160],[5,15161,5,15162],[5,15163,5,15164],[5,15165,5,15166],[5,15143,5,15144],[5,15145,5,15146],[5,15147,5,15148],[5,15149,5,15150],[5,15151,5,15152],[5,15153,5,15154],[5,15131,5,15132],[5,15133,5,15134],[5,15135,5,15136],[5,15137,5,15138],[5,15139,5,15140],[5,15141,5,15142],[5,15119,5,15120],[5,15121,5,15122],[5,15123,5,15124],[5,15125,5,15126],[5,15127,5,15128],[5,15129,5,15130],[5,15107,5,15108],[5,15109,5,15110],[5,15111,5,15112],[5,15113,5,15114],[5,15115,5,15116],[5,15117,5,15118],[5,15095,5,15096],[5,15097,5,15098],[5,15099,5,15100],[5,15101,5,15102],[5,15103,5,15104],[5,15105,5,15106],[5,15083,5,15084],[5,15085,5,15086],[5,15087,5,15088],[5,15089,5,15090],[5,15091,5,15092],[5,15093,5,15094],[5,15071,5,15072],[5,15073,5,15074],[5,15075,5,15076],[5,15077,5,15078],[5,15079,5,15080],[5,15081,5,15082],[5,15059,5,15060],[5,15061,5,15062],[5,15063,5,15064],[5,15065,5,15066],[5,15067,5,15068],[5,15069,5,15070],[5,15047,5,15048],[5,15049,5,15050],[5,15051,5,15052],[5,15053,5,15054],[5,15055,5,15056],[5,15057,5,15058],[5,15035,5,15036],[5,15037,5,15038],[5,15039,5,15040],[5,15041,5,15042],[5,15043,5,15044],[5,15045,5,15046],[5,15023,5,15024],[5,15025,5,15026],[5,15027,5,15028],[5,15029,5,15030],[5,15031,5,15032],[5,15033,5,15034],[5,15011,5,15012],[5,15013,5,15014],[5,15015,5,15016],[5,15017,5,15018],[5,15019,5,15020],[5,15021,5,15022],[5,14999,5,15000],[5,15001,5,15002],[5,15003,5,15004],[5,15005,5,15006],[5,15007,5,15008],[5,15009,5,15010],[5,14987,5,14988],[5,14989,5,14990],[5,14991,5,14992],[5,14993,5,14994],[5,14995,5,14996],[5,14997,5,14998],[5,14975,5,14976],[5,14977,5,14978],[5,14979,5,14980],[5,14981,5,14982],[5,14983,5,14984],[5,14985,5,14986],[5,14963,5,14964],[5,14965,5,14966],[5,14967,5,14968],[5,14969,5,14970],[5,14971,5,14972],[5,14973,5,14974],[5,14951,5,14952],[5,14953,5,14954],[5,14955,5,14956],[5,14957,5,14958],[5,14959,5,14960],[5,14961,5,14962],[5,14939,5,14940],[5,14941,5,14942],[5,14943,5,14944],[5,14945,5,14946],[5,14947,5,14948],[5,14949,5,14950],[5,14927,5,14928],[5,14929,5,14930],[5,14931,5,14932],[5,14933,5,14934],[5,14935,5,14936],[5,14937,5,14938],[5,14915,5,14916],[5,14917,5,14918],[5,14919,5,14920],[5,14921,5,14922],[5,14923,5,14924],[5,14925,5,14926],[5,14903,5,14904],[5,14905,5,14906],[5,14907,5,14908],[5,14909,5,14910],[5,14911,5,14912],[5,14913,5,14914],[5,14891,5,14892],[5,14893,5,14894],[5,14895,5,14896],[5,14897,5,14898],[5,14899,5,14900],[5,14901,5,14902],[5,14879,5,14880],[5,14881,5,14882],[5,14883,5,14884],[5,14885,5,14886],[5,14887,5,14888],[5,14889,5,14890],[5,14867,5,14868],[5,14869,5,14870],[5,14871,5,14872],[5,14873,5,14874],[5,14875,5,14876],[5,14877,5,14878],[5,14855,5,14856],[5,14857,5,14858],[5,14859,5,14860],[5,14861,5,14862],[5,14863,5,14864],[5,14865,5,14866],[5,14843,5,14844],[5,14845,5,14846],[5,14847,5,14848],[5,14849,5,14850],[5,14851,5,14852],[5,14853,5,14854],[5,14831,5,14832],[5,14833,5,14834],[5,14835,5,14836],[5,14837,5,14838],[5,14839,5,14840],[5,14841,5,14842],[5,14819,5,14820],[5,14821,5,14822],[5,14823,5,14824],[5,14825,5,14826],[5,14827,5,14828],[5,14829,5,14830],[5,14807,5,14808],[5,14809,5,14810],[5,14811,5,14812],[5,14813,5,14814],[5,14815,5,14816],[5,14817,5,14818],[5,14795,5,14796],[5,14797,5,14798],[5,14799,5,14800],[5,14801,5,14802],[5,14803,5,14804],[5,14805,5,14806],[5,14783,5,14784],[5,14785,5,14786],[5,14787,5,14788],[5,14789,5,14790],[5,14791,5,14792],[5,14793,5,14794],[5,14771,5,14772],[5,14773,5,14774],[5,14775,5,14776],[5,14777,5,14778],[5,14779,5,14780],[5,14781,5,14782],[5,14759,5,14760],[5,14761,5,14762],[5,14763,5,14764],[5,14765,5,14766],[5,14767,5,14768],[5,14769,5,14770],[5,14747,5,14748],[5,14749,5,14750],[5,14751,5,14752],[5,14753,5,14754],[5,14755,5,14756],[5,14757,5,14758],[5,14735,5,14736],[5,14737,5,14738],[5,14739,5,14740],[5,14741,5,14742],[5,14743,5,14744],[5,14745,5,14746],[5,14723,5,14724],[5,14725,5,14726],[5,14727,5,14728],[5,14729,5,14730],[5,14731,5,14732],[5,14733,5,14734],[5,14711,5,14712],[5,14713,5,14714],[5,14715,5,14716],[5,14717,5,14718],[5,14719,5,14720],[5,14721,5,14722],[5,14699,5,14700],[5,14701,5,14702],[5,14703,5,14704],[5,14705,5,14706],[5,14707,5,14708],[5,14709,5,14710],[5,14687,5,14688],[5,14689,5,14690],[5,14691,5,14692],[5,14693,5,14694],[5,14695,5,14696],[5,14697,5,14698],[5,14675,5,14676],[5,14677,5,14678],[5,14679,5,14680],[5,14681,5,14682],[5,14683,5,14684],[5,14685,5,14686],[5,14663,5,14664],[5,14665,5,14666],[5,14667,5,14668],[5,14669,5,14670],[5,14671,5,14672],[5,14673,5,14674],[5,14651,5,14652],[5,14653,5,14654],[5,14655,5,14656],[5,14657,5,14658],[5,14659,5,14660],[5,14661,5,14662],[5,14639,5,14640],[5,14641,5,14642],[5,14643,5,14644],[5,14645,5,14646],[5,14647,5,14648],[5,14649,5,14650],[5,14627,5,14628],[5,14629,5,14630],[5,14631,5,14632],[5,14633,5,14634],[5,14635,5,14636],[5,14637,5,14638],[5,14615,5,14616],[5,14617,5,14618],[5,14619,5,14620],[5,14621,5,14622],[5,14623,5,14624],[5,14625,5,14626],[5,14603,5,14604],[5,14605,5,14606],[5,14607,5,14608],[5,14609,5,14610],[5,14611,5,14612],[5,14613,5,14614],[5,14591,5,14592],[5,14593,5,14594],[5,14595,5,14596],[5,14597,5,14598],[5,14599,5,14600],[5,14601,5,14602],[5,14579,5,14580],[5,14581,5,14582],[5,14583,5,14584],[5,14585,5,14586],[5,14587,5,14588],[5,14589,5,14590],[5,14567,5,14568],[5,14569,5,14570],[5,14571,5,14572],[5,14573,5,14574],[5,14575,5,14576],[5,14577,5,14578],[5,14555,5,14556],[5,14557,5,14558],[5,14559,5,14560],[5,14561,5,14562],[5,14563,5,14564],[5,14565,5,14566],[5,14543,5,14544],[5,14545,5,14546],[5,14547,5,14548],[5,14549,5,14550],[5,14551,5,14552],[5,14553,5,14554],[5,14531,5,14532],[5,14533,5,14534],[5,14535,5,14536],[5,14537,5,14538],[5,14539,5,14540],[5,14541,5,14542],[5,14519,5,14520],[5,14521,5,14522],[5,14523,5,14524],[5,14525,5,14526],[5,14527,5,14528],[5,14529,5,14530],[5,14507,5,14508],[5,14509,5,14510],[5,14511,5,14512],[5,14513,5,14514],[5,14515,5,14516],[5,14517,5,14518],[5,14495,5,14496],[5,14497,5,14498],[5,14499,5,14500],[5,14501,5,14502],[5,14503,5,14504],[5,14505,5,14506],[5,14483,5,14484],[5,14485,5,14486],[5,14487,5,14488],[5,14489,5,14490],[5,14491,5,14492],[5,14493,5,14494],[5,14471,5,14472],[5,14473,5,14474],[5,14475,5,14476],[5,14477,5,14478],[5,14479,5,14480],[5,14481,5,14482],[5,14459,5,14460],[5,14461,5,14462],[5,14463,5,14464],[5,14465,5,14466],[5,14467,5,14468],[5,14469,5,14470],[5,14447,5,14448],[5,14449,5,14450],[5,14451,5,14452],[5,14453,5,14454],[5,14455,5,14456],[5,14457,5,14458],[5,14435,5,14436],[5,14437,5,14438],[5,14439,5,14440],[5,14441,5,14442],[5,14443,5,14444],[5,14445,5,14446],[5,14423,5,14424],[5,14425,5,14426],[5,14427,5,14428],[5,14429,5,14430],[5,14431,5,14432],[5,14433,5,14434],[5,14411,5,14412],[5,14413,5,14414],[5,14415,5,14416],[5,14417,5,14418],[5,14419,5,14420],[5,14421,5,14422],[5,14399,5,14400],[5,14401,5,14402],[5,14403,5,14404],[5,14405,5,14406],[5,14407,5,14408],[5,14409,5,14410],[5,14387,5,14388],[5,14389,5,14390],[5,14391,5,14392],[5,14393,5,14394],[5,14395,5,14396],[5,14397,5,14398],[5,14375,5,14376],[5,14377,5,14378],[5,14379,5,14380],[5,14381,5,14382],[5,14383,5,14384],[5,14385,5,14386],[5,14363,5,14364],[5,14365,5,14366],[5,14367,5,14368],[5,14369,5,14370],[5,14371,5,14372],[5,14373,5,14374],[5,14351,5,14352],[5,14353,5,14354]],"merged_total":8181,"flags":["merged_cut"]}
[]
[]
[null,"وزارة     التربية",null,null,"العام الدراسي:",{"$f":"الرئيسية!H11","v":"2018-2017"}]
[null,{"$f":"الرئيسية!H12","v":"منطقة حولي التعليمية"},null,null,{"$f":"FirstPartDegrees1!M7","v":"الفصل الدراسي الأول"}]
[null,{"$f":"\"مدرسة \"& الرئيسية!H13","v":"مدرسة "}]
[null,"قسم الحاسوب "]
[null,null,"كشـــف درجات نهاية الفصل الدراسي الاول "]
[null,null,"الصف : ",{"$f":"الرئيسية!H15","v":"7-1"}]
[]
[null,"م","اسم المتعلم / المتعلمة","التقييم البنائي\n40","الاختبار ف1\n60","نهاية الفصل\n 100"]
[null,{"$f":"SeconedPartDegrees1!$A13","v":1},{"$f":"SeconedPartDegrees1!$B13","v":""},{"$f":"IFERROR(SeconedPartDegrees1!$Q13,\"\")","v":""},{"$f":"IFERROR(SeconedPartDegrees1!$T13,\"\")","v":""},{"$f":"IFERROR(SeconedPartDegrees1!$U13,\"\")","v":""}]
[null,{"$f":"SeconedPartDegrees1!$A15","v":2},{"$f":"SeconedPartDegrees1!$B15","v":""},{"$f":"IFERROR(SeconedPartDegrees1!$Q15,\"\")","v":""},{"$f":"IFERROR(SeconedPartDegrees1!$T15,\"\")","v":""},{"$f":"IFERROR(SeconedPartDegrees1!$U15,\"\")","v":""}]
[null,{"$f":"SeconedPartDegrees1!$A17","v":3},{"$f":"SeconedPartDegrees1!$B17","v":""},{"$f":"IFERROR(SeconedPartDegrees1!$Q17,\"\")","v":""},{"$f":"IFERROR(SeconedPartDegrees1!$T17,\"\")","v":""},{"$f":"IFERROR(SeconedPartDegrees1!$U17,\"\")","v":""}]
[null,{"$f":"SeconedPartDegrees1!$A19","v":4},{"$f":"SeconedPartDegrees1!$B19","v":""},{"$f":"IFERROR(SeconedPartDegrees1!$Q19,\"\")","v":""},{"$f":"IFERROR(SeconedPartDegrees1!$T19,\"\")","v":""},{"$f":"IFERROR(SeconedPartDegrees1!$U19,\"\")","v":""}]
[null,{"$f":"SeconedPartDegrees1!$A21","v":5},{"$f":"SeconedPartDegrees1!$B21","v":""},{"$f":"IFERROR(SeconedPartDegrees1!$Q21,\"\")","v":""},{"$f":"IFERROR(SeconedPartDegrees1!$T21,\"\")","v":""},{"$f":"IFERROR(SeconedPartDegrees1!$U21,\"\")","v":""}]
[null,{"$f":"SeconedPartDegrees1!$A23","v":6},{"$f":"SeconedPartDegrees1!$B23","v":""},{"$f":"IFERROR(SeconedPartDegrees1!$Q23,\"\")","v":""},{"$f":"IFERROR(SeconedPartDegrees1!$T23,\"\")","v":""},{"$f":"IFERROR(SeconedPartDegrees1!$U23,\"\")","v":""}]
[null,{"$f":"SeconedPartDegrees1!$A25","v":7},{"$f":"SeconedPartDegrees1!$B25","v":""},{"$f":"IFERROR(SeconedPartDegrees1!$Q25,\"\")","v":""},{"$f":"IFERROR(SeconedPartDegrees1!$T25,\"\")","v":""},{"$f":"IFERROR(SeconedPartDegrees1!$U25,\"\")","v":""}]
[null,{"$f":"SeconedPartDegrees1!$A27","v":8},{"$f":"SeconedPartDegrees1!$B27","v":""},{"$f":"IFERROR(SeconedPartDegrees1!$Q27,\"\")","v":""},{"$f":"IFERROR(SeconedPartDegrees1!$T27,\"\")","v":""},{"$f":"IFERROR(SeconedPartDegrees1!$U27,\"\")","v":""}]
[null,{"$f":"SeconedPartDegrees1!$A29","v":9},{"$f":"SeconedPartDegrees1!$B29","v":""},{"$f":"IFERROR(SeconedPartDegrees1!$Q29,\"\")","v":""},{"$f":"IFERROR(SeconedPartDegrees1!$T29,\"\")","v":""},{"$f":"IFERROR(SeconedPartDegrees1!$U29,\"\")","v":""}]
[null,{"$f":"SeconedPartDegrees1!$A31","v":10},{"$f":"SeconedPartDegrees1!$B31","v":""},{"$f":"IFERROR(SeconedPartDegrees1!$Q31,\"\")","v":""},{"$f":"IFERROR(SeconedPartDegrees1!$T31,\"\")","v":""},{"$f":"IFERROR(SeconedPartDegrees1!$U31,\"\")","v":""}]
[null,{"$f":"SeconedPartDegrees1!$A33","v":11},{"$f":"SeconedPartDegrees1!$B33","v":""},{"$f":"IFERROR(SeconedPartDegrees1!$Q33,\"\")","v":""},{"$f":"IFERROR(SeconedPartDegrees1!$T33,\"\")","v":""},{"$f":"IFERROR(SeconedPartDegrees1!$U33,\"\")","v":""}]
[null,{"$f":"SeconedPartDegrees1!$A35","v":12},{"$f":"SeconedPartDegrees1!$B35","v":""},{"$f":"IFERROR(SeconedPartDegrees1!$Q35,\"\")","v":""},{"$f":"IFERROR(SeconedPartDegrees1!$T35,\"\")","v":""},{"$f":"IFERROR(SeconedPartDegrees1!$U35,\"\")","v":""}]
[null,{"$f":"SeconedPartDegrees1!$A37","v":13},{"$f":"SeconedPartDegrees1!$B37","v":""},{"$f":"IFERROR(SeconedPartDegrees1!$Q37,\"\")","v":""},{"$f":"IFERROR(SeconedPartDegrees1!$T37,\"\")","v":""},{"$f":"IFERROR(SeconedPartDegrees1!$U37,\"\")","v":""}]
[null,{"$f":"SeconedPartDegrees1!$A39","v":14},{"$f":"SeconedPartDegrees1!$B39","v":""},{"$f":"IFERROR(SeconedPartDegrees1!$Q39,\"\")","v":""},{"$f":"IFERROR(SeconedPartDegrees1!$T39,\"\")","v":""},{"$f":"IFERROR(SeconedPartDegrees1!$U39,\"\")","v":""}]
[null,{"$f":"SeconedPartDegrees1!$A41","v":15},{"$f":"SeconedPartDegrees1!$B41","v":""},{"$f":"IFERROR(SeconedPartDegrees1!$Q41,\"\")","v":""},{"$f":"IFERROR(SeconedPartDegrees1!$T41,\"\")","v":""},{"$f":"IFERROR(SeconedPartDegrees1!$U41,\"\")","v":""}]
[null,{"$f":"SeconedPartDegrees1!$A43","v":16},{"$f":"SeconedPartDegrees1!$B43","v":""},{"$f":"IFERROR(SeconedPartDegrees1!$Q43,\"\")","v":""},{"$f":"IFERROR(SeconedPartDegrees1!$T43,\"\")","v":""},{"$f":"IFERROR(SeconedPartDegrees1!$U43,\"\")","v":""}]
[null,{"$f":"SeconedPartDegrees1!$A45","v":17},{"$f":"SeconedPartDegrees1!$B45","v":""},{"$f":"IFERROR(SeconedPartDegrees1!$Q45,\"\")","v":""},{"$f":"IFERROR(SeconedPartDegrees1!$T45,\"\")","v":""},{"$f":"IFERROR(SeconedPartDegrees1!$U45,\"\")","v":""}]
[null,{"$f":"SeconedPartDegrees1!$A47","v":18},{"$f":"SeconedPartDegrees1!$B47","v":""},{"$f":"IFERROR(SeconedPartDegrees1!$Q47,\"\")","v":""},{"$f":"IFERROR(SeconedPartDegrees1!$T47,\"\")","v":""},{"$f":"IFERROR(SeconedPartDegrees1!$U47,\"\")","v":""}]
[null,{"$f":"SeconedPartDegrees1!$A49","v":19},{"$f":"SeconedPartDegrees1!$B49","v":""},{"$f":"IFERROR(SeconedPartDegrees1!$Q49,\"\")","v":""},{"$f":"IFERROR(SeconedPartDegrees1!$T49,\"\")","v":""},{"$f":"IFERROR(SeconedPartDegrees1!$U49,\"\")","v":""}]
[null,{"$f":"SeconedPartDegrees1!$A51","v":20},{"$f":"SeconedPartDegrees1!$B51","v":""},{"$f":"IFERROR(SeconedPartDegrees1!$Q51,\"\")","v":""},{"$f":"IFERROR(SeconedPartDegrees1!$T51,\"\")","v":""},{"$f":"IFERROR(SeconedPartDegrees1!$U51,\"\")","v":""}]
[null,{"$f":"SeconedPartDegrees1!$A53","v":21},{"$f":"SeconedPartDegrees1!$B53","v":""},{"$f":"IFERROR(SeconedPartDegrees1!$Q53,\"\")","v":""},{"$f":"IFERROR(SeconedPartDegrees1!$T53,\"\")","v":""},{"$f":"IFERROR(SeconedPartDegrees1!$U53,\"\")","v":""}]
[null,{"$f":"SeconedPartDegrees1!$A55","v":22},{"$f":"SeconedPartDegrees1!$B55","v":""},{"$f":"IFERROR(SeconedPartDegrees1!$Q55,\"\")","v":""},{"$f":"IFERROR(SeconedPartDegrees1!$T55,\"\")","v":""},{"$f":"IFERROR(SeconedPartDegrees1!$U55,\"\")","v":""}]
[null,{"$f":"SeconedPartDegrees1!$A57","v":23},{"$f":"SeconedPartDegrees1!$B57","v":""},{"$f":"IFERROR(SeconedPartDegrees1!$Q57,\"\")","v":""},{"$f":"IFERROR(SeconedPartDegrees1!$T57,\"\")","v":""},{"$f":"IFERROR(SeconedPartDegrees1!$U57,\"\")","v":""}]
[null,{"$f":"SeconedPartDegrees1!$A59","v":24},{"$f":"SeconedPartDegrees1!$B59","v":""},{"$f":"IFERROR(SeconedPartDegrees1!$Q59,\"\")","v":""},{"$f":"IFERROR(SeconedPartDegrees1!$T59,\"\")","v":""},{"$f":"IFERROR(SeconedPartDegrees1!$U59,\"\")","v":""}]
[null,{"$f":"SeconedPartDegrees1!$A61","v":25},{"$f":"SeconedPartDegrees1!$B61","v":""},{"$f":"IFERROR(SeconedPartDegrees1!$Q61,\"\")","v":""},{"$f":"IFERROR(SeconedPartDegrees1!$T61,\"\")","v":""},{"$f":"IFERROR(SeconedPartDegrees1!$U61,\"\")","v":""}]
[null,{"$f":"SeconedPartDegrees1!$A63","v":26},{"$f":"SeconedPartDegrees1!$B63","v":""},{"$f":"IFERROR(SeconedPartDegrees1!$Q63,\"\")","v":""},{"$f":"IFERROR(SeconedPartDegrees1!$T63,\"\")","v":""},{"$f":"IFERROR(SeconedPartDegrees1!$U63,\"\")","v":""}]
[null,{"$f":"SeconedPartDegrees1!$A65","v":27},{"$f":"SeconedPartDegrees1!$B65","v":""},{"$f":"IFERROR(SeconedPartDegrees1!$Q65,\"\")","v":""},{"$f":"IFERROR(SeconedPartDegrees1!$T65,\"\")","v":""},{"$f":"IFERROR(SeconedPartDegrees1!$U65,\"\")","v":""}]
[null,{"$f":"SeconedPartDegrees1!$A67","v":28},{"$f":"SeconedPartDegrees1!$B67","v":""},{"$f":"IFERROR(SeconedPartDegrees1!$Q67,\"\")","v":""},{"$f":"IFERROR(SeconedPartDegrees1!$T67,\"\")","v":""},{"$f":"IFERROR(SeconedPartDegrees1!$U67,\"\")","v":""}]
[null,{"$f":"SeconedPartDegrees1!$A69","v":29},{"$f":"SeconedPartDegrees1!$B69","v":""},{"$f":"IFERROR(SeconedPartDegrees1!$Q69,\"\")","v":""},{"$f":"IFERROR(SeconedPartDegrees1!$T69,\"\")","v":""},{"$f":"IFERROR(SeconedPartDegrees1!$U69,\"\")","v":""}]
[null,{"$f":"SeconedPartDegrees1!$A71","v":30},{"$f":"SeconedPartDegrees1!$B71","v":""},{"$f":"IFERROR(SeconedPartDegrees1!$Q71,\"\")","v":""},{"$f":"IFERROR(SeconedPartDegrees1!$T71,\"\")","v":""},{"$f":"IFERROR(SeconedPartDegrees1!$U71,\"\")","v":""}]
[null,{"$f":"SeconedPartDegrees1!$A73","v":31},{"$f":"SeconedPartDegrees1!$B73","v":""},{"$f":"IFERROR(SeconedPartDegrees1!$Q73,\"\")","v":""},{"$f":"IFERROR(SeconedPartDegrees1!$T73,\"\")","v":""},{"$f":"IFERROR(SeconedPartDegrees1!$U73,\"\")","v":""}]
[null,{"$f":"SeconedPartDegrees1!$A75","v":32},{"$f":"SeconedPartDegrees1!$B75","v":""},{"$f":"IFERROR(SeconedPartDegrees1!$Q75,\"\")","v":""},{"$f":"IFERROR(SeconedPartDegrees1!$T75,\"\")","v":""},{"$f":"IFERROR(SeconedPartDegrees1!$U75,\"\")","v":""}]
[null,{"$f":"SeconedPartDegrees1!$A77","v":33},{"$f":"SeconedPartDegrees1!$B77","v":""},{"$f":"IFERROR(SeconedPartDegrees1!$Q77,\"\")","v":""},{"$f":"IFERROR(SeconedPartDegrees1!$T77,\"\")","v":""},{"$f":"IFERROR(SeconedPartDegrees1!$U77,\"\")","v":""}]
[null,{"$f":"SeconedPartDegrees1!$A79","v":34},{"$f":"SeconedPartDegrees1!$B79","v":""},{"$f":"IFERROR(SeconedPartDegrees1!$Q79,\"\")","v":""},{"$f":"IFERROR(SeconedPartDegrees1!$T79,\"\")","v":""},{"$f":"IFERROR(SeconedPartDegrees1!$U79,\"\")","v":""}]
[null,{"$f":"SeconedPartDegrees1!$A81","v":35},{"$f":"SeconedPartDegrees1!$B81","v":""},{"$f":"IFERROR(SeconedPartDegrees1!$Q81,\"\")","v":""},{"$f":"IFERROR(SeconedPartDegrees1!$T81,\"\")","v":""},{"$f":"IFERROR(SeconedPartDegrees1!$U81,\"\")","v":""}]
[null,{"$f":"SeconedPartDegrees1!$A83","v":36},{"$f":"SeconedPartDegrees1!$B83","v":""},{"$f":"IFERROR(SeconedPartDegrees1!$Q83,\"\")","v":""},{"$f":"IFERROR(SeconedPartDegrees1!$T83,\"\")","v":""},{"$f":"IFERROR(SeconedPartDegrees1!$U83,\"\")","v":""}]
[null,{"$f":"SeconedPartDegrees1!$A85","v":37},{"$f":"SeconedPartDegrees1!$B85","v":""},{"$f":"IFERROR(SeconedPartDegrees1!$Q85,\"\")","v":""},{"$f":"IFERROR(SeconedPartDegrees1!$T85,\"\")","v":""},{"$f":"IFERROR(SeconedPartDegrees1!$U85,\"\")","v":""}]
[null,{"$f":"SeconedPartDegrees1!$A87","v":38},{"$f":"SeconedPartDegrees1!$B87","v":""},{"$f":"IFERROR(SeconedPartDegrees1!$Q87,\"\")","v":""},{"$f":"IFERROR(SeconedPartDegrees1!$T87,\"\")","v":""},{"$f":"IFERROR(SeconedPartDegrees1!$U87,\"\")","v":""}]
[null,{"$f":"SeconedPartDegrees1!$A89","v":39},{"$f":"SeconedPartDegrees1!$B89","v":""},{"$f":"IFERROR(SeconedPartDegrees1!$Q89,\"\")","v":""},{"$f":"IFERROR(SeconedPartDegrees1!$T89,\"\")","v":""},{"$f":"IFERROR(SeconedPartDegrees1!$U89,\"\")","v":""}]
[null,{"$f":"SeconedPartDegrees1!$A91","v":40},{"$f":"SeconedPartDegrees1!$B91","v":""},{"$f":"IFERROR(SeconedPartDegrees1!$Q91,\"\")","v":""},{"$f":"IFERROR(SeconedPartDegrees1!$T91,\"\")","v":""},{"$f":"IFERROR(SeconedPartDegrees1!$U91,\"\")","v":""}]
[null,{"$f":"SeconedPartDegrees1!$A93","v":41},{"$f":"SeconedPartDegrees1!$B93","v":""},{"$f":"IFERROR(SeconedPartDegrees1!$Q93,\"\")","v":""},{"$f":"IFERROR(SeconedPartDegrees1!$T93,\"\")","v":""},{"$f":"IFERROR(SeconedPartDegrees1!$U93,\"\")","v":""}]
[null,{"$f":"SeconedPartDegrees1!$A95","v":42},{"$f":"SeconedPartDegrees1!$B95","v":""},{"$f":"IFERROR(SeconedPartDegrees1!$Q95,\"\")","v":""},{"$f":"IFERROR(SeconedPartDegrees1!$T95,\"\")","v":""},{"$f":"IFERROR(SeconedPartDegrees1!$U95,\"\")","v":""}]
[null,{"$f":"SeconedPartDegrees1!$A97","v":43},{"$f":"SeconedPartDegrees1!$B97","v":""},{"$f":"IFERROR(SeconedPartDegrees1!$Q97,\"\")","v":""},{"$f":"IFERROR(SeconedPartDegrees1!$T97,\"\")","v":""},{"$f":"IFERROR(SeconedPartDegrees1!$U97,\"\")","v":""}]
[null,{"$f":"SeconedPartDegrees1!$A99","v":44},{"$f":"SeconedPartDegrees1!$B99","v":""},{"$f":"IFERROR(SeconedPartDegrees1!$Q99,\"\")","v":""},{"$f":"IFERROR(SeconedPartDegrees1!$T99,\"\")","v":""},{"$f":"IFERROR(SeconedPartDegrees1!$U99,\"\")","v":""}]
[null,{"$f":"SeconedPartDegrees1!$A101","v":45},{"$f":"SeconedPartDegrees1!$B101","v":""},{"$f":"IFERROR(SeconedPartDegrees1!$Q101,\"\")","v":""},{"$f":"IFERROR(SeconedPartDegrees1!$T101,\"\")","v":""},{"$f":"IFERROR(SeconedPartDegrees1!$U101,\"\")","v":""}]
[null,{"$f":"SeconedPartDegrees1!$A103","v":46},{"$f":"SeconedPartDegrees1!$B103","v":""},{"$f":"IFERROR(SeconedPartDegrees1!$Q103,\"\")","v":""},{"$f":"IFERROR(SeconedPartDegrees1!$T103,\"\")","v":""},{"$f":"IFERROR(SeconedPartDegrees1!$U103,\"\")","v":""}]
[null,{"$f":"SeconedPartDegrees1!$A105","v":47},{"$f":"SeconedPartDegrees1!$B105","v":""},{"$f":"IFERROR(SeconedPartDegrees1!$Q105,\"\")","v":""},{"$f":"IFERROR(SeconedPartDegrees1!$T105,\"\")","v":""},{"$f":"IFERROR(SeconedPartDegrees1!$U105,\"\")","v":""}]
[null,{"$f":"SeconedPartDegrees1!$A107","v":48},{"$f":"SeconedPartDegrees1!$B107","v":""},{"$f":"IFERROR(SeconedPartDegrees1!$Q107,\"\")","v":""},{"$f":"IFERROR(SeconedPartDegrees1!$T107,\"\")","v":""},{"$f":"IFERROR(SeconedPartDegrees1!$U107,\"\")","v":""}]
[null,{"$f":"SeconedPartDegrees1!$A109","v":49},{"$f":"SeconedPartDegrees1!$B109","v":""},{"$f":"IFERROR(SeconedPartDegrees1!$Q109,\"\")","v":""},{"$f":"IFERROR(SeconedPartDegrees1!$T109,\"\")","v":""},{"$f":"IFERROR(SeconedPartDegrees1!$U109,\"\")","v":""}]
[null,{"$f":"SeconedPartDegrees1!$A111","v":50},{"$f":"SeconedPartDegrees1!$B111","v":""},{"$f":"IFERROR(SeconedPartDegrees1!$Q111,\"\")","v":""},{"$f":"IFERROR(SeconedPartDegrees1!$T111,\"\")","v":""},{"$f":"IFERROR(SeconedPartDegrees1!$U111,\"\")","v":""}]
[null,{"$f":"SeconedPartDegrees1!$A113","v":51},{"$f":"SeconedPartDegrees1!$B113","v":""},{"$f":"IFERROR(SeconedPartDegrees1!$Q113,\"\")","v":""},{"$f":"IFERROR(SeconedPartDegrees1!$T113,\"\")","v":""},{"$f":"IFERROR(SeconedPartDegrees1!$U113,\"\")","v":""}]
[null,{"$f":"SeconedPartDegrees1!$A115","v":52},{"$f":"SeconedPartDegrees1!$B115","v":""},{"$f":"IFERROR(SeconedPartDegrees1!$Q115,\"\")","v":""},{"$f":"IFERROR(SeconedPartDegrees1!$T115,\"\")","v":""},{"$f":"IFERROR(SeconedPartDegrees1!$U115,\"\")","v":""}]
[null,{"$f":"SeconedPartDegrees1!$A117","v":53},{"$f":"SeconedPartDegrees1!$B117","v":""},{"$f":"IFERROR(SeconedPartDegrees1!$Q117,\"\")","v":""},{"$f":"IFERROR(SeconedPartDegrees1!$T117,\"\")","v":""},{"$f":"IFERROR(SeconedPartDegrees1!$U117,\"\")","v":""}]
[null,{"$f":"SeconedPartDegrees1!$A119","v":54},{"$f":"SeconedPartDegrees1!$B119","v":""},{"$f":"IFERROR(SeconedPartDegrees1!$Q119,\"\")","v":""},{"$f":"IFERROR(SeconedPartDegrees1!$T119,\"\")","v":""},{"$f":"IFERROR(SeconedPartDegrees1!$U119,\"\")","v":""}]
[null,{"$f":"SeconedPartDegrees1!$A121","v":55},{"$f":"SeconedPartDegrees1!$B121","v":""},{"$f":"IFERROR(SeconedPartDegrees1!$Q121,\"\")","v":""},{"$f":"IFERROR(SeconedPartDegrees1!$T121,\"\")","v":""},{"$f":"IFERROR(SeconedPartDegrees1!$U121,\"\")","v":""}]
[null,{"$f":"SeconedPartDegrees1!$A123","v":56},{"$f":"SeconedPartDegrees1!$B123","v":""},{"$f":"IFERROR(SeconedPartDegrees1!$Q123,\"\")","v":""},{"$f":"IFERROR(SeconedPartDegrees1!$T123,\"\")","v":""},{"$f":"IFERROR(SeconedPartDegrees1!$U123,\"\")","v":""}]
[null,{"$f":"SeconedPartDegrees1!$A125","v":57},{"$f":"SeconedPartDegrees1!$B125","v":""},{"$f":"IFERROR(SeconedPartDegrees1!$Q125,\"\")","v":""},{"$f":"IFERROR(SeconedPartDegrees1!$T125,\"\")","v":""},{"$f":"IFERROR(SeconedPartDegrees1!$U125,\"\")","v":""}]
[null,{"$f":"SeconedPartDegrees1!$A127","v":58},{"$f":"SeconedPartDegrees1!$B127","v":""},{"$f":"IFERROR(SeconedPartDegrees1!$Q127,\"\")","v":""},{"$f":"IFERROR(SeconedPartDegrees1!$T127,\"\")","v":""},{"$f":"IFERROR(SeconedPartDegrees1!$U127,\"\")","v":""}]
[null,{"$f":"SeconedPartDegrees1!$A129","v":59},{"$f":"SeconedPartDegrees1!$B129","v":""},{"$f":"IFERROR(SeconedPartDegrees1!$Q129,\"\")","v":""},{"$f":"IFERROR(SeconedPartDegrees1!$T129,\"\")","v":""},{"$f":"IFERROR(SeconedPartDegrees1!$U129,\"\")","v":""}]
[null,{"$f":"SeconedPartDegrees1!$A131","v":60},{"$f":"SeconedPartDegrees1!$B131","v":""},{"$f":"IFERROR(SeconedPartDegrees1!$Q131,\"\")","v":""},{"$f":"IFERROR(SeconedPartDegrees1!$T131,\"\")","v":""},{"$f":"IFERROR(SeconedPartDegrees1!$U131,\"\")","v":""}]
[null,{"$f":"SeconedPartDegrees1!$A133","v":61},{"$f":"SeconedPartDegrees1!$B133","v":""},{"$f":"IFERROR(SeconedPartDegrees1!$Q133,\"\")","v":""},{"$f":"IFERROR(SeconedPartDegrees1!$T133,\"\")","v":""},{"$f":"IFERROR(SeconedPartDegrees1!$U133,\"\")","v":""}]
[null,{"$f":"SeconedPartDegrees1!$A135","v":62},{"$f":"SeconedPartDegrees1!$B135","v":""},{"$f":"IFERROR(SeconedPartDegrees1!$Q135,\"\")","v":""},{"$f":"IFERROR(SeconedPartDegrees1!$T135,\"\")","v":""},{"$f":"IFERROR(SeconedPartDegrees1!$U135,\"\")","v":""}]
[null,{"$f":"SeconedPartDegrees1!$A137","v":63},{"$f":"SeconedPartDegrees1!$B137","v":""},{"$f":"IFERROR(SeconedPartDegrees1!$Q137,\"\")","v":""},{"$f":"IFERROR(SeconedPartDegrees1!$T137,\"\")","v":""},{"$f":"IFERROR(SeconedPartDegrees1!$U137,\"\")","v":""}]
[null,{"$f":"SeconedPartDegrees1!$A139","v":64},{"$f":"SeconedPartDegrees1!$B139","v":""},{"$f":"IFERROR(SeconedPartDegrees1!$Q139,\"\")","v":""},{"$f":"IFERROR(SeconedPartDegrees1!$T139,\"\")","v":""},{"$f":"IFERROR(SeconedPartDegrees1!$U139,\"\")","v":""}]
[null,{"$f":"SeconedPartDegrees1!$A141","v":65},{"$f":"SeconedPartDegrees1!$B141","v":""},{"$f":"IFERROR(SeconedPartDegrees1!$Q141,\"\")","v":""},{"$f":"IFERROR(SeconedPartDegrees1!$T141,\"\")","v":""},{"$f":"IFERROR(SeconedPartDegrees1!$U141,\"\")","v":""}]
[null,{"$f":"SeconedPartDegrees1!$A143","v":66},{"$f":"SeconedPartDegrees1!$B143","v":""},{"$f":"IFERROR(SeconedPartDegrees1!$Q143,\"\")","v":""},{"$f":"IFERROR(SeconedPartDegrees1!$T143,\"\")","v":""},{"$f":"IFERROR(SeconedPartDegrees1!$U143,\"\")","v":""}]
[null,{"$f":"SeconedPartDegrees1!$A145","v":67},{"$f":"SeconedPartDegrees1!$B145","v":""},{"$f":"IFERROR(SeconedPartDegrees1!$Q145,\"\")","v":""},{"$f":"IFERROR(SeconedPartDegrees1!$T145,\"\")","v":""},{"$f":"IFERROR(SeconedPartDegrees1!$U145,\"\")","v":""}]
[null,{"$f":"SeconedPartDegrees1!$A147","v":68},{"$f":"SeconedPartDegrees1!$B147","v":""},{"$f":"IFERROR(SeconedPartDegrees1!$Q147,\"\")","v":""},{"$f":"IFERROR(SeconedPartDegrees1!$T147,\"\")","v":""},{"$f":"IFERROR(SeconedPartDegrees1!$U147,\"\")","v":""}]
[null,{"$f":"SeconedPartDegrees1!$A149","v":69},{"$f":"SeconedPartDegrees1!$B149","v":""},{"$f":"IFERROR(SeconedPartDegrees1!$Q149,\"\")","v":""},{"$f":"IFERROR(SeconedPartDegrees1!$T149,\"\")","v":""},{"$f":"IFERROR(SeconedPartDegrees1!$U149,\"\")","v":""}]
[null,{"$f":"SeconedPartDegrees1!$A151","v":70},{"$f":"SeconedPartDegrees1!$B151","v":""},{"$f":"IFERROR(SeconedPartDegrees1!$Q151,\"\")","v":""},{"$f":"IFERROR(SeconedPartDegrees1!$T151,\"\")","v":""},{"$f":"IFERROR(SeconedPartDegrees1!$U151,\"\")","v":""}]

{"sheet":"Final Degree1","index":6,"n_rows":221,"n_cols":43,"rows_kept":221,"cut":false,"hidden":false,"merged":[[149,33,151,33],[149,34,151,34],[151,2,151,3],[151,4,151,5],[151,6,151,7],[151,8,151,9],[151,11,151,12],[151,13,151,14],[151,15,151,16],[151,17,151,18],[151,20,151,21],[151,22,151,23],[151,24,151,25],[151,26,151,27],[149,0,151,0],[149,1,150,1],[149,10,151,10],[149,19,151,19],[149,28,151,28],[149,29,151,29],[149,30,151,30],[149,31,151,31],[149,32,151,32],[146,33,148,33],[146,34,148,34],[148,2,148,3],[148,4,148,5],[148,6,148,7],[148,8,148,9],[148,11,148,12],[148,13,148,14],[148,15,148,16],[148,17,148,18],[148,20,148,21],[148,22,148,23],[148,24,148,25],[148,26,148,27],[146,0,148,0],[146,1,147,1],[146,10,148,10],[146,19,148,19],[146,28,148,28],[146,29,148,29],[146,30,148,30],[146,31,148,31],[146,32,148,32],[143,33,145,33],[143,34,145,34],[145,2,145,3],[145,4,145,5],[145,6,145,7],[145,8,145,9],[145,11,145,12],[145,13,145,14],[145,15,145,16],[145,17,145,18],[145,20,145,21],[145,22,145,23],[145,24,145,25],[145,26,145,27],[143,0,145,0],[143,1,144,1],[143,10,145,10],[143,19,145,19],[143,28,145,28],[143,29,145,29],[143,30,145,30],[143,31,145,31],[143,32,145,32],[137,0,139,0],[137,1,138,1],[137,10,139,10],[137,19,139,19],[137,28,139,28],[137,29,139,29],[137,30,139,30],[137,31,139,31],[137,32,139,32],[140,33,142,33],[140,34,142,34],[142,2,142,3],[142,4,142,5],[142,6,142,7],[142,8,142,9],[142,11,142,12],[142,13,142,14],[142,15,142,16],[142,17,142,18],[142,20,142,21],[142,22,142,23],[142,24,142,25],[142,26,142,27],[140,0,142,0],[140,1,141,1],[140,10,142,10],[140,19,142,19],[140,28,142,28],[140,29,142,29],[140,30,142,30],[140,31,142,31],[140,32,142,32],[134,29,136,29],[134,30,136,30],[134,31,136,31],[134,32,136,32],[137,33,139,33],[137,34,139,34],[139,2,139,3],[139,4,139,5],[139,6,139,7],[139,8,139,9],[139,11,139,12],[139,13,139,14],[139,15,139,16],[139,17,139,18],[139,20,139,21],[139,22,139,23],[139,24,139,25],[139,26,139,27],[136,2,136,3],[136,4,136,5],[136,6,136,7],[136,8,136,9],[136,11,136,12],[136,13,136,14],[136,15,136,16],[136,17,136,18],[136,20,136,21],[136,22,136,23],[136,24,136,25],[136,26,136,27],[134,0,136,0],[134,1,135,1],[134,10,136,10],[134,19,136,19],[134,28,136,28],[125,0,127,0],[125,1,126,1],[125,10,127,10],[125,19,127,19],[128,1,129,1],[130,15,130,16],[130,17,130,18],[131,33,133,33],[131,34,133,34],[133,2,133,3],[133,4,133,5],[133,6,133,7],[133,8,133,9],[133,11,133,12],[133,13,133,14],[133,15,133,16],[133,17,133,18],[133,20,133,21],[133,22,133,23],[133,24,133,25],[133,26,133,27],[131,0,133,0],[131,1,132,1],[131,10,133,10],[131,19,133,19],[131,28,133,28],[131,29,133,29],[131,30,133,30],[131,31,133,31],[131,32,133,32],[110,0,112,0],[110,1,111,1],[113,0,115,0],[113,1,114,1],[113,10,115,10],[113,19,115,19],[116,0,118,0],[116,1,117,1],[116,10,118,10],[116,19,118,19],[119,0,121,0],[119,1,120,1],[119,10,121,10],[119,19,121,19],[122,0,124,0],[122,1,123,1],[122,10,124,10],[122,19,124,19],[110,30,112,30],[110,31,112,31],[110,32,112,32],[113,28,115,28],[113,29,115,29],[113,30,115,30],[113,31,115,31],[113,32,115,32],[118,26,118,27],[119,28,121,28],[119,29,121,29],[110,33,112,33],[110,34,112,34],[112,2,112,3],[112,4,112,5],[112,6,112,7],[112,8,112,9],[112,11,112,12],[110,10,112,10],[110,19,112,19],[110,28,112,28],[110,29,112,29],[112,13,112,14],[112,15,112,16],[112,17,112,18],[112,20,112,21],[112,22,112,23],[112,24,112,25],[112,26,112,27],[107,34,109,34],[109,2,109,3],[109,4,109,5],[109,6,109,7],[109,8,109,9],[109,11,109,12],[109,13,109,14],[109,15,109,16],[109,17,109,18],[109,20,109,21],[107,28,109,28],[107,29,109,29],[107,30,109,30],[107,31,109,31],[107,32,109,32],[107,33,109,33],[107,0,109,0],[107,1,108,1],[107,10,109,10],[107,19,109,19],[109,22,109,23],[109,24,109,25],[109,26,109,27],[104,0,106,0],[104,1,105,1],[104,30,106,30],[104,31,106,31],[104,32,106,32],[104,33,106,33],[104,34,106,34],[106,2,106,3],[106,4,106,5],[106,6,106,7],[106,8,106,9],[106,11,106,12],[104,10,106,10],[104,19,106,19],[104,28,106,28],[104,29,106,29],[106,13,106,14],[106,15,106,16],[106,17,106,18],[106,20,106,21],[106,22,106,23],[106,24,106,25],[106,26,106,27],[101,34,103,34],[103,2,103,3],[103,4,103,5],[103,6,103,7],[103,8,103,9],[103,11,103,12],[103,13,103,14],[103,15,103,16],[103,17,103,18],[103,20,103,21],[101,28,103,28],[101,29,103,29],[101,30,103,30],[101,31,103,31],[101,32,103,32],[101,33,103,33],[101,0,103,0],[101,1,102,1],[101,10,103,10],[101,19,103,19],[103,22,103,23],[103,24,103,25],[103,26,103,27],[98,0,100,0],[98,1,99,1],[98,30,100,30],[98,31,100,31],[98,32,100,32],[98,33,100,33],[98,34,100,34],[100,2,100,3],[100,4,100,5],[100,6,100,7],[100,8,100,9],[100,11,100,12],[98,10,100,10],[98,19,100,19],[98,28,100,28],[98,29,100,29],[100,13,100,14],[100,15,100,16],[100,17,100,18],[100,20,100,21],[100,22,100,23],[100,24,100,25],[100,26,100,27],[95,34,97,34],[97,2,97,3],[97,4,97,5],[97,6,97,7],[97,8,97,9],[97,11,97,12],[97,13,97,14],[97,15,97,16],[97,17,97,18],[97,20,97,21],[95,28,97,28],[95,29,97,29],[95,30,97,30],[95,31,97,31],[95,32,97,32],[95,33,97,33],[95,0,97,0],[95,1,96,1],[95,10,97,10],[95,19,97,19],[97,22,97,23],[97,24,97,25],[97,26,97,27],[92,0,94,0],[92,1,93,1],[92,30,94,30],[92,31,94,31],[92,32,94,32],[92,33,94,33],[92,34,94,34],[94,2,94,3],[94,4,94,5],[94,6,94,7],[94,8,94,9],[94,11,94,12],[92,10,94,10],[92,19,94,19],[92,28,94,28],[92,29,94,29],[94,13,94,14],[94,15,94,16],[94,17,94,18],[94,20,94,21],[94,22,94,23],[94,24,94,25],[94,26,94,27],[89,34,91,34],[91,2,91,3],[91,4,91,5],[91,6,91,7],[91,8,91,9],[91,11,91,12],[91,13,91,14],[91,15,91,16],[91,17,91,18],[91,20,91,21],[89,28,91,28],[89,29,91,29],[89,30,91,30],[89,31,91,31],[89,32,91,32],[89,33,91,33],[89,0,91,0],[89,1,90,1],[89,10,91,10],[89,19,91,19],[91,22,91,23],[91,24,91,25],[91,26,91,27],[86,0,88,0],[86,1,87,1],[86,30,88,30],[86,31,88,31],[86,32,88,32],[86,33,88,33],[86,34,88,34],[88,2,88,3],[88,4,88,5],[88,6,88,7],[88,8,88,9],[88,11,88,12],[86,10,88,10],[86,19,88,19],[86,28,88,28],[86,29,88,29],[88,13,88,14],[88,15,88,16],[88,17,88,18],[88,20,88,21],[88,22,88,23],[88,24,88,25],[88,26,88,27],[83,34,85,34],[85,2,85,3],[85,4,85,5],[85,6,85,7],[85,8,85,9],[85,11,85,12],[85,13,85,14],[85,15,85,16],[85,17,85,18],[85,20,85,21],[83,28,85,28],[83,29,85,29],[83,30,85,30],[83,31,85,31],[83,32,85,32],[83,33,85,33],[83,0,85,0],[83,1,84,1],[83,10,85,10],[83,19,85,19],[85,22,85,23],[85,24,85,25],[85,26,85,27],[80,0,82,0],[80,1,81,1],[80,30,82,30],[80,31,82,31],[80,32,82,32],[80,33,82,33],[80,34,82,34],[82,2,82,3],[82,4,82,5],[82,6,82,7],[82,8,82,9],[82,11,82,12],[80,10,82,10],[80,19,82,19],[80,28,82,28],[80,29,82,29],[82,13,82,14],[82,15,82,16],[82,17,82,18],[82,20,82,21],[82,22,82,23],[82,24,82,25],[82,26,82,27],[77,34,79,34],[79,2,79,3],[79,4,79,5],[79,6,79,7],[79,8,79,9],[79,11,79,12],[79,13,79,14],[79,15,79,16],[79,17,79,18],[79,20,79,21],[77,28,79,28],[77,29,79,29],[77,30,79,30],[77,31,79,31],[77,32,79,32],[77,33,79,33],[77,0,79,0],[77,1,78,1],[77,10,79,10],[77,19,79,19],[79,22,79,23],[79,24,79,25],[79,26,79,27],[74,0,76,0],[74,1,75,1],[74,30,76,30],[74,31,76,31],[74,32,76,32],[74,33,76,33],[74,34,76,34],[76,2,76,3],[76,4,76,5],[76,6,76,7],[76,8,76,9],[76,11,76,12],[74,10,76,10],[74,19,76,19],[74,28,76,28],[74,29,76,29],[76,13,76,14],[76,15,76,16],[76,17,76,18],[76,20,76,21],[76,22,76,23],[76,24,76,25],[76,26,76,27],[71,34,73,34],[73,2,73,3],[73,4,73,5],[73,6,73,7],[73,8,73,9],[73,11,73,12],[73,13,73,14],[73,15,73,16],[73,17,73,18],[73,20,73,21],[71,28,73,28],[71,29,73,29],[71,30,73,30],[71,31,73,31],[71,32,73,32],[71,33,73,33],[71,0,73,0],[71,1,72,1],[71,10,73,10],[71,19,73,19],[73,22,73,23],[73,24,73,25],[73,26,73,27],[68,0,70,0],[68,1,69,1],[68,30,70,30],[68,31,70,31],[68,32,70,32],[68,33,70,33],[68,34,70,34],[70,2,70,3],[70,4,70,5],[70,6,70,7],[70,8,70,9],[70,11,70,12],[68,10,70,10],[68,19,70,19],[68,28,70,28],[68,29,70,29],[70,13,70,14],[70,15,70,16],[70,17,70,18],[70,20,70,21],[70,22,70,23],[70,24,70,25],[70,26,70,27],[65,34,67,34],[67,2,67,3],[67,4,67,5],[67,6,67,7],[67,8,67,9],[67,11,67,12],[67,13,67,14],[67,15,67,16],[67,17,67,18],[67,20,67,21],[65,28,67,28],[65,29,67,29],[65,30,67,30],[65,31,67,31],[65,32,67,32],[65,33,67,33],[65,0,67,0],[65,1,66,1],[65,10,67,10],[65,19,67,19],[67,22,67,23],[67,24,67,25],[67,26,67,27],[62,0,64,0],[62,1,63,1],[62,30,64,30],[62,31,64,31],[62,32,64,32],[62,33,64,33],[62,34,64,34],[64,2,64,3],[64,4,64,5],[64,6,64,7],[64,8,64,9],[64,11,64,12],[62,10,64,10],[62,19,64,19],[62,28,64,28],[62,29,64,29],[64,13,64,14],[64,15,64,16],[64,17,64,18],[64,20,64,21],[64,22,64,23],[64,24,64,25],[64,26,64,27],[59,34,61,34],[61,2,61,3],[61,4,61,5],[61,6,61,7],[61,8,61,9],[61,11,61,12],[61,13,61,14],[61,15,61,16],[61,17,61,18],[61,20,61,21],[59,28,61,28],[59,29,61,29],[59,30,61,30],[59,31,61,31],[59,32,61,32],[59,33,61,33],[59,0,61,0],[59,1,60,1],[59,10,61,10],[59,19,61,19],[61,22,61,23],[61,24,61,25],[61,26,61,27],[56,0,58,0],[56,1,57,1],[56,30,58,30],[56,31,58,31],[56,32,58,32],[56,33,58,33],[56,34,58,34],[58,2,58,3],[58,4,58,5],[58,6,58,7],[58,8,58,9],[58,11,58,12],[56,10,58,10],[56,19,58,19],[56,28,58,28],[56,29,58,29],[58,13,58,14],[58,15,58,16],[58,17,58,18],[58,20,58,21],[58,22,58,23],[58,24,58,25],[58,26,58,27],[53,34,55,34],[55,2,55,3],[55,4,55,5],[55,6,55,7],[55,8,55,9],[55,11,55,12],[55,13,55,14],[55,15,55,16],[55,17,55,18],[55,20,55,21],[53,28,55,28],[53,29,55,29],[53,30,55,30],[53,31,55,31],[53,32,55,32],[53,33,55,33],[53,0,55,0],[53,1,54,1],[53,10,55,10],[53,19,55,19],[55,22,55,23],[55,24,55,25],[55,26,55,27],[50,0,52,0],[50,1,51,1],[50,30,52,30],[50,31,52,31],[50,32,52,32],[50,33,52,33],[50,34,52,34],[52,2,52,3],[52,4,52,5],[52,6,52,7],[52,8,52,9],[52,11,52,12],[50,10,52,10],[50,19,52,19],[50,28,52,28],[50,29,52,29],[52,13,52,14],[52,15,52,16],[52,17,52,18],[52,20,52,21],[52,22,52,23],[52,24,52,25],[52,26,52,27],[47,34,49,34],[49,2,49,3],[49,4,49,5],[49,6,49,7],[49,8,49,9],[49,11,49,12],[49,13,49,14],[49,15,49,16],[49,17,49,18],[49,20,49,21],[47,28,49,28],[47,29,49,29],[47,30,49,30],[47,31,49,31],[47,32,49,32],[47,33,49,33],[47,0,49,0],[47,1,48,1],[47,10,49,10],[47,19,49,19],[49,22,49,23],[49,24,49,25],[49,26,49,27],[44,0,46,0],[44,1,45,1],[44,30,46,30],[44,31,46,31],[44,32,46,32],[44,33,46,33],[44,34,46,34],[46,2,46,3],[46,4,46,5],[46,6,46,7],[46,8,46,9],[46,11,46,12],[44,10,46,10],[44,19,46,19],[44,28,46,28],[44,29,46,29],[46,13,46,14],[46,15,46,16],[46,17,46,18],[46,20,46,21],[46,22,46,23],[46,24,46,25],[46,26,46,27],[41,34,43,34],[43,2,43,3],[43,4,43,5],[43,6,43,7],[43,8,43,9],[43,11,43,12],[43,13,43,14],[43,15,43,16],[43,17,43,18],[43,20,43,21],[41,28,43,28],[41,29,43,29],[41,30,43,30],[41,31,43,31],[41,32,43,32],[41,33,43,33],[41,0,43,0],[41,1,42,1],[41,10,43,10],[41,19,43,19],[43,22,43,23],[43,24,43,25],[43,26,43,27],[38,0,40,0],[38,1,39,1],[38,30,40,30],[38,31,40,31],[38,32,40,32],[38,33,40,33],[38,34,40,34],[40,2,40,3],[40,4,40,5],[40,6,40,7],[40,8,40,9],[40,11,40,12],[38,10,40,10],[38,19,40,19],[38,28,40,28],[38,29,40,29],[40,13,40,14],[40,15,40,16],[40,17,40,18],[40,20,40,21],[40,22,40,23],[40,24,40,25],[40,26,40,27],[35,34,37,34],[37,2,37,3],[37,4,37,5],[37,6,37,7],[37,8,37,9],[37,11,37,12],[37,13,37,14],[37,15,37,16],[37,17,37,18],[37,20,37,21],[35,28,37,28],[35,29,37,29],[35,30,37,30],[35,31,37,31],[35,32,37,32],[35,33,37,33],[35,0,37,0],[35,1,36,1],[35,10,37,10],[35,19,37,19],[37,22,37,23],[37,24,37,25],[37,26,37,27],[32,0,34,0],[32,1,33,1],[32,30,34,30],[32,31,34,31],[32,32,34,32],[32,33,34,33],[32,34,34,34],[34,2,34,3],[34,4,34,5],[34,6,34,7],[34,8,34,9],[34,11,34,12],[32,10,34,10],[32,19,34,19],[32,28,34,28],[32,29,34,29],[34,13,34,14],[34,15,34,16],[34,17,34,18],[34,20,34,21],[34,22,34,23],[34,24,34,25],[34,26,34,27],[29,34,31,34],[31,2,31,3],[31,4,31,5],[31,6,31,7],[31,8,31,9],[31,11,31,12],[31,13,31,14],[31,15,31,16],[31,17,31,18],[31,20,31,21],[29,28,31,28],[29,29,31,29],[29,30,31,30],[29,31,31,31],[29,32,31,32],[29,33,31,33],[29,0,31,0],[29,1,30,1],[29,10,31,10],[29,19,31,19],[31,22,31,23],[31,24,31,25],[31,26,31,27],[26,0,28,0],[26,1,27,1],[26,30,28,30],[26,31,28,31],[26,32,28,32],[26,33,28,33],[26,34,28,34],[28,2,28,3],[28,4,28,5],[28,6,28,7],[28,8,28,9],[28,11,28,12],[26,10,28,10],[26,19,28,19],[26,28,28,28],[26,29,28,29],[28,13,28,14],[28,15,28,16],[28,17,28,18],[28,20,28,21],[28,22,28,23],[28,24,28,25],[28,26,28,27],[23,34,25,34],[25,2,25,3],[25,4,25,5],[25,6,25,7],[25,8,25,9],[25,11,25,12],[25,13,25,14],[25,15,25,16],[25,17,25,18],[25,20,25,21],[23,28,25,28],[23,29,25,29],[23,30,25,30],[23,31,25,31],[23,32,25,32],[23,33,25,33],[23,0,25,0],[23,1,24,1],[23,10,25,10],[23,19,25,19],[25,22,25,23],[25,24,25,25],[25,26,25,27],[20,0,22,0],[20,1,21,1],[20,30,22,30],[20,31,22,31],[20,32,22,32],[20,33,22,33],[20,34,22,34],[22,2,22,3],[22,4,22,5],[22,6,22,7],[22,8,22,9],[22,11,22,12],[20,10,22,10],[20,19,22,19],[20,28,22,28],[20,29,22,29],[22,13,22,14],[22,15,22,16],[22,17,22,18],[22,20,22,21],[22,22,22,23],[22,24,22,25],[22,26,22,27],[17,34,19,34],[19,2,19,3],[19,4,19,5],[19,6,19,7],[19,8,19,9],[19,11,19,12],[19,13,19,14],[19,15,19,16],[19,17,19,18],[19,20,19,21],[17,28,19,28],[17,29,19,29],[17,30,19,30],[17,31,19,31],[17,32,19,32],[17,33,19,33],[17,0,19,0],[17,1,18,1],[17,10,19,10],[17,19,19,19],[19,22,19,23],[19,24,19,25],[19,26,19,27],[14,0,16,0],[14,1,15,1],[14,30,16,30],[14,31,16,31],[14,32,16,32],[14,33,16,33],[14,34,16,34],[16,2,16,3],[16,4,16,5],[16,6,16,7],[16,8,16,9],[16,11,16,12],[14,10,16,10],[14,19,16,19],[14,28,16,28],[14,29,16,29],[16,13,16,14],[16,15,16,16],[16,17,16,18],[16,20,16,21],[16,22,16,23],[16,24,16,25],[16,26,16,27],[13,26,13,27],[7,0,10,0],[7,1,10,1],[7,2,7,10],[7,11,7,19],[7,20,7,28],[11,34,13,34],[13,2,13,3],[13,4,13,5],[13,6,13,7],[13,8,13,9],[13,11,13,12],[13,13,13,14],[13,15,13,16],[13,17,13,18],[13,20,13,21],[11,28,13,28],[11,29,13,29],[11,30,13,30],[11,31,13,31],[11,32,13,32],[11,33,13,33],[9,6,10,6],[9,8,10,8],[9,11,10,11],[9,13,10,13],[8,11,8,12],[8,13,8,14],[8,15,8,16],[8,17,8,18],[8,19,10,19],[8,20,8,21],[9,15,10,15],[11,0,13,0],[11,1,12,1],[11,10,13,10],[11,19,13,19],[13,22,13,23],[13,24,13,25],[7,29,9,29],[7,30,9,30],[7,31,9,31],[7,32,9,32],[9,17,10,17],[9,20,10,20],[9,22,10,22],[9,24,10,24],[9,26,10,26],[3,0,3,1],[4,0,4,1],[4,2,4,31]],"merged_total":1658,"flags":["merged_cut"]}
[null,null,null,null,null,null,null,null,null,null,null,null,null,null,null,null,null,null,null,null,null,null,null,null,null,null,null,null,null,null,null,null,null,null,null,null,null,null,null,null,null,4,"غياب"]
[null,null,null,null,null,null,null,null,null,null,null,null,null,null,null,null,null,null,null,null,null,null,null,null,null,null,null,null,null,null,null,null,null,null,null,null,null,null,null,null,null,3,"عزوف عن تطبيق ورقة العمل"]
[null,null,null,null,null,null,null,null,null,null,null,null,null,null,null,null,null,null,null,null,null,null,null,null,null,null,null,null,null,null,null,null,null,null,null,null,null,null,null,null,null,2,"قليل المشاركة في الانشطة الصفية"]
[null,null,null,null,null,null,null,null,null,null,null,null,null,null,null,null,null,null,null,null,null,null,null,null,null,null,null,null,null,null,null,null,null,null,null,null,null,null,null,null,null,1,"يحتاج إلى تعزيز في السلوكيات التربوية"]
[{"$f":"الرئيسية!H12","v":"منطقة حولي التعليمية"},null,"كشــــــف درجات المتعلمين في مادة تكنولوجيا المعلومات والاتصالات",null,null,null,null,null,null,null,null,null,null,null,null,null,null,null,null,null,null,null,null,null,null,null,null,null,null,null,null,null,null,null,null,null,null,null,null,null,null,0,"لا يحضر ادواته ( الكتاب ، .... ) "]
[{"$f":"\"مدرسة \"& الرئيسية!H13","v":"مدرسة "},null,null,null,null,null,null,null,null,null,null,null,null,null,null,null,null,null,null,null,null,null,null,null,null,null,null,null,null,"العام الدراسي:",null,null,{"$f":"الرئيسية!H11","v":"2018-2017"},null,null,null,null,null,null,null,null,null,"أخرى"]
[null,{"$f":"FirstPartDegrees1!B7","v":"اسم المعلم :"},{"$f":"الرئيسية!H14","v":""},null,null,null,null,null,null,null,null,null,null,null,"الصف : ",null,{"$f":"الرئيسية!H15","v":"7-1"},null,null,null,null,null,null,null,null,null,null,null,null,null,{"$f":"FirstPartDegrees1!M7","v":"الفصل الدراسي الأول"}]
["م","اسم المتعلم / المتعلمة","الكفاية العامة (1)",null,null,null,null,null,null,null,null,"الكفاية العامة (2)",null,null,null,null,null,null,null,null,"الكفاية العامة (3)",null,null,null,null,null,null,null,null,"معدل النقاط","درجة التقييم البنائي","درجة المشروع ف1","اختبار نهاية الفصل الأول","مجموع الاختبار الفصل الأول","نهاية الفصل الدراسي الأول"]
[null,null,"كفاية 1.1",null,"كفاية 2.1",null,"كفاية 3.1",null,"كفاية 4.1",null,"المجموع","كفاية 1.2",null,"كفاية 2.2",null,"كفاية 3.2",null,"كفاية 4.2",null,"المجموع","كفاية 1.3",null,"كفاية 2.3",null,"كفاية 3.3",null,"كفاية 4.3",null,"المجموع"]
[null,null,"التاريخ","النقاط","التاريخ","النقاط","التاريخ","النقاط","التاريح","النقاط",null,"التاريخ","النقاط","التاريخ","النقاط","التاريخ","النقاط","التاريح","النقاط",null,"التاريخ","النقاط","التاريخ","النقاط","التاريخ","النقاط","التاريح","النقاط"]
[null,null,null,4,null,4,null,4,null,4,null,null,4,null,4,null,4,null,4,null,null,4,null,4,null,4,null,4,null,12,40,20,40,60,100]
[1,{"$f":"INDIRECT(ADDRESS(A12+1,2,,,\"للطباعة1\"))","v":""},{"$f":"IF($B12=\"\",\"\",للطباعة1!$E$2)","v":""},{"$f":"IF($B12=\"\",\"\",للطباعة1!$D$2)","v":""},{"$f":"IF($B12=\"\",\"\",للطباعة1!$L$2)","v":""},{"$f":"IF($B12=\"\",\"\",للطباعة1!$K$2)","v":""},{"$f":"IF($B12=\"\",\"\",للطباعة1!$S$2)","v":""},{"$f":"IF($B12=\"\",\"\",للطباعة1!$R$2)","v":""},{"$f":"IF($B12=\"\",\"\",للطباعة1!$Z$2)","v":""},{"$f":"IF($B12=\"\",\"\",للطباعة1!$Y$2)","v":""},{"$f":"IF($B12=\"\",\"\",(C14+E14+G14+I14)/4)","v":""},{"$f":"IF($B12=\"\",\"\",للطباعة1!$AH$2)","v":""},{"$f":"IF($B12=\"\",\"\",للطباعة1!$AG$2)","v":""},{"$f":"IF($B12=\"\",\"\",للطباعة1!$AO$2)","v":""},{"$f":"IF($B12=\"\",\"\",للطباعة1!$AN$2)","v":""},{"$f":"IF($B12=\"\",\"\",للطباعة1!$AV$2)","v":""},{"$f":"IF($B12=\"\",\"\",للطباعة1!$AU$2)","v":""},{"$f":"IF($B12=\"\",\"\",للطباعة1!$BC$2)","v":""},{"$f":"IF($B12=\"\",\"\",للطباعة1!$BB$2)","v":""},{"$f":"IF($B12=\"\",\"\",(L14+N14+P14+R14)/4)","v":""},{"$f":"IF($B12=\"\",\"\",للطباعة1!$BK$2)","v":""},{"$f":"IF($B12=\"\",\"\",للطباعة1!$BJ$2)","v":""},{"$f":"IF($B12=\"\",\"\",للطباعة1!$BR$2)","v":""},{"$f":"IF($B12=\"\",\"\",للطباعة1!$BQ$2)","v":""},{"$f":"IF($B12=\"\",\"\",للطباعة1!$BY$2)","v":""},{"$f":"IF($B12=\"\",\"\",للطباعة1!$BX$2)","v":""},{"$f":"IF($B12=\"\",\"\",للطباعة1!$CF$2)","v":""},{"$f":"IF($B12=\"\",\"\",للطباعة1!$CE$2)","v":""},{"$f":"IF($B12=\"\",\"\",(U14+W14+Y14+AA14)/4)","v":""},{"$f":"IF($B12=\"\",\"\",(K12+T12+AC12)*0.04)","v":""},{"$f":"IF($B12=\"\",\"\",IF((AD12*40/12-INT(AD12*40/12))>=0.75,INT(AD12*40/12)+1,IF((AD12*40/12-INT(AD12*40/12))<0.25,INT(AD12*40/12),INT(AD12*40/12)+0.5)))","v":""},{"$f":"IF($B12=\"\",\"\",INDIRECT(ADDRESS(11+A12*2,18,1,,\"SeconedPartDegrees1\")))","v":""},{"$f":"IF($B12=\"\",\"\",INDIRECT(ADDRESS(11+A12*2,19,1,,\"SeconedPartDegrees1\")))","v":""},{"$f":"IF(OR(AF12=\"\",AG12=\"\"),\"\",AF12+AG12)","v":""},{"$f":"IF(OR(AE12=\"\",AG12=\"\"),\"\",AG12+AF12+AE12)","v":""},null,null,{"$f":"ROUNDUP(((FirstPartDegrees1!#REF!+D12)/2+(FirstPartDegrees1!E13+O12)/2+(FirstPartDegrees1!#REF!+M12)/2+(FirstPartDegrees1!C13+F12)/2 )/4,0)","v":{"$error":"#REF!"}},{"$f":"ROUNDUP(((FirstPartDegrees1!#REF!+FirstPartDegrees1!#REF!)/2+(FirstPartDegrees1!F13+J12)/2+(FirstPartDegrees1!#REF!+S12)/2+(FirstPartDegrees1!I13+#REF!)/2 )/4,0)","v":{"$error":"#REF!"}},{"$f":"ROUNDUP(((FirstPartDegrees1!#REF!+FirstPartDegrees1!J13)/2+(FirstPartDegrees1!#REF!+FirstPartDegrees1!#REF!)/2+(FirstPartDegrees1!#REF!+V12)/2+(AB12+#REF!)/2)/4,0)","v":{"$error":"#REF!"}},{"$f":"(AN12+AAE12+AL12)*40/12","v":{"$error":"#REF!"}}]
[null,null,{"$f":"IF($B12=\"\",\"\",للطباعة1!$G$2)","v":""},{"$f":"IF($B12=\"\",\"\",للطباعة1!$F$2)","v":""},{"$f":"IF($B12=\"\",\"\",للطباعة1!$N$2)","v":""},{"$f":"IF($B12=\"\",\"\",للطباعة1!$M$2)","v":""},{"$f":"IF($B12=\"\",\"\",للطباعة1!$U$2)","v":""},{"$f":"IF($B12=\"\",\"\",للطباعة1!$T$2)","v":""},{"$f":"IF($B12=\"\",\"\",للطباعة1!$AB$2)","v":""},{"$f":"IF($B12=\"\",\"\",للطباعة1!$AA$2)","v":""},null,{"$f":"IF($B12=\"\",\"\",للطباعة1!$AJ$2)","v":""},{"$f":"IF($B12=\"\",\"\",للطباعة1!$AI$2)","v":""},{"$f":"IF($B12=\"\",\"\",للطباعة1!$AQ$2)","v":""},{"$f":"IF($B12=\"\",\"\",للطباعة1!$AP$2)","v":""},{"$f":"IF($B12=\"\",\"\",للطباعة1!$AX$2)","v":""},{"$f":"IF($B12=\"\",\"\",للطباعة1!$AW$2)","v":""},{"$f":"IF($B12=\"\",\"\",للطباعة1!$BE$2)","v":""},{"$f":"IF($B12=\"\",\"\",للطباعة1!$BD$2)","v":""},null,{"$f":"IF($B12=\"\",\"\",للطباعة1!$BM$2)","v":""},{"$f":"IF($B12=\"\",\"\",للطباعة1!$BL$2)","v":""},{"$f":"IF($B12=\"\",\"\",للطباعة1!$BT$2)","v":""},{"$f":"IF($B12=\"\",\"\",للطباعة1!$BS$2)","v":""},{"$f":"IF($B12=\"\",\"\",للطباعة1!$CA$2)","v":""},{"$f":"IF($B12=\"\",\"\",للطباعة1!$BZ$2)","v":""},{"$f":"IF($B12=\"\",\"\",للطباعة1!$CH$2)","v":""},{"$f":"IF($B12=\"\",\"\",للطباعة1!$CG$2)","v":""}]
[null,"النقاط",{"$f":"IF($B12=\"\",\"\",(D12+D13)*100/8)","v":""},null,{"$f":"IF($B12=\"\",\"\",(F12+F13)*100/8)","v":""},null,{"$f":"IF($B12=\"\",\"\",(H12+H13)*100/8)","v":""},null,{"$f":"IF($B12=\"\",\"\",(J12+J13)*100/8)","v":""},null,null,{"$f":"IF($B12=\"\",\"\",(M12+M13)*100/8)","v":""},null,{"$f":"IF($B12=\"\",\"\",(O12+O13)*100/8)","v":""},null,{"$f":"IF($B12=\"\",\"\",(Q12+Q13)*100/8)","v":""},null,{"$f":"IF($B12=\"\",\"\",(S12+S13)*100/8)","v":""},null,null,{"$f":"IF($B12=\"\",\"\",(V12+V13)*100/8)","v":""},null,{"$f":"IF($B12=\"\",\"\",(X12+X13)*100/8)","v":""},null,{"$f":"IF($B12=\"\",\"\",(Z12+Z13)*100/8)","v":""},null,{"$f":"IF($B12=\"\",\"\",(AB12+AB13)*100/8)","v":""}]
[2,{"$f":"INDIRECT(ADDRESS(A15+1,2,,,\"للطباعة1\"))","v":""},{"$f":"IF($B15=\"\",\"\",للطباعة1!$E$3)","v":""},{"$f":"IF($B15=\"\",\"\",للطباعة1!$D$3)","v":""},{"$f":"IF($B15=\"\",\"\",للطباعة1!$L$3)","v":""},{"$f":"IF($B15=\"\",\"\",للطباعة1!$K$3)","v":""},{"$f":"IF($B15=\"\",\"\",للطباعة1!$S$3)","v":""},{"$f":"IF($B15=\"\",\"\",للطباعة1!$R$3)","v":""},{"$f":"IF($B15=\"\",\"\",للطباعة1!$Z$3)","v":""},{"$f":"IF($B15=\"\",\"\",للطباعة1!$Y$3)","v":""},{"$f":"IF($B15=\"\",\"\",(C17+E17+G17+I17)/4)","v":""},{"$f":"IF($B15=\"\",\"\",للطباعة1!$AH$3)","v":""},{"$f":"IF($B15=\"\",\"\",للطباعة1!$AG$3)","v":""},{"$f":"IF($B15=\"\",\"\",للطباعة1!$AO$3)","v":""},{"$f":"IF($B15=\"\",\"\",للطباعة1!$AN$3)","v":""},{"$f":"IF($B15=\"\",\"\",للطباعة1!$AV$3)","v":""},{"$f":"IF($B15=\"\",\"\",للطباعة1!$AU$3)","v":""},{"$f":"IF($B15=\"\",\"\",للطباعة1!$BC$3)","v":""},{"$f":"IF($B15=\"\",\"\",للطباعة1!$BB$3)","v":""},{"$f":"IF($B15=\"\",\"\",(L17+N17+P17+R17)/4)","v":""},{"$f":"IF($B15=\"\",\"\",للطباعة1!$BK$3)","v":""},{"$f":"IF($B15=\"\",\"\",للطباعة1!$BJ$3)","v":""},{"$f":"IF($B15=\"\",\"\",للطباعة1!$BR$3)","v":""},{"$f":"IF($B15=\"\",\"\",للطباعة1!$BQ$3)","v":""},{"$f":"IF($B15=\"\",\"\",للطباعة1!$BY$3)","v":""},{"$f":"IF($B15=\"\",\"\",للطباعة1!$BX$3)","v":""},{"$f":"IF($B15=\"\",\"\",للطباعة1!$CF$3)","v":""},{"$f":"IF($B15=\"\",\"\",للطباعة1!$CE$3)","v":""},{"$f":"IF($B15=\"\",\"\",(U17+W17+Y17+AA17)/4)","v":""},{"$f":"IF($B15=\"\",\"\",(K15+T15+AC15)*0.04)","v":""},{"$f":"IF($B15=\"\",\"\",IF((AD15*40/12-INT(AD15*40/12))>=0.75,INT(AD15*40/12)+1,IF((AD15*40/12-INT(AD15*40/12))<0.25,INT(AD15*40/12),INT(AD15*40/12)+0.5)))","v":""},{"$f":"IF($B15=\"\",\"\",INDIRECT(ADDRESS(11+A15*2,18,1,,\"SeconedPartDegrees1\")))","v":""},{"$f":"IF($B15=\"\",\"\",INDIRECT(ADDRESS(11+A15*2,19,1,,\"SeconedPartDegrees1\")))","v":""},{"$f":"IF(OR(AF15=\"\",AG15=\"\"),\"\",AF15+AG15)","v":""},{"$f":"IF(OR(AE15=\"\",AG15=\"\"),\"\",AG15+AF15+AE15)","v":""},null,null,{"$f":"ROUNDUP(((FirstPartDegrees1!#REF!+D15)/2+(FirstPartDegrees1!E15+O15)/2+(FirstPartDegrees1!#REF!+M15)/2+(FirstPartDegrees1!C15+F15)/2 )/4,0)","v":{"$error":"#REF!"}},{"$f":"ROUNDUP(((FirstPartDegrees1!#REF!+FirstPartDegrees1!#REF!)/2+(FirstPartDegrees1!F15+J15)/2+(FirstPartDegrees1!#REF!+S15)/2+(FirstPartDegrees1!I15+#REF!)/2 )/4,0)","v":{"$error":"#REF!"}},{"$f":"ROUNDUP(((FirstPartDegrees1!#REF!+FirstPartDegrees1!J15)/2+(FirstPartDegrees1!#REF!+FirstPartDegrees1!#REF!)/2+(FirstPartDegrees1!#REF!+V15)/2+(AB15+#REF!)/2)/4,0)","v":{"$error":"#REF!"}},{"$f":"(AN15+AAE15+AL15)*40/12","v":{"$error":"#REF!"}}]
[null,null,{"$f":"IF($B15=\"\",\"\",للطباعة1!$G$3)","v":""},{"$f":"IF($B15=\"\",\"\",للطباعة1!$F$3)","v":""},{"$f":"IF($B15=\"\",\"\",للطباعة1!$N$3)","v":""},{"$f":"IF($B15=\"\",\"\",للطباعة1!$M$3)","v":""},{"$f":"IF($B15=\"\",\"\",للطباعة1!$U$3)","v":""},{"$f":"IF($B15=\"\",\"\",للطباعة1!$T$3)","v":""},{"$f":"IF($B15=\"\",\"\",للطباعة1!$AB$3)","v":""},{"$f":"IF($B15=\"\",\"\",للطباعة1!$AA$3)","v":""},null,{"$f":"IF($B15=\"\",\"\",للطباعة1!$AJ$3)","v":""},{"$f":"IF($B15=\"\",\"\",للطباعة1!$AI$3)","v":""},{"$f":"IF($B15=\"\",\"\",للطباعة1!$AQ$3)","v":""},{"$f":"IF($B15=\"\",\"\",للطباعة1!$AP$3)","v":""},{"$f":"IF($B15=\"\",\"\",للطباعة1!$AX$3)","v":""},{"$f":"IF($B15=\"\",\"\",للطباعة1!$AW$3)","v":""},{"$f":"IF($B15=\"\",\"\",للطباعة1!$BE$3)","v":""},{"$f":"IF($B15=\"\",\"\",للطباعة1!$BD$3)","v":""},null,{"$f":"IF($B15=\"\",\"\",للطباعة1!$BM$3)","v":""},{"$f":"IF($B15=\"\",\"\",للطباعة1!$BL$3)","v":""},{"$f":"IF($B15=\"\",\"\",للطباعة1!$BT$3)","v":""},{"$f":"IF($B15=\"\",\"\",للطباعة1!$BS$3)","v":""},{"$f":"IF($B15=\"\",\"\",للطباعة1!$CA$3)","v":""},{"$f":"IF($B15=\"\",\"\",للطباعة1!$BZ$3)","v":""},{"$f":"IF($B15=\"\",\"\",للطباعة1!$CH$3)","v":""},{"$f":"IF($B15=\"\",\"\",للطباعة1!$CG$3)","v":""}]
[null,"النقاط",{"$f":"IF($B15=\"\",\"\",(D15+D16)*100/8)","v":""},null,{"$f":"IF($B15=\"\",\"\",(F15+F16)*100/8)","v":""},null,{"$f":"IF($B15=\"\",\"\",(H15+H16)*100/8)","v":""},null,{"$f":"IF($B15=\"\",\"\",(J15+J16)*100/8)","v":""},null,null,{"$f":"IF($B15=\"\",\"\",(M15+M16)*100/8)","v":""},null,{"$f":"IF($B15=\"\",\"\",(O15+O16)*100/8)","v":""},null,{"$f":"IF($B15=\"\",\"\",(Q15+Q16)*100/8)","v":""},null,{"$f":"IF($B15=\"\",\"\",(S15+S16)*100/8)","v":""},null,null,{"$f":"IF($B15=\"\",\"\",(V15+V16)*100/8)","v":""},null,{"$f":"IF($B15=\"\",\"\",(X15+X16)*100/8)","v":""},null,{"$f":"IF($B15=\"\",\"\",(Z15+Z16)*100/8)","v":""},null,{"$f":"IF($B15=\"\",\"\",(AB15+AB16)*100/8)","v":""}]
[3,{"$f":"INDIRECT(ADDRESS(A18+1,2,,,\"للطباعة1\"))","v":""},{"$f":"IF($B18=\"\",\"\",للطباعة1!$E$4)","v":""},{"$f":"IF($B18=\"\",\"\",للطباعة1!$D$4)","v":""},{"$f":"IF($B18=\"\",\"\",للطباعة1!$L$4)","v":""},{"$f":"IF($B18=\"\",\"\",للطباعة1!$K$4)","v":""},{"$f":"IF($B18=\"\",\"\",للطباعة1!$S$4)","v":""},{"$f":"IF($B18=\"\",\"\",للطباعة1!$R$4)","v":""},{"$f":"IF($B18=\"\",\"\",للطباعة1!$Z$4)","v":""},{"$f":"IF($B18=\"\",\"\",للطباعة1!$Y$4)","v":""},{"$f":"IF($B18=\"\",\"\",(C20+E20+G20+I20)/4)","v":""},{"$f":"IF($B18=\"\",\"\",للطباعة1!$AH$4)","v":""},{"$f":"IF($B18=\"\",\"\",للطباعة1!$AG$4)","v":""},{"$f":"IF($B18=\"\",\"\",للطباعة1!$AO$4)","v":""},{"$f":"IF($B18=\"\",\"\",للطباعة1!$AN$4)","v":""},{"$f":"IF($B18=\"\",\"\",للطباعة1!$AV$4)","v":""},{"$f":"IF($B18=\"\",\"\",للطباعة1!$AU$4)","v":""},{"$f":"IF($B18=\"\",\"\",للطباعة1!$BC$4)","v":""},{"$f":"IF($B18=\"\",\"\",للطباعة1!$BB$4)","v":""},{"$f":"IF($B18=\"\",\"\",(L20+N20+P20+R20)/4)","v":""},{"$f":"IF($B18=\"\",\"\",للطباعة1!$BK$4)","v":""},{"$f":"IF($B18=\"\",\"\",للطباعة1!$BJ$4)","v":""},{"$f":"IF($B18=\"\",\"\",للطباعة1!$BR$4)","v":""},{"$f":"IF($B18=\"\",\"\",للطباعة1!$BQ$4)","v":""},{"$f":"IF($B18=\"\",\"\",للطباعة1!$BY$4)","v":""},{"$f":"IF($B18=\"\",\"\",للطباعة1!$BX$4)","v":""},{"$f":"IF($B18=\"\",\"\",للطباعة1!$CF$4)","v":""},{"$f":"IF($B18=\"\",\"\",للطباعة1!$CE$4)","v":""},{"$f":"IF($B18=\"\",\"\",(U20+W20+Y20+AA20)/4)","v":""},{"$f":"IF($B18=\"\",\"\",(K18+T18+AC18)*0.04)","v":""},{"$f":"IF($B18=\"\",\"\",IF((AD18*40/12-INT(AD18*40/12))>=0.75,INT(AD18*40/12)+1,IF((AD18*40/12-INT(AD18*40/12))<0.25,INT(AD18*40/12),INT(AD18*40/12)+0.5)))","v":""},{"$f":"IF($B18=\"\",\"\",INDIRECT(ADDRESS(11+A18*2,18,1,,\"SeconedPartDegrees1\")))","v":""},{"$f":"IF($B18=\"\",\"\",INDIRECT(ADDRESS(11+A18*2,19,1,,\"SeconedPartDegrees1\")))","v":""},{"$f":"IF(OR(AF18=\"\",AG18=\"\"),\"\",AF18+AG18)","v":""},{"$f":"IF(OR(AE18=\"\",AG18=\"\"),\"\",AG18+AF18+AE18)","v":""},null,null,{"$f":"ROUNDUP(((FirstPartDegrees1!#REF!+D18)/2+(FirstPartDegrees1!E18+O18)/2+(FirstPartDegrees1!#REF!+M18)/2+(FirstPartDegrees1!C18+F18)/2 )/4,0)","v":{"$error":"#REF!"}},{"$f":"ROUNDUP(((FirstPartDegrees1!#REF!+FirstPartDegrees1!#REF!)/2+(FirstPartDegrees1!F18+J18)/2+(FirstPartDegrees1!#REF!+S18)/2+(FirstPartDegrees1!I18+#REF!)/2 )/4,0)","v":{"$error":"#REF!"}},{"$f":"ROUNDUP(((FirstPartDegrees1!#REF!+FirstPartDegrees1!J18)/2+(FirstPartDegrees1!#REF!+FirstPartDegrees1!#REF!)/2+(FirstPartDegrees1!#REF!+V18)/2+(AB18+#REF!)/2)/4,0)","v":{"$error":"#REF!"}},{"$f":"(AN18+AAE18+AL18)*40/12","v":{"$error":"#REF!"}}]
[null,null,{"$f":"IF($B18=\"\",\"\",للطباعة1!$G$4)","v":""},{"$f":"IF($B18=\"\",\"\",للطباعة1!$F$4)","v":""},{"$f":"IF($B18=\"\",\"\",للطباعة1!$N$4)","v":""},{"$f":"IF($B18=\"\",\"\",للطباعة1!$M$4)","v":""},{"$f":"IF($B18=\"\",\"\",للطباعة1!$U$4)","v":""},{"$f":"IF($B18=\"\",\"\",للطباعة1!$T$4)","v":""},{"$f":"IF($B18=\"\",\"\",للطباعة1!$AB$4)","v":""},{"$f":"IF($B18=\"\",\"\",للطباعة1!$AA$4)","v":""},null,{"$f":"IF($B18=\"\",\"\",للطباعة1!$AJ$4)","v":""},{"$f":"IF($B18=\"\",\"\",للطباعة1!$AI$4)","v":""},{"$f":"IF($B18=\"\",\"\",للطباعة1!$AQ$4)","v":""},{"$f":"IF($B18=\"\",\"\",للطباعة1!$AP$4)","v":""},{"$f":"IF($B18=\"\",\"\",للطباعة1!$AX$4)","v":""},{"$f":"IF($B18=\"\",\"\",للطباعة1!$AW$4)","v":""},{"$f":"IF($B18=\"\",\"\",للطباعة1!$BE$4)","v":""},{"$f":"IF($B18=\"\",\"\",للطباعة1!$BD$4)","v":""},null,{"$f":"IF($B18=\"\",\"\",للطباعة1!$BM$4)","v":""},{"$f":"IF($B18=\"\",\"\",للطباعة1!$BL$4)","v":""},{"$f":"IF($B18=\"\",\"\",للطباعة1!$BT$4)","v":""},{"$f":"IF($B18=\"\",\"\",للطباعة1!$BS$4)","v":""},{"$f":"IF($B18=\"\",\"\",للطباعة1!$CA$4)","v":""},{"$f":"IF($B18=\"\",\"\",للطباعة1!$BZ$4)","v":""},{"$f":"IF($B18=\"\",\"\",للطباعة1!$CH$4)","v":""},{"$f":"IF($B18=\"\",\"\",للطباعة1!$CG$4)","v":""}]
[null,"النقاط",{"$f":"IF($B18=\"\",\"\",(D18+D19)*100/8)","v":""},null,{"$f":"IF($B18=\"\",\"\",(F18+F19)*100/8)","v":""},null,{"$f":"IF($B18=\"\",\"\",(H18+H19)*100/8)","v":""},null,{"$f":"IF($B18=\"\",\"\",(J18+J19)*100/8)","v":""},null,null,{"$f":"IF($B18=\"\",\"\",(M18+M19)*100/8)","v":""},null,{"$f":"IF($B18=\"\",\"\",(O18+O19)*100/8)","v":""},null,{"$f":"IF($B18=\"\",\"\",(Q18+Q19)*100/8)","v":""},null,{"$f":"IF($B18=\"\",\"\",(S18+S19)*100/8)","v":""},null,null,{"$f":"IF($B18=\"\",\"\",(V18+V19)*100/8)","v":""},null,{"$f":"IF($B18=\"\",\"\",(X18+X19)*100/8)","v":""},null,{"$f":"IF($B18=\"\",\"\",(Z18+Z19)*100/8)","v":""},null,{"$f":"IF($B18=\"\",\"\",(AB18+AB19)*100/8)","v":""}]
[4,{"$f":"INDIRECT(ADDRESS(A21+1,2,,,\"للطباعة1\"))","v":""},{"$f":"IF($B21=\"\",\"\",للطباعة1!$E$5)","v":""},{"$f":"IF($B21=\"\",\"\",للطباعة1!$D$5)","v":""},{"$f":"IF($B21=\"\",\"\",للطباعة1!$L$5)","v":""},{"$f":"IF($B21=\"\",\"\",للطباعة1!$K$5)","v":""},{"$f":"IF($B21=\"\",\"\",للطباعة1!$S$5)","v":""},{"$f":"IF($B21=\"\",\"\",للطباعة1!$R$5)","v":""},{"$f":"IF($B21=\"\",\"\",للطباعة1!$Z$5)","v":""},{"$f":"IF($B21=\"\",\"\",للطباعة1!$Y$5)","v":""},{"$f":"IF($B21=\"\",\"\",(C23+E23+G23+I23)/4)","v":""},{"$f":"IF($B21=\"\",\"\",للطباعة1!$AH$5)","v":""},{"$f":"IF($B21=\"\",\"\",للطباعة1!$AG$5)","v":""},{"$f":"IF($B21=\"\",\"\",للطباعة1!$AO$5)","v":""},{"$f":"IF($B21=\"\",\"\",للطباعة1!$AN$5)","v":""},{"$f":"IF($B21=\"\",\"\",للطباعة1!$AV$5)","v":""},{"$f":"IF($B21=\"\",\"\",للطباعة1!$AU$5)","v":""},{"$f":"IF($B21=\"\",\"\",للطباعة1!$BC$5)","v":""},{"$f":"IF($B21=\"\",\"\",للطباعة1!$BB$5)","v":""},{"$f":"IF($B21=\"\",\"\",(L23+N23+P23+R23)/4)","v":""},{"$f":"IF($B21=\"\",\"\",للطباعة1!$BK$5)","v":""},{"$f":"IF($B21=\"\",\"\",للطباعة1!$BJ$5)","v":""},{"$f":"IF($B21=\"\",\"\",للطباعة1!$BR$5)","v":""},{"$f":"IF($B21=\"\",\"\",للطباعة1!$BQ$5)","v":""},{"$f":"IF($B21=\"\",\"\",للطباعة1!$BY$5)","v":""},{"$f":"IF($B21=\"\",\"\",للطباعة1!$BX$5)","v":""},{"$f":"IF($B21=\"\",\"\",للطباعة1!$CF$5)","v":""},{"$f":"IF($B21=\"\",\"\",للطباعة1!$CE$5)","v":""},{"$f":"IF($B21=\"\",\"\",(U23+W23+Y23+AA23)/4)","v":""},{"$f":"IF($B21=\"\",\"\",(K21+T21+AC21)*0.04)","v":""},{"$f":"IF($B21=\"\",\"\",IF((AD21*40/12-INT(AD21*40/12))>=0.75,INT(AD21*40/12)+1,IF((AD21*40/12-INT(AD21*40/12))<0.25,INT(AD21*40/12),INT(AD21*40/12)+0.5)))","v":""},{"$f":"IF($B21=\"\",\"\",INDIRECT(ADDRESS(11+A21*2,18,1,,\"SeconedPartDegrees1\")))","v":""},{"$f":"IF($B21=\"\",\"\",INDIRECT(ADDRESS(11+A21*2,19,1,,\"SeconedPartDegrees1\")))","v":""},{"$f":"IF(OR(AF21=\"\",AG21=\"\"),\"\",AF21+AG21)","v":""},{"$f":"IF(OR(AE21=\"\",AG21=\"\"),\"\",AG21+AF21+AE21)","v":""},null,null,{"$f":"ROUNDUP(((FirstPartDegrees1!#REF!+D21)/2+(FirstPartDegrees1!E21+O21)/2+(FirstPartDegrees1!#REF!+M21)/2+(FirstPartDegrees1!C21+F21)/2 )/4,0)","v":{"$error":"#REF!"}},{"$f":"ROUNDUP(((FirstPartDegrees1!#REF!+FirstPartDegrees1!#REF!)/2+(FirstPartDegrees1!F21+J21)/2+(FirstPartDegrees1!#REF!+S21)/2+(FirstPartDegrees1!I21+#REF!)/2 )/4,0)","v":{"$error":"#REF!"}},{"$f":"ROUNDUP(((FirstPartDegrees1!#REF!+FirstPartDegrees1!J21)/2+(FirstPartDegrees1!#REF!+FirstPartDegrees1!#REF!)/2+(FirstPartDegrees1!#REF!+V21)/2+(AB21+#REF!)/2)/4,0)","v":{"$error":"#REF!"}},{"$f":"(AN21+AAE21+AL21)*40/12","v":{"$error":"#REF!"}}]
[null,null,{"$f":"IF($B21=\"\",\"\",للطباعة1!$G$5)","v":""},{"$f":"IF($B21=\"\",\"\",للطباعة1!$F$5)","v":""},{"$f":"IF($B21=\"\",\"\",للطباعة1!$N$5)","v":""},{"$f":"IF($B21=\"\",\"\",للطباعة1!$M$5)","v":""},{"$f":"IF($B21=\"\",\"\",للطباعة1!$U$5)","v":""},{"$f":"IF($B21=\"\",\"\",للطباعة1!$T$5)","v":""},{"$f":"IF($B21=\"\",\"\",للطباعة1!$AB$5)","v":""},{"$f":"IF($B21=\"\",\"\",للطباعة1!$AA$5)","v":""},null,{"$f":"IF($B21=\"\",\"\",للطباعة1!$AJ$5)","v":""},{"$f":"IF($B21=\"\",\"\",للطباعة1!$AI$5)","v":""},{"$f":"IF($B21=\"\",\"\",للطباعة1!$AQ$5)","v":""},{"$f":"IF($B21=\"\",\"\",للطباعة1!$AP$5)","v":""},{"$f":"IF($B21=\"\",\"\",للطباعة1!$AX$5)","v":""},{"$f":"IF($B21=\"\",\"\",للطباعة1!$AW$5)","v":""},{"$f":"IF($B21=\"\",\"\",للطباعة1!$BE$5)","v":""},{"$f":"IF($B21=\"\",\"\",للطباعة1!$BD$5)","v":""},null,{"$f":"IF($B21=\"\",\"\",للطباعة1!$BM$5)","v":""},{"$f":"IF($B21=\"\",\"\",للطباعة1!$BL$5)","v":""},{"$f":"IF($B21=\"\",\"\",للطباعة1!$BT$5)","v":""},{"$f":"IF($B21=\"\",\"\",للطباعة1!$BS$5)","v":""},{"$f":"IF($B21=\"\",\"\",للطباعة1!$CA$5)","v":""},{"$f":"IF($B21=\"\",\"\",للطباعة1!$BZ$5)","v":""},{"$f":"IF($B21=\"\",\"\",للطباعة1!$CH$5)","v":""},{"$f":"IF($B21=\"\",\"\",للطباعة1!$CG$5)","v":""}]
[null,"النقاط",{"$f":"IF($B21=\"\",\"\",(D21+D22)*100/8)","v":""},null,{"$f":"IF($B21=\"\",\"\",(F21+F22)*100/8)","v":""},null,{"$f":"IF($B21=\"\",\"\",(H21+H22)*100/8)","v":""},null,{"$f":"IF($B21=\"\",\"\",(J21+J22)*100/8)","v":""},null,null,{"$f":"IF($B21=\"\",\"\",(M21+M22)*100/8)","v":""},null,{"$f":"IF($B21=\"\",\"\",(O21+O22)*100/8)","v":""},null,{"$f":"IF($B21=\"\",\"\",(Q21+Q22)*100/8)","v":""},null,{"$f":"IF($B21=\"\",\"\",(S21+S22)*100/8)","v":""},null,null,{"$f":"IF($B21=\"\",\"\",(V21+V22)*100/8)","v":""},null,{"$f":"IF($B21=\"\",\"\",(X21+X22)*100/8)","v":""},null,{"$f":"IF($B21=\"\",\"\",(Z21+Z22)*100/8)","v":""},null,{"$f":"IF($B21=\"\",\"\",(AB21+AB22)*100/8)","v":""}]
[5,{"$f":"INDIRECT(ADDRESS(A24+1,2,,,\"للطباعة1\"))","v":""},{"$f":"IF($B24=\"\",\"\",للطباعة1!$E$6)","v":""},{"$f":"IF($B24=\"\",\"\",للطباعة1!$D$6)","v":""},{"$f":"IF($B24=\"\",\"\",للطباعة1!$L$6)","v":""},{"$f":"IF($B24=\"\",\"\",للطباعة1!$K$6)","v":""},{"$f":"IF($B24=\"\",\"\",للطباعة1!$S$6)","v":""},{"$f":"IF($B24=\"\",\"\",للطباعة1!$R$6)","v":""},{"$f":"IF($B24=\"\",\"\",للطباعة1!$Z$6)","v":""},{"$f":"IF($B24=\"\",\"\",للطباعة1!$Y$6)","v":""},{"$f":"IF($B24=\"\",\"\",(C26+E26+G26+I26)/4)","v":""},{"$f":"IF($B24=\"\",\"\",للطباعة1!$AH$6)","v":""},{"$f":"IF($B24=\"\",\"\",للطباعة1!$AG$6)","v":""},{"$f":"IF($B24=\"\",\"\",للطباعة1!$AO$6)","v":""},{"$f":"IF($B24=\"\",\"\",للطباعة1!$AN$6)","v":""},{"$f":"IF($B24=\"\",\"\",للطباعة1!$AV$6)","v":""},{"$f":"IF($B24=\"\",\"\",للطباعة1!$AU$6)","v":""},{"$f":"IF($B24=\"\",\"\",للطباعة1!$BC$6)","v":""},{"$f":"IF($B24=\"\",\"\",للطباعة1!$BB$6)","v":""},{"$f":"IF($B24=\"\",\"\",(L26+N26+P26+R26)/4)","v":""},{"$f":"IF($B24=\"\",\"\",للطباعة1!$BK$6)","v":""},{"$f":"IF($B24=\"\",\"\",للطباعة1!$BJ$6)","v":""},{"$f":"IF($B24=\"\",\"\",للطباعة1!$BR$6)","v":""},{"$f":"IF($B24=\"\",\"\",للطباعة1!$BQ$6)","v":""},{"$f":"IF($B24=\"\",\"\",للطباعة1!$BY$6)","v":""},{"$f":"IF($B24=\"\",\"\",للطباعة1!$BX$6)","v":""},{"$f":"IF($B24=\"\",\"\",للطباعة1!$CF$6)","v":""},{"$f":"IF($B24=\"\",\"\",للطباعة1!$CE$6)","v":""},{"$f":"IF($B24=\"\",\"\",(U26+W26+Y26+AA26)/4)","v":""},{"$f":"IF($B24=\"\",\"\",(K24+T24+AC24)*0.04)","v":""},{"$f":"IF($B24=\"\",\"\",IF((AD24*40/12-INT(AD24*40/12))>=0.75,INT(AD24*40/12)+1,IF((AD24*40/12-INT(AD24*40/12))<0.25,INT(AD24*40/12),INT(AD24*40/12)+0.5)))","v":""},{"$f":"IF($B24=\"\",\"\",INDIRECT(ADDRESS(11+A24*2,18,1,,\"SeconedPartDegrees1\")))","v":""},{"$f":"IF($B24=\"\",\"\",INDIRECT(ADDRESS(11+A24*2,19,1,,\"SeconedPartDegrees1\")))","v":""},{"$f":"IF(OR(AF24=\"\",AG24=\"\"),\"\",AF24+AG24)","v":""},{"$f":"IF(OR(AE24=\"\",AG24=\"\"),\"\",AG24+AF24+AE24)","v":""},null,null,{"$f":"ROUNDUP(((FirstPartDegrees1!#REF!+D24)/2+(FirstPartDegrees1!E24+O24)/2+(FirstPartDegrees1!#REF!+M24)/2+(FirstPartDegrees1!C24+F24)/2 )/4,0)","v":{"$error":"#REF!"}},{"$f":"ROUNDUP(((FirstPartDegrees1!#REF!+FirstPartDegrees1!#REF!)/2+(FirstPartDegrees1!F24+J24)/2+(FirstPartDegrees1!#REF!+S24)/2+(FirstPartDegrees1!I24+#REF!)/2 )/4,0)","v":{"$error":"#REF!"}},{"$f":"ROUNDUP(((FirstPartDegrees1!#REF!+FirstPartDegrees1!J24)/2+(FirstPartDegrees1!#REF!+FirstPartDegrees1!#REF!)/2+(FirstPartDegrees1!#REF!+V24)/2+(AB24+#REF!)/2)/4,0)","v":{"$error":"#REF!"}},{"$f":"(AN24+AAE24+AL24)*40/12","v":{"$error":"#REF!"}}]
[null,null,{"$f":"IF($B24=\"\",\"\",للطباعة1!$G$6)","v":""},{"$f":"IF($B24=\"\",\"\",للطباعة1!$F$6)","v":""},{"$f":"IF($B24=\"\",\"\",للطباعة1!$N$6)","v":""},{"$f":"IF($B24=\"\",\"\",للطباعة1!$M$6)","v":""},{"$f":"IF($B24=\"\",\"\",للطباعة1!$U$6)","v":""},{"$f":"IF($B24=\"\",\"\",للطباعة1!$T$6)","v":""},{"$f":"IF($B24=\"\",\"\",للطباعة1!$AB$6)","v":""},{"$f":"IF($B24=\"\",\"\",للطباعة1!$AA$6)","v":""},null,{"$f":"IF($B24=\"\",\"\",للطباعة1!$AJ$6)","v":""},{"$f":"IF($B24=\"\",\"\",للطباعة1!$AI$6)","v":""},{"$f":"IF($B24=\"\",\"\",للطباعة1!$AQ$6)","v":""},{"$f":"IF($B24=\"\",\"\",للطباعة1!$AP$6)","v":""},{"$f":"IF($B24=\"\",\"\",للطباعة1!$AX$6)","v":""},{"$f":"IF($B24=\"\",\"\",للطباعة1!$AW$6)","v":""},{"$f":"IF($B24=\"\",\"\",للطباعة1!$BE$6)","v":""},{"$f":"IF($B24=\"\",\"\",للطباعة1!$BD$6)","v":""},null,{"$f":"IF($B24=\"\",\"\",للطباعة1!$BM$6)","v":""},{"$f":"IF($B24=\"\",\"\",للطباعة1!$BL$6)","v":""},{"$f":"IF($B24=\"\",\"\",للطباعة1!$BT$6)","v":""},{"$f":"IF($B24=\"\",\"\",للطباعة1!$BS$6)","v":""},{"$f":"IF($B24=\"\",\"\",للطباعة1!$CA$6)","v":""},{"$f":"IF($B24=\"\",\"\",للطباعة1!$BZ$6)","v":""},{"$f":"IF($B24=\"\",\"\",للطباعة1!$CH$6)","v":""},{"$f":"IF($B24=\"\",\"\",للطباعة1!$CG$6)","v":""}]
[null,"النقاط",{"$f":"IF($B24=\"\",\"\",(D24+D25)*100/8)","v":""},null,{"$f":"IF($B24=\"\",\"\",(F24+F25)*100/8)","v":""},null,{"$f":"IF($B24=\"\",\"\",(H24+H25)*100/8)","v":""},null,{"$f":"IF($B24=\"\",\"\",(J24+J25)*100/8)","v":""},null,null,{"$f":"IF($B24=\"\",\"\",(M24+M25)*100/8)","v":""},null,{"$f":"IF($B24=\"\",\"\",(O24+O25)*100/8)","v":""},null,{"$f":"IF($B24=\"\",\"\",(Q24+Q25)*100/8)","v":""},null,{"$f":"IF($B24=\"\",\"\",(S24+S25)*100/8)","v":""},null,null,{"$f":"IF($B24=\"\",\"\",(V24+V25)*100/8)","v":""},null,{"$f":"IF($B24=\"\",\"\",(X24+X25)*100/8)","v":""},null,{"$f":"IF($B24=\"\",\"\",(Z24+Z25)*100/8)","v":""},null,{"$f":"IF($B24=\"\",\"\",(AB24+AB25)*100/8)","v":""}]
[6,{"$f":"INDIRECT(ADDRESS(A27+1,2,,,\"للطباعة1\"))","v":""},{"$f":"IF($B27=\"\",\"\",للطباعة1!$E$7)","v":""},{"$f":"IF($B27=\"\",\"\",للطباعة1!$D$7)","v":""},{"$f":"IF($B27=\"\",\"\",للطباعة1!$L$7)","v":""},{"$f":"IF($B27=\"\",\"\",للطباعة1!$K$7)","v":""},{"$f":"IF($B27=\"\",\"\",للطباعة1!$S$7)","v":""},{"$f":"IF($B27=\"\",\"\",للطباعة1!$R$7)","v":""},{"$f":"IF($B27=\"\",\"\",للطباعة1!$Z$7)","v":""},{"$f":"IF($B27=\"\",\"\",للطباعة1!$Y$7)","v":""},{"$f":"IF($B27=\"\",\"\",(C29+E29+G29+I29)/4)","v":""},{"$f":"IF($B27=\"\",\"\",للطباعة1!$AH$7)","v":""},{"$f":"IF($B27=\"\",\"\",للطباعة1!$AG$7)","v":""},{"$f":"IF($B27=\"\",\"\",للطباعة1!$AO$7)","v":""},{"$f":"IF($B27=\"\",\"\",للطباعة1!$AN$7)","v":""},{"$f":"IF($B27=\"\",\"\",للطباعة1!$AV$7)","v":""},{"$f":"IF($B27=\"\",\"\",للطباعة1!$AU$7)","v":""},{"$f":"IF($B27=\"\",\"\",للطباعة1!$BC$7)","v":""},{"$f":"IF($B27=\"\",\"\",للطباعة1!$BB$7)","v":""},{"$f":"IF($B27=\"\",\"\",(L29+N29+P29+R29)/4)","v":""},{"$f":"IF($B27=\"\",\"\",للطباعة1!$BK$7)","v":""},{"$f":"IF($B27=\"\",\"\",للطباعة1!$BJ$7)","v":""},{"$f":"IF($B27=\"\",\"\",للطباعة1!$BR$7)","v":""},{"$f":"IF($B27=\"\",\"\",للطباعة1!$BQ$7)","v":""},{"$f":"IF($B27=\"\",\"\",للطباعة1!$BY$7)","v":""},{"$f":"IF($B27=\"\",\"\",للطباعة1!$BX$7)","v":""},{"$f":"IF($B27=\"\",\"\",للطباعة1!$CF$7)","v":""},{"$f":"IF($B27=\"\",\"\",للطباعة1!$CE$7)","v":""},{"$f":"IF($B27=\"\",\"\",(U29+W29+Y29+AA29)/4)","v":""},{"$f":"IF($B27=\"\",\"\",(K27+T27+AC27)*0.04)","v":""},{"$f":"IF($B27=\"\",\"\",IF((AD27*40/12-INT(AD27*40/12))>=0.75,INT(AD27*40/12)+1,IF((AD27*40/12-INT(AD27*40/12))<0.25,INT(AD27*40/12),INT(AD27*40/12)+0.5)))","v":""},{"$f":"IF($B27=\"\",\"\",INDIRECT(ADDRESS(11+A27*2,18,1,,\"SeconedPartDegrees1\")))","v":""},{"$f":"IF($B27=\"\",\"\",INDIRECT(ADDRESS(11+A27*2,19,1,,\"SeconedPartDegrees1\")))","v":""},{"$f":"IF(OR(AF27=\"\",AG27=\"\"),\"\",AF27+AG27)","v":""},{"$f":"IF(OR(AE27=\"\",AG27=\"\"),\"\",AG27+AF27+AE27)","v":""},null,null,{"$f":"ROUNDUP(((FirstPartDegrees1!#REF!+D27)/2+(FirstPartDegrees1!E27+O27)/2+(FirstPartDegrees1!#REF!+M27)/2+(FirstPartDegrees1!C27+F27)/2 )/4,0)","v":{"$error":"#REF!"}},{"$f":"ROUNDUP(((FirstPartDegrees1!#REF!+FirstPartDegrees1!#REF!)/2+(FirstPartDegrees1!F27+J27)/2+(FirstPartDegrees1!#REF!+S27)/2+(FirstPartDegrees1!I27+#REF!)/2 )/4,0)","v":{"$error":"#REF!"}},{"$f":"ROUNDUP(((FirstPartDegrees1!#REF!+FirstPartDegrees1!J27)/2+(FirstPartDegrees1!#REF!+FirstPartDegrees1!#REF!)/2+(FirstPartDegrees1!#REF!+V27)/2+(AB27+#REF!)/2)/4,0)","v":{"$error":"#REF!"}},{"$f":"(AN27+AAE27+AL27)*40/12","v":{"$error":"#REF!"}}]
[null,null,{"$f":"IF($B27=\"\",\"\",للطباعة1!$G$7)","v":""},{"$f":"IF($B27=\"\",\"\",للطباعة1!$F$7)","v":""},{"$f":"IF($B27=\"\",\"\",للطباعة1!$N$7)","v":""},{"$f":"IF($B27=\"\",\"\",للطباعة1!$M$7)","v":""},{"$f":"IF($B27=\"\",\"\",للطباعة1!$U$7)","v":""},{"$f":"IF($B27=\"\",\"\",للطباعة1!$T$7)","v":""},{"$f":"IF($B27=\"\",\"\",للطباعة1!$AB$7)","v":""},{"$f":"IF($B27=\"\",\"\",للطباعة1!$AA$7)","v":""},null,{"$f":"IF($B27=\"\",\"\",للطباعة1!$AJ$7)","v":""},{"$f":"IF($B27=\"\",\"\",للطباعة1!$AI$7)","v":""},{"$f":"IF($B27=\"\",\"\",للطباعة1!$AQ$7)","v":""},{"$f":"IF($B27=\"\",\"\",للطباعة1!$AP$7)","v":""},{"$f":"IF($B27=\"\",\"\",للطباعة1!$AX$7)","v":""},{"$f":"IF($B27=\"\",\"\",للطباعة1!$AW$7)","v":""},{"$f":"IF($B27=\"\",\"\",للطباعة1!$BE$7)","v":""},{"$f":"IF($B27=\"\",\"\",للطباعة1!$BD$7)","v":""},null,{"$f":"IF($B27=\"\",\"\",للطباعة1!$BM$7)","v":""},{"$f":"IF($B27=\"\",\"\",للطباعة1!$BL$7)","v":""},{"$f":"IF($B27=\"\",\"\",للطباعة1!$BT$7)","v":""},{"$f":"IF($B27=\"\",\"\",للطباعة1!$BS$7)","v":""},{"$f":"IF($B27=\"\",\"\",للطباعة1!$CA$7)","v":""},{"$f":"IF($B27=\"\",\"\",للطباعة1!$BZ$7)","v":""},{"$f":"IF($B27=\"\",\"\",للطباعة1!$CH$7)","v":""},{"$f":"IF($B27=\"\",\"\",للطباعة1!$CG$7)","v":""}]
[null,"النقاط",{"$f":"IF($B27=\"\",\"\",(D27+D28)*100/8)","v":""},null,{"$f":"IF($B27=\"\",\"\",(F27+F28)*100/8)","v":""},null,{"$f":"IF($B27=\"\",\"\",(H27+H28)*100/8)","v":""},null,{"$f":"IF($B27=\"\",\"\",(J27+J28)*100/8)","v":""},null,null,{"$f":"IF($B27=\"\",\"\",(M27+M28)*100/8)","v":""},null,{"$f":"IF($B27=\"\",\"\",(O27+O28)*100/8)","v":""},null,{"$f":"IF($B27=\"\",\"\",(Q27+Q28)*100/8)","v":""},null,{"$f":"IF($B27=\"\",\"\",(S27+S28)*100/8)","v":""},null,null,{"$f":"IF($B27=\"\",\"\",(V27+V28)*100/8)","v":""},null,{"$f":"IF($B27=\"\",\"\",(X27+X28)*100/8)","v":""},null,{"$f":"IF($B27=\"\",\"\",(Z27+Z28)*100/8)","v":""},null,{"$f":"IF($B27=\"\",\"\",(AB27+AB28)*100/8)","v":""}]
[7,{"$f":"INDIRECT(ADDRESS(A30+1,2,,,\"للطباعة1\"))","v":""},{"$f":"IF($B30=\"\",\"\",للطباعة1!$E$8)","v":""},{"$f":"IF($B30=\"\",\"\",للطباعة1!$D$8)","v":""},{"$f":"IF($B30=\"\",\"\",للطباعة1!$L$8)","v":""},{"$f":"IF($B30=\"\",\"\",للطباعة1!$K$8)","v":""},{"$f":"IF($B30=\"\",\"\",للطباعة1!$S$8)","v":""},{"$f":"IF($B30=\"\",\"\",للطباعة1!$R$8)","v":""},{"$f":"IF($B30=\"\",\"\",للطباعة1!$Z$8)","v":""},{"$f":"IF($B30=\"\",\"\",للطباعة1!$Y$8)","v":""},{"$f":"IF($B30=\"\",\"\",(C32+E32+G32+I32)/4)","v":""},{"$f":"IF($B30=\"\",\"\",للطباعة1!$AH$8)","v":""},{"$f":"IF($B30=\"\",\"\",للطباعة1!$AG$8)","v":""},{"$f":"IF($B30=\"\",\"\",للطباعة1!$AO$8)","v":""},{"$f":"IF($B30=\"\",\"\",للطباعة1!$AN$8)","v":""},{"$f":"IF($B30=\"\",\"\",للطباعة1!$AV$8)","v":""},{"$f":"IF($B30=\"\",\"\",للطباعة1!$AU$8)","v":""},{"$f":"IF($B30=\"\",\"\",للطباعة1!$BC$8)","v":""},{"$f":"IF($B30=\"\",\"\",للطباعة1!$BB$8)","v":""},{"$f":"IF($B30=\"\",\"\",(L32+N32+P32+R32)/4)","v":""},{"$f":"IF($B30=\"\",\"\",للطباعة1!$BK$8)","v":""},{"$f":"IF($B30=\"\",\"\",للطباعة1!$BJ$8)","v":""},{"$f":"IF($B30=\"\",\"\",للطباعة1!$BR$8)","v":""},{"$f":"IF($B30=\"\",\"\",للطباعة1!$BQ$8)","v":""},{"$f":"IF($B30=\"\",\"\",للطباعة1!$BY$8)","v":""},{"$f":"IF($B30=\"\",\"\",للطباعة1!$BX$8)","v":""},{"$f":"IF($B30=\"\",\"\",للطباعة1!$CF$8)","v":""},{"$f":"IF($B30=\"\",\"\",للطباعة1!$CE$8)","v":""},{"$f":"IF($B30=\"\",\"\",(U32+W32+Y32+AA32)/4)","v":""},{"$f":"IF($B30=\"\",\"\",(K30+T30+AC30)*0.04)","v":""},{"$f":"IF($B30=\"\",\"\",IF((AD30*40/12-INT(AD30*40/12))>=0.75,INT(AD30*40/12)+1,IF((AD30*40/12-INT(AD30*40/12))<0.25,INT(AD30*40/12),INT(AD30*40/12)+0.5)))","v":""},{"$f":"IF($B30=\"\",\"\",INDIRECT(ADDRESS(11+A30*2,18,1,,\"SeconedPartDegrees1\")))","v":""},{"$f":"IF($B30=\"\",\"\",INDIRECT(ADDRESS(11+A30*2,19,1,,\"SeconedPartDegrees1\")))","v":""},{"$f":"IF(OR(AF30=\"\",AG30=\"\"),\"\",AF30+AG30)","v":""},{"$f":"IF(OR(AE30=\"\",AG30=\"\"),\"\",AG30+AF30+AE30)","v":""},null,null,{"$f":"ROUNDUP(((FirstPartDegrees1!#REF!+D30)/2+(FirstPartDegrees1!E30+O30)/2+(FirstPartDegrees1!#REF!+M30)/2+(FirstPartDegrees1!C30+F30)/2 )/4,0)","v":{"$error":"#REF!"}},{"$f":"ROUNDUP(((FirstPartDegrees1!#REF!+FirstPartDegrees1!#REF!)/2+(FirstPartDegrees1!F30+J30)/2+(FirstPartDegrees1!#REF!+S30)/2+(FirstPartDegrees1!I30+#REF!)/2 )/4,0)","v":{"$error":"#REF!"}},{"$f":"ROUNDUP(((FirstPartDegrees1!#REF!+FirstPartDegrees1!J30)/2+(FirstPartDegrees1!#REF!+FirstPartDegrees1!#REF!)/2+(FirstPartDegrees1!#REF!+V30)/2+(AB30+#REF!)/2)/4,0)","v":{"$error":"#REF!"}},{"$f":"(AN30+AAE30+AL30)*40/12","v":{"$error":"#REF!"}}]
[null,null,{"$f":"IF($B30=\"\",\"\",للطباعة1!$G$8)","v":""},{"$f":"IF($B30=\"\",\"\",للطباعة1!$F$8)","v":""},{"$f":"IF($B30=\"\",\"\",للطباعة1!$N$8)","v":""},{"$f":"IF($B30=\"\",\"\",للطباعة1!$M$8)","v":""},{"$f":"IF($B30=\"\",\"\",للطباعة1!$U$8)","v":""},{"$f":"IF($B30=\"\",\"\",للطباعة1!$T$8)","v":""},{"$f":"IF($B30=\"\",\"\",للطباعة1!$AB$8)","v":""},{"$f":"IF($B30=\"\",\"\",للطباعة1!$AA$8)","v":""},null,{"$f":"IF($B30=\"\",\"\",للطباعة1!$AJ$8)","v":""},{"$f":"IF($B30=\"\",\"\",للطباعة1!$AI$8)","v":""},{"$f":"IF($B30=\"\",\"\",للطباعة1!$AQ$8)","v":""},{"$f":"IF($B30=\"\",\"\",للطباعة1!$AP$8)","v":""},{"$f":"IF($B30=\"\",\"\",للطباعة1!$AX$8)","v":""},{"$f":"IF($B30=\"\",\"\",للطباعة1!$AW$8)","v":""},{"$f":"IF($B30=\"\",\"\",للطباعة1!$BE$8)","v":""},{"$f":"IF($B30=\"\",\"\",للطباعة1!$BD$8)","v":""},null,{"$f":"IF($B30=\"\",\"\",للطباعة1!$BM$8)","v":""},{"$f":"IF($B30=\"\",\"\",للطباعة1!$BL$8)","v":""},{"$f":"IF($B30=\"\",\"\",للطباعة1!$BT$8)","v":""},{"$f":"IF($B30=\"\",\"\",للطباعة1!$BS$8)","v":""},{"$f":"IF($B30=\"\",\"\",للطباعة1!$CA$8)","v":""},{"$f":"IF($B30=\"\",\"\",للطباعة1!$BZ$8)","v":""},{"$f":"IF($B30=\"\",\"\",للطباعة1!$CH$8)","v":""},{"$f":"IF($B30=\"\",\"\",للطباعة1!$CG$8)","v":""}]
[null,"النقاط",{"$f":"IF($B30=\"\",\"\",(D30+D31)*100/8)","v":""},null,{"$f":"IF($B30=\"\",\"\",(F30+F31)*100/8)","v":""},null,{"$f":"IF($B30=\"\",\"\",(H30+H31)*100/8)","v":""},null,{"$f":"IF($B30=\"\",\"\",(J30+J31)*100/8)","v":""},null,null,{"$f":"IF($B30=\"\",\"\",(M30+M31)*100/8)","v":""},null,{"$f":"IF($B30=\"\",\"\",(O30+O31)*100/8)","v":""},null,{"$f":"IF($B30=\"\",\"\",(Q30+Q31)*100/8)","v":""},null,{"$f":"IF($B30=\"\",\"\",(S30+S31)*100/8)","v":""},null,null,{"$f":"IF($B30=\"\",\"\",(V30+V31)*100/8)","v":""},null,{"$f":"IF($B30=\"\",\"\",(X30+X31)*100/8)","v":""},null,{"$f":"IF($B30=\"\",\"\",(Z30+Z31)*100/8)","v":""},null,{"$f":"IF($B30=\"\",\"\",(AB30+AB31)*100/8)","v":""}]
[8,{"$f":"INDIRECT(ADDRESS(A33+1,2,,,\"للطباعة1\"))","v":""},{"$f":"IF($B33=\"\",\"\",للطباعة1!$E$9)","v":""},{"$f":"IF($B33=\"\",\"\",للطباعة1!$D$9)","v":""},{"$f":"IF($B33=\"\",\"\",للطباعة1!$L$9)","v":""},{"$f":"IF($B33=\"\",\"\",للطباعة1!$K$9)","v":""},{"$f":"IF($B33=\"\",\"\",للطباعة1!$S$9)","v":""},{"$f":"IF($B33=\"\",\"\",للطباعة1!$R$9)","v":""},{"$f":"IF($B33=\"\",\"\",للطباعة1!$Z$9)","v":""},{"$f":"IF($B33=\"\",\"\",للطباعة1!$Y$9)","v":""},{"$f":"IF($B33=\"\",\"\",(C35+E35+G35+I35)/4)","v":""},{"$f":"IF($B33=\"\",\"\",للطباعة1!$AH$9)","v":""},{"$f":"IF($B33=\"\",\"\",للطباعة1!$AG$9)","v":""},{"$f":"IF($B33=\"\",\"\",للطباعة1!$AO$9)","v":""},{"$f":"IF($B33=\"\",\"\",للطباعة1!$AN$9)","v":""},{"$f":"IF($B33=\"\",\"\",للطباعة1!$AV$9)","v":""},{"$f":"IF($B33=\"\",\"\",للطباعة1!$AU$9)","v":""},{"$f":"IF($B33=\"\",\"\",للطباعة1!$BC$9)","v":""},{"$f":"IF($B33=\"\",\"\",للطباعة1!$BB$9)","v":""},{"$f":"IF($B33=\"\",\"\",(L35+N35+P35+R35)/4)","v":""},{"$f":"IF($B33=\"\",\"\",للطباعة1!$BK$9)","v":""},{"$f":"IF($B33=\"\",\"\",للطباعة1!$BJ$9)","v":""},{"$f":"IF($B33=\"\",\"\",للطباعة1!$BR$9)","v":""},{"$f":"IF($B33=\"\",\"\",للطباعة1!$BQ$9)","v":""},{"$f":"IF($B33=\"\",\"\",للطباعة1!$BY$9)","v":""},{"$f":"IF($B33=\"\",\"\",للطباعة1!$BX$9)","v":""},{"$f":"IF($B33=\"\",\"\",للطباعة1!$CF$9)","v":""},{"$f":"IF($B33=\"\",\"\",للطباعة1!$CE$9)","v":""},{"$f":"IF($B33=\"\",\"\",(U35+W35+Y35+AA35)/4)","v":""},{"$f":"IF($B33=\"\",\"\",(K33+T33+AC33)*0.04)","v":""},{"$f":"IF($B33=\"\",\"\",IF((AD33*40/12-INT(AD33*40/12))>=0.75,INT(AD33*40/12)+1,IF((AD33*40/12-INT(AD33*40/12))<0.25,INT(AD33*40/12),INT(AD33*40/12)+0.5)))","v":""},{"$f":"IF($B33=\"\",\"\",INDIRECT(ADDRESS(11+A33*2,18,1,,\"SeconedPartDegrees1\")))","v":""},{"$f":"IF($B33=\"\",\"\",INDIRECT(ADDRESS(11+A33*2,19,1,,\"SeconedPartDegrees1\")))","v":""},{"$f":"IF(OR(AF33=\"\",AG33=\"\"),\"\",AF33+AG33)","v":""},{"$f":"IF(OR(AE33=\"\",AG33=\"\"),\"\",AG33+AF33+AE33)","v":""},null,null,{"$f":"ROUNDUP(((FirstPartDegrees1!#REF!+D33)/2+(FirstPartDegrees1!E33+O33)/2+(FirstPartDegrees1!#REF!+M33)/2+(FirstPartDegrees1!C33+F33)/2 )/4,0)","v":{"$error":"#REF!"}},{"$f":"ROUNDUP(((FirstPartDegrees1!#REF!+FirstPartDegrees1!#REF!)/2+(FirstPartDegrees1!F33+J33)/2+(FirstPartDegrees1!#REF!+S33)/2+(FirstPartDegrees1!I33+#REF!)/2 )/4,0)","v":{"$error":"#REF!"}},{"$f":"ROUNDUP(((FirstPartDegrees1!#REF!+FirstPartDegrees1!J33)/2+(FirstPartDegrees1!#REF!+FirstPartDegrees1!#REF!)/2+(FirstPartDegrees1!#REF!+V33)/2+(AB33+#REF!)/2)/4,0)","v":{"$error":"#REF!"}},{"$f":"(AN33+AAE33+AL33)*40/12","v":{"$error":"#REF!"}}]
[null,null,{"$f":"IF($B33=\"\",\"\",للطباعة1!$G$9)","v":""},{"$f":"IF($B33=\"\",\"\",للطباعة1!$F$9)","v":""},{"$f":"IF($B33=\"\",\"\",للطباعة1!$N$9)","v":""},{"$f":"IF($B33=\"\",\"\",للطباعة1!$M$9)","v":""},{"$f":"IF($B33=\"\",\"\",للطباعة1!$U$9)","v":""},{"$f":"IF($B33=\"\",\"\",للطباعة1!$T$9)","v":""},{"$f":"IF($B33=\"\",\"\",للطباعة1!$AB$9)","v":""},{"$f":"IF($B33=\"\",\"\",للطباعة1!$AA$9)","v":""},null,{"$f":"IF($B33=\"\",\"\",للطباعة1!$AJ$9)","v":""},{"$f":"IF($B33=\"\",\"\",للطباعة1!$AI$9)","v":""},{"$f":"IF($B33=\"\",\"\",للطباعة1!$AQ$9)","v":""},{"$f":"IF($B33=\"\",\"\",للطباعة1!$AP$9)","v":""},{"$f":"IF($B33=\"\",\"\",للطباعة1!$AX$9)","v":""},{"$f":"IF($B33=\"\",\"\",للطباعة1!$AW$9)","v":""},{"$f":"IF($B33=\"\",\"\",للطباعة1!$BE$9)","v":""},{"$f":"IF($B33=\"\",\"\",للطباعة1!$BD$9)","v":""},null,{"$f":"IF($B33=\"\",\"\",للطباعة1!$BM$9)","v":""},{"$f":"IF($B33=\"\",\"\",للطباعة1!$BL$9)","v":""},{"$f":"IF($B33=\"\",\"\",للطباعة1!$BT$9)","v":""},{"$f":"IF($B33=\"\",\"\",للطباعة1!$BS$9)","v":""},{"$f":"IF($B33=\"\",\"\",للطباعة1!$CA$9)","v":""},{"$f":"IF($B33=\"\",\"\",للطباعة1!$BZ$9)","v":""},{"$f":"IF($B33=\"\",\"\",للطباعة1!$CH$9)","v":""},{"$f":"IF($B33=\"\",\"\",للطباعة1!$CG$9)","v":""}]
[null,"النقاط",{"$f":"IF($B33=\"\",\"\",(D33+D34)*100/8)","v":""},null,{"$f":"IF($B33=\"\",\"\",(F33+F34)*100/8)","v":""},null,{"$f":"IF($B33=\"\",\"\",(H33+H34)*100/8)","v":""},null,{"$f":"IF($B33=\"\",\"\",(J33+J34)*100/8)","v":""},null,null,{"$f":"IF($B33=\"\",\"\",(M33+M34)*100/8)","v":""},null,{"$f":"IF($B33=\"\",\"\",(O33+O34)*100/8)","v":""},null,{"$f":"IF($B33=\"\",\"\",(Q33+Q34)*100/8)","v":""},null,{"$f":"IF($B33=\"\",\"\",(S33+S34)*100/8)","v":""},null,null,{"$f":"IF($B33=\"\",\"\",(V33+V34)*100/8)","v":""},null,{"$f":"IF($B33=\"\",\"\",(X33+X34)*100/8)","v":""},null,{"$f":"IF($B33=\"\",\"\",(Z33+Z34)*100/8)","v":""},null,{"$f":"IF($B33=\"\",\"\",(AB33+AB34)*100/8)","v":""}]
[9,{"$f":"INDIRECT(ADDRESS(A36+1,2,,,\"للطباعة1\"))","v":""},{"$f":"IF($B36=\"\",\"\",للطباعة1!$E$10)","v":""},{"$f":"IF($B36=\"\",\"\",للطباعة1!$D$10)","v":""},{"$f":"IF($B36=\"\",\"\",للطباعة1!$L$10)","v":""},{"$f":"IF($B36=\"\",\"\",للطباعة1!$K$10)","v":""},{"$f":"IF($B36=\"\",\"\",للطباعة1!$S$10)","v":""},{"$f":"IF($B36=\"\",\"\",للطباعة1!$R$10)","v":""},{"$f":"IF($B36=\"\",\"\",للطباعة1!$Z$10)","v":""},{"$f":"IF($B36=\"\",\"\",للطباعة1!$Y$10)","v":""},{"$f":"IF($B36=\"\",\"\",(C38+E38+G38+I38)/4)","v":""},{"$f":"IF($B36=\"\",\"\",للطباعة1!$AH$10)","v":""},{"$f":"IF($B36=\"\",\"\",للطباعة1!$AG$10)","v":""},{"$f":"IF($B36=\"\",\"\",للطباعة1!$AO$10)","v":""},{"$f":"IF($B36=\"\",\"\",للطباعة1!$AN$10)","v":""},{"$f":"IF($B36=\"\",\"\",للطباعة1!$AV$10)","v":""},{"$f":"IF($B36=\"\",\"\",للطباعة1!$AU$10)","v":""},{"$f":"IF($B36=\"\",\"\",للطباعة1!$BC$10)","v":""},{"$f":"IF($B36=\"\",\"\",للطباعة1!$BB$10)","v":""},{"$f":"IF($B36=\"\",\"\",(L38+N38+P38+R38)/4)","v":""},{"$f":"IF($B36=\"\",\"\",للطباعة1!$BK$10)","v":""},{"$f":"IF($B36=\"\",\"\",للطباعة1!$BJ$10)","v":""},{"$f":"IF($B36=\"\",\"\",للطباعة1!$BR$10)","v":""},{"$f":"IF($B36=\"\",\"\",للطباعة1!$BQ$10)","v":""},{"$f":"IF($B36=\"\",\"\",للطباعة1!$BY$10)","v":""},{"$f":"IF($B36=\"\",\"\",للطباعة1!$BX$10)","v":""},{"$f":"IF($B36=\"\",\"\",للطباعة1!$CF$10)","v":""},{"$f":"IF($B36=\"\",\"\",للطباعة1!$CE$10)","v":""},{"$f":"IF($B36=\"\",\"\",(U38+W38+Y38+AA38)/4)","v":""},{"$f":"IF($B36=\"\",\"\",(K36+T36+AC36)*0.04)","v":""},{"$f":"IF($B36=\"\",\"\",IF((AD36*40/12-INT(AD36*40/12))>=0.75,INT(AD36*40/12)+1,IF((AD36*40/12-INT(AD36*40/12))<0.25,INT(AD36*40/12),INT(AD36*40/12)+0.5)))","v":""},{"$f":"IF($B36=\"\",\"\",INDIRECT(ADDRESS(11+A36*2,18,1,,\"SeconedPartDegrees1\")))","v":""},{"$f":"IF($B36=\"\",\"\",INDIRECT(ADDRESS(11+A36*2,19,1,,\"SeconedPartDegrees1\")))","v":""},{"$f":"IF(OR(AF36=\"\",AG36=\"\"),\"\",AF36+AG36)","v":""},{"$f":"IF(OR(AE36=\"\",AG36=\"\"),\"\",AG36+AF36+AE36)","v":""},null,null,{"$f":"ROUNDUP(((FirstPartDegrees1!#REF!+D36)/2+(FirstPartDegrees1!E36+O36)/2+(FirstPartDegrees1!#REF!+M36)/2+(FirstPartDegrees1!C36+F36)/2 )/4,0)","v":{"$error":"#REF!"}},{"$f":"ROUNDUP(((FirstPartDegrees1!#REF!+FirstPartDegrees1!#REF!)/2+(FirstPartDegrees1!F36+J36)/2+(FirstPartDegrees1!#REF!+S36)/2+(FirstPartDegrees1!I36+#REF!)/2 )/4,0)","v":{"$error":"#REF!"}},{"$f":"ROUNDUP(((FirstPartDegrees1!#REF!+FirstPartDegrees1!J36)/2+(FirstPartDegrees1!#REF!+FirstPartDegrees1!#REF!)/2+(FirstPartDegrees1!#REF!+V36)/2+(AB36+#REF!)/2)/4,0)","v":{"$error":"#REF!"}},{"$f":"(AN36+AAE36+AL36)*40/12","v":{"$error":"#REF!"}}]
[null,null,{"$f":"IF($B36=\"\",\"\",للطباعة1!$G$10)","v":""},{"$f":"IF($B36=\"\",\"\",للطباعة1!$F$10)","v":""},{"$f":"IF($B36=\"\",\"\",للطباعة1!$N$10)","v":""},{"$f":"IF($B36=\"\",\"\",للطباعة1!$M$10)","v":""},{"$f":"IF($B36=\"\",\"\",للطباعة1!$U$10)","v":""},{"$f":"IF($B36=\"\",\"\",للطباعة1!$T$10)","v":""},{"$f":"IF($B36=\"\",\"\",للطباعة1!$AB$10)","v":""},{"$f":"IF($B36=\"\",\"\",للطباعة1!$AA$10)","v":""},null,{"$f":"IF($B36=\"\",\"\",للطباعة1!$AJ$10)","v":""},{"$f":"IF($B36=\"\",\"\",للطباعة1!$AI$10)","v":""},{"$f":"IF($B36=\"\",\"\",للطباعة1!$AQ$10)","v":""},{"$f":"IF($B36=\"\",\"\",للطباعة1!$AP$10)","v":""},{"$f":"IF($B36=\"\",\"\",للطباعة1!$AX$10)","v":""},{"$f":"IF($B36=\"\",\"\",للطباعة1!$AW$10)","v":""},{"$f":"IF($B36=\"\",\"\",للطباعة1!$BE$10)","v":""},{"$f":"IF($B36=\"\",\"\",للطباعة1!$BD$10)","v":""},null,{"$f":"IF($B36=\"\",\"\",للطباعة1!$BM$10)","v":""},{"$f":"IF($B36=\"\",\"\",للطباعة1!$BL$10)","v":""},{"$f":"IF($B36=\"\",\"\",للطباعة1!$BT$10)","v":""},{"$f":"IF($B36=\"\",\"\",للطباعة1!$BS$10)","v":""},{"$f":"IF($B36=\"\",\"\",للطباعة1!$CA$10)","v":""},{"$f":"IF($B36=\"\",\"\",للطباعة1!$BZ$10)","v":""},{"$f":"IF($B36=\"\",\"\",للطباعة1!$CH$10)","v":""},{"$f":"IF($B36=\"\",\"\",للطباعة1!$CG$10)","v":""}]
[null,"النقاط",{"$f":"IF($B36=\"\",\"\",(D36+D37)*100/8)","v":""},null,{"$f":"IF($B36=\"\",\"\",(F36+F37)*100/8)","v":""},null,{"$f":"IF($B36=\"\",\"\",(H36+H37)*100/8)","v":""},null,{"$f":"IF($B36=\"\",\"\",(J36+J37)*100/8)","v":""},null,null,{"$f":"IF($B36=\"\",\"\",(M36+M37)*100/8)","v":""},null,{"$f":"IF($B36=\"\",\"\",(O36+O37)*100/8)","v":""},null,{"$f":"IF($B36=\"\",\"\",(Q36+Q37)*100/8)","v":""},null,{"$f":"IF($B36=\"\",\"\",(S36+S37)*100/8)","v":""},null,null,{"$f":"IF($B36=\"\",\"\",(V36+V37)*100/8)","v":""},null,{"$f":"IF($B36=\"\",\"\",(X36+X37)*100/8)","v":""},null,{"$f":"IF($B36=\"\",\"\",(Z36+Z37)*100/8)","v":""},null,{"$f":"IF($B36=\"\",\"\",(AB36+AB37)*100/8)","v":""}]
[10,{"$f":"INDIRECT(ADDRESS(A39+1,2,,,\"للطباعة1\"))","v":""},{"$f":"IF($B39=\"\",\"\",للطباعة1!$E$11)","v":""},{"$f":"IF($B39=\"\",\"\",للطباعة1!$D$11)","v":""},{"$f":"IF($B39=\"\",\"\",للطباعة1!$L$11)","v":""},{"$f":"IF($B39=\"\",\"\",للطباعة1!$K$11)","v":""},{"$f":"IF($B39=\"\",\"\",للطباعة1!$S$11)","v":""},{"$f":"IF($B39=\"\",\"\",للطباعة1!$R$11)","v":""},{"$f":"IF($B39=\"\",\"\",للطباعة1!$Z$11)","v":""},{"$f":"IF($B39=\"\",\"\",للطباعة1!$Y$11)","v":""},{"$f":"IF($B39=\"\",\"\",(C41+E41+G41+I41)/4)","v":""},{"$f":"IF($B39=\"\",\"\",للطباعة1!$AH$11)","v":""},{"$f":"IF($B39=\"\",\"\",للطباعة1!$AG$11)","v":""},{"$f":"IF($B39=\"\",\"\",للطباعة1!$AO$11)","v":""},{"$f":"IF($B39=\"\",\"\",للطباعة1!$AN$11)","v":""},{"$f":"IF($B39=\"\",\"\",للطباعة1!$AV$11)","v":""},{"$f":"IF($B39=\"\",\"\",للطباعة1!$AU$11)","v":""},{"$f":"IF($B39=\"\",\"\",للطباعة1!$BC$11)","v":""},{"$f":"IF($B39=\"\",\"\",للطباعة1!$BB$11)","v":""},{"$f":"IF($B39=\"\",\"\",(L41+N41+P41+R41)/4)","v":""},{"$f":"IF($B39=\"\",\"\",للطباعة1!$BK$11)","v":""},{"$f":"IF($B39=\"\",\"\",للطباعة1!$BJ$11)","v":""},{"$f":"IF($B39=\"\",\"\",للطباعة1!$BR$11)","v":""},{"$f":"IF($B39=\"\",\"\",للطباعة1!$BQ$11)","v":""},{"$f":"IF($B39=\"\",\"\",للطباعة1!$BY$11)","v":""},{"$f":"IF($B39=\"\",\"\",للطباعة1!$BX$11)","v":""},{"$f":"IF($B39=\"\",\"\",للطباعة1!$CF$11)","v":""},{"$f":"IF($B39=\"\",\"\",للطباعة1!$CE$11)","v":""},{"$f":"IF($B39=\"\",\"\",(U41+W41+Y41+AA41)/4)","v":""},{"$f":"IF($B39=\"\",\"\",(K39+T39+AC39)*0.04)","v":""},{"$f":"IF($B39=\"\",\"\",IF((AD39*40/12-INT(AD39*40/12))>=0.75,INT(AD39*40/12)+1,IF((AD39*40/12-INT(AD39*40/12))<0.25,INT(AD39*40/12),INT(AD39*40/12)+0.5)))","v":""},{"$f":"IF($B39=\"\",\"\",INDIRECT(ADDRESS(11+A39*2,18,1,,\"SeconedPartDegrees1\")))","v":""},{"$f":"IF($B39=\"\",\"\",INDIRECT(ADDRESS(11+A39*2,19,1,,\"SeconedPartDegrees1\")))","v":""},{"$f":"IF(OR(AF39=\"\",AG39=\"\"),\"\",AF39+AG39)","v":""},{"$f":"IF(OR(AE39=\"\",AG39=\"\"),\"\",AG39+AF39+AE39)","v":""},null,null,{"$f":"ROUNDUP(((FirstPartDegrees1!#REF!+D39)/2+(FirstPartDegrees1!E39+O39)/2+(FirstPartDegrees1!#REF!+M39)/2+(FirstPartDegrees1!C39+F39)/2 )/4,0)","v":{"$error":"#REF!"}},{"$f":"ROUNDUP(((FirstPartDegrees1!#REF!+FirstPartDegrees1!#REF!)/2+(FirstPartDegrees1!F39+J39)/2+(FirstPartDegrees1!#REF!+S39)/2+(FirstPartDegrees1!I39+#REF!)/2 )/4,0)","v":{"$error":"#REF!"}},{"$f":"ROUNDUP(((FirstPartDegrees1!#REF!+FirstPartDegrees1!J39)/2+(FirstPartDegrees1!#REF!+FirstPartDegrees1!#REF!)/2+(FirstPartDegrees1!#REF!+V39)/2+(AB39+#REF!)/2)/4,0)","v":{"$error":"#REF!"}},{"$f":"(AN39+AAE39+AL39)*40/12","v":{"$error":"#REF!"}}]
[null,null,{"$f":"IF($B39=\"\",\"\",للطباعة1!$G$11)","v":""},{"$f":"IF($B39=\"\",\"\",للطباعة1!$F$11)","v":""},{"$f":"IF($B39=\"\",\"\",للطباعة1!$N$11)","v":""},{"$f":"IF($B39=\"\",\"\",للطباعة1!$M$11)","v":""},{"$f":"IF($B39=\"\",\"\",للطباعة1!$U$11)","v":""},{"$f":"IF($B39=\"\",\"\",للطباعة1!$T$11)","v":""},{"$f":"IF($B39=\"\",\"\",للطباعة1!$AB$11)","v":""},{"$f":"IF($B39=\"\",\"\",للطباعة1!$AA$11)","v":""},null,{"$f":"IF($B39=\"\",\"\",للطباعة1!$AJ$11)","v":""},{"$f":"IF($B39=\"\",\"\",للطباعة1!$AI$11)","v":""},{"$f":"IF($B39=\"\",\"\",للطباعة1!$AQ$11)","v":""},{"$f":"IF($B39=\"\",\"\",للطباعة1!$AP$11)","v":""},{"$f":"IF($B39=\"\",\"\",للطباعة1!$AX$11)","v":""},{"$f":"IF($B39=\"\",\"\",للطباعة1!$AW$11)","v":""},{"$f":"IF($B39=\"\",\"\",للطباعة1!$BE$11)","v":""},{"$f":"IF($B39=\"\",\"\",للطباعة1!$BD$11)","v":""},null,{"$f":"IF($B39=\"\",\"\",للطباعة1!$BM$11)","v":""},{"$f":"IF($B39=\"\",\"\",للطباعة1!$BL$11)","v":""},{"$f":"IF($B39=\"\",\"\",للطباعة1!$BT$11)","v":""},{"$f":"IF($B39=\"\",\"\",للطباعة1!$BS$11)","v":""},{"$f":"IF($B39=\"\",\"\",للطباعة1!$CA$11)","v":""},{"$f":"IF($B39=\"\",\"\",للطباعة1!$BZ$11)","v":""},{"$f":"IF($B39=\"\",\"\",للطباعة1!$CH$11)","v":""},{"$f":"IF($B39=\"\",\"\",للطباعة1!$CG$11)","v":""}]
[null,"النقاط",{"$f":"IF($B39=\"\",\"\",(D39+D40)*100/8)","v":""},null,{"$f":"IF($B39=\"\",\"\",(F39+F40)*100/8)","v":""},null,{"$f":"IF($B39=\"\",\"\",(H39+H40)*100/8)","v":""},null,{"$f":"IF($B39=\"\",\"\",(J39+J40)*100/8)","v":""},null,null,{"$f":"IF($B39=\"\",\"\",(M39+M40)*100/8)","v":""},null,{"$f":"IF($B39=\"\",\"\",(O39+O40)*100/8)","v":""},null,{"$f":"IF($B39=\"\",\"\",(Q39+Q40)*100/8)","v":""},null,{"$f":"IF($B39=\"\",\"\",(S39+S40)*100/8)","v":""},null,null,{"$f":"IF($B39=\"\",\"\",(V39+V40)*100/8)","v":""},null,{"$f":"IF($B39=\"\",\"\",(X39+X40)*100/8)","v":""},null,{"$f":"IF($B39=\"\",\"\",(Z39+Z40)*100/8)","v":""},null,{"$f":"IF($B39=\"\",\"\",(AB39+AB40)*100/8)","v":""}]
[11,{"$f":"INDIRECT(ADDRESS(A42+1,2,,,\"للطباعة1\"))","v":""},{"$f":"IF($B42=\"\",\"\",للطباعة1!$E$12)","v":""},{"$f":"IF($B42=\"\",\"\",للطباعة1!$D$12)","v":""},{"$f":"IF($B42=\"\",\"\",للطباعة1!$L$12)","v":""},{"$f":"IF($B42=\"\",\"\",للطباعة1!$K$12)","v":""},{"$f":"IF($B42=\"\",\"\",للطباعة1!$S$12)","v":""},{"$f":"IF($B42=\"\",\"\",للطباعة1!$R$12)","v":""},{"$f":"IF($B42=\"\",\"\",للطباعة1!$Z$12)","v":""},{"$f":"IF($B42=\"\",\"\",للطباعة1!$Y$12)","v":""},{"$f":"IF($B42=\"\",\"\",(C44+E44+G44+I44)/4)","v":""},{"$f":"IF($B42=\"\",\"\",للطباعة1!$AH$12)","v":""},{"$f":"IF($B42=\"\",\"\",للطباعة1!$AG$12)","v":""},{"$f":"IF($B42=\"\",\"\",للطباعة1!$AO$12)","v":""},{"$f":"IF($B42=\"\",\"\",للطباعة1!$AN$12)","v":""},{"$f":"IF($B42=\"\",\"\",للطباعة1!$AV$12)","v":""},{"$f":"IF($B42=\"\",\"\",للطباعة1!$AU$12)","v":""},{"$f":"IF($B42=\"\",\"\",للطباعة1!$BC$12)","v":""},{"$f":"IF($B42=\"\",\"\",للطباعة1!$BB$12)","v":""},{"$f":"IF($B42=\"\",\"\",(L44+N44+P44+R44)/4)","v":""},{"$f":"IF($B42=\"\",\"\",للطباعة1!$BK$12)","v":""},{"$f":"IF($B42=\"\",\"\",للطباعة1!$BJ$12)","v":""},{"$f":"IF($B42=\"\",\"\",للطباعة1!$BR$12)","v":""},{"$f":"IF($B42=\"\",\"\",للطباعة1!$BQ$12)","v":""},{"$f":"IF($B42=\"\",\"\",للطباعة1!$BY$12)","v":""},{"$f":"IF($B42=\"\",\"\",للطباعة1!$BX$12)","v":""},{"$f":"IF($B42=\"\",\"\",للطباعة1!$CF$12)","v":""},{"$f":"IF($B42=\"\",\"\",للطباعة1!$CE$12)","v":""},{"$f":"IF($B42=\"\",\"\",(U44+W44+Y44+AA44)/4)","v":""},{"$f":"IF($B42=\"\",\"\",(K42+T42+AC42)*0.04)","v":""},{"$f":"IF($B42=\"\",\"\",IF((AD42*40/12-INT(AD42*40/12))>=0.75,INT(AD42*40/12)+1,IF((AD42*40/12-INT(AD42*40/12))<0.25,INT(AD42*40/12),INT(AD42*40/12)+0.5)))","v":""},{"$f":"IF($B42=\"\",\"\",INDIRECT(ADDRESS(11+A42*2,18,1,,\"SeconedPartDegrees1\")))","v":""},{"$f":"IF($B42=\"\",\"\",INDIRECT(ADDRESS(11+A42*2,19,1,,\"SeconedPartDegrees1\")))","v":""},{"$f":"IF(OR(AF42=\"\",AG42=\"\"),\"\",AF42+AG42)","v":""},{"$f":"IF(OR(AE42=\"\",AG42=\"\"),\"\",AG42+AF42+AE42)","v":""},null,null,{"$f":"ROUNDUP(((FirstPartDegrees1!#REF!+D42)/2+(FirstPartDegrees1!E42+O42)/2+(FirstPartDegrees1!#REF!+M42)/2+(FirstPartDegrees1!C42+F42)/2 )/4,0)","v":{"$error":"#REF!"}},{"$f":"ROUNDUP(((FirstPartDegrees1!#REF!+FirstPartDegrees1!#REF!)/2+(FirstPartDegrees1!F42+J42)/2+(FirstPartDegrees1!#REF!+S42)/2+(FirstPartDegrees1!I42+#REF!)/2 )/4,0)","v":{"$error":"#REF!"}},{"$f":"ROUNDUP(((FirstPartDegrees1!#REF!+FirstPartDegrees1!J42)/2+(FirstPartDegrees1!#REF!+FirstPartDegrees1!#REF!)/2+(FirstPartDegrees1!#REF!+V42)/2+(AB42+#REF!)/2)/4,0)","v":{"$error":"#REF!"}},{"$f":"(AN42+AAE42+AL42)*40/12","v":{"$error":"#REF!"}}]
[null,null,{"$f":"IF($B42=\"\",\"\",للطباعة1!$G$12)","v":""},{"$f":"IF($B42=\"\",\"\",للطباعة1!$F$12)","v":""},{"$f":"IF($B42=\"\",\"\",للطباعة1!$N$12)","v":""},{"$f":"IF($B42=\"\",\"\",للطباعة1!$M$12)","v":""},{"$f":"IF($B42=\"\",\"\",للطباعة1!$U$12)","v":""},{"$f":"IF($B42=\"\",\"\",للطباعة1!$T$12)","v":""},{"$f":"IF($B42=\"\",\"\",للطباعة1!$AB$12)","v":""},{"$f":"IF($B42=\"\",\"\",للطباعة1!$AA$12)","v":""},null,{"$f":"IF($B42=\"\",\"\",للطباعة1!$AJ$12)","v":""},{"$f":"IF($B42=\"\",\"\",للطباعة1!$AI$12)","v":""},{"$f":"IF($B42=\"\",\"\",للطباعة1!$AQ$12)","v":""},{"$f":"IF($B42=\"\",\"\",للطباعة1!$AP$12)","v":""},{"$f":"IF($B42=\"\",\"\",للطباعة1!$AX$12)","v":""},{"$f":"IF($B42=\"\",\"\",للطباعة1!$AW$12)","v":""},{"$f":"IF($B42=\"\",\"\",للطباعة1!$BE$12)","v":""},{"$f":"IF($B42=\"\",\"\",للطباعة1!$BD$12)","v":""},null,{"$f":"IF($B42=\"\",\"\",للطباعة1!$BM$12)","v":""},{"$f":"IF($B42=\"\",\"\",للطباعة1!$BL$12)","v":""},{"$f":"IF($B42=\"\",\"\",للطباعة1!$BT$12)","v":""},{"$f":"IF($B42=\"\",\"\",للطباعة1!$BS$12)","v":""},{"$f":"IF($B42=\"\",\"\",للطباعة1!$CA$12)","v":""},{"$f":"IF($B42=\"\",\"\",للطباعة1!$BZ$12)","v":""},{"$f":"IF($B42=\"\",\"\",للطباعة1!$CH$12)","v":""},{"$f":"IF($B42=\"\",\"\",للطباعة1!$CG$12)","v":""}]
[null,"النقاط",{"$f":"IF($B42=\"\",\"\",(D42+D43)*100/8)","v":""},null,{"$f":"IF($B42=\"\",\"\",(F42+F43)*100/8)","v":""},null,{"$f":"IF($B42=\"\",\"\",(H42+H43)*100/8)","v":""},null,{"$f":"IF($B42=\"\",\"\",(J42+J43)*100/8)","v":""},null,null,{"$f":"IF($B42=\"\",\"\",(M42+M43)*100/8)","v":""},null,{"$f":"IF($B42=\"\",\"\",(O42+O43)*100/8)","v":""},null,{"$f":"IF($B42=\"\",\"\",(Q42+Q43)*100/8)","v":""},null,{"$f":"IF($B42=\"\",\"\",(S42+S43)*100/8)","v":""},null,null,{"$f":"IF($B42=\"\",\"\",(V42+V43)*100/8)","v":""},null,{"$f":"IF($B42=\"\",\"\",(X42+X43)*100/8)","v":""},null,{"$f":"IF($B42=\"\",\"\",(Z42+Z43)*100/8)","v":""},null,{"$f":"IF($B42=\"\",\"\",(AB42+AB43)*100/8)","v":""}]
[12,{"$f":"INDIRECT(ADDRESS(A45+1,2,,,\"للطباعة1\"))","v":""},{"$f":"IF($B45=\"\",\"\",للطباعة1!$E$13)","v":""},{"$f":"IF($B45=\"\",\"\",للطباعة1!$D$13)","v":""},{"$f":"IF($B45=\"\",\"\",للطباعة1!$L$13)","v":""},{"$f":"IF($B45=\"\",\"\",للطباعة1!$K$13)","v":""},{"$f":"IF($B45=\"\",\"\",للطباعة1!$S$13)","v":""},{"$f":"IF($B45=\"\",\"\",للطباعة1!$R$13)","v":""},{"$f":"IF($B45=\"\",\"\",للطباعة1!$Z$13)","v":""},{"$f":"IF($B45=\"\",\"\",للطباعة1!$Y$13)","v":""},{"$f":"IF($B45=\"\",\"\",(C47+E47+G47+I47)/4)","v":""},{"$f":"IF($B45=\"\",\"\",للطباعة1!$AH$13)","v":""},{"$f":"IF($B45=\"\",\"\",للطباعة1!$AG$13)","v":""},{"$f":"IF($B45=\"\",\"\",للطباعة1!$AO$13)","v":""},{"$f":"IF($B45=\"\",\"\",للطباعة1!$AN$13)","v":""},{"$f":"IF($B45=\"\",\"\",للطباعة1!$AV$13)","v":""},{"$f":"IF($B45=\"\",\"\",للطباعة1!$AU$13)","v":""},{"$f":"IF($B45=\"\",\"\",للطباعة1!$BC$13)","v":""},{"$f":"IF($B45=\"\",\"\",للطباعة1!$BB$13)","v":""},{"$f":"IF($B45=\"\",\"\",(L47+N47+P47+R47)/4)","v":""},{"$f":"IF($B45=\"\",\"\",للطباعة1!$BK$13)","v":""},{"$f":"IF($B45=\"\",\"\",للطباعة1!$BJ$13)","v":""},{"$f":"IF($B45=\"\",\"\",للطباعة1!$BR$13)","v":""},{"$f":"IF($B45=\"\",\"\",للطباعة1!$BQ$13)","v":""},{"$f":"IF($B45=\"\",\"\",للطباعة1!$BY$13)","v":""},{"$f":"IF($B45=\"\",\"\",للطباعة1!$BX$13)","v":""},{"$f":"IF($B45=\"\",\"\",للطباعة1!$CF$13)","v":""},{"$f":"IF($B45=\"\",\"\",للطباعة1!$CE$13)","v":""},{"$f":"IF($B45=\"\",\"\",(U47+W47+Y47+AA47)/4)","v":""},{"$f":"IF($B45=\"\",\"\",(K45+T45+AC45)*0.04)","v":""},{"$f":"IF($B45=\"\",\"\",IF((AD45*40/12-INT(AD45*40/12))>=0.75,INT(AD45*40/12)+1,IF((AD45*40/12-INT(AD45*40/12))<0.25,INT(AD45*40/12),INT(AD45*40/12)+0.5)))","v":""},{"$f":"IF($B45=\"\",\"\",INDIRECT(ADDRESS(11+A45*2,18,1,,\"SeconedPartDegrees1\")))","v":""},{"$f":"IF($B45=\"\",\"\",INDIRECT(ADDRESS(11+A45*2,19,1,,\"SeconedPartDegrees1\")))","v":""},{"$f":"IF(OR(AF45=\"\",AG45=\"\"),\"\",AF45+AG45)","v":""},{"$f":"IF(OR(AE45=\"\",AG45=\"\"),\"\",AG45+AF45+AE45)","v":""},null,null,{"$f":"ROUNDUP(((FirstPartDegrees1!#REF!+D45)/2+(FirstPartDegrees1!E45+O45)/2+(FirstPartDegrees1!#REF!+M45)/2+(FirstPartDegrees1!C45+F45)/2 )/4,0)","v":{"$error":"#REF!"}},{"$f":"ROUNDUP(((FirstPartDegrees1!#REF!+FirstPartDegrees1!#REF!)/2+(FirstPartDegrees1!F45+J45)/2+(FirstPartDegrees1!#REF!+S45)/2+(FirstPartDegrees1!I45+#REF!)/2 )/4,0)","v":{"$error":"#REF!"}},{"$f":"ROUNDUP(((FirstPartDegrees1!#REF!+FirstPartDegrees1!J45)/2+(FirstPartDegrees1!#REF!+FirstPartDegrees1!#REF!)/2+(FirstPartDegrees1!#REF!+V45)/2+(AB45+#REF!)/2)/4,0)","v":{"$error":"#REF!"}},{"$f":"(AN45+AAE45+AL45)*40/12","v":{"$error":"#REF!"}}]
[null,null,{"$f":"IF($B45=\"\",\"\",للطباعة1!$G$13)","v":""},{"$f":"IF($B45=\"\",\"\",للطباعة1!$F$13)","v":""},{"$f":"IF($B45=\"\",\"\",للطباعة1!$N$13)","v":""},{"$f":"IF($B45=\"\",\"\",للطباعة1!$M$13)","v":""},{"$f":"IF($B45=\"\",\"\",للطباعة1!$U$13)","v":""},{"$f":"IF($B45=\"\",\"\",للطباعة1!$T$13)","v":""},{"$f":"IF($B45=\"\",\"\",للطباعة1!$AB$13)","v":""},{"$f":"IF($B45=\"\",\"\",للطباعة1!$AA$13)","v":""},null,{"$f":"IF($B45=\"\",\"\",للطباعة1!$AJ$13)","v":""},{"$f":"IF($B45=\"\",\"\",للطباعة1!$AI$13)","v":""},{"$f":"IF($B45=\"\",\"\",للطباعة1!$AQ$13)","v":""},{"$f":"IF($B45=\"\",\"\",للطباعة1!$AP$13)","v":""},{"$f":"IF($B45=\"\",\"\",للطباعة1!$AX$13)","v":""},{"$f":"IF($B45=\"\",\"\",للطباعة1!$AW$13)","v":""},{"$f":"IF($B45=\"\",\"\",للطباعة1!$BE$13)","v":""},{"$f":"IF($B45=\"\",\"\",للطباعة1!$BD$13)","v":""},null,{"$f":"IF($B45=\"\",\"\",للطباعة1!$BM$13)","v":""},{"$f":"IF($B45=\"\",\"\",للطباعة1!$BL$13)","v":""},{"$f":"IF($B45=\"\",\"\",للطباعة1!$BT$13)","v":""},{"$f":"IF($B45=\"\",\"\",للطباعة1!$BS$13)","v":""},{"$f":"IF($B45=\"\",\"\",للطباعة1!$CA$13)","v":""},{"$f":"IF($B45=\"\",\"\",للطباعة1!$BZ$13)","v":""},{"$f":"IF($B45=\"\",\"\",للطباعة1!$CH$13)","v":""},{"$f":"IF($B45=\"\",\"\",للطباعة1!$CG$13)","v":""}]
[null,"النقاط",{"$f":"IF($B45=\"\",\"\",(D45+D46)*100/8)","v":""},null,{"$f":"IF($B45=\"\",\"\",(F45+F46)*100/8)","v":""},null,{"$f":"IF($B45=\"\",\"\",(H45+H46)*100/8)","v":""},null,{"$f":"IF($B45=\"\",\"\",(J45+J46)*100/8)","v":""},null,null,{"$f":"IF($B45=\"\",\"\",(M45+M46)*100/8)","v":""},null,{"$f":"IF($B45=\"\",\"\",(O45+O46)*100/8)","v":""},null,{"$f":"IF($B45=\"\",\"\",(Q45+Q46)*100/8)","v":""},null,{"$f":"IF($B45=\"\",\"\",(S45+S46)*100/8)","v":""},null,null,{"$f":"IF($B45=\"\",\"\",(V45+V46)*100/8)","v":""},null,{"$f":"IF($B45=\"\",\"\",(X45+X46)*100/8)","v":""},null,{"$f":"IF($B45=\"\",\"\",(Z45+Z46)*100/8)","v":""},null,{"$f":"IF($B45=\"\",\"\",(AB45+AB46)*100/8)","v":""}]
[13,{"$f":"INDIRECT(ADDRESS(A48+1,2,,,\"للطباعة1\"))","v":""},{"$f":"IF($B48=\"\",\"\",للطباعة1!$E$14)","v":""},{"$f":"IF($B48=\"\",\"\",للطباعة1!$D$14)","v":""},{"$f":"IF($B48=\"\",\"\",للطباعة1!$L$14)","v":""},{"$f":"IF($B48=\"\",\"\",للطباعة1!$K$14)","v":""},{"$f":"IF($B48=\"\",\"\",للطباعة1!$S$14)","v":""},{"$f":"IF($B48=\"\",\"\",للطباعة1!$R$14)","v":""},{"$f":"IF($B48=\"\",\"\",للطباعة1!$Z$14)","v":""},{"$f":"IF($B48=\"\",\"\",للطباعة1!$Y$14)","v":""},{"$f":"IF($B48=\"\",\"\",(C50+E50+G50+I50)/4)","v":""},{"$f":"IF($B48=\"\",\"\",للطباعة1!$AH$14)","v":""},{"$f":"IF($B48=\"\",\"\",للطباعة1!$AG$14)","v":""},{"$f":"IF($B48=\"\",\"\",للطباعة1!$AO$14)","v":""},{"$f":"IF($B48=\"\",\"\",للطباعة1!$AN$14)","v":""},{"$f":"IF($B48=\"\",\"\",للطباعة1!$AV$14)","v":""},{"$f":"IF($B48=\"\",\"\",للطباعة1!$AU$14)","v":""},{"$f":"IF($B48=\"\",\"\",للطباعة1!$BC$14)","v":""},{"$f":"IF($B48=\"\",\"\",للطباعة1!$BB$14)","v":""},{"$f":"IF($B48=\"\",\"\",(L50+N50+P50+R50)/4)","v":""},{"$f":"IF($B48=\"\",\"\",للطباعة1!$BK$14)","v":""},{"$f":"IF($B48=\"\",\"\",للطباعة1!$BJ$14)","v":""},{"$f":"IF($B48=\"\",\"\",للطباعة1!$BR$14)","v":""},{"$f":"IF($B48=\"\",\"\",للطباعة1!$BQ$14)","v":""},{"$f":"IF($B48=\"\",\"\",للطباعة1!$BY$14)","v":""},{"$f":"IF($B48=\"\",\"\",للطباعة1!$BX$14)","v":""},{"$f":"IF($B48=\"\",\"\",للطباعة1!$CF$14)","v":""},{"$f":"IF($B48=\"\",\"\",للطباعة1!$CE$14)","v":""},{"$f":"IF($B48=\"\",\"\",(U50+W50+Y50+AA50)/4)","v":""},{"$f":"IF($B48=\"\",\"\",(K48+T48+AC48)*0.04)","v":""},{"$f":"IF($B48=\"\",\"\",IF((AD48*40/12-INT(AD48*40/12))>=0.75,INT(AD48*40/12)+1,IF((AD48*40/12-INT(AD48*40/12))<0.25,INT(AD48*40/12),INT(AD48*40/12)+0.5)))","v":""},{"$f":"IF($B48=\"\",\"\",INDIRECT(ADDRESS(11+A48*2,18,1,,\"SeconedPartDegrees1\")))","v":""},{"$f":"IF($B48=\"\",\"\",INDIRECT(ADDRESS(11+A48*2,19,1,,\"SeconedPartDegrees1\")))","v":""},{"$f":"IF(OR(AF48=\"\",AG48=\"\"),\"\",AF48+AG48)","v":""},{"$f":"IF(OR(AE48=\"\",AG48=\"\"),\"\",AG48+AF48+AE48)","v":""},null,null,{"$f":"ROUNDUP(((FirstPartDegrees1!#REF!+D48)/2+(FirstPartDegrees1!E48+O48)/2+(FirstPartDegrees1!#REF!+M48)/2+(FirstPartDegrees1!C48+F48)/2 )/4,0)","v":{"$error":"#REF!"}},{"$f":"ROUNDUP(((FirstPartDegrees1!#REF!+FirstPartDegrees1!#REF!)/2+(FirstPartDegrees1!F48+J48)/2+(FirstPartDegrees1!#REF!+S48)/2+(FirstPartDegrees1!I48+#REF!)/2 )/4,0)","v":{"$error":"#REF!"}},{"$f":"ROUNDUP(((FirstPartDegrees1!#REF!+FirstPartDegrees1!J48)/2+(FirstPartDegrees1!#REF!+FirstPartDegrees1!#REF!)/2+(FirstPartDegrees1!#REF!+V48)/2+(AB48+#REF!)/2)/4,0)","v":{"$error":"#REF!"}},{"$f":"(AN48+AAE48+AL48)*40/12","v":{"$error":"#REF!"}}]
[null,null,{"$f":"IF($B48=\"\",\"\",للطباعة1!$G$14)","v":""},{"$f":"IF($B48=\"\",\"\",للطباعة1!$F$14)","v":""},{"$f":"IF($B48=\"\",\"\",للطباعة1!$N$14)","v":""},{"$f":"IF($B48=\"\",\"\",للطباعة1!$M$14)","v":""},{"$f":"IF($B48=\"\",\"\",للطباعة1!$U$14)","v":""},{"$f":"IF($B48=\"\",\"\",للطباعة1!$T$14)","v":""},{"$f":"IF($B48=\"\",\"\",للطباعة1!$AB$14)","v":""},{"$f":"IF($B48=\"\",\"\",للطباعة1!$AA$14)","v":""},null,{"$f":"IF($B48=\"\",\"\",للطباعة1!$AJ$14)","v":""},{"$f":"IF($B48=\"\",\"\",للطباعة1!$AI$14)","v":""},{"$f":"IF($B48=\"\",\"\",للطباعة1!$AQ$14)","v":""},{"$f":"IF($B48=\"\",\"\",للطباعة1!$AP$14)","v":""},{"$f":"IF($B48=\"\",\"\",للطباعة1!$AX$14)","v":""},{"$f":"IF($B48=\"\",\"\",للطباعة1!$AW$14)","v":""},{"$f":"IF($B48=\"\",\"\",للطباعة1!$BE$14)","v":""},{"$f":"IF($B48=\"\",\"\",للطباعة1!$BD$14)","v":""},null,{"$f":"IF($B48=\"\",\"\",للطباعة1!$BM$14)","v":""},{"$f":"IF($B48=\"\",\"\",للطباعة1!$BL$14)","v":""},{"$f":"IF($B48=\"\",\"\",للطباعة1!$BT$14)","v":""},{"$f":"IF($B48=\"\",\"\",للطباعة1!$BS$14)","v":""},{"$f":"IF($B48=\"\",\"\",للطباعة1!$CA$14)","v":""},{"$f":"IF($B48=\"\",\"\",للطباعة1!$BZ$14)","v":""},{"$f":"IF($B48=\"\",\"\",للطباعة1!$CH$14)","v":""},{"$f":"IF($B48=\"\",\"\",للطباعة1!$CG$14)","v":""}]
[null,"النقاط",{"$f":"IF($B48=\"\",\"\",(D48+D49)*100/8)","v":""},null,{"$f":"IF($B48=\"\",\"\",(F48+F49)*100/8)","v":""},null,{"$f":"IF($B48=\"\",\"\",(H48+H49)*100/8)","v":""},null,{"$f":"IF($B48=\"\",\"\",(J48+J49)*100/8)","v":""},null,null,{"$f":"IF($B48=\"\",\"\",(M48+M49)*100/8)","v":""},null,{"$f":"IF($B48=\"\",\"\",(O48+O49)*100/8)","v":""},null,{"$f":"IF($B48=\"\",\"\",(Q48+Q49)*100/8)","v":""},null,{"$f":"IF($B48=\"\",\"\",(S48+S49)*100/8)","v":""},null,null,{"$f":"IF($B48=\"\",\"\",(V48+V49)*100/8)","v":""},null,{"$f":"IF($B48=\"\",\"\",(X48+X49)*100/8)","v":""},null,{"$f":"IF($B48=\"\",\"\",(Z48+Z49)*100/8)","v":""},null,{"$f":"IF($B48=\"\",\"\",(AB48+AB49)*100/8)","v":""}]
[14,{"$f":"INDIRECT(ADDRESS(A51+1,2,,,\"للطباعة1\"))","v":""},{"$f":"IF($B51=\"\",\"\",للطباعة1!$E$15)","v":""},{"$f":"IF($B51=\"\",\"\",للطباعة1!$D$15)","v":""},{"$f":"IF($B51=\"\",\"\",للطباعة1!$L$15)","v":""},{"$f":"IF($B51=\"\",\"\",للطباعة1!$K$15)","v":""},{"$f":"IF($B51=\"\",\"\",للطباعة1!$S$15)","v":""},{"$f":"IF($B51=\"\",\"\",للطباعة1!$R$15)","v":""},{"$f":"IF($B51=\"\",\"\",للطباعة1!$Z$15)","v":""},{"$f":"IF($B51=\"\",\"\",للطباعة1!$Y$15)","v":""},{"$f":"IF($B51=\"\",\"\",(C53+E53+G53+I53)/4)","v":""},{"$f":"IF($B51=\"\",\"\",للطباعة1!$AH$15)","v":""},{"$f":"IF($B51=\"\",\"\",للطباعة1!$AG$15)","v":""},{"$f":"IF($B51=\"\",\"\",للطباعة1!$AO$15)","v":""},{"$f":"IF($B51=\"\",\"\",للطباعة1!$AN$15)","v":""},{"$f":"IF($B51=\"\",\"\",للطباعة1!$AV$15)","v":""},{"$f":"IF($B51=\"\",\"\",للطباعة1!$AU$15)","v":""},{"$f":"IF($B51=\"\",\"\",للطباعة1!$BC$15)","v":""},{"$f":"IF($B51=\"\",\"\",للطباعة1!$BB$15)","v":""},{"$f":"IF($B51=\"\",\"\",(L53+N53+P53+R53)/4)","v":""},{"$f":"IF($B51=\"\",\"\",للطباعة1!$BK$15)","v":""},{"$f":"IF($B51=\"\",\"\",للطباعة1!$BJ$15)","v":""},{"$f":"IF($B51=\"\",\"\",للطباعة1!$BR$15)","v":""},{"$f":"IF($B51=\"\",\"\",للطباعة1!$BQ$15)","v":""},{"$f":"IF($B51=\"\",\"\",للطباعة1!$BY$15)","v":""},{"$f":"IF($B51=\"\",\"\",للطباعة1!$BX$15)","v":""},{"$f":"IF($B51=\"\",\"\",للطباعة1!$CF$15)","v":""},{"$f":"IF($B51=\"\",\"\",للطباعة1!$CE$15)","v":""},{"$f":"IF($B51=\"\",\"\",(U53+W53+Y53+AA53)/4)","v":""},{"$f":"IF($B51=\"\",\"\",(K51+T51+AC51)*0.04)","v":""},{"$f":"IF($B51=\"\",\"\",IF((AD51*40/12-INT(AD51*40/12))>=0.75,INT(AD51*40/12)+1,IF((AD51*40/12-INT(AD51*40/12))<0.25,INT(AD51*40/12),INT(AD51*40/12)+0.5)))","v":""},{"$f":"IF($B51=\"\",\"\",INDIRECT(ADDRESS(11+A51*2,18,1,,\"SeconedPartDegrees1\")))","v":""},{"$f":"IF($B51=\"\",\"\",INDIRECT(ADDRESS(11+A51*2,19,1,,\"SeconedPartDegrees1\")))","v":""},{"$f":"IF(OR(AF51=\"\",AG51=\"\"),\"\",AF51+AG51)","v":""},{"$f":"IF(OR(AE51=\"\",AG51=\"\"),\"\",AG51+AF51+AE51)","v":""},null,null,{"$f":"ROUNDUP(((FirstPartDegrees1!#REF!+D51)/2+(FirstPartDegrees1!E51+O51)/2+(FirstPartDegrees1!#REF!+M51)/2+(FirstPartDegrees1!C51+F51)/2 )/4,0)","v":{"$error":"#REF!"}},{"$f":"ROUNDUP(((FirstPartDegrees1!#REF!+FirstPartDegrees1!#REF!)/2+(FirstPartDegrees1!F51+J51)/2+(FirstPartDegrees1!#REF!+S51)/2+(FirstPartDegrees1!I51+#REF!)/2 )/4,0)","v":{"$error":"#REF!"}},{"$f":"ROUNDUP(((FirstPartDegrees1!#REF!+FirstPartDegrees1!J51)/2+(FirstPartDegrees1!#REF!+FirstPartDegrees1!#REF!)/2+(FirstPartDegrees1!#REF!+V51)/2+(AB51+#REF!)/2)/4,0)","v":{"$error":"#REF!"}},{"$f":"(AN51+AAE51+AL51)*40/12","v":{"$error":"#REF!"}}]
[null,null,{"$f":"IF($B51=\"\",\"\",للطباعة1!$G$15)","v":""},{"$f":"IF($B51=\"\",\"\",للطباعة1!$F$15)","v":""},{"$f":"IF($B51=\"\",\"\",للطباعة1!$N$15)","v":""},{"$f":"IF($B51=\"\",\"\",للطباعة1!$M$15)","v":""},{"$f":"IF($B51=\"\",\"\",للطباعة1!$U$15)","v":""},{"$f":"IF($B51=\"\",\"\",للطباعة1!$T$15)","v":""},{"$f":"IF($B51=\"\",\"\",للطباعة1!$AB$15)","v":""},{"$f":"IF($B51=\"\",\"\",للطباعة1!$AA$15)","v":""},null,{"$f":"IF($B51=\"\",\"\",للطباعة1!$AJ$15)","v":""},{"$f":"IF($B51=\"\",\"\",للطباعة1!$AI$15)","v":""},{"$f":"IF($B51=\"\",\"\",للطباعة1!$AQ$15)","v":""},{"$f":"IF($B51=\"\",\"\",للطباعة1!$AP$15)","v":""},{"$f":"IF($B51=\"\",\"\",للطباعة1!$AX$15)","v":""},{"$f":"IF($B51=\"\",\"\",للطباعة1!$AW$15)","v":""},{"$f":"IF($B51=\"\",\"\",للطباعة1!$BE$15)","v":""},{"$f":"IF($B51=\"\",\"\",للطباعة1!$BD$15)","v":""},null,{"$f":"IF($B51=\"\",\"\",للطباعة1!$BM$15)","v":""},{"$f":"IF($B51=\"\",\"\",للطباعة1!$BL$15)","v":""},{"$f":"IF($B51=\"\",\"\",للطباعة1!$BT$15)","v":""},{"$f":"IF($B51=\"\",\"\",للطباعة1!$BS$15)","v":""},{"$f":"IF($B51=\"\",\"\",للطباعة1!$CA$15)","v":""},{"$f":"IF($B51=\"\",\"\",للطباعة1!$BZ$15)","v":""},{"$f":"IF($B51=\"\",\"\",للطباعة1!$CH$15)","v":""},{"$f":"IF($B51=\"\",\"\",للطباعة1!$CG$15)","v":""}]
[null,"النقاط",{"$f":"IF($B51=\"\",\"\",(D51+D52)*100/8)","v":""},null,{"$f":"IF($B51=\"\",\"\",(F51+F52)*100/8)","v":""},null,{"$f":"IF($B51=\"\",\"\",(H51+H52)*100/8)","v":""},null,{"$f":"IF($B51=\"\",\"\",(J51+J52)*100/8)","v":""},null,null,{"$f":"IF($B51=\"\",\"\",(M51+M52)*100/8)","v":""},null,{"$f":"IF($B51=\"\",\"\",(O51+O52)*100/8)","v":""},null,{"$f":"IF($B51=\"\",\"\",(Q51+Q52)*100/8)","v":""},null,{"$f":"IF($B51=\"\",\"\",(S51+S52)*100/8)","v":""},null,null,{"$f":"IF($B51=\"\",\"\",(V51+V52)*100/8)","v":""},null,{"$f":"IF($B51=\"\",\"\",(X51+X52)*100/8)","v":""},null,{"$f":"IF($B51=\"\",\"\",(Z51+Z52)*100/8)","v":""},null,{"$f":"IF($B51=\"\",\"\",(AB51+AB52)*100/8)","v":""}]
[15,{"$f":"INDIRECT(ADDRESS(A54+1,2,,,\"للطباعة1\"))","v":""},{"$f":"IF($B54=\"\",\"\",للطباعة1!$E$16)","v":""},{"$f":"IF($B54=\"\",\"\",للطباعة1!$D$16)","v":""},{"$f":"IF($B54=\"\",\"\",للطباعة1!$L$16)","v":""},{"$f":"IF($B54=\"\",\"\",للطباعة1!$K$16)","v":""},{"$f":"IF($B54=\"\",\"\",للطباعة1!$S$16)","v":""},{"$f":"IF($B54=\"\",\"\",للطباعة1!$R$16)","v":""},{"$f":"IF($B54=\"\",\"\",للطباعة1!$Z$16)","v":""},{"$f":"IF($B54=\"\",\"\",للطباعة1!$Y$16)","v":""},{"$f":"IF($B54=\"\",\"\",(C56+E56+G56+I56)/4)","v":""},{"$f":"IF($B54=\"\",\"\",للطباعة1!$AH$16)","v":""},{"$f":"IF($B54=\"\",\"\",للطباعة1!$AG$16)","v":""},{"$f":"IF($B54=\"\",\"\",للطباعة1!$AO$16)","v":""},{"$f":"IF($B54=\"\",\"\",للطباعة1!$AN$16)","v":""},{"$f":"IF($B54=\"\",\"\",للطباعة1!$AV$16)","v":""},{"$f":"IF($B54=\"\",\"\",للطباعة1!$AU$16)","v":""},{"$f":"IF($B54=\"\",\"\",للطباعة1!$BC$16)","v":""},{"$f":"IF($B54=\"\",\"\",للطباعة1!$BB$16)","v":""},{"$f":"IF($B54=\"\",\"\",(L56+N56+P56+R56)/4)","v":""},{"$f":"IF($B54=\"\",\"\",للطباعة1!$BK$16)","v":""},{"$f":"IF($B54=\"\",\"\",للطباعة1!$BJ$16)","v":""},{"$f":"IF($B54=\"\",\"\",للطباعة1!$BR$16)","v":""},{"$f":"IF($B54=\"\",\"\",للطباعة1!$BQ$16)","v":""},{"$f":"IF($B54=\"\",\"\",للطباعة1!$BY$16)","v":""},{"$f":"IF($B54=\"\",\"\",للطباعة1!$BX$16)","v":""},{"$f":"IF($B54=\"\",\"\",للطباعة1!$CF$16)","v":""},{"$f":"IF($B54=\"\",\"\",للطباعة1!$CE$16)","v":""},{"$f":"IF($B54=\"\",\"\",(U56+W56+Y56+AA56)/4)","v":""},{"$f":"IF($B54=\"\",\"\",(K54+T54+AC54)*0.04)","v":""},{"$f":"IF($B54=\"\",\"\",IF((AD54*40/12-INT(AD54*40/12))>=0.75,INT(AD54*40/12)+1,IF((AD54*40/12-INT(AD54*40/12))<0.25,INT(AD54*40/12),INT(AD54*40/12)+0.5)))","v":""},{"$f":"IF($B54=\"\",\"\",INDIRECT(ADDRESS(11+A54*2,18,1,,\"SeconedPartDegrees1\")))","v":""},{"$f":"IF($B54=\"\",\"\",INDIRECT(ADDRESS(11+A54*2,19,1,,\"SeconedPartDegrees1\")))","v":""},{"$f":"IF(OR(AF54=\"\",AG54=\"\"),\"\",AF54+AG54)","v":""},{"$f":"IF(OR(AE54=\"\",AG54=\"\"),\"\",AG54+AF54+AE54)","v":""},null,null,{"$f":"ROUNDUP(((FirstPartDegrees1!#REF!+D54)/2+(FirstPartDegrees1!E54+O54)/2+(FirstPartDegrees1!#REF!+M54)/2+(FirstPartDegrees1!C54+F54)/2 )/4,0)","v":{"$error":"#REF!"}},{"$f":"ROUNDUP(((FirstPartDegrees1!#REF!+FirstPartDegrees1!#REF!)/2+(FirstPartDegrees1!F54+J54)/2+(FirstPartDegrees1!#REF!+S54)/2+(FirstPartDegrees1!I54+#REF!)/2 )/4,0)","v":{"$error":"#REF!"}},{"$f":"ROUNDUP(((FirstPartDegrees1!#REF!+FirstPartDegrees1!J54)/2+(FirstPartDegrees1!#REF!+FirstPartDegrees1!#REF!)/2+(FirstPartDegrees1!#REF!+V54)/2+(AB54+#REF!)/2)/4,0)","v":{"$error":"#REF!"}},{"$f":"(AN54+AAE54+AL54)*40/12","v":{"$error":"#REF!"}}]
[null,null,{"$f":"IF($B54=\"\",\"\",للطباعة1!$G$16)","v":""},{"$f":"IF($B54=\"\",\"\",للطباعة1!$F$16)","v":""},{"$f":"IF($B54=\"\",\"\",للطباعة1!$N$16)","v":""},{"$f":"IF($B54=\"\",\"\",للطباعة1!$M$16)","v":""},{"$f":"IF($B54=\"\",\"\",للطباعة1!$U$16)","v":""},{"$f":"IF($B54=\"\",\"\",للطباعة1!$T$16)","v":""},{"$f":"IF($B54=\"\",\"\",للطباعة1!$AB$16)","v":""},{"$f":"IF($B54=\"\",\"\",للطباعة1!$AA$16)","v":""},null,{"$f":"IF($B54=\"\",\"\",للطباعة1!$AJ$16)","v":""},{"$f":"IF($B54=\"\",\"\",للطباعة1!$AI$16)","v":""},{"$f":"IF($B54=\"\",\"\",للطباعة1!$AQ$16)","v":""},{"$f":"IF($B54=\"\",\"\",للطباعة1!$AP$16)","v":""},{"$f":"IF($B54=\"\",\"\",للطباعة1!$AX$16)","v":""},{"$f":"IF($B54=\"\",\"\",للطباعة1!$AW$16)","v":""},{"$f":"IF($B54=\"\",\"\",للطباعة1!$BE$16)","v":""},{"$f":"IF($B54=\"\",\"\",للطباعة1!$BD$16)","v":""},null,{"$f":"IF($B54=\"\",\"\",للطباعة1!$BM$16)","v":""},{"$f":"IF($B54=\"\",\"\",للطباعة1!$BL$16)","v":""},{"$f":"IF($B54=\"\",\"\",للطباعة1!$BT$16)","v":""},{"$f":"IF($B54=\"\",\"\",للطباعة1!$BS$16)","v":""},{"$f":"IF($B54=\"\",\"\",للطباعة1!$CA$16)","v":""},{"$f":"IF($B54=\"\",\"\",للطباعة1!$BZ$16)","v":""},{"$f":"IF($B54=\"\",\"\",للطباعة1!$CH$16)","v":""},{"$f":"IF($B54=\"\",\"\",للطباعة1!$CG$16)","v":""}]
[null,"النقاط",{"$f":"IF($B54=\"\",\"\",(D54+D55)*100/8)","v":""},null,{"$f":"IF($B54=\"\",\"\",(F54+F55)*100/8)","v":""},null,{"$f":"IF($B54=\"\",\"\",(H54+H55)*100/8)","v":""},null,{"$f":"IF($B54=\"\",\"\",(J54+J55)*100/8)","v":""},null,null,{"$f":"IF($B54=\"\",\"\",(M54+M55)*100/8)","v":""},null,{"$f":"IF($B54=\"\",\"\",(O54+O55)*100/8)","v":""},null,{"$f":"IF($B54=\"\",\"\",(Q54+Q55)*100/8)","v":""},null,{"$f":"IF($B54=\"\",\"\",(S54+S55)*100/8)","v":""},null,null,{"$f":"IF($B54=\"\",\"\",(V54+V55)*100/8)","v":""},null,{"$f":"IF($B54=\"\",\"\",(X54+X55)*100/8)","v":""},null,{"$f":"IF($B54=\"\",\"\",(Z54+Z55)*100/8)","v":""},null,{"$f":"IF($B54=\"\",\"\",(AB54+AB55)*100/8)","v":""}]
[16,{"$f":"INDIRECT(ADDRESS(A57+1,2,,,\"للطباعة1\"))","v":""},{"$f":"IF($B57=\"\",\"\",للطباعة1!$E$17)","v":""},{"$f":"IF($B57=\"\",\"\",للطباعة1!$D$17)","v":""},{"$f":"IF($B57=\"\",\"\",للطباعة1!$L$17)","v":""},{"$f":"IF($B57=\"\",\"\",للطباعة1!$K$17)","v":""},{"$f":"IF($B57=\"\",\"\",للطباعة1!$S$17)","v":""},{"$f":"IF($B57=\"\",\"\",للطباعة1!$R$17)","v":""},{"$f":"IF($B57=\"\",\"\",للطباعة1!$Z$17)","v":""},{"$f":"IF($B57=\"\",\"\",للطباعة1!$Y$17)","v":""},{"$f":"IF($B57=\"\",\"\",(C59+E59+G59+I59)/4)","v":""},{"$f":"IF($B57=\"\",\"\",للطباعة1!$AH$17)","v":""},{"$f":"IF($B57=\"\",\"\",للطباعة1!$AG$17)","v":""},{"$f":"IF($B57=\"\",\"\",للطباعة1!$AO$17)","v":""},{"$f":"IF($B57=\"\",\"\",للطباعة1!$AN$17)","v":""},{"$f":"IF($B57=\"\",\"\",للطباعة1!$AV$17)","v":""},{"$f":"IF($B57=\"\",\"\",للطباعة1!$AU$17)","v":""},{"$f":"IF($B57=\"\",\"\",للطباعة1!$BC$17)","v":""},{"$f":"IF($B57=\"\",\"\",للطباعة1!$BB$17)","v":""},{"$f":"IF($B57=\"\",\"\",(L59+N59+P59+R59)/4)","v":""},{"$f":"IF($B57=\"\",\"\",للطباعة1!$BK$17)","v":""},{"$f":"IF($B57=\"\",\"\",للطباعة1!$BJ$17)","v":""},{"$f":"IF($B57=\"\",\"\",للطباعة1!$BR$17)","v":""},{"$f":"IF($B57=\"\",\"\",للطباعة1!$BQ$17)","v":""},{"$f":"IF($B57=\"\",\"\",للطباعة1!$BY$17)","v":""},{"$f":"IF($B57=\"\",\"\",للطباعة1!$BX$17)","v":""},{"$f":"IF($B57=\"\",\"\",للطباعة1!$CF$17)","v":""},{"$f":"IF($B57=\"\",\"\",للطباعة1!$CE$17)","v":""},{"$f":"IF($B57=\"\",\"\",(U59+W59+Y59+AA59)/4)","v":""},{"$f":"IF($B57=\"\",\"\",(K57+T57+AC57)*0.04)","v":""},{"$f":"IF($B57=\"\",\"\",IF((AD57*40/12-INT(AD57*40/12))>=0.75,INT(AD57*40/12)+1,IF((AD57*40/12-INT(AD57*40/12))<0.25,INT(AD57*40/12),INT(AD57*40/12)+0.5)))","v":""},{"$f":"IF($B57=\"\",\"\",INDIRECT(ADDRESS(11+A57*2,18,1,,\"SeconedPartDegrees1\")))","v":""},{"$f":"IF($B57=\"\",\"\",INDIRECT(ADDRESS(11+A57*2,19,1,,\"SeconedPartDegrees1\")))","v":""},{"$f":"IF(OR(AF57=\"\",AG57=\"\"),\"\",AF57+AG57)","v":""},{"$f":"IF(OR(AE57=\"\",AG57=\"\"),\"\",AG57+AF57+AE57)","v":""},null,null,{"$f":"ROUNDUP(((FirstPartDegrees1!#REF!+D57)/2+(FirstPartDegrees1!E57+O57)/2+(FirstPartDegrees1!#REF!+M57)/2+(FirstPartDegrees1!C57+F57)/2 )/4,0)","v":{"$error":"#REF!"}},{"$f":"ROUNDUP(((FirstPartDegrees1!#REF!+FirstPartDegrees1!#REF!)/2+(FirstPartDegrees1!F57+J57)/2+(FirstPartDegrees1!#REF!+S57)/2+(FirstPartDegrees1!I57+#REF!)/2 )/4,0)","v":{"$error":"#REF!"}},{"$f":"ROUNDUP(((FirstPartDegrees1!#REF!+FirstPartDegrees1!J57)/2+(FirstPartDegrees1!#REF!+FirstPartDegrees1!#REF!)/2+(FirstPartDegrees1!#REF!+V57)/2+(AB57+#REF!)/2)/4,0)","v":{"$error":"#REF!"}},{"$f":"(AN57+AAE57+AL57)*40/12","v":{"$error":"#REF!"}}]
[null,null,{"$f":"IF($B57=\"\",\"\",للطباعة1!$G$17)","v":""},{"$f":"IF($B57=\"\",\"\",للطباعة1!$F$17)","v":""},{"$f":"IF($B57=\"\",\"\",للطباعة1!$N$17)","v":""},{"$f":"IF($B57=\"\",\"\",للطباعة1!$M$17)","v":""},{"$f":"IF($B57=\"\",\"\",للطباعة1!$U$17)","v":""},{"$f":"IF($B57=\"\",\"\",للطباعة1!$T$17)","v":""},{"$f":"IF($B57=\"\",\"\",للطباعة1!$AB$17)","v":""},{"$f":"IF($B57=\"\",\"\",للطباعة1!$AA$17)","v":""},null,{"$f":"IF($B57=\"\",\"\",للطباعة1!$AJ$17)","v":""},{"$f":"IF($B57=\"\",\"\",للطباعة1!$AI$17)","v":""},{"$f":"IF($B57=\"\",\"\",للطباعة1!$AQ$17)","v":""},{"$f":"IF($B57=\"\",\"\",للطباعة1!$AP$17)","v":""},{"$f":"IF($B57=\"\",\"\",للطباعة1!$AX$17)","v":""},{"$f":"IF($B57=\"\",\"\",للطباعة1!$AW$17)","v":""},{"$f":"IF($B57=\"\",\"\",للطباعة1!$BE$17)","v":""},{"$f":"IF($B57=\"\",\"\",للطباعة1!$BD$17)","v":""},null,{"$f":"IF($B57=\"\",\"\",للطباعة1!$BM$17)","v":""},{"$f":"IF($B57=\"\",\"\",للطباعة1!$BL$17)","v":""},{"$f":"IF($B57=\"\",\"\",للطباعة1!$BT$17)","v":""},{"$f":"IF($B57=\"\",\"\",للطباعة1!$BS$17)","v":""},{"$f":"IF($B57=\"\",\"\",للطباعة1!$CA$17)","v":""},{"$f":"IF($B57=\"\",\"\",للطباعة1!$BZ$17)","v":""},{"$f":"IF($B57=\"\",\"\",للطباعة1!$CH$17)","v":""},{"$f":"IF($B57=\"\",\"\",للطباعة1!$CG$17)","v":""}]
[null,"النقاط",{"$f":"IF($B57=\"\",\"\",(D57+D58)*100/8)","v":""},null,{"$f":"IF($B57=\"\",\"\",(F57+F58)*100/8)","v":""},null,{"$f":"IF($B57=\"\",\"\",(H57+H58)*100/8)","v":""},null,{"$f":"IF($B57=\"\",\"\",(J57+J58)*100/8)","v":""},null,null,{"$f":"IF($B57=\"\",\"\",(M57+M58)*100/8)","v":""},null,{"$f":"IF($B57=\"\",\"\",(O57+O58)*100/8)","v":""},null,{"$f":"IF($B57=\"\",\"\",(Q57+Q58)*100/8)","v":""},null,{"$f":"IF($B57=\"\",\"\",(S57+S58)*100/8)","v":""},null,null,{"$f":"IF($B57=\"\",\"\",(V57+V58)*100/8)","v":""},null,{"$f":"IF($B57=\"\",\"\",(X57+X58)*100/8)","v":""},null,{"$f":"IF($B57=\"\",\"\",(Z57+Z58)*100/8)","v":""},null,{"$f":"IF($B57=\"\",\"\",(AB57+AB58)*100/8)","v":""}]
[17,{"$f":"INDIRECT(ADDRESS(A60+1,2,,,\"للطباعة1\"))","v":""},{"$f":"IF($B60=\"\",\"\",للطباعة1!$E$18)","v":""},{"$f":"IF($B60=\"\",\"\",للطباعة1!$D$18)","v":""},{"$f":"IF($B60=\"\",\"\",للطباعة1!$L$18)","v":""},{"$f":"IF($B60=\"\",\"\",للطباعة1!$K$18)","v":""},{"$f":"IF($B60=\"\",\"\",للطباعة1!$S$18)","v":""},{"$f":"IF($B60=\"\",\"\",للطباعة1!$R$18)","v":""},{"$f":"IF($B60=\"\",\"\",للطباعة1!$Z$18)","v":""},{"$f":"IF($B60=\"\",\"\",للطباعة1!$Y$18)","v":""},{"$f":"IF($B60=\"\",\"\",(C62+E62+G62+I62)/4)","v":""},{"$f":"IF($B60=\"\",\"\",للطباعة1!$AH$18)","v":""},{"$f":"IF($B60=\"\",\"\",للطباعة1!$AG$18)","v":""},{"$f":"IF($B60=\"\",\"\",للطباعة1!$AO$18)","v":""},{"$f":"IF($B60=\"\",\"\",للطباعة1!$AN$18)","v":""},{"$f":"IF($B60=\"\",\"\",للطباعة1!$AV$18)","v":""},{"$f":"IF($B60=\"\",\"\",للطباعة1!$AU$18)","v":""},{"$f":"IF($B60=\"\",\"\",للطباعة1!$BC$18)","v":""},{"$f":"IF($B60=\"\",\"\",للطباعة1!$BB$18)","v":""},{"$f":"IF($B60=\"\",\"\",(L62+N62+P62+R62)/4)","v":""},{"$f":"IF($B60=\"\",\"\",للطباعة1!$BK$18)","v":""},{"$f":"IF($B60=\"\",\"\",للطباعة1!$BJ$18)","v":""},{"$f":"IF($B60=\"\",\"\",للطباعة1!$BR$18)","v":""},{"$f":"IF($B60=\"\",\"\",للطباعة1!$BQ$18)","v":""},{"$f":"IF($B60=\"\",\"\",للطباعة1!$BY$18)","v":""},{"$f":"IF($B60=\"\",\"\",للطباعة1!$BX$18)","v":""},{"$f":"IF($B60=\"\",\"\",للطباعة1!$CF$18)","v":""},{"$f":"IF($B60=\"\",\"\",للطباعة1!$CE$18)","v":""},{"$f":"IF($B60=\"\",\"\",(U62+W62+Y62+AA62)/4)","v":""},{"$f":"IF($B60=\"\",\"\",(K60+T60+AC60)*0.04)","v":""},{"$f":"IF($B60=\"\",\"\",IF((AD60*40/12-INT(AD60*40/12))>=0.75,INT(AD60*40/12)+1,IF((AD60*40/12-INT(AD60*40/12))<0.25,INT(AD60*40/12),INT(AD60*40/12)+0.5)))","v":""},{"$f":"IF($B60=\"\",\"\",INDIRECT(ADDRESS(11+A60*2,18,1,,\"SeconedPartDegrees1\")))","v":""},{"$f":"IF($B60=\"\",\"\",INDIRECT(ADDRESS(11+A60*2,19,1,,\"SeconedPartDegrees1\")))","v":""},{"$f":"IF(OR(AF60=\"\",AG60=\"\"),\"\",AF60+AG60)","v":""},{"$f":"IF(OR(AE60=\"\",AG60=\"\"),\"\",AG60+AF60+AE60)","v":""},null,null,{"$f":"ROUNDUP(((FirstPartDegrees1!#REF!+D60)/2+(FirstPartDegrees1!E60+O60)/2+(FirstPartDegrees1!#REF!+M60)/2+(FirstPartDegrees1!C60+F60)/2 )/4,0)","v":{"$error":"#REF!"}},{"$f":"ROUNDUP(((FirstPartDegrees1!#REF!+FirstPartDegrees1!#REF!)/2+(FirstPartDegrees1!F60+J60)/2+(FirstPartDegrees1!#REF!+S60)/2+(FirstPartDegrees1!I60+#REF!)/2 )/4,0)","v":{"$error":"#REF!"}},{"$f":"ROUNDUP(((FirstPartDegrees1!#REF!+FirstPartDegrees1!J60)/2+(FirstPartDegrees1!#REF!+FirstPartDegrees1!#REF!)/2+(FirstPartDegrees1!#REF!+V60)/2+(AB60+#REF!)/2)/4,0)","v":{"$error":"#REF!"}},{"$f":"(AN60+AAE60+AL60)*40/12","v":{"$error":"#REF!"}}]
[null,null,{"$f":"IF($B60=\"\",\"\",للطباعة1!$G$18)","v":""},{"$f":"IF($B60=\"\",\"\",للطباعة1!$F$18)","v":""},{"$f":"IF($B60=\"\",\"\",للطباعة1!$N$18)","v":""},{"$f":"IF($B60=\"\",\"\",للطباعة1!$M$18)","v":""},{"$f":"IF($B60=\"\",\"\",للطباعة1!$U$18)","v":""},{"$f":"IF($B60=\"\",\"\",للطباعة1!$T$18)","v":""},{"$f":"IF($B60=\"\",\"\",للطباعة1!$AB$18)","v":""},{"$f":"IF($B60=\"\",\"\",للطباعة1!$AA$18)","v":""},null,{"$f":"IF($B60=\"\",\"\",للطباعة1!$AJ$18)","v":""},{"$f":"IF($B60=\"\",\"\",للطباعة1!$AI$18)","v":""},{"$f":"IF($B60=\"\",\"\",للطباعة1!$AQ$18)","v":""},{"$f":"IF($B60=\"\",\"\",للطباعة1!$AP$18)","v":""},{"$f":"IF($B60=\"\",\"\",للطباعة1!$AX$18)","v":""},{"$f":"IF($B60=\"\",\"\",للطباعة1!$AW$18)","v":""},{"$f":"IF($B60=\"\",\"\",للطباعة1!$BE$18)","v":""},{"$f":"IF($B60=\"\",\"\",للطباعة1!$BD$18)","v":""},null,{"$f":"IF($B60=\"\",\"\",للطباعة1!$BM$18)","v":""},{"$f":"IF($B60=\"\",\"\",للطباعة1!$BL$18)","v":""},{"$f":"IF($B60=\"\",\"\",للطباعة1!$BT$18)","v":""},{"$f":"IF($B60=\"\",\"\",للطباعة1!$BS$18)","v":""},{"$f":"IF($B60=\"\",\"\",للطباعة1!$CA$18)","v":""},{"$f":"IF($B60=\"\",\"\",للطباعة1!$BZ$18)","v":""},{"$f":"IF($B60=\"\",\"\",للطباعة1!$CH$18)","v":""},{"$f":"IF($B60=\"\",\"\",للطباعة1!$CG$18)","v":""}]
[null,"النقاط",{"$f":"IF($B60=\"\",\"\",(D60+D61)*100/8)","v":""},null,{"$f":"IF($B60=\"\",\"\",(F60+F61)*100/8)","v":""},null,{"$f":"IF($B60=\"\",\"\",(H60+H61)*100/8)","v":""},null,{"$f":"IF($B60=\"\",\"\",(J60+J61)*100/8)","v":""},null,null,{"$f":"IF($B60=\"\",\"\",(M60+M61)*100/8)","v":""},null,{"$f":"IF($B60=\"\",\"\",(O60+O61)*100/8)","v":""},null,{"$f":"IF($B60=\"\",\"\",(Q60+Q61)*100/8)","v":""},null,{"$f":"IF($B60=\"\",\"\",(S60+S61)*100/8)","v":""},null,null,{"$f":"IF($B60=\"\",\"\",(V60+V61)*100/8)","v":""},null,{"$f":"IF($B60=\"\",\"\",(X60+X61)*100/8)","v":""},null,{"$f":"IF($B60=\"\",\"\",(Z60+Z61)*100/8)","v":""},null,{"$f":"IF($B60=\"\",\"\",(AB60+AB61)*100/8)","v":""}]
[18,{"$f":"INDIRECT(ADDRESS(A63+1,2,,,\"للطباعة1\"))","v":""},{"$f":"IF($B63=\"\",\"\",للطباعة1!$E$19)","v":""},{"$f":"IF($B63=\"\",\"\",للطباعة1!$D$19)","v":""},{"$f":"IF($B63=\"\",\"\",للطباعة1!$L$19)","v":""},{"$f":"IF($B63=\"\",\"\",للطباعة1!$K$19)","v":""},{"$f":"IF($B63=\"\",\"\",للطباعة1!$S$19)","v":""},{"$f":"IF($B63=\"\",\"\",للطباعة1!$R$19)","v":""},{"$f":"IF($B63=\"\",\"\",للطباعة1!$Z$19)","v":""},{"$f":"IF($B63=\"\",\"\",للطباعة1!$Y$19)","v":""},{"$f":"IF($B63=\"\",\"\",(C65+E65+G65+I65)/4)","v":""},{"$f":"IF($B63=\"\",\"\",للطباعة1!$AH$19)","v":""},{"$f":"IF($B63=\"\",\"\",للطباعة1!$AG$19)","v":""},{"$f":"IF($B63=\"\",\"\",للطباعة1!$AO$19)","v":""},{"$f":"IF($B63=\"\",\"\",للطباعة1!$AN$19)","v":""},{"$f":"IF($B63=\"\",\"\",للطباعة1!$AV$19)","v":""},{"$f":"IF($B63=\"\",\"\",للطباعة1!$AU$19)","v":""},{"$f":"IF($B63=\"\",\"\",للطباعة1!$BC$19)","v":""},{"$f":"IF($B63=\"\",\"\",للطباعة1!$BB$19)","v":""},{"$f":"IF($B63=\"\",\"\",(L65+N65+P65+R65)/4)","v":""},{"$f":"IF($B63=\"\",\"\",للطباعة1!$BK$19)","v":""},{"$f":"IF($B63=\"\",\"\",للطباعة1!$BJ$19)","v":""},{"$f":"IF($B63=\"\",\"\",للطباعة1!$BR$19)","v":""},{"$f":"IF($B63=\"\",\"\",للطباعة1!$BQ$19)","v":""},{"$f":"IF($B63=\"\",\"\",للطباعة1!$BY$19)","v":""},{"$f":"IF($B63=\"\",\"\",للطباعة1!$BX$19)","v":""},{"$f":"IF($B63=\"\",\"\",للطباعة1!$CF$19)","v":""},{"$f":"IF($B63=\"\",\"\",للطباعة1!$CE$19)","v":""},{"$f":"IF($B63=\"\",\"\",(U65+W65+Y65+AA65)/4)","v":""},{"$f":"IF($B63=\"\",\"\",(K63+T63+AC63)*0.04)","v":""},{"$f":"IF($B63=\"\",\"\",IF((AD63*40/12-INT(AD63*40/12))>=0.75,INT(AD63*40/12)+1,IF((AD63*40/12-INT(AD63*40/12))<0.25,INT(AD63*40/12),INT(AD63*40/12)+0.5)))","v":""},{"$f":"IF($B63=\"\",\"\",INDIRECT(ADDRESS(11+A63*2,18,1,,\"SeconedPartDegrees1\")))","v":""},{"$f":"IF($B63=\"\",\"\",INDIRECT(ADDRESS(11+A63*2,19,1,,\"SeconedPartDegrees1\")))","v":""},{"$f":"IF(OR(AF63=\"\",AG63=\"\"),\"\",AF63+AG63)","v":""},{"$f":"IF(OR(AE63=\"\",AG63=\"\"),\"\",AG63+AF63+AE63)","v":""},null,null,{"$f":"ROUNDUP(((FirstPartDegrees1!#REF!+D63)/2+(FirstPartDegrees1!E63+O63)/2+(FirstPartDegrees1!#REF!+M63)/2+(FirstPartDegrees1!C63+F63)/2 )/4,0)","v":{"$error":"#REF!"}},{"$f":"ROUNDUP(((FirstPartDegrees1!#REF!+FirstPartDegrees1!#REF!)/2+(FirstPartDegrees1!F63+J63)/2+(FirstPartDegrees1!#REF!+S63)/2+(FirstPartDegrees1!I63+#REF!)/2 )/4,0)","v":{"$error":"#REF!"}},{"$f":"ROUNDUP(((FirstPartDegrees1!#REF!+FirstPartDegrees1!J63)/2+(FirstPartDegrees1!#REF!+FirstPartDegrees1!#REF!)/2+(FirstPartDegrees1!#REF!+V63)/2+(AB63+#REF!)/2)/4,0)","v":{"$error":"#REF!"}},{"$f":"(AN63+AAE63+AL63)*40/12","v":{"$error":"#REF!"}}]
[null,null,{"$f":"IF($B63=\"\",\"\",للطباعة1!$G$19)","v":""},{"$f":"IF($B63=\"\",\"\",للطباعة1!$F$19)","v":""},{"$f":"IF($B63=\"\",\"\",للطباعة1!$N$19)","v":""},{"$f":"IF($B63=\"\",\"\",للطباعة1!$M$19)","v":""},{"$f":"IF($B63=\"\",\"\",للطباعة1!$U$19)","v":""},{"$f":"IF($B63=\"\",\"\",للطباعة1!$T$19)","v":""},{"$f":"IF($B63=\"\",\"\",للطباعة1!$AB$19)","v":""},{"$f":"IF($B63=\"\",\"\",للطباعة1!$AA$19)","v":""},null,{"$f":"IF($B63=\"\",\"\",للطباعة1!$AJ$19)","v":""},{"$f":"IF($B63=\"\",\"\",للطباعة1!$AI$19)","v":""},{"$f":"IF($B63=\"\",\"\",للطباعة1!$AQ$19)","v":""},{"$f":"IF($B63=\"\",\"\",للطباعة1!$AP$19)","v":""},{"$f":"IF($B63=\"\",\"\",للطباعة1!$AX$19)","v":""},{"$f":"IF($B63=\"\",\"\",للطباعة1!$AW$19)","v":""},{"$f":"IF($B63=\"\",\"\",للطباعة1!$BE$19)","v":""},{"$f":"IF($B63=\"\",\"\",للطباعة1!$BD$19)","v":""},null,{"$f":"IF($B63=\"\",\"\",للطباعة1!$BM$19)","v":""},{"$f":"IF($B63=\"\",\"\",للطباعة1!$BL$19)","v":""},{"$f":"IF($B63=\"\",\"\",للطباعة1!$BT$19)","v":""},{"$f":"IF($B63=\"\",\"\",للطباعة1!$BS$19)","v":""},{"$f":"IF($B63=\"\",\"\",للطباعة1!$CA$19)","v":""},{"$f":"IF($B63=\"\",\"\",للطباعة1!$BZ$19)","v":""},{"$f":"IF($B63=\"\",\"\",للطباعة1!$CH$19)","v":""},{"$f":"IF($B63=\"\",\"\",للطباعة1!$CG$19)","v":""}]
[null,"النقاط",{"$f":"IF($B63=\"\",\"\",(D63+D64)*100/8)","v":""},null,{"$f":"IF($B63=\"\",\"\",(F63+F64)*100/8)","v":""},null,{"$f":"IF($B63=\"\",\"\",(H63+H64)*100/8)","v":""},null,{"$f":"IF($B63=\"\",\"\",(J63+J64)*100/8)","v":""},null,null,{"$f":"IF($B63=\"\",\"\",(M63+M64)*100/8)","v":""},null,{"$f":"IF($B63=\"\",\"\",(O63+O64)*100/8)","v":""},null,{"$f":"IF($B63=\"\",\"\",(Q63+Q64)*100/8)","v":""},null,{"$f":"IF($B63=\"\",\"\",(S63+S64)*100/8)","v":""},null,null,{"$f":"IF($B63=\"\",\"\",(V63+V64)*100/8)","v":""},null,{"$f":"IF($B63=\"\",\"\",(X63+X64)*100/8)","v":""},null,{"$f":"IF($B63=\"\",\"\",(Z63+Z64)*100/8)","v":""},null,{"$f":"IF($B63=\"\",\"\",(AB63+AB64)*100/8)","v":""}]
[19,{"$f":"INDIRECT(ADDRESS(A66+1,2,,,\"للطباعة1\"))","v":""},{"$f":"IF($B66=\"\",\"\",للطباعة1!$E$20)","v":""},{"$f":"IF($B66=\"\",\"\",للطباعة1!$D$20)","v":""},{"$f":"IF($B66=\"\",\"\",للطباعة1!$L$20)","v":""},{"$f":"IF($B66=\"\",\"\",للطباعة1!$K$20)","v":""},{"$f":"IF($B66=\"\",\"\",للطباعة1!$S$20)","v":""},{"$f":"IF($B66=\"\",\"\",للطباعة1!$R$20)","v":""},{"$f":"IF($B66=\"\",\"\",للطباعة1!$Z$20)","v":""},{"$f":"IF($B66=\"\",\"\",للطباعة1!$Y$20)","v":""},{"$f":"IF($B66=\"\",\"\",(C68+E68+G68+I68)/4)","v":""},{"$f":"IF($B66=\"\",\"\",للطباعة1!$AH$20)","v":""},{"$f":"IF($B66=\"\",\"\",للطباعة1!$AG$20)","v":""},{"$f":"IF($B66=\"\",\"\",للطباعة1!$AO$20)","v":""},{"$f":"IF($B66=\"\",\"\",للطباعة1!$AN$20)","v":""},{"$f":"IF($B66=\"\",\"\",للطباعة1!$AV$20)","v":""},{"$f":"IF($B66=\"\",\"\",للطباعة1!$AU$20)","v":""},{"$f":"IF($B66=\"\",\"\",للطباعة1!$BC$20)","v":""},{"$f":"IF($B66=\"\",\"\",للطباعة1!$BB$20)","v":""},{"$f":"IF($B66=\"\",\"\",(L68+N68+P68+R68)/4)","v":""},{"$f":"IF($B66=\"\",\"\",للطباعة1!$BK$20)","v":""},{"$f":"IF($B66=\"\",\"\",للطباعة1!$BJ$20)","v":""},{"$f":"IF($B66=\"\",\"\",للطباعة1!$BR$20)","v":""},{"$f":"IF($B66=\"\",\"\",للطباعة1!$BQ$20)","v":""},{"$f":"IF($B66=\"\",\"\",للطباعة1!$BY$20)","v":""},{"$f":"IF($B66=\"\",\"\",للطباعة1!$BX$20)","v":""},{"$f":"IF($B66=\"\",\"\",للطباعة1!$CF$20)","v":""},{"$f":"IF($B66=\"\",\"\",للطباعة1!$CE$20)","v":""},{"$f":"IF($B66=\"\",\"\",(U68+W68+Y68+AA68)/4)","v":""},{"$f":"IF($B66=\"\",\"\",(K66+T66+AC66)*0.04)","v":""},{"$f":"IF($B66=\"\",\"\",IF((AD66*40/12-INT(AD66*40/12))>=0.75,INT(AD66*40/12)+1,IF((AD66*40/12-INT(AD66*40/12))<0.25,INT(AD66*40/12),INT(AD66*40/12)+0.5)))","v":""},{"$f":"IF($B66=\"\",\"\",INDIRECT(ADDRESS(11+A66*2,18,1,,\"SeconedPartDegrees1\")))","v":""},{"$f":"IF($B66=\"\",\"\",INDIRECT(ADDRESS(11+A66*2,19,1,,\"SeconedPartDegrees1\")))","v":""},{"$f":"IF(OR(AF66=\"\",AG66=\"\"),\"\",AF66+AG66)","v":""},{"$f":"IF(OR(AE66=\"\",AG66=\"\"),\"\",AG66+AF66+AE66)","v":""},null,null,{"$f":"ROUNDUP(((FirstPartDegrees1!#REF!+D66)/2+(FirstPartDegrees1!E66+O66)/2+(FirstPartDegrees1!#REF!+M66)/2+(FirstPartDegrees1!C66+F66)/2 )/4,0)","v":{"$error":"#REF!"}},{"$f":"ROUNDUP(((FirstPartDegrees1!#REF!+FirstPartDegrees1!#REF!)/2+(FirstPartDegrees1!F66+J66)/2+(FirstPartDegrees1!#REF!+S66)/2+(FirstPartDegrees1!I66+#REF!)/2 )/4,0)","v":{"$error":"#REF!"}},{"$f":"ROUNDUP(((FirstPartDegrees1!#REF!+FirstPartDegrees1!J66)/2+(FirstPartDegrees1!#REF!+FirstPartDegrees1!#REF!)/2+(FirstPartDegrees1!#REF!+V66)/2+(AB66+#REF!)/2)/4,0)","v":{"$error":"#REF!"}},{"$f":"(AN66+AAE66+AL66)*40/12","v":{"$error":"#REF!"}}]
[null,null,{"$f":"IF($B66=\"\",\"\",للطباعة1!$G$20)","v":""},{"$f":"IF($B66=\"\",\"\",للطباعة1!$F$20)","v":""},{"$f":"IF($B66=\"\",\"\",للطباعة1!$N$20)","v":""},{"$f":"IF($B66=\"\",\"\",للطباعة1!$M$20)","v":""},{"$f":"IF($B66=\"\",\"\",للطباعة1!$U$20)","v":""},{"$f":"IF($B66=\"\",\"\",للطباعة1!$T$20)","v":""},{"$f":"IF($B66=\"\",\"\",للطباعة1!$AB$20)","v":""},{"$f":"IF($B66=\"\",\"\",للطباعة1!$AA$20)","v":""},null,{"$f":"IF($B66=\"\",\"\",للطباعة1!$AJ$20)","v":""},{"$f":"IF($B66=\"\",\"\",للطباعة1!$AI$20)","v":""},{"$f":"IF($B66=\"\",\"\",للطباعة1!$AQ$20)","v":""},{"$f":"IF($B66=\"\",\"\",للطباعة1!$AP$20)","v":""},{"$f":"IF($B66=\"\",\"\",للطباعة1!$AX$20)","v":""},{"$f":"IF($B66=\"\",\"\",للطباعة1!$AW$20)","v":""},{"$f":"IF($B66=\"\",\"\",للطباعة1!$BE$20)","v":""},{"$f":"IF($B66=\"\",\"\",للطباعة1!$BD$20)","v":""},null,{"$f":"IF($B66=\"\",\"\",للطباعة1!$BM$20)","v":""},{"$f":"IF($B66=\"\",\"\",للطباعة1!$BL$20)","v":""},{"$f":"IF($B66=\"\",\"\",للطباعة1!$BT$20)","v":""},{"$f":"IF($B66=\"\",\"\",للطباعة1!$BS$20)","v":""},{"$f":"IF($B66=\"\",\"\",للطباعة1!$CA$20)","v":""},{"$f":"IF($B66=\"\",\"\",للطباعة1!$BZ$20)","v":""},{"$f":"IF($B66=\"\",\"\",للطباعة1!$CH$20)","v":""},{"$f":"IF($B66=\"\",\"\",للطباعة1!$CG$20)","v":""}]
[null,"النقاط",{"$f":"IF($B66=\"\",\"\",(D66+D67)*100/8)","v":""},null,{"$f":"IF($B66=\"\",\"\",(F66+F67)*100/8)","v":""},null,{"$f":"IF($B66=\"\",\"\",(H66+H67)*100/8)","v":""},null,{"$f":"IF($B66=\"\",\"\",(J66+J67)*100/8)","v":""},null,null,{"$f":"IF($B66=\"\",\"\",(M66+M67)*100/8)","v":""},null,{"$f":"IF($B66=\"\",\"\",(O66+O67)*100/8)","v":""},null,{"$f":"IF($B66=\"\",\"\",(Q66+Q67)*100/8)","v":""},null,{"$f":"IF($B66=\"\",\"\",(S66+S67)*100/8)","v":""},null,null,{"$f":"IF($B66=\"\",\"\",(V66+V67)*100/8)","v":""},null,{"$f":"IF($B66=\"\",\"\",(X66+X67)*100/8)","v":""},null,{"$f":"IF($B66=\"\",\"\",(Z66+Z67)*100/8)","v":""},null,{"$f":"IF($B66=\"\",\"\",(AB66+AB67)*100/8)","v":""}]
[20,{"$f":"INDIRECT(ADDRESS(A69+1,2,,,\"للطباعة1\"))","v":""},{"$f":"IF($B69=\"\",\"\",للطباعة1!$E$21)","v":""},{"$f":"IF($B69=\"\",\"\",للطباعة1!$D$21)","v":""},{"$f":"IF($B69=\"\",\"\",للطباعة1!$L$21)","v":""},{"$f":"IF($B69=\"\",\"\",للطباعة1!$K$21)","v":""},{"$f":"IF($B69=\"\",\"\",للطباعة1!$S$21)","v":""},{"$f":"IF($B69=\"\",\"\",للطباعة1!$R$21)","v":""},{"$f":"IF($B69=\"\",\"\",للطباعة1!$Z$21)","v":""},{"$f":"IF($B69=\"\",\"\",للطباعة1!$Y$21)","v":""},{"$f":"IF($B69=\"\",\"\",(C71+E71+G71+I71)/4)","v":""},{"$f":"IF($B69=\"\",\"\",للطباعة1!$AH$21)","v":""},{"$f":"IF($B69=\"\",\"\",للطباعة1!$AG$21)","v":""},{"$f":"IF($B69=\"\",\"\",للطباعة1!$AO$21)","v":""},{"$f":"IF($B69=\"\",\"\",للطباعة1!$AN$21)","v":""},{"$f":"IF($B69=\"\",\"\",للطباعة1!$AV$21)","v":""},{"$f":"IF($B69=\"\",\"\",للطباعة1!$AU$21)","v":""},{"$f":"IF($B69=\"\",\"\",للطباعة1!$BC$21)","v":""},{"$f":"IF($B69=\"\",\"\",للطباعة1!$BB$21)","v":""},{"$f":"IF($B69=\"\",\"\",(L71+N71+P71+R71)/4)","v":""},{"$f":"IF($B69=\"\",\"\",للطباعة1!$BK$21)","v":""},{"$f":"IF($B69=\"\",\"\",للطباعة1!$BJ$21)","v":""},{"$f":"IF($B69=\"\",\"\",للطباعة1!$BR$21)","v":""},{"$f":"IF($B69=\"\",\"\",للطباعة1!$BQ$21)","v":""},{"$f":"IF($B69=\"\",\"\",للطباعة1!$BY$21)","v":""},{"$f":"IF($B69=\"\",\"\",للطباعة1!$BX$21)","v":""},{"$f":"IF($B69=\"\",\"\",للطباعة1!$CF$21)","v":""},{"$f":"IF($B69=\"\",\"\",للطباعة1!$CE$21)","v":""},{"$f":"IF($B69=\"\",\"\",(U71+W71+Y71+AA71)/4)","v":""},{"$f":"IF($B69=\"\",\"\",(K69+T69+AC69)*0.04)","v":""},{"$f":"IF($B69=\"\",\"\",IF((AD69*40/12-INT(AD69*40/12))>=0.75,INT(AD69*40/12)+1,IF((AD69*40/12-INT(AD69*40/12))<0.25,INT(AD69*40/12),INT(AD69*40/12)+0.5)))","v":""},{"$f":"IF($B69=\"\",\"\",INDIRECT(ADDRESS(11+A69*2,18,1,,\"SeconedPartDegrees1\")))","v":""},{"$f":"IF($B69=\"\",\"\",INDIRECT(ADDRESS(11+A69*2,19,1,,\"SeconedPartDegrees1\")))","v":""},{"$f":"IF(OR(AF69=\"\",AG69=\"\"),\"\",AF69+AG69)","v":""},{"$f":"IF(OR(AE69=\"\",AG69=\"\"),\"\",AG69+AF69+AE69)","v":""},null,null,{"$f":"ROUNDUP(((FirstPartDegrees1!#REF!+D69)/2+(FirstPartDegrees1!E69+O69)/2+(FirstPartDegrees1!#REF!+M69)/2+(FirstPartDegrees1!C69+F69)/2 )/4,0)","v":{"$error":"#REF!"}},{"$f":"ROUNDUP(((FirstPartDegrees1!#REF!+FirstPartDegrees1!#REF!)/2+(FirstPartDegrees1!F69+J69)/2+(FirstPartDegrees1!#REF!+S69)/2+(FirstPartDegrees1!I69+#REF!)/2 )/4,0)","v":{"$error":"#REF!"}},{"$f":"ROUNDUP(((FirstPartDegrees1!#REF!+FirstPartDegrees1!J69)/2+(FirstPartDegrees1!#REF!+FirstPartDegrees1!#REF!)/2+(FirstPartDegrees1!#REF!+V69)/2+(AB69+#REF!)/2)/4,0)","v":{"$error":"#REF!"}},{"$f":"(AN69+AAE69+AL69)*40/12","v":{"$error":"#REF!"}}]
[null,null,{"$f":"IF($B69=\"\",\"\",للطباعة1!$G$21)","v":""},{"$f":"IF($B69=\"\",\"\",للطباعة1!$F$21)","v":""},{"$f":"IF($B69=\"\",\"\",للطباعة1!$N$21)","v":""},{"$f":"IF($B69=\"\",\"\",للطباعة1!$M$21)","v":""},{"$f":"IF($B69=\"\",\"\",للطباعة1!$U$21)","v":""},{"$f":"IF($B69=\"\",\"\",للطباعة1!$T$21)","v":""},{"$f":"IF($B69=\"\",\"\",للطباعة1!$AB$21)","v":""},{"$f":"IF($B69=\"\",\"\",للطباعة1!$AA$21)","v":""},null,{"$f":"IF($B69=\"\",\"\",للطباعة1!$AJ$21)","v":""},{"$f":"IF($B69=\"\",\"\",للطباعة1!$AI$21)","v":""},{"$f":"IF($B69=\"\",\"\",للطباعة1!$AQ$21)","v":""},{"$f":"IF($B69=\"\",\"\",للطباعة1!$AP$21)","v":""},{"$f":"IF($B69=\"\",\"\",للطباعة1!$AX$21)","v":""},{"$f":"IF($B69=\"\",\"\",للطباعة1!$AW$21)","v":""},{"$f":"IF($B69=\"\",\"\",للطباعة1!$BE$21)","v":""},{"$f":"IF($B69=\"\",\"\",للطباعة1!$BD$21)","v":""},null,{"$f":"IF($B69=\"\",\"\",للطباعة1!$BM$21)","v":""},{"$f":"IF($B69=\"\",\"\",للطباعة1!$BL$21)","v":""},{"$f":"IF($B69=\"\",\"\",للطباعة1!$BT$21)","v":""},{"$f":"IF($B69=\"\",\"\",للطباعة1!$BS$21)","v":""},{"$f":"IF($B69=\"\",\"\",للطباعة1!$CA$21)","v":""},{"$f":"IF($B69=\"\",\"\",للطباعة1!$BZ$21)","v":""},{"$f":"IF($B69=\"\",\"\",للطباعة1!$CH$21)","v":""},{"$f":"IF($B69=\"\",\"\",للطباعة1!$CG$21)","v":""}]
[null,"النقاط",{"$f":"IF($B69=\"\",\"\",(D69+D70)*100/8)","v":""},null,{"$f":"IF($B69=\"\",\"\",(F69+F70)*100/8)","v":""},null,{"$f":"IF($B69=\"\",\"\",(H69+H70)*100/8)","v":""},null,{"$f":"IF($B69=\"\",\"\",(J69+J70)*100/8)","v":""},null,null,{"$f":"IF($B69=\"\",\"\",(M69+M70)*100/8)","v":""},null,{"$f":"IF($B69=\"\",\"\",(O69+O70)*100/8)","v":""},null,{"$f":"IF($B69=\"\",\"\",(Q69+Q70)*100/8)","v":""},null,{"$f":"IF($B69=\"\",\"\",(S69+S70)*100/8)","v":""},null,null,{"$f":"IF($B69=\"\",\"\",(V69+V70)*100/8)","v":""},null,{"$f":"IF($B69=\"\",\"\",(X69+X70)*100/8)","v":""},null,{"$f":"IF($B69=\"\",\"\",(Z69+Z70)*100/8)","v":""},null,{"$f":"IF($B69=\"\",\"\",(AB69+AB70)*100/8)","v":""}]
[21,{"$f":"INDIRECT(ADDRESS(A72+1,2,,,\"للطباعة1\"))","v":""},{"$f":"IF($B72=\"\",\"\",للطباعة1!$E$22)","v":""},{"$f":"IF($B72=\"\",\"\",للطباعة1!$D$22)","v":""},{"$f":"IF($B72=\"\",\"\",للطباعة1!$L$22)","v":""},{"$f":"IF($B72=\"\",\"\",للطباعة1!$K$22)","v":""},{"$f":"IF($B72=\"\",\"\",للطباعة1!$S$22)","v":""},{"$f":"IF($B72=\"\",\"\",للطباعة1!$R$22)","v":""},{"$f":"IF($B72=\"\",\"\",للطباعة1!$Z$22)","v":""},{"$f":"IF($B72=\"\",\"\",للطباعة1!$Y$22)","v":""},{"$f":"IF($B72=\"\",\"\",(C74+E74+G74+I74)/4)","v":""},{"$f":"IF($B72=\"\",\"\",للطباعة1!$AH$22)","v":""},{"$f":"IF($B72=\"\",\"\",للطباعة1!$AG$22)","v":""},{"$f":"IF($B72=\"\",\"\",للطباعة1!$AO$22)","v":""},{"$f":"IF($B72=\"\",\"\",للطباعة1!$AN$22)","v":""},{"$f":"IF($B72=\"\",\"\",للطباعة1!$AV$22)","v":""},{"$f":"IF($B72=\"\",\"\",للطباعة1!$AU$22)","v":""},{"$f":"IF($B72=\"\",\"\",للطباعة1!$BC$22)","v":""},{"$f":"IF($B72=\"\",\"\",للطباعة1!$BB$22)","v":""},{"$f":"IF($B72=\"\",\"\",(L74+N74+P74+R74)/4)","v":""},{"$f":"IF($B72=\"\",\"\",للطباعة1!$BK$22)","v":""},{"$f":"IF($B72=\"\",\"\",للطباعة1!$BJ$22)","v":""},{"$f":"IF($B72=\"\",\"\",للطباعة1!$BR$22)","v":""},{"$f":"IF($B72=\"\",\"\",للطباعة1!$BQ$22)","v":""},{"$f":"IF($B72=\"\",\"\",للطباعة1!$BY$22)","v":""},{"$f":"IF($B72=\"\",\"\",للطباعة1!$BX$22)","v":""},{"$f":"IF($B72=\"\",\"\",للطباعة1!$CF$22)","v":""},{"$f":"IF($B72=\"\",\"\",للطباعة1!$CE$22)","v":""},{"$f":"IF($B72=\"\",\"\",(U74+W74+Y74+AA74)/4)","v":""},{"$f":"IF($B72=\"\",\"\",(K72+T72+AC72)*0.04)","v":""},{"$f":"IF($B72=\"\",\"\",IF((AD72*40/12-INT(AD72*40/12))>=0.75,INT(AD72*40/12)+1,IF((AD72*40/12-INT(AD72*40/12))<0.25,INT(AD72*40/12),INT(AD72*40/12)+0.5)))","v":""},{"$f":"IF($B72=\"\",\"\",INDIRECT(ADDRESS(11+A72*2,18,1,,\"SeconedPartDegrees1\")))","v":""},{"$f":"IF($B72=\"\",\"\",INDIRECT(ADDRESS(11+A72*2,19,1,,\"SeconedPartDegrees1\")))","v":""},{"$f":"IF(OR(AF72=\"\",AG72=\"\"),\"\",AF72+AG72)","v":""},{"$f":"IF(OR(AE72=\"\",AG72=\"\"),\"\",AG72+AF72+AE72)","v":""},null,null,{"$f":"ROUNDUP(((FirstPartDegrees1!#REF!+D72)/2+(FirstPartDegrees1!E84+O72)/2+(FirstPartDegrees1!#REF!+M72)/2+(FirstPartDegrees1!C84+F72)/2 )/4,0)","v":{"$error":"#REF!"}},{"$f":"ROUNDUP(((FirstPartDegrees1!#REF!+FirstPartDegrees1!#REF!)/2+(FirstPartDegrees1!F84+J72)/2+(FirstPartDegrees1!#REF!+S72)/2+(FirstPartDegrees1!I84+#REF!)/2 )/4,0)","v":{"$error":"#REF!"}},{"$f":"ROUNDUP(((FirstPartDegrees1!#REF!+FirstPartDegrees1!J84)/2+(FirstPartDegrees1!#REF!+FirstPartDegrees1!#REF!)/2+(FirstPartDegrees1!#REF!+V72)/2+(AB72+#REF!)/2)/4,0)","v":{"$error":"#REF!"}},{"$f":"(AN72+AAE72+AL72)*40/12","v":{"$error":"#REF!"}}]
[null,null,{"$f":"IF($B72=\"\",\"\",للطباعة1!$G$22)","v":""},{"$f":"IF($B72=\"\",\"\",للطباعة1!$F$22)","v":""},{"$f":"IF($B72=\"\",\"\",للطباعة1!$N$22)","v":""},{"$f":"IF($B72=\"\",\"\",للطباعة1!$M$22)","v":""},{"$f":"IF($B72=\"\",\"\",للطباعة1!$U$22)","v":""},{"$f":"IF($B72=\"\",\"\",للطباعة1!$T$22)","v":""},{"$f":"IF($B72=\"\",\"\",للطباعة1!$AB$22)","v":""},{"$f":"IF($B72=\"\",\"\",للطباعة1!$AA$22)","v":""},null,{"$f":"IF($B72=\"\",\"\",للطباعة1!$AJ$22)","v":""},{"$f":"IF($B72=\"\",\"\",للطباعة1!$AI$22)","v":""},{"$f":"IF($B72=\"\",\"\",للطباعة1!$AQ$22)","v":""},{"$f":"IF($B72=\"\",\"\",للطباعة1!$AP$22)","v":""},{"$f":"IF($B72=\"\",\"\",للطباعة1!$AX$22)","v":""},{"$f":"IF($B72=\"\",\"\",للطباعة1!$AW$22)","v":""},{"$f":"IF($B72=\"\",\"\",للطباعة1!$BE$22)","v":""},{"$f":"IF($B72=\"\",\"\",للطباعة1!$BD$22)","v":""},null,{"$f":"IF($B72=\"\",\"\",للطباعة1!$BM$22)","v":""},{"$f":"IF($B72=\"\",\"\",للطباعة1!$BL$22)","v":""},{"$f":"IF($B72=\"\",\"\",للطباعة1!$BT$22)","v":""},{"$f":"IF($B72=\"\",\"\",للطباعة1!$BS$22)","v":""},{"$f":"IF($B72=\"\",\"\",للطباعة1!$CA$22)","v":""},{"$f":"IF($B72=\"\",\"\",للطباعة1!$BZ$22)","v":""},{"$f":"IF($B72=\"\",\"\",للطباعة1!$CH$22)","v":""},{"$f":"IF($B72=\"\",\"\",للطباعة1!$CG$22)","v":""}]
[null,"النقاط",{"$f":"IF($B72=\"\",\"\",(D72+D73)*100/8)","v":""},null,{"$f":"IF($B72=\"\",\"\",(F72+F73)*100/8)","v":""},null,{"$f":"IF($B72=\"\",\"\",(H72+H73)*100/8)","v":""},null,{"$f":"IF($B72=\"\",\"\",(J72+J73)*100/8)","v":""},null,null,{"$f":"IF($B72=\"\",\"\",(M72+M73)*100/8)","v":""},null,{"$f":"IF($B72=\"\",\"\",(O72+O73)*100/8)","v":""},null,{"$f":"IF($B72=\"\",\"\",(Q72+Q73)*100/8)","v":""},null,{"$f":"IF($B72=\"\",\"\",(S72+S73)*100/8)","v":""},null,null,{"$f":"IF($B72=\"\",\"\",(V72+V73)*100/8)","v":""},null,{"$f":"IF($B72=\"\",\"\",(X72+X73)*100/8)","v":""},null,{"$f":"IF($B72=\"\",\"\",(Z72+Z73)*100/8)","v":""},null,{"$f":"IF($B72=\"\",\"\",(AB72+AB73)*100/8)","v":""}]
[22,{"$f":"INDIRECT(ADDRESS(A75+1,2,,,\"للطباعة1\"))","v":""},{"$f":"IF($B75=\"\",\"\",للطباعة1!$E$23)","v":""},{"$f":"IF($B75=\"\",\"\",للطباعة1!$D$23)","v":""},{"$f":"IF($B75=\"\",\"\",للطباعة1!$L$23)","v":""},{"$f":"IF($B75=\"\",\"\",للطباعة1!$K$23)","v":""},{"$f":"IF($B75=\"\",\"\",للطباعة1!$S$23)","v":""},{"$f":"IF($B75=\"\",\"\",للطباعة1!$R$23)","v":""},{"$f":"IF($B75=\"\",\"\",للطباعة1!$Z$23)","v":""},{"$f":"IF($B75=\"\",\"\",للطباعة1!$Y$23)","v":""},{"$f":"IF($B75=\"\",\"\",(C77+E77+G77+I77)/4)","v":""},{"$f":"IF($B75=\"\",\"\",للطباعة1!$AH$23)","v":""},{"$f":"IF($B75=\"\",\"\",للطباعة1!$AG$23)","v":""},{"$f":"IF($B75=\"\",\"\",للطباعة1!$AO$23)","v":""},{"$f":"IF($B75=\"\",\"\",للطباعة1!$AN$23)","v":""},{"$f":"IF($B75=\"\",\"\",للطباعة1!$AV$23)","v":""},{"$f":"IF($B75=\"\",\"\",للطباعة1!$AU$23)","v":""},{"$f":"IF($B75=\"\",\"\",للطباعة1!$BC$23)","v":""},{"$f":"IF($B75=\"\",\"\",للطباعة1!$BB$23)","v":""},{"$f":"IF($B75=\"\",\"\",(L77+N77+P77+R77)/4)","v":""},{"$f":"IF($B75=\"\",\"\",للطباعة1!$BK$23)","v":""},{"$f":"IF($B75=\"\",\"\",للطباعة1!$BJ$23)","v":""},{"$f":"IF($B75=\"\",\"\",للطباعة1!$BR$23)","v":""},{"$f":"IF($B75=\"\",\"\",للطباعة1!$BQ$23)","v":""},{"$f":"IF($B75=\"\",\"\",للطباعة1!$BY$23)","v":""},{"$f":"IF($B75=\"\",\"\",للطباعة1!$BX$23)","v":""},{"$f":"IF($B75=\"\",\"\",للطباعة1!$CF$23)","v":""},{"$f":"IF($B75=\"\",\"\",للطباعة1!$CE$23)","v":""},{"$f":"IF($B75=\"\",\"\",(U77+W77+Y77+AA77)/4)","v":""},{"$f":"IF($B75=\"\",\"\",(K75+T75+AC75)*0.04)","v":""},{"$f":"IF($B75=\"\",\"\",IF((AD75*40/12-INT(AD75*40/12))>=0.75,INT(AD75*40/12)+1,IF((AD75*40/12-INT(AD75*40/12))<0.25,INT(AD75*40/12),INT(AD75*40/12)+0.5)))","v":""},{"$f":"IF($B75=\"\",\"\",INDIRECT(ADDRESS(11+A75*2,18,1,,\"SeconedPartDegrees1\")))","v":""},{"$f":"IF($B75=\"\",\"\",INDIRECT(ADDRESS(11+A75*2,19,1,,\"SeconedPartDegrees1\")))","v":""},{"$f":"IF(OR(AF75=\"\",AG75=\"\"),\"\",AF75+AG75)","v":""},{"$f":"IF(OR(AE75=\"\",AG75=\"\"),\"\",AG75+AF75+AE75)","v":""},null,null,{"$f":"ROUNDUP(((FirstPartDegrees1!#REF!+D75)/2+(FirstPartDegrees1!E87+O75)/2+(FirstPartDegrees1!#REF!+M75)/2+(FirstPartDegrees1!C87+F75)/2 )/4,0)","v":{"$error":"#REF!"}},{"$f":"ROUNDUP(((FirstPartDegrees1!#REF!+FirstPartDegrees1!#REF!)/2+(FirstPartDegrees1!F87+J75)/2+(FirstPartDegrees1!#REF!+S75)/2+(FirstPartDegrees1!I87+#REF!)/2 )/4,0)","v":{"$error":"#REF!"}},{"$f":"ROUNDUP(((FirstPartDegrees1!#REF!+FirstPartDegrees1!J87)/2+(FirstPartDegrees1!#REF!+FirstPartDegrees1!#REF!)/2+(FirstPartDegrees1!#REF!+V75)/2+(AB75+#REF!)/2)/4,0)","v":{"$error":"#REF!"}},{"$f":"(AN75+AAE75+AL75)*40/12","v":{"$error":"#REF!"}}]
[null,null,{"$f":"IF($B75=\"\",\"\",للطباعة1!$G$23)","v":""},{"$f":"IF($B75=\"\",\"\",للطباعة1!$F$23)","v":""},{"$f":"IF($B75=\"\",\"\",للطباعة1!$N$23)","v":""},{"$f":"IF($B75=\"\",\"\",للطباعة1!$M$23)","v":""},{"$f":"IF($B75=\"\",\"\",للطباعة1!$U$23)","v":""},{"$f":"IF($B75=\"\",\"\",للطباعة1!$T$23)","v":""},{"$f":"IF($B75=\"\",\"\",للطباعة1!$AB$23)","v":""},{"$f":"IF($B75=\"\",\"\",للطباعة1!$AA$23)","v":""},null,{"$f":"IF($B75=\"\",\"\",للطباعة1!$AJ$23)","v":""},{"$f":"IF($B75=\"\",\"\",للطباعة1!$AI$23)","v":""},{"$f":"IF($B75=\"\",\"\",للطباعة1!$AQ$23)","v":""},{"$f":"IF($B75=\"\",\"\",للطباعة1!$AP$23)","v":""},{"$f":"IF($B75=\"\",\"\",للطباعة1!$AX$23)","v":""},{"$f":"IF($B75=\"\",\"\",للطباعة1!$AW$23)","v":""},{"$f":"IF($B75=\"\",\"\",للطباعة1!$BE$23)","v":""},{"$f":"IF($B75=\"\",\"\",للطباعة1!$BD$23)","v":""},null,{"$f":"IF($B75=\"\",\"\",للطباعة1!$BM$23)","v":""},{"$f":"IF($B75=\"\",\"\",للطباعة1!$BL$23)","v":""},{"$f":"IF($B75=\"\",\"\",للطباعة1!$BT$23)","v":""},{"$f":"IF($B75=\"\",\"\",للطباعة1!$BS$23)","v":""},{"$f":"IF($B75=\"\",\"\",للطباعة1!$CA$23)","v":""},{"$f":"IF($B75=\"\",\"\",للطباعة1!$BZ$23)","v":""},{"$f":"IF($B75=\"\",\"\",للطباعة1!$CH$23)","v":""},{"$f":"IF($B75=\"\",\"\",للطباعة1!$CG$23)","v":""}]
[null,"النقاط",{"$f":"IF($B75=\"\",\"\",(D75+D76)*100/8)","v":""},null,{"$f":"IF($B75=\"\",\"\",(F75+F76)*100/8)","v":""},null,{"$f":"IF($B75=\"\",\"\",(H75+H76)*100/8)","v":""},null,{"$f":"IF($B75=\"\",\"\",(J75+J76)*100/8)","v":""},null,null,{"$f":"IF($B75=\"\",\"\",(M75+M76)*100/8)","v":""},null,{"$f":"IF($B75=\"\",\"\",(O75+O76)*100/8)","v":""},null,{"$f":"IF($B75=\"\",\"\",(Q75+Q76)*100/8)","v":""},null,{"$f":"IF($B75=\"\",\"\",(S75+S76)*100/8)","v":""},null,null,{"$f":"IF($B75=\"\",\"\",(V75+V76)*100/8)","v":""},null,{"$f":"IF($B75=\"\",\"\",(X75+X76)*100/8)","v":""},null,{"$f":"IF($B75=\"\",\"\",(Z75+Z76)*100/8)","v":""},null,{"$f":"IF($B75=\"\",\"\",(AB75+AB76)*100/8)","v":""}]
[23,{"$f":"INDIRECT(ADDRESS(A78+1,2,,,\"للطباعة1\"))","v":""},{"$f":"IF($B78=\"\",\"\",للطباعة1!$E$24)","v":""},{"$f":"IF($B78=\"\",\"\",للطباعة1!$D$24)","v":""},{"$f":"IF($B78=\"\",\"\",للطباعة1!$L$24)","v":""},{"$f":"IF($B78=\"\",\"\",للطباعة1!$K$24)","v":""},{"$f":"IF($B78=\"\",\"\",للطباعة1!$S$24)","v":""},{"$f":"IF($B78=\"\",\"\",للطباعة1!$R$24)","v":""},{"$f":"IF($B78=\"\",\"\",للطباعة1!$Z$24)","v":""},{"$f":"IF($B78=\"\",\"\",للطباعة1!$Y$24)","v":""},{"$f":"IF($B78=\"\",\"\",(C80+E80+G80+I80)/4)","v":""},{"$f":"IF($B78=\"\",\"\",للطباعة1!$AH$24)","v":""},{"$f":"IF($B78=\"\",\"\",للطباعة1!$AG$24)","v":""},{"$f":"IF($B78=\"\",\"\",للطباعة1!$AO$24)","v":""},{"$f":"IF($B78=\"\",\"\",للطباعة1!$AN$24)","v":""},{"$f":"IF($B78=\"\",\"\",للطباعة1!$AV$24)","v":""},{"$f":"IF($B78=\"\",\"\",للطباعة1!$AU$24)","v":""},{"$f":"IF($B78=\"\",\"\",للطباعة1!$BC$24)","v":""},{"$f":"IF($B78=\"\",\"\",للطباعة1!$BB$24)","v":""},{"$f":"IF($B78=\"\",\"\",(L80+N80+P80+R80)/4)","v":""},{"$f":"IF($B78=\"\",\"\",للطباعة1!$BK$24)","v":""},{"$f":"IF($B78=\"\",\"\",للطباعة1!$BJ$24)","v":""},{"$f":"IF($B78=\"\",\"\",للطباعة1!$BR$24)","v":""},{"$f":"IF($B78=\"\",\"\",للطباعة1!$BQ$24)","v":""},{"$f":"IF($B78=\"\",\"\",للطباعة1!$BY$24)","v":""},{"$f":"IF($B78=\"\",\"\",للطباعة1!$BX$24)","v":""},{"$f":"IF($B78=\"\",\"\",للطباعة1!$CF$24)","v":""},{"$f":"IF($B78=\"\",\"\",للطباعة1!$CE$24)","v":""},{"$f":"IF($B78=\"\",\"\",(U80+W80+Y80+AA80)/4)","v":""},{"$f":"IF($B78=\"\",\"\",(K78+T78+AC78)*0.04)","v":""},{"$f":"IF($B78=\"\",\"\",IF((AD78*40/12-INT(AD78*40/12))>=0.75,INT(AD78*40/12)+1,IF((AD78*40/12-INT(AD78*40/12))<0.25,INT(AD78*40/12),INT(AD78*40/12)+0.5)))","v":""},{"$f":"IF($B78=\"\",\"\",INDIRECT(ADDRESS(11+A78*2,18,1,,\"SeconedPartDegrees1\")))","v":""},{"$f":"IF($B78=\"\",\"\",INDIRECT(ADDRESS(11+A78*2,19,1,,\"SeconedPartDegrees1\")))","v":""},{"$f":"IF(OR(AF78=\"\",AG78=\"\"),\"\",AF78+AG78)","v":""},{"$f":"IF(OR(AE78=\"\",AG78=\"\"),\"\",AG78+AF78+AE78)","v":""},null,null,{"$f":"ROUNDUP(((FirstPartDegrees1!#REF!+D78)/2+(FirstPartDegrees1!E90+O78)/2+(FirstPartDegrees1!#REF!+M78)/2+(FirstPartDegrees1!C90+F78)/2 )/4,0)","v":{"$error":"#REF!"}},{"$f":"ROUNDUP(((FirstPartDegrees1!#REF!+FirstPartDegrees1!#REF!)/2+(FirstPartDegrees1!F90+J78)/2+(FirstPartDegrees1!#REF!+S78)/2+(FirstPartDegrees1!I90+#REF!)/2 )/4,0)","v":{"$error":"#REF!"}},{"$f":"ROUNDUP(((FirstPartDegrees1!#REF!+FirstPartDegrees1!J90)/2+(FirstPartDegrees1!#REF!+FirstPartDegrees1!#REF!)/2+(FirstPartDegrees1!#REF!+V78)/2+(AB78+#REF!)/2)/4,0)","v":{"$error":"#REF!"}},{"$f":"(AN78+AAE78+AL78)*40/12","v":{"$error":"#REF!"}}]
[null,null,{"$f":"IF($B78=\"\",\"\",للطباعة1!$G$24)","v":""},{"$f":"IF($B78=\"\",\"\",للطباعة1!$F$24)","v":""},{"$f":"IF($B78=\"\",\"\",للطباعة1!$N$24)","v":""},{"$f":"IF($B78=\"\",\"\",للطباعة1!$M$24)","v":""},{"$f":"IF($B78=\"\",\"\",للطباعة1!$U$24)","v":""},{"$f":"IF($B78=\"\",\"\",للطباعة1!$T$24)","v":""},{"$f":"IF($B78=\"\",\"\",للطباعة1!$AB$24)","v":""},{"$f":"IF($B78=\"\",\"\",للطباعة1!$AA$24)","v":""},null,{"$f":"IF($B78=\"\",\"\",للطباعة1!$AJ$24)","v":""},{"$f":"IF($B78=\"\",\"\",للطباعة1!$AI$24)","v":""},{"$f":"IF($B78=\"\",\"\",للطباعة1!$AQ$24)","v":""},{"$f":"IF($B78=\"\",\"\",للطباعة1!$AP$24)","v":""},{"$f":"IF($B78=\"\",\"\",للطباعة1!$AX$24)","v":""},{"$f":"IF($B78=\"\",\"\",للطباعة1!$AW$24)","v":""},{"$f":"IF($B78=\"\",\"\",للطباعة1!$BE$24)","v":""},{"$f":"IF($B78=\"\",\"\",للطباعة1!$BD$24)","v":""},null,{"$f":"IF($B78=\"\",\"\",للطباعة1!$BM$24)","v":""},{"$f":"IF($B78=\"\",\"\",للطباعة1!$BL$24)","v":""},{"$f":"IF($B78=\"\",\"\",للطباعة1!$BT$24)","v":""},{"$f":"IF($B78=\"\",\"\",للطباعة1!$BS$24)","v":""},{"$f":"IF($B78=\"\",\"\",للطباعة1!$CA$24)","v":""},{"$f":"IF($B78=\"\",\"\",للطباعة1!$BZ$24)","v":""},{"$f":"IF($B78=\"\",\"\",للطباعة1!$CH$24)","v":""},{"$f":"IF($B78=\"\",\"\",للطباعة1!$CG$24)","v":""}]
[null,"النقاط",{"$f":"IF($B78=\"\",\"\",(D78+D79)*100/8)","v":""},null,{"$f":"IF($B78=\"\",\"\",(F78+F79)*100/8)","v":""},null,{"$f":"IF($B78=\"\",\"\",(H78+H79)*100/8)","v":""},null,{"$f":"IF($B78=\"\",\"\",(J78+J79)*100/8)","v":""},null,null,{"$f":"IF($B78=\"\",\"\",(M78+M79)*100/8)","v":""},null,{"$f":"IF($B78=\"\",\"\",(O78+O79)*100/8)","v":""},null,{"$f":"IF($B78=\"\",\"\",(Q78+Q79)*100/8)","v":""},null,{"$f":"IF($B78=\"\",\"\",(S78+S79)*100/8)","v":""},null,null,{"$f":"IF($B78=\"\",\"\",(V78+V79)*100/8)","v":""},null,{"$f":"IF($B78=\"\",\"\",(X78+X79)*100/8)","v":""},null,{"$f":"IF($B78=\"\",\"\",(Z78+Z79)*100/8)","v":""},null,{"$f":"IF($B78=\"\",\"\",(AB78+AB79)*100/8)","v":""}]
[24,{"$f":"INDIRECT(ADDRESS(A81+1,2,,,\"للطباعة1\"))","v":""},{"$f":"IF($B81=\"\",\"\",للطباعة1!$E$25)","v":""},{"$f":"IF($B81=\"\",\"\",للطباعة1!$D$25)","v":""},{"$f":"IF($B81=\"\",\"\",للطباعة1!$L$25)","v":""},{"$f":"IF($B81=\"\",\"\",للطباعة1!$K$25)","v":""},{"$f":"IF($B81=\"\",\"\",للطباعة1!$S$25)","v":""},{"$f":"IF($B81=\"\",\"\",للطباعة1!$R$25)","v":""},{"$f":"IF($B81=\"\",\"\",للطباعة1!$Z$25)","v":""},{"$f":"IF($B81=\"\",\"\",للطباعة1!$Y$25)","v":""},{"$f":"IF($B81=\"\",\"\",(C83+E83+G83+I83)/4)","v":""},{"$f":"IF($B81=\"\",\"\",للطباعة1!$AH$25)","v":""},{"$f":"IF($B81=\"\",\"\",للطباعة1!$AG$25)","v":""},{"$f":"IF($B81=\"\",\"\",للطباعة1!$AO$25)","v":""},{"$f":"IF($B81=\"\",\"\",للطباعة1!$AN$25)","v":""},{"$f":"IF($B81=\"\",\"\",للطباعة1!$AV$25)","v":""},{"$f":"IF($B81=\"\",\"\",للطباعة1!$AU$25)","v":""},{"$f":"IF($B81=\"\",\"\",للطباعة1!$BC$25)","v":""},{"$f":"IF($B81=\"\",\"\",للطباعة1!$BB$25)","v":""},{"$f":"IF($B81=\"\",\"\",(L83+N83+P83+R83)/4)","v":""},{"$f":"IF($B81=\"\",\"\",للطباعة1!$BK$25)","v":""},{"$f":"IF($B81=\"\",\"\",للطباعة1!$BJ$25)","v":""},{"$f":"IF($B81=\"\",\"\",للطباعة1!$BR$25)","v":""},{"$f":"IF($B81=\"\",\"\",للطباعة1!$BQ$25)","v":""},{"$f":"IF($B81=\"\",\"\",للطباعة1!$BY$25)","v":""},{"$f":"IF($B81=\"\",\"\",للطباعة1!$BX$25)","v":""},{"$f":"IF($B81=\"\",\"\",للطباعة1!$CF$25)","v":""},{"$f":"IF($B81=\"\",\"\",للطباعة1!$CE$25)","v":""},{"$f":"IF($B81=\"\",\"\",(U83+W83+Y83+AA83)/4)","v":""},{"$f":"IF($B81=\"\",\"\",(K81+T81+AC81)*0.04)","v":""},{"$f":"IF($B81=\"\",\"\",IF((AD81*40/12-INT(AD81*40/12))>=0.75,INT(AD81*40/12)+1,IF((AD81*40/12-INT(AD81*40/12))<0.25,INT(AD81*40/12),INT(AD81*40/12)+0.5)))","v":""},{"$f":"IF($B81=\"\",\"\",INDIRECT(ADDRESS(11+A81*2,18,1,,\"SeconedPartDegrees1\")))","v":""},{"$f":"IF($B81=\"\",\"\",INDIRECT(ADDRESS(11+A81*2,19,1,,\"SeconedPartDegrees1\")))","v":""},{"$f":"IF(OR(AF81=\"\",AG81=\"\"),\"\",AF81+AG81)","v":""},{"$f":"IF(OR(AE81=\"\",AG81=\"\"),\"\",AG81+AF81+AE81)","v":""},null,null,{"$f":"ROUNDUP(((FirstPartDegrees1!#REF!+D81)/2+(FirstPartDegrees1!E91+O81)/2+(FirstPartDegrees1!#REF!+M81)/2+(FirstPartDegrees1!C91+F81)/2 )/4,0)","v":{"$error":"#REF!"}},{"$f":"ROUNDUP(((FirstPartDegrees1!#REF!+FirstPartDegrees1!#REF!)/2+(FirstPartDegrees1!F91+J81)/2+(FirstPartDegrees1!#REF!+S81)/2+(FirstPartDegrees1!I91+#REF!)/2 )/4,0)","v":{"$error":"#REF!"}},{"$f":"ROUNDUP(((FirstPartDegrees1!#REF!+FirstPartDegrees1!J91)/2+(FirstPartDegrees1!#REF!+FirstPartDegrees1!#REF!)/2+(FirstPartDegrees1!#REF!+V81)/2+(AB81+#REF!)/2)/4,0)","v":{"$error":"#REF!"}},{"$f":"(AN81+AAE81+AL81)*40/12","v":{"$error":"#REF!"}}]
[null,null,{"$f":"IF($B81=\"\",\"\",للطباعة1!$G$25)","v":""},{"$f":"IF($B81=\"\",\"\",للطباعة1!$F$25)","v":""},{"$f":"IF($B81=\"\",\"\",للطباعة1!$N$25)","v":""},{"$f":"IF($B81=\"\",\"\",للطباعة1!$M$25)","v":""},{"$f":"IF($B81=\"\",\"\",للطباعة1!$U$25)","v":""},{"$f":"IF($B81=\"\",\"\",للطباعة1!$T$25)","v":""},{"$f":"IF($B81=\"\",\"\",للطباعة1!$AB$25)","v":""},{"$f":"IF($B81=\"\",\"\",للطباعة1!$AA$25)","v":""},null,{"$f":"IF($B81=\"\",\"\",للطباعة1!$AJ$25)","v":""},{"$f":"IF($B81=\"\",\"\",للطباعة1!$AI$25)","v":""},{"$f":"IF($B81=\"\",\"\",للطباعة1!$AQ$25)","v":""},{"$f":"IF($B81=\"\",\"\",للطباعة1!$AP$25)","v":""},{"$f":"IF($B81=\"\",\"\",للطباعة1!$AX$25)","v":""},{"$f":"IF($B81=\"\",\"\",للطباعة1!$AW$25)","v":""},{"$f":"IF($B81=\"\",\"\",للطباعة1!$BE$25)","v":""},{"$f":"IF($B81=\"\",\"\",للطباعة1!$BD$25)","v":""},null,{"$f":"IF($B81=\"\",\"\",للطباعة1!$BM$25)","v":""},{"$f":"IF($B81=\"\",\"\",للطباعة1!$BL$25)","v":""},{"$f":"IF($B81=\"\",\"\",للطباعة1!$BT$25)","v":""},{"$f":"IF($B81=\"\",\"\",للطباعة1!$BS$25)","v":""},{"$f":"IF($B81=\"\",\"\",للطباعة1!$CA$25)","v":""},{"$f":"IF($B81=\"\",\"\",للطباعة1!$BZ$25)","v":""},{"$f":"IF($B81=\"\",\"\",للطباعة1!$CH$25)","v":""},{"$f":"IF($B81=\"\",\"\",للطباعة1!$CG$25)","v":""}]
[null,"النقاط",{"$f":"IF($B81=\"\",\"\",(D81+D82)*100/8)","v":""},null,{"$f":"IF($B81=\"\",\"\",(F81+F82)*100/8)","v":""},null,{"$f":"IF($B81=\"\",\"\",(H81+H82)*100/8)","v":""},null,{"$f":"IF($B81=\"\",\"\",(J81+J82)*100/8)","v":""},null,null,{"$f":"IF($B81=\"\",\"\",(M81+M82)*100/8)","v":""},null,{"$f":"IF($B81=\"\",\"\",(O81+O82)*100/8)","v":""},null,{"$f":"IF($B81=\"\",\"\",(Q81+Q82)*100/8)","v":""},null,{"$f":"IF($B81=\"\",\"\",(S81+S82)*100/8)","v":""},null,null,{"$f":"IF($B81=\"\",\"\",(V81+V82)*100/8)","v":""},null,{"$f":"IF($B81=\"\",\"\",(X81+X82)*100/8)","v":""},null,{"$f":"IF($B81=\"\",\"\",(Z81+Z82)*100/8)","v":""},null,{"$f":"IF($B81=\"\",\"\",(AB81+AB82)*100/8)","v":""}]
[25,{"$f":"INDIRECT(ADDRESS(A84+1,2,,,\"للطباعة1\"))","v":""},{"$f":"IF($B84=\"\",\"\",للطباعة1!$E$26)","v":""},{"$f":"IF($B84=\"\",\"\",للطباعة1!$D$26)","v":""},{"$f":"IF($B84=\"\",\"\",للطباعة1!$L$26)","v":""},{"$f":"IF($B84=\"\",\"\",للطباعة1!$K$26)","v":""},{"$f":"IF($B84=\"\",\"\",للطباعة1!$S$26)","v":""},{"$f":"IF($B84=\"\",\"\",للطباعة1!$R$26)","v":""},{"$f":"IF($B84=\"\",\"\",للطباعة1!$Z$26)","v":""},{"$f":"IF($B84=\"\",\"\",للطباعة1!$Y$26)","v":""},{"$f":"IF($B84=\"\",\"\",(C86+E86+G86+I86)/4)","v":""},{"$f":"IF($B84=\"\",\"\",للطباعة1!$AH$26)","v":""},{"$f":"IF($B84=\"\",\"\",للطباعة1!$AG$26)","v":""},{"$f":"IF($B84=\"\",\"\",للطباعة1!$AO$26)","v":""},{"$f":"IF($B84=\"\",\"\",للطباعة1!$AN$26)","v":""},{"$f":"IF($B84=\"\",\"\",للطباعة1!$AV$26)","v":""},{"$f":"IF($B84=\"\",\"\",للطباعة1!$AU$26)","v":""},{"$f":"IF($B84=\"\",\"\",للطباعة1!$BC$26)","v":""},{"$f":"IF($B84=\"\",\"\",للطباعة1!$BB$26)","v":""},{"$f":"IF($B84=\"\",\"\",(L86+N86+P86+R86)/4)","v":""},{"$f":"IF($B84=\"\",\"\",للطباعة1!$BK$26)","v":""},{"$f":"IF($B84=\"\",\"\",للطباعة1!$BJ$26)","v":""},{"$f":"IF($B84=\"\",\"\",للطباعة1!$BR$26)","v":""},{"$f":"IF($B84=\"\",\"\",للطباعة1!$BQ$26)","v":""},{"$f":"IF($B84=\"\",\"\",للطباعة1!$BY$26)","v":""},{"$f":"IF($B84=\"\",\"\",للطباعة1!$BX$26)","v":""},{"$f":"IF($B84=\"\",\"\",للطباعة1!$CF$26)","v":""},{"$f":"IF($B84=\"\",\"\",للطباعة1!$CE$26)","v":""},{"$f":"IF($B84=\"\",\"\",(U86+W86+Y86+AA86)/4)","v":""},{"$f":"IF($B84=\"\",\"\",(K84+T84+AC84)*0.04)","v":""},{"$f":"IF($B84=\"\",\"\",IF((AD84*40/12-INT(AD84*40/12))>=0.75,INT(AD84*40/12)+1,IF((AD84*40/12-INT(AD84*40/12))<0.25,INT(AD84*40/12),INT(AD84*40/12)+0.5)))","v":""},{"$f":"IF($B84=\"\",\"\",INDIRECT(ADDRESS(11+A84*2,18,1,,\"SeconedPartDegrees1\")))","v":""},{"$f":"IF($B84=\"\",\"\",INDIRECT(ADDRESS(11+A84*2,19,1,,\"SeconedPartDegrees1\")))","v":""},{"$f":"IF(OR(AF84=\"\",AG84=\"\"),\"\",AF84+AG84)","v":""},{"$f":"IF(OR(AE84=\"\",AG84=\"\"),\"\",AG84+AF84+AE84)","v":""},null,null,{"$f":"ROUNDUP(((FirstPartDegrees1!#REF!+D84)/2+(FirstPartDegrees1!E94+O84)/2+(FirstPartDegrees1!#REF!+M84)/2+(FirstPartDegrees1!C94+F84)/2 )/4,0)","v":{"$error":"#REF!"}},{"$f":"ROUNDUP(((FirstPartDegrees1!#REF!+FirstPartDegrees1!#REF!)/2+(FirstPartDegrees1!F94+J84)/2+(FirstPartDegrees1!#REF!+S84)/2+(FirstPartDegrees1!I94+#REF!)/2 )/4,0)","v":{"$error":"#REF!"}},{"$f":"ROUNDUP(((FirstPartDegrees1!#REF!+FirstPartDegrees1!J94)/2+(FirstPartDegrees1!#REF!+FirstPartDegrees1!#REF!)/2+(FirstPartDegrees1!#REF!+V84)/2+(AB84+#REF!)/2)/4,0)","v":{"$error":"#REF!"}},{"$f":"(AN84+AAE84+AL84)*40/12","v":{"$error":"#REF!"}}]
[null,null,{"$f":"IF($B84=\"\",\"\",للطباعة1!$G$26)","v":""},{"$f":"IF($B84=\"\",\"\",للطباعة1!$F$26)","v":""},{"$f":"IF($B84=\"\",\"\",للطباعة1!$N$26)","v":""},{"$f":"IF($B84=\"\",\"\",للطباعة1!$M$26)","v":""},{"$f":"IF($B84=\"\",\"\",للطباعة1!$U$26)","v":""},{"$f":"IF($B84=\"\",\"\",للطباعة1!$T$26)","v":""},{"$f":"IF($B84=\"\",\"\",للطباعة1!$AB$26)","v":""},{"$f":"IF($B84=\"\",\"\",للطباعة1!$AA$26)","v":""},null,{"$f":"IF($B84=\"\",\"\",للطباعة1!$AJ$26)","v":""},{"$f":"IF($B84=\"\",\"\",للطباعة1!$AI$26)","v":""},{"$f":"IF($B84=\"\",\"\",للطباعة1!$AQ$26)","v":""},{"$f":"IF($B84=\"\",\"\",للطباعة1!$AP$26)","v":""},{"$f":"IF($B84=\"\",\"\",للطباعة1!$AX$26)","v":""},{"$f":"IF($B84=\"\",\"\",للطباعة1!$AW$26)","v":""},{"$f":"IF($B84=\"\",\"\",للطباعة1!$BE$26)","v":""},{"$f":"IF($B84=\"\",\"\",للطباعة1!$BD$26)","v":""},null,{"$f":"IF($B84=\"\",\"\",للطباعة1!$BM$26)","v":""},{"$f":"IF($B84=\"\",\"\",للطباعة1!$BL$26)","v":""},{"$f":"IF($B84=\"\",\"\",للطباعة1!$BT$26)","v":""},{"$f":"IF($B84=\"\",\"\",للطباعة1!$BS$26)","v":""},{"$f":"IF($B84=\"\",\"\",للطباعة1!$CA$26)","v":""},{"$f":"IF($B84=\"\",\"\",للطباعة1!$BZ$26)","v":""},{"$f":"IF($B84=\"\",\"\",للطباعة1!$CH$26)","v":""},{"$f":"IF($B84=\"\",\"\",للطباعة1!$CG$26)","v":""}]
[null,"النقاط",{"$f":"IF($B84=\"\",\"\",(D84+D85)*100/8)","v":""},null,{"$f":"IF($B84=\"\",\"\",(F84+F85)*100/8)","v":""},null,{"$f":"IF($B84=\"\",\"\",(H84+H85)*100/8)","v":""},null,{"$f":"IF($B84=\"\",\"\",(J84+J85)*100/8)","v":""},null,null,{"$f":"IF($B84=\"\",\"\",(M84+M85)*100/8)","v":""},null,{"$f":"IF($B84=\"\",\"\",(O84+O85)*100/8)","v":""},null,{"$f":"IF($B84=\"\",\"\",(Q84+Q85)*100/8)","v":""},null,{"$f":"IF($B84=\"\",\"\",(S84+S85)*100/8)","v":""},null,null,{"$f":"IF($B84=\"\",\"\",(V84+V85)*100/8)","v":""},null,{"$f":"IF($B84=\"\",\"\",(X84+X85)*100/8)","v":""},null,{"$f":"IF($B84=\"\",\"\",(Z84+Z85)*100/8)","v":""},null,{"$f":"IF($B84=\"\",\"\",(AB84+AB85)*100/8)","v":""}]
[26,{"$f":"INDIRECT(ADDRESS(A87+1,2,,,\"للطباعة1\"))","v":""},{"$f":"IF($B87=\"\",\"\",للطباعة1!$E$27)","v":""},{"$f":"IF($B87=\"\",\"\",للطباعة1!$D$27)","v":""},{"$f":"IF($B87=\"\",\"\",للطباعة1!$L$27)","v":""},{"$f":"IF($B87=\"\",\"\",للطباعة1!$K$27)","v":""},{"$f":"IF($B87=\"\",\"\",للطباعة1!$S$27)","v":""},{"$f":"IF($B87=\"\",\"\",للطباعة1!$R$27)","v":""},{"$f":"IF($B87=\"\",\"\",للطباعة1!$Z$27)","v":""},{"$f":"IF($B87=\"\",\"\",للطباعة1!$Y$27)","v":""},{"$f":"IF($B87=\"\",\"\",(C89+E89+G89+I89)/4)","v":""},{"$f":"IF($B87=\"\",\"\",للطباعة1!$AH$27)","v":""},{"$f":"IF($B87=\"\",\"\",للطباعة1!$AG$27)","v":""},{"$f":"IF($B87=\"\",\"\",للطباعة1!$AO$27)","v":""},{"$f":"IF($B87=\"\",\"\",للطباعة1!$AN$27)","v":""},{"$f":"IF($B87=\"\",\"\",للطباعة1!$AV$27)","v":""},{"$f":"IF($B87=\"\",\"\",للطباعة1!$AU$27)","v":""},{"$f":"IF($B87=\"\",\"\",للطباعة1!$BC$27)","v":""},{"$f":"IF($B87=\"\",\"\",للطباعة1!$BB$27)","v":""},{"$f":"IF($B87=\"\",\"\",(L89+N89+P89+R89)/4)","v":""},{"$f":"IF($B87=\"\",\"\",للطباعة1!$BK$27)","v":""},{"$f":"IF($B87=\"\",\"\",للطباعة1!$BJ$27)","v":""},{"$f":"IF($B87=\"\",\"\",للطباعة1!$BR$27)","v":""},{"$f":"IF($B87=\"\",\"\",للطباعة1!$BQ$27)","v":""},{"$f":"IF($B87=\"\",\"\",للطباعة1!$BY$27)","v":""},{"$f":"IF($B87=\"\",\"\",للطباعة1!$BX$27)","v":""},{"$f":"IF($B87=\"\",\"\",للطباعة1!$CF$27)","v":""},{"$f":"IF($B87=\"\",\"\",للطباعة1!$CE$27)","v":""},{"$f":"IF($B87=\"\",\"\",(U89+W89+Y89+AA89)/4)","v":""},{"$f":"IF($B87=\"\",\"\",(K87+T87+AC87)*0.04)","v":""},{"$f":"IF($B87=\"\",\"\",IF((AD87*40/12-INT(AD87*40/12))>=0.75,INT(AD87*40/12)+1,IF((AD87*40/12-INT(AD87*40/12))<0.25,INT(AD87*40/12),INT(AD87*40/12)+0.5)))","v":""},{"$f":"IF($B87=\"\",\"\",INDIRECT(ADDRESS(11+A87*2,18,1,,\"SeconedPartDegrees1\")))","v":""},{"$f":"IF($B87=\"\",\"\",INDIRECT(ADDRESS(11+A87*2,19,1,,\"SeconedPartDegrees1\")))","v":""},{"$f":"IF(OR(AF87=\"\",AG87=\"\"),\"\",AF87+AG87)","v":""},{"$f":"IF(OR(AE87=\"\",AG87=\"\"),\"\",AG87+AF87+AE87)","v":""},null,null,{"$f":"ROUNDUP(((FirstPartDegrees1!#REF!+D87)/2+(FirstPartDegrees1!E97+O87)/2+(FirstPartDegrees1!#REF!+M87)/2+(FirstPartDegrees1!C97+F87)/2 )/4,0)","v":{"$error":"#REF!"}},{"$f":"ROUNDUP(((FirstPartDegrees1!#REF!+FirstPartDegrees1!#REF!)/2+(FirstPartDegrees1!F97+J87)/2+(FirstPartDegrees1!#REF!+S87)/2+(FirstPartDegrees1!I97+#REF!)/2 )/4,0)","v":{"$error":"#REF!"}},{"$f":"ROUNDUP(((FirstPartDegrees1!#REF!+FirstPartDegrees1!J97)/2+(FirstPartDegrees1!#REF!+FirstPartDegrees1!#REF!)/2+(FirstPartDegrees1!#REF!+V87)/2+(AB87+#REF!)/2)/4,0)","v":{"$error":"#REF!"}},{"$f":"(AN87+AAE87+AL87)*40/12","v":{"$error":"#REF!"}}]
[null,null,{"$f":"IF($B87=\"\",\"\",للطباعة1!$G$27)","v":""},{"$f":"IF($B87=\"\",\"\",للطباعة1!$F$27)","v":""},{"$f":"IF($B87=\"\",\"\",للطباعة1!$N$27)","v":""},{"$f":"IF($B87=\"\",\"\",للطباعة1!$M$27)","v":""},{"$f":"IF($B87=\"\",\"\",للطباعة1!$U$27)","v":""},{"$f":"IF($B87=\"\",\"\",للطباعة1!$T$27)","v":""},{"$f":"IF($B87=\"\",\"\",للطباعة1!$AB$27)","v":""},{"$f":"IF($B87=\"\",\"\",للطباعة1!$AA$27)","v":""},null,{"$f":"IF($B87=\"\",\"\",للطباعة1!$AJ$27)","v":""},{"$f":"IF($B87=\"\",\"\",للطباعة1!$AI$27)","v":""},{"$f":"IF($B87=\"\",\"\",للطباعة1!$AQ$27)","v":""},{"$f":"IF($B87=\"\",\"\",للطباعة1!$AP$27)","v":""},{"$f":"IF($B87=\"\",\"\",للطباعة1!$AX$27)","v":""},{"$f":"IF($B87=\"\",\"\",للطباعة1!$AW$27)","v":""},{"$f":"IF($B87=\"\",\"\",للطباعة1!$BE$27)","v":""},{"$f":"IF($B87=\"\",\"\",للطباعة1!$BD$27)","v":""},null,{"$f":"IF($B87=\"\",\"\",للطباعة1!$BM$27)","v":""},{"$f":"IF($B87=\"\",\"\",للطباعة1!$BL$27)","v":""},{"$f":"IF($B87=\"\",\"\",للطباعة1!$BT$27)","v":""},{"$f":"IF($B87=\"\",\"\",للطباعة1!$BS$27)","v":""},{"$f":"IF($B87=\"\",\"\",للطباعة1!$CA$27)","v":""},{"$f":"IF($B87=\"\",\"\",للطباعة1!$BZ$27)","v":""},{"$f":"IF($B87=\"\",\"\",للطباعة1!$CH$27)","v":""},{"$f":"IF($B87=\"\",\"\",للطباعة1!$CG$27)","v":""}]
[null,"النقاط",{"$f":"IF($B87=\"\",\"\",(D87+D88)*100/8)","v":""},null,{"$f":"IF($B87=\"\",\"\",(F87+F88)*100/8)","v":""},null,{"$f":"IF($B87=\"\",\"\",(H87+H88)*100/8)","v":""},null,{"$f":"IF($B87=\"\",\"\",(J87+J88)*100/8)","v":""},null,null,{"$f":"IF($B87=\"\",\"\",(M87+M88)*100/8)","v":""},null,{"$f":"IF($B87=\"\",\"\",(O87+O88)*100/8)","v":""},null,{"$f":"IF($B87=\"\",\"\",(Q87+Q88)*100/8)","v":""},null,{"$f":"IF($B87=\"\",\"\",(S87+S88)*100/8)","v":""},null,null,{"$f":"IF($B87=\"\",\"\",(V87+V88)*100/8)","v":""},null,{"$f":"IF($B87=\"\",\"\",(X87+X88)*100/8)","v":""},null,{"$f":"IF($B87=\"\",\"\",(Z87+Z88)*100/8)","v":""},null,{"$f":"IF($B87=\"\",\"\",(AB87+AB88)*100/8)","v":""}]
[27,{"$f":"INDIRECT(ADDRESS(A90+1,2,,,\"للطباعة1\"))","v":""},{"$f":"IF($B90=\"\",\"\",للطباعة1!$E$28)","v":""},{"$f":"IF($B90=\"\",\"\",للطباعة1!$D$28)","v":""},{"$f":"IF($B90=\"\",\"\",للطباعة1!$L$28)","v":""},{"$f":"IF($B90=\"\",\"\",للطباعة1!$K$28)","v":""},{"$f":"IF($B90=\"\",\"\",للطباعة1!$S$28)","v":""},{"$f":"IF($B90=\"\",\"\",للطباعة1!$R$28)","v":""},{"$f":"IF($B90=\"\",\"\",للطباعة1!$Z$28)","v":""},{"$f":"IF($B90=\"\",\"\",للطباعة1!$Y$28)","v":""},{"$f":"IF($B90=\"\",\"\",(C92+E92+G92+I92)/4)","v":""},{"$f":"IF($B90=\"\",\"\",للطباعة1!$AH$28)","v":""},{"$f":"IF($B90=\"\",\"\",للطباعة1!$AG$28)","v":""},{"$f":"IF($B90=\"\",\"\",للطباعة1!$AO$28)","v":""},{"$f":"IF($B90=\"\",\"\",للطباعة1!$AN$28)","v":""},{"$f":"IF($B90=\"\",\"\",للطباعة1!$AV$28)","v":""},{"$f":"IF($B90=\"\",\"\",للطباعة1!$AU$28)","v":""},{"$f":"IF($B90=\"\",\"\",للطباعة1!$BC$28)","v":""},{"$f":"IF($B90=\"\",\"\",للطباعة1!$BB$28)","v":""},{"$f":"IF($B90=\"\",\"\",(L92+N92+P92+R92)/4)","v":""},{"$f":"IF($B90=\"\",\"\",للطباعة1!$BK$28)","v":""},{"$f":"IF($B90=\"\",\"\",للطباعة1!$BJ$28)","v":""},{"$f":"IF($B90=\"\",\"\",للطباعة1!$BR$28)","v":""},{"$f":"IF($B90=\"\",\"\",للطباعة1!$BQ$28)","v":""},{"$f":"IF($B90=\"\",\"\",للطباعة1!$BY$28)","v":""},{"$f":"IF($B90=\"\",\"\",للطباعة1!$BX$28)","v":""},{"$f":"IF($B90=\"\",\"\",للطباعة1!$CF$28)","v":""},{"$f":"IF($B90=\"\",\"\",للطباعة1!$CE$28)","v":""},{"$f":"IF($B90=\"\",\"\",(U92+W92+Y92+AA92)/4)","v":""},{"$f":"IF($B90=\"\",\"\",(K90+T90+AC90)*0.04)","v":""},{"$f":"IF($B90=\"\",\"\",IF((AD90*40/12-INT(AD90*40/12))>=0.75,INT(AD90*40/12)+1,IF((AD90*40/12-INT(AD90*40/12))<0.25,INT(AD90*40/12),INT(AD90*40/12)+0.5)))","v":""},{"$f":"IF($B90=\"\",\"\",INDIRECT(ADDRESS(11+A90*2,18,1,,\"SeconedPartDegrees1\")))","v":""},{"$f":"IF($B90=\"\",\"\",INDIRECT(ADDRESS(11+A90*2,19,1,,\"SeconedPartDegrees1\")))","v":""},{"$f":"IF(OR(AF90=\"\",AG90=\"\"),\"\",AF90+AG90)","v":""},{"$f":"IF(OR(AE90=\"\",AG90=\"\"),\"\",AG90+AF90+AE90)","v":""},null,null,{"$f":"ROUNDUP(((FirstPartDegrees1!#REF!+D90)/2+(FirstPartDegrees1!E100+O90)/2+(FirstPartDegrees1!#REF!+M90)/2+(FirstPartDegrees1!C100+F90)/2 )/4,0)","v":{"$error":"#REF!"}},{"$f":"ROUNDUP(((FirstPartDegrees1!#REF!+FirstPartDegrees1!#REF!)/2+(FirstPartDegrees1!F100+J90)/2+(FirstPartDegrees1!#REF!+S90)/2+(FirstPartDegrees1!I100+#REF!)/2 )/4,0)","v":{"$error":"#REF!"}},{"$f":"ROUNDUP(((FirstPartDegrees1!#REF!+FirstPartDegrees1!J100)/2+(FirstPartDegrees1!#REF!+FirstPartDegrees1!#REF!)/2+(FirstPartDegrees1!#REF!+V90)/2+(AB90+#REF!)/2)/4,0)","v":{"$error":"#REF!"}},{"$f":"(AN90+AAE90+AL90)*40/12","v":{"$error":"#REF!"}}]
[null,null,{"$f":"IF($B90=\"\",\"\",للطباعة1!$G$28)","v":""},{"$f":"IF($B90=\"\",\"\",للطباعة1!$F$28)","v":""},{"$f":"IF($B90=\"\",\"\",للطباعة1!$N$28)","v":""},{"$f":"IF($B90=\"\",\"\",للطباعة1!$M$28)","v":""},{"$f":"IF($B90=\"\",\"\",للطباعة1!$U$28)","v":""},{"$f":"IF($B90=\"\",\"\",للطباعة1!$T$28)","v":""},{"$f":"IF($B90=\"\",\"\",للطباعة1!$AB$28)","v":""},{"$f":"IF($B90=\"\",\"\",للطباعة1!$AA$28)","v":""},null,{"$f":"IF($B90=\"\",\"\",للطباعة1!$AJ$28)","v":""},{"$f":"IF($B90=\"\",\"\",للطباعة1!$AI$28)","v":""},{"$f":"IF($B90=\"\",\"\",للطباعة1!$AQ$28)","v":""},{"$f":"IF($B90=\"\",\"\",للطباعة1!$AP$28)","v":""},{"$f":"IF($B90=\"\",\"\",للطباعة1!$AX$28)","v":""},{"$f":"IF($B90=\"\",\"\",للطباعة1!$AW$28)","v":""},{"$f":"IF($B90=\"\",\"\",للطباعة1!$BE$28)","v":""},{"$f":"IF($B90=\"\",\"\",للطباعة1!$BD$28)","v":""},null,{"$f":"IF($B90=\"\",\"\",للطباعة1!$BM$28)","v":""},{"$f":"IF($B90=\"\",\"\",للطباعة1!$BL$28)","v":""},{"$f":"IF($B90=\"\",\"\",للطباعة1!$BT$28)","v":""},{"$f":"IF($B90=\"\",\"\",للطباعة1!$BS$28)","v":""},{"$f":"IF($B90=\"\",\"\",للطباعة1!$CA$28)","v":""},{"$f":"IF($B90=\"\",\"\",للطباعة1!$BZ$28)","v":""},{"$f":"IF($B90=\"\",\"\",للطباعة1!$CH$28)","v":""},{"$f":"IF($B90=\"\",\"\",للطباعة1!$CG$28)","v":""}]
[null,"النقاط",{"$f":"IF($B90=\"\",\"\",(D90+D91)*100/8)","v":""},null,{"$f":"IF($B90=\"\",\"\",(F90+F91)*100/8)","v":""},null,{"$f":"IF($B90=\"\",\"\",(H90+H91)*100/8)","v":""},null,{"$f":"IF($B90=\"\",\"\",(J90+J91)*100/8)","v":""},null,null,{"$f":"IF($B90=\"\",\"\",(M90+M91)*100/8)","v":""},null,{"$f":"IF($B90=\"\",\"\",(O90+O91)*100/8)","v":""},null,{"$f":"IF($B90=\"\",\"\",(Q90+Q91)*100/8)","v":""},null,{"$f":"IF($B90=\"\",\"\",(S90+S91)*100/8)","v":""},null,null,{"$f":"IF($B90=\"\",\"\",(V90+V91)*100/8)","v":""},null,{"$f":"IF($B90=\"\",\"\",(X90+X91)*100/8)","v":""},null,{"$f":"IF($B90=\"\",\"\",(Z90+Z91)*100/8)","v":""},null,{"$f":"IF($B90=\"\",\"\",(AB90+AB91)*100/8)","v":""}]
[28,{"$f":"INDIRECT(ADDRESS(A93+1,2,,,\"للطباعة1\"))","v":""},{"$f":"IF($B93=\"\",\"\",للطباعة1!$E$29)","v":""},{"$f":"IF($B93=\"\",\"\",للطباعة1!$D$29)","v":""},{"$f":"IF($B93=\"\",\"\",للطباعة1!$L$29)","v":""},{"$f":"IF($B93=\"\",\"\",للطباعة1!$K$29)","v":""},{"$f":"IF($B93=\"\",\"\",للطباعة1!$S$29)","v":""},{"$f":"IF($B93=\"\",\"\",للطباعة1!$R$29)","v":""},{"$f":"IF($B93=\"\",\"\",للطباعة1!$Z$29)","v":""},{"$f":"IF($B93=\"\",\"\",للطباعة1!$Y$29)","v":""},{"$f":"IF($B93=\"\",\"\",(C95+E95+G95+I95)/4)","v":""},{"$f":"IF($B93=\"\",\"\",للطباعة1!$AH$29)","v":""},{"$f":"IF($B93=\"\",\"\",للطباعة1!$AG$29)","v":""},{"$f":"IF($B93=\"\",\"\",للطباعة1!$AO$29)","v":""},{"$f":"IF($B93=\"\",\"\",للطباعة1!$AN$29)","v":""},{"$f":"IF($B93=\"\",\"\",للطباعة1!$AV$29)","v":""},{"$f":"IF($B93=\"\",\"\",للطباعة1!$AU$29)","v":""},{"$f":"IF($B93=\"\",\"\",للطباعة1!$BC$29)","v":""},{"$f":"IF($B93=\"\",\"\",للطباعة1!$BB$29)","v":""},{"$f":"IF($B93=\"\",\"\",(L95+N95+P95+R95)/4)","v":""},{"$f":"IF($B93=\"\",\"\",للطباعة1!$BK$29)","v":""},{"$f":"IF($B93=\"\",\"\",للطباعة1!$BJ$29)","v":""},{"$f":"IF($B93=\"\",\"\",للطباعة1!$BR$29)","v":""},{"$f":"IF($B93=\"\",\"\",للطباعة1!$BQ$29)","v":""},{"$f":"IF($B93=\"\",\"\",للطباعة1!$BY$29)","v":""},{"$f":"IF($B93=\"\",\"\",للطباعة1!$BX$29)","v":""},{"$f":"IF($B93=\"\",\"\",للطباعة1!$CF$29)","v":""},{"$f":"IF($B93=\"\",\"\",للطباعة1!$CE$29)","v":""},{"$f":"IF($B93=\"\",\"\",(U95+W95+Y95+AA95)/4)","v":""},{"$f":"IF($B93=\"\",\"\",(K93+T93+AC93)*0.04)","v":""},{"$f":"IF($B93=\"\",\"\",IF((AD93*40/12-INT(AD93*40/12))>=0.75,INT(AD93*40/12)+1,IF((AD93*40/12-INT(AD93*40/12))<0.25,INT(AD93*40/12),INT(AD93*40/12)+0.5)))","v":""},{"$f":"IF($B93=\"\",\"\",INDIRECT(ADDRESS(11+A93*2,18,1,,\"SeconedPartDegrees1\")))","v":""},{"$f":"IF($B93=\"\",\"\",INDIRECT(ADDRESS(11+A93*2,19,1,,\"SeconedPartDegrees1\")))","v":""},{"$f":"IF(OR(AF93=\"\",AG93=\"\"),\"\",AF93+AG93)","v":""},{"$f":"IF(OR(AE93=\"\",AG93=\"\"),\"\",AG93+AF93+AE93)","v":""},null,null,{"$f":"ROUNDUP(((FirstPartDegrees1!#REF!+D93)/2+(FirstPartDegrees1!E103+O93)/2+(FirstPartDegrees1!#REF!+M93)/2+(FirstPartDegrees1!C103+F93)/2 )/4,0)","v":{"$error":"#REF!"}},{"$f":"ROUNDUP(((FirstPartDegrees1!#REF!+FirstPartDegrees1!#REF!)/2+(FirstPartDegrees1!F103+J93)/2+(FirstPartDegrees1!#REF!+S93)/2+(FirstPartDegrees1!I103+#REF!)/2 )/4,0)","v":{"$error":"#REF!"}},{"$f":"ROUNDUP(((FirstPartDegrees1!#REF!+FirstPartDegrees1!J103)/2+(FirstPartDegrees1!#REF!+FirstPartDegrees1!#REF!)/2+(FirstPartDegrees1!#REF!+V93)/2+(AB93+#REF!)/2)/4,0)","v":{"$error":"#REF!"}},{"$f":"(AN93+AAE93+AL93)*40/12","v":{"$error":"#REF!"}}]
[null,null,{"$f":"IF($B93=\"\",\"\",للطباعة1!$G$29)","v":""},{"$f":"IF($B93=\"\",\"\",للطباعة1!$F$29)","v":""},{"$f":"IF($B93=\"\",\"\",للطباعة1!$N$29)","v":""},{"$f":"IF($B93=\"\",\"\",للطباعة1!$M$29)","v":""},{"$f":"IF($B93=\"\",\"\",للطباعة1!$U$29)","v":""},{"$f":"IF($B93=\"\",\"\",للطباعة1!$T$29)","v":""},{"$f":"IF($B93=\"\",\"\",للطباعة1!$AB$29)","v":""},{"$f":"IF($B93=\"\",\"\",للطباعة1!$AA$29)","v":""},null,{"$f":"IF($B93=\"\",\"\",للطباعة1!$AJ$29)","v":""},{"$f":"IF($B93=\"\",\"\",للطباعة1!$AI$29)","v":""},{"$f":"IF($B93=\"\",\"\",للطباعة1!$AQ$29)","v":""},{"$f":"IF($B93=\"\",\"\",للطباعة1!$AP$29)","v":""},{"$f":"IF($B93=\"\",\"\",للطباعة1!$AX$29)","v":""},{"$f":"IF($B93=\"\",\"\",للطباعة1!$AW$29)","v":""},{"$f":"IF($B93=\"\",\"\",للطباعة1!$BE$29)","v":""},{"$f":"IF($B93=\"\",\"\",للطباعة1!$BD$29)","v":""},null,{"$f":"IF($B93=\"\",\"\",للطباعة1!$BM$29)","v":""},{"$f":"IF($B93=\"\",\"\",للطباعة1!$BL$29)","v":""},{"$f":"IF($B93=\"\",\"\",للطباعة1!$BT$29)","v":""},{"$f":"IF($B93=\"\",\"\",للطباعة1!$BS$29)","v":""},{"$f":"IF($B93=\"\",\"\",للطباعة1!$CA$29)","v":""},{"$f":"IF($B93=\"\",\"\",للطباعة1!$BZ$29)","v":""},{"$f":"IF($B93=\"\",\"\",للطباعة1!$CH$29)","v":""},{"$f":"IF($B93=\"\",\"\",للطباعة1!$CG$29)","v":""}]
[null,"النقاط",{"$f":"IF($B93=\"\",\"\",(D93+D94)*100/8)","v":""},null,{"$f":"IF($B93=\"\",\"\",(F93+F94)*100/8)","v":""},null,{"$f":"IF($B93=\"\",\"\",(H93+H94)*100/8)","v":""},null,{"$f":"IF($B93=\"\",\"\",(J93+J94)*100/8)","v":""},null,null,{"$f":"IF($B93=\"\",\"\",(M93+M94)*100/8)","v":""},null,{"$f":"IF($B93=\"\",\"\",(O93+O94)*100/8)","v":""},null,{"$f":"IF($B93=\"\",\"\",(Q93+Q94)*100/8)","v":""},null,{"$f":"IF($B93=\"\",\"\",(S93+S94)*100/8)","v":""},null,null,{"$f":"IF($B93=\"\",\"\",(V93+V94)*100/8)","v":""},null,{"$f":"IF($B93=\"\",\"\",(X93+X94)*100/8)","v":""},null,{"$f":"IF($B93=\"\",\"\",(Z93+Z94)*100/8)","v":""},null,{"$f":"IF($B93=\"\",\"\",(AB93+AB94)*100/8)","v":""}]
[29,{"$f":"INDIRECT(ADDRESS(A96+1,2,,,\"للطباعة1\"))","v":""},{"$f":"IF($B96=\"\",\"\",للطباعة1!$E$30)","v":""},{"$f":"IF($B96=\"\",\"\",للطباعة1!$D$30)","v":""},{"$f":"IF($B96=\"\",\"\",للطباعة1!$L$30)","v":""},{"$f":"IF($B96=\"\",\"\",للطباعة1!$K$30)","v":""},{"$f":"IF($B96=\"\",\"\",للطباعة1!$S$30)","v":""},{"$f":"IF($B96=\"\",\"\",للطباعة1!$R$30)","v":""},{"$f":"IF($B96=\"\",\"\",للطباعة1!$Z$30)","v":""},{"$f":"IF($B96=\"\",\"\",للطباعة1!$Y$30)","v":""},{"$f":"IF($B96=\"\",\"\",(C98+E98+G98+I98)/4)","v":""},{"$f":"IF($B96=\"\",\"\",للطباعة1!$AH$30)","v":""},{"$f":"IF($B96=\"\",\"\",للطباعة1!$AG$30)","v":""},{"$f":"IF($B96=\"\",\"\",للطباعة1!$AO$30)","v":""},{"$f":"IF($B96=\"\",\"\",للطباعة1!$AN$30)","v":""},{"$f":"IF($B96=\"\",\"\",للطباعة1!$AV$30)","v":""},{"$f":"IF($B96=\"\",\"\",للطباعة1!$AU$30)","v":""},{"$f":"IF($B96=\"\",\"\",للطباعة1!$BC$30)","v":""},{"$f":"IF($B96=\"\",\"\",للطباعة1!$BB$30)","v":""},{"$f":"IF($B96=\"\",\"\",(L98+N98+P98+R98)/4)","v":""},{"$f":"IF($B96=\"\",\"\",للطباعة1!$BK$30)","v":""},{"$f":"IF($B96=\"\",\"\",للطباعة1!$BJ$30)","v":""},{"$f":"IF($B96=\"\",\"\",للطباعة1!$BR$30)","v":""},{"$f":"IF($B96=\"\",\"\",للطباعة1!$BQ$30)","v":""},{"$f":"IF($B96=\"\",\"\",للطباعة1!$BY$30)","v":""},{"$f":"IF($B96=\"\",\"\",للطباعة1!$BX$30)","v":""},{"$f":"IF($B96=\"\",\"\",للطباعة1!$CF$30)","v":""},{"$f":"IF($B96=\"\",\"\",للطباعة1!$CE$30)","v":""},{"$f":"IF($B96=\"\",\"\",(U98+W98+Y98+AA98)/4)","v":""},{"$f":"IF($B96=\"\",\"\",(K96+T96+AC96)*0.04)","v":""},{"$f":"IF($B96=\"\",\"\",IF((AD96*40/12-INT(AD96*40/12))>=0.75,INT(AD96*40/12)+1,IF((AD96*40/12-INT(AD96*40/12))<0.25,INT(AD96*40/12),INT(AD96*40/12)+0.5)))","v":""},{"$f":"IF($B96=\"\",\"\",INDIRECT(ADDRESS(11+A96*2,18,1,,\"SeconedPartDegrees1\")))","v":""},{"$f":"IF($B96=\"\",\"\",INDIRECT(ADDRESS(11+A96*2,19,1,,\"SeconedPartDegrees1\")))","v":""},{"$f":"IF(OR(AF96=\"\",AG96=\"\"),\"\",AF96+AG96)","v":""},{"$f":"IF(OR(AE96=\"\",AG96=\"\"),\"\",AG96+AF96+AE96)","v":""},null,null,{"$f":"ROUNDUP(((FirstPartDegrees1!#REF!+D96)/2+(FirstPartDegrees1!E106+O96)/2+(FirstPartDegrees1!#REF!+M96)/2+(FirstPartDegrees1!C106+F96)/2 )/4,0)","v":{"$error":"#REF!"}},{"$f":"ROUNDUP(((FirstPartDegrees1!#REF!+FirstPartDegrees1!#REF!)/2+(FirstPartDegrees1!F106+J96)/2+(FirstPartDegrees1!#REF!+S96)/2+(FirstPartDegrees1!I106+#REF!)/2 )/4,0)","v":{"$error":"#REF!"}},{"$f":"ROUNDUP(((FirstPartDegrees1!#REF!+FirstPartDegrees1!J106)/2+(FirstPartDegrees1!#REF!+FirstPartDegrees1!#REF!)/2+(FirstPartDegrees1!#REF!+V96)/2+(AB96+#REF!)/2)/4,0)","v":{"$error":"#REF!"}},{"$f":"(AN96+AAE96+AL96)*40/12","v":{"$error":"#REF!"}}]
[null,null,{"$f":"IF($B96=\"\",\"\",للطباعة1!$G$30)","v":""},{"$f":"IF($B96=\"\",\"\",للطباعة1!$F$30)","v":""},{"$f":"IF($B96=\"\",\"\",للطباعة1!$N$30)","v":""},{"$f":"IF($B96=\"\",\"\",للطباعة1!$M$30)","v":""},{"$f":"IF($B96=\"\",\"\",للطباعة1!$U$30)","v":""},{"$f":"IF($B96=\"\",\"\",للطباعة1!$T$30)","v":""},{"$f":"IF($B96=\"\",\"\",للطباعة1!$AB$30)","v":""},{"$f":"IF($B96=\"\",\"\",للطباعة1!$AA$30)","v":""},null,{"$f":"IF($B96=\"\",\"\",للطباعة1!$AJ$30)","v":""},{"$f":"IF($B96=\"\",\"\",للطباعة1!$AI$30)","v":""},{"$f":"IF($B96=\"\",\"\",للطباعة1!$AQ$30)","v":""},{"$f":"IF($B96=\"\",\"\",للطباعة1!$AP$30)","v":""},{"$f":"IF($B96=\"\",\"\",للطباعة1!$AX$30)","v":""},{"$f":"IF($B96=\"\",\"\",للطباعة1!$AW$30)","v":""},{"$f":"IF($B96=\"\",\"\",للطباعة1!$BE$30)","v":""},{"$f":"IF($B96=\"\",\"\",للطباعة1!$BD$30)","v":""},null,{"$f":"IF($B96=\"\",\"\",للطباعة1!$BM$30)","v":""},{"$f":"IF($B96=\"\",\"\",للطباعة1!$BL$30)","v":""},{"$f":"IF($B96=\"\",\"\",للطباعة1!$BT$30)","v":""},{"$f":"IF($B96=\"\",\"\",للطباعة1!$BS$30)","v":""},{"$f":"IF($B96=\"\",\"\",للطباعة1!$CA$30)","v":""},{"$f":"IF($B96=\"\",\"\",للطباعة1!$BZ$30)","v":""},{"$f":"IF($B96=\"\",\"\",للطباعة1!$CH$30)","v":""},{"$f":"IF($B96=\"\",\"\",للطباعة1!$CG$30)","v":""}]
[null,"النقاط",{"$f":"IF($B96=\"\",\"\",(D96+D97)*100/8)","v":""},null,{"$f":"IF($B96=\"\",\"\",(F96+F97)*100/8)","v":""},null,{"$f":"IF($B96=\"\",\"\",(H96+H97)*100/8)","v":""},null,{"$f":"IF($B96=\"\",\"\",(J96+J97)*100/8)","v":""},null,null,{"$f":"IF($B96=\"\",\"\",(M96+M97)*100/8)","v":""},null,{"$f":"IF($B96=\"\",\"\",(O96+O97)*100/8)","v":""},null,{"$f":"IF($B96=\"\",\"\",(Q96+Q97)*100/8)","v":""},null,{"$f":"IF($B96=\"\",\"\",(S96+S97)*100/8)","v":""},null,null,{"$f":"IF($B96=\"\",\"\",(V96+V97)*100/8)","v":""},null,{"$f":"IF($B96=\"\",\"\",(X96+X97)*100/8)","v":""},null,{"$f":"IF($B96=\"\",\"\",(Z96+Z97)*100/8)","v":""},null,{"$f":"IF($B96=\"\",\"\",(AB96+AB97)*100/8)","v":""}]
[30,{"$f":"INDIRECT(ADDRESS(A99+1,2,,,\"للطباعة1\"))","v":""},{"$f":"IF($B99=\"\",\"\",للطباعة1!$E$31)","v":""},{"$f":"IF($B99=\"\",\"\",للطباعة1!$D$31)","v":""},{"$f":"IF($B99=\"\",\"\",للطباعة1!$L$31)","v":""},{"$f":"IF($B99=\"\",\"\",للطباعة1!$K$31)","v":""},{"$f":"IF($B99=\"\",\"\",للطباعة1!$S$31)","v":""},{"$f":"IF($B99=\"\",\"\",للطباعة1!$R$31)","v":""},{"$f":"IF($B99=\"\",\"\",للطباعة1!$Z$31)","v":""},{"$f":"IF($B99=\"\",\"\",للطباعة1!$Y$31)","v":""},{"$f":"IF($B99=\"\",\"\",(C101+E101+G101+I101)/4)","v":""},{"$f":"IF($B99=\"\",\"\",للطباعة1!$AH$31)","v":""},{"$f":"IF($B99=\"\",\"\",للطباعة1!$AG$31)","v":""},{"$f":"IF($B99=\"\",\"\",للطباعة1!$AO$31)","v":""},{"$f":"IF($B99=\"\",\"\",للطباعة1!$AN$31)","v":""},{"$f":"IF($B99=\"\",\"\",للطباعة1!$AV$31)","v":""},{"$f":"IF($B99=\"\",\"\",للطباعة1!$AU$31)","v":""},{"$f":"IF($B99=\"\",\"\",للطباعة1!$BC$31)","v":""},{"$f":"IF($B99=\"\",\"\",للطباعة1!$BB$31)","v":""},{"$f":"IF($B99=\"\",\"\",(L101+N101+P101+R101)/4)","v":""},{"$f":"IF($B99=\"\",\"\",للطباعة1!$BK$31)","v":""},{"$f":"IF($B99=\"\",\"\",للطباعة1!$BJ$31)","v":""},{"$f":"IF($B99=\"\",\"\",للطباعة1!$BR$31)","v":""},{"$f":"IF($B99=\"\",\"\",للطباعة1!$BQ$31)","v":""},{"$f":"IF($B99=\"\",\"\",للطباعة1!$BY$31)","v":""},{"$f":"IF($B99=\"\",\"\",للطباعة1!$BX$31)","v":""},{"$f":"IF($B99=\"\",\"\",للطباعة1!$CF$31)","v":""},{"$f":"IF($B99=\"\",\"\",للطباعة1!$CE$31)","v":""},{"$f":"IF($B99=\"\",\"\",(U101+W101+Y101+AA101)/4)","v":""},{"$f":"IF($B99=\"\",\"\",(K99+T99+AC99)*0.04)","v":""},{"$f":"IF($B99=\"\",\"\",IF((AD99*40/12-INT(AD99*40/12))>=0.75,INT(AD99*40/12)+1,IF((AD99*40/12-INT(AD99*40/12))<0.25,INT(AD99*40/12),INT(AD99*40/12)+0.5)))","v":""},{"$f":"IF($B99=\"\",\"\",INDIRECT(ADDRESS(11+A99*2,18,1,,\"SeconedPartDegrees1\")))","v":""},{"$f":"IF($B99=\"\",\"\",INDIRECT(ADDRESS(11+A99*2,19,1,,\"SeconedPartDegrees1\")))","v":""},{"$f":"IF(OR(AF99=\"\",AG99=\"\"),\"\",AF99+AG99)","v":""},{"$f":"IF(OR(AE99=\"\",AG99=\"\"),\"\",AG99+AF99+AE99)","v":""},null,null,{"$f":"ROUNDUP(((FirstPartDegrees1!#REF!+D99)/2+(FirstPartDegrees1!E109+O99)/2+(FirstPartDegrees1!#REF!+M99)/2+(FirstPartDegrees1!C109+F99)/2 )/4,0)","v":{"$error":"#REF!"}},{"$f":"ROUNDUP(((FirstPartDegrees1!#REF!+FirstPartDegrees1!#REF!)/2+(FirstPartDegrees1!F109+J99)/2+(FirstPartDegrees1!#REF!+S99)/2+(FirstPartDegrees1!I109+#REF!)/2 )/4,0)","v":{"$error":"#REF!"}},{"$f":"ROUNDUP(((FirstPartDegrees1!#REF!+FirstPartDegrees1!J109)/2+(FirstPartDegrees1!#REF!+FirstPartDegrees1!#REF!)/2+(FirstPartDegrees1!#REF!+V99)/2+(AB99+#REF!)/2)/4,0)","v":{"$error":"#REF!"}},{"$f":"(AN99+AAE99+AL99)*40/12","v":{"$error":"#REF!"}}]
[null,null,{"$f":"IF($B99=\"\",\"\",للطباعة1!$G$31)","v":""},{"$f":"IF($B99=\"\",\"\",للطباعة1!$F$31)","v":""},{"$f":"IF($B99=\"\",\"\",للطباعة1!$N$31)","v":""},{"$f":"IF($B99=\"\",\"\",للطباعة1!$M$31)","v":""},{"$f":"IF($B99=\"\",\"\",للطباعة1!$U$31)","v":""},{"$f":"IF($B99=\"\",\"\",للطباعة1!$T$31)","v":""},{"$f":"IF($B99=\"\",\"\",للطباعة1!$AB$31)","v":""},{"$f":"IF($B99=\"\",\"\",للطباعة1!$AA$31)","v":""},null,{"$f":"IF($B99=\"\",\"\",للطباعة1!$AJ$31)","v":""},{"$f":"IF($B99=\"\",\"\",للطباعة1!$AI$31)","v":""},{"$f":"IF($B99=\"\",\"\",للطباعة1!$AQ$31)","v":""},{"$f":"IF($B99=\"\",\"\",للطباعة1!$AP$31)","v":""},{"$f":"IF($B99=\"\",\"\",للطباعة1!$AX$31)","v":""},{"$f":"IF($B99=\"\",\"\",للطباعة1!$AW$31)","v":""},{"$f":"IF($B99=\"\",\"\",للطباعة1!$BE$31)","v":""},{"$f":"IF($B99=\"\",\"\",للطباعة1!$BD$31)","v":""},null,{"$f":"IF($B99=\"\",\"\",للطباعة1!$BM$31)","v":""},{"$f":"IF($B99=\"\",\"\",للطباعة1!$BL$31)","v":""},{"$f":"IF($B99=\"\",\"\",للطباعة1!$BT$31)","v":""},{"$f":"IF($B99=\"\",\"\",للطباعة1!$BS$31)","v":""},{"$f":"IF($B99=\"\",\"\",للطباعة1!$CA$31)","v":""},{"$f":"IF($B99=\"\",\"\",للطباعة1!$BZ$31)","v":""},{"$f":"IF($B99=\"\",\"\",للطباعة1!$CH$31)","v":""},{"$f":"IF($B99=\"\",\"\",للطباعة1!$CG$31)","v":""}]
[null,"النقاط",{"$f":"IF($B99=\"\",\"\",(D99+D100)*100/8)","v":""},null,{"$f":"IF($B99=\"\",\"\",(F99+F100)*100/8)","v":""},null,{"$f":"IF($B99=\"\",\"\",(H99+H100)*100/8)","v":""},null,{"$f":"IF($B99=\"\",\"\",(J99+J100)*100/8)","v":""},null,null,{"$f":"IF($B99=\"\",\"\",(M99+M100)*100/8)","v":""},null,{"$f":"IF($B99=\"\",\"\",(O99+O100)*100/8)","v":""},null,{"$f":"IF($B99=\"\",\"\",(Q99+Q100)*100/8)","v":""},null,{"$f":"IF($B99=\"\",\"\",(S99+S100)*100/8)","v":""},null,null,{"$f":"IF($B99=\"\",\"\",(V99+V100)*100/8)","v":""},null,{"$f":"IF($B99=\"\",\"\",(X99+X100)*100/8)","v":""},null,{"$f":"IF($B99=\"\",\"\",(Z99+Z100)*100/8)","v":""},null,{"$f":"IF($B99=\"\",\"\",(AB99+AB100)*100/8)","v":""}]
[31,{"$f":"INDIRECT(ADDRESS(A102+1,2,,,\"للطباعة1\"))","v":""},{"$f":"IF($B102=\"\",\"\",للطباعة1!$E$32)","v":""},{"$f":"IF($B102=\"\",\"\",للطباعة1!$D$32)","v":""},{"$f":"IF($B102=\"\",\"\",للطباعة1!$L$32)","v":""},{"$f":"IF($B102=\"\",\"\",للطباعة1!$K$32)","v":""},{"$f":"IF($B102=\"\",\"\",للطباعة1!$S$32)","v":""},{"$f":"IF($B102=\"\",\"\",للطباعة1!$R$32)","v":""},{"$f":"IF($B102=\"\",\"\",للطباعة1!$Z$32)","v":""},{"$f":"IF($B102=\"\",\"\",للطباعة1!$Y$32)","v":""},{"$f":"IF($B102=\"\",\"\",(C104+E104+G104+I104)/4)","v":""},{"$f":"IF($B102=\"\",\"\",للطباعة1!$AH$32)","v":""},{"$f":"IF($B102=\"\",\"\",للطباعة1!$AG$32)","v":""},{"$f":"IF($B102=\"\",\"\",للطباعة1!$AO$32)","v":""},{"$f":"IF($B102=\"\",\"\",للطباعة1!$AN$32)","v":""},{"$f":"IF($B102=\"\",\"\",للطباعة1!$AV$32)","v":""},{"$f":"IF($B102=\"\",\"\",للطباعة1!$AU$32)","v":""},{"$f":"IF($B102=\"\",\"\",للطباعة1!$BC$32)","v":""},{"$f":"IF($B102=\"\",\"\",للطباعة1!$BB$32)","v":""},{"$f":"IF($B102=\"\",\"\",(L104+N104+P104+R104)/4)","v":""},{"$f":"IF($B102=\"\",\"\",للطباعة1!$BK$32)","v":""},{"$f":"IF($B102=\"\",\"\",للطباعة1!$BJ$32)","v":""},{"$f":"IF($B102=\"\",\"\",للطباعة1!$BR$32)","v":""},{"$f":"IF($B102=\"\",\"\",للطباعة1!$BQ$32)","v":""},{"$f":"IF($B102=\"\",\"\",للطباعة1!$BY$32)","v":""},{"$f":"IF($B102=\"\",\"\",للطباعة1!$BX$32)","v":""},{"$f":"IF($B102=\"\",\"\",للطباعة1!$CF$32)","v":""},{"$f":"IF($B102=\"\",\"\",للطباعة1!$CE$32)","v":""},{"$f":"IF($B102=\"\",\"\",(U104+W104+Y104+AA104)/4)","v":""},{"$f":"IF($B102=\"\",\"\",(K102+T102+AC102)*0.04)","v":""},{"$f":"IF($B102=\"\",\"\",IF((AD102*40/12-INT(AD102*40/12))>=0.75,INT(AD102*40/12)+1,IF((AD102*40/12-INT(AD102*40/12))<0.25,INT(AD102*40/12),INT(AD102*40/12)+0.5)))","v":""},{"$f":"IF($B102=\"\",\"\",INDIRECT(ADDRESS(11+A102*2,18,1,,\"SeconedPartDegrees1\")))","v":""},{"$f":"IF($B102=\"\",\"\",INDIRECT(ADDRESS(11+A102*2,19,1,,\"SeconedPartDegrees1\")))","v":""},{"$f":"IF(OR(AF102=\"\",AG102=\"\"),\"\",AF102+AG102)","v":""},{"$f":"IF(OR(AE102=\"\",AG102=\"\"),\"\",AG102+AF102+AE102)","v":""},null,null,{"$f":"ROUNDUP(((FirstPartDegrees1!#REF!+D102)/2+(FirstPartDegrees1!E112+O102)/2+(FirstPartDegrees1!#REF!+M102)/2+(FirstPartDegrees1!C112+F102)/2 )/4,0)","v":{"$error":"#REF!"}},{"$f":"ROUNDUP(((FirstPartDegrees1!#REF!+FirstPartDegrees1!#REF!)/2+(FirstPartDegrees1!F112+J102)/2+(FirstPartDegrees1!#REF!+S102)/2+(FirstPartDegrees1!I112+#REF!)/2 )/4,0)","v":{"$error":"#REF!"}},{"$f":"ROUNDUP(((FirstPartDegrees1!#REF!+FirstPartDegrees1!J112)/2+(FirstPartDegrees1!#REF!+FirstPartDegrees1!#REF!)/2+(FirstPartDegrees1!#REF!+V102)/2+(AB102+#REF!)/2)/4,0)","v":{"$error":"#REF!"}},{"$f":"(AN102+AAE102+AL102)*40/12","v":{"$error":"#REF!"}}]
[null,null,{"$f":"IF($B102=\"\",\"\",للطباعة1!$G$32)","v":""},{"$f":"IF($B102=\"\",\"\",للطباعة1!$F$32)","v":""},{"$f":"IF($B102=\"\",\"\",للطباعة1!$N$32)","v":""},{"$f":"IF($B102=\"\",\"\",للطباعة1!$M$32)","v":""},{"$f":"IF($B102=\"\",\"\",للطباعة1!$U$32)","v":""},{"$f":"IF($B102=\"\",\"\",للطباعة1!$T$32)","v":""},{"$f":"IF($B102=\"\",\"\",للطباعة1!$AB$32)","v":""},{"$f":"IF($B102=\"\",\"\",للطباعة1!$AA$32)","v":""},null,{"$f":"IF($B102=\"\",\"\",للطباعة1!$AJ$32)","v":""},{"$f":"IF($B102=\"\",\"\",للطباعة1!$AI$32)","v":""},{"$f":"IF($B102=\"\",\"\",للطباعة1!$AQ$32)","v":""},{"$f":"IF($B102=\"\",\"\",للطباعة1!$AP$32)","v":""},{"$f":"IF($B102=\"\",\"\",للطباعة1!$AX$32)","v":""},{"$f":"IF($B102=\"\",\"\",للطباعة1!$AW$32)","v":""},{"$f":"IF($B102=\"\",\"\",للطباعة1!$BE$32)","v":""},{"$f":"IF($B102=\"\",\"\",للطباعة1!$BD$32)","v":""},null,{"$f":"IF($B102=\"\",\"\",للطباعة1!$BM$32)","v":""},{"$f":"IF($B102=\"\",\"\",للطباعة1!$BL$32)","v":""},{"$f":"IF($B102=\"\",\"\",للطباعة1!$BT$32)","v":""},{"$f":"IF($B102=\"\",\"\",للطباعة1!$BS$32)","v":""},{"$f":"IF($B102=\"\",\"\",للطباعة1!$CA$32)","v":""},{"$f":"IF($B102=\"\",\"\",للطباعة1!$BZ$32)","v":""},{"$f":"IF($B102=\"\",\"\",للطباعة1!$CH$32)","v":""},{"$f":"IF($B102=\"\",\"\",للطباعة1!$CG$32)","v":""}]
[null,"النقاط",{"$f":"IF($B102=\"\",\"\",(D102+D103)*100/8)","v":""},null,{"$f":"IF($B102=\"\",\"\",(F102+F103)*100/8)","v":""},null,{"$f":"IF($B102=\"\",\"\",(H102+H103)*100/8)","v":""},null,{"$f":"IF($B102=\"\",\"\",(J102+J103)*100/8)","v":""},null,null,{"$f":"IF($B102=\"\",\"\",(M102+M103)*100/8)","v":""},null,{"$f":"IF($B102=\"\",\"\",(O102+O103)*100/8)","v":""},null,{"$f":"IF($B102=\"\",\"\",(Q102+Q103)*100/8)","v":""},null,{"$f":"IF($B102=\"\",\"\",(S102+S103)*100/8)","v":""},null,null,{"$f":"IF($B102=\"\",\"\",(V102+V103)*100/8)","v":""},null,{"$f":"IF($B102=\"\",\"\",(X102+X103)*100/8)","v":""},null,{"$f":"IF($B102=\"\",\"\",(Z102+Z103)*100/8)","v":""},null,{"$f":"IF($B102=\"\",\"\",(AB102+AB103)*100/8)","v":""}]
[32,{"$f":"INDIRECT(ADDRESS(A105+1,2,,,\"للطباعة1\"))","v":""},{"$f":"IF($B105=\"\",\"\",للطباعة1!$E$33)","v":""},{"$f":"IF($B105=\"\",\"\",للطباعة1!$D$33)","v":""},{"$f":"IF($B105=\"\",\"\",للطباعة1!$L$33)","v":""},{"$f":"IF($B105=\"\",\"\",للطباعة1!$K$33)","v":""},{"$f":"IF($B105=\"\",\"\",للطباعة1!$S$33)","v":""},{"$f":"IF($B105=\"\",\"\",للطباعة1!$R$33)","v":""},{"$f":"IF($B105=\"\",\"\",للطباعة1!$Z$33)","v":""},{"$f":"IF($B105=\"\",\"\",للطباعة1!$Y$33)","v":""},{"$f":"IF($B105=\"\",\"\",(C107+E107+G107+I107)/4)","v":""},{"$f":"IF($B105=\"\",\"\",للطباعة1!$AH$33)","v":""},{"$f":"IF($B105=\"\",\"\",للطباعة1!$AG$33)","v":""},{"$f":"IF($B105=\"\",\"\",للطباعة1!$AO$33)","v":""},{"$f":"IF($B105=\"\",\"\",للطباعة1!$AN$33)","v":""},{"$f":"IF($B105=\"\",\"\",للطباعة1!$AV$33)","v":""},{"$f":"IF($B105=\"\",\"\",للطباعة1!$AU$33)","v":""},{"$f":"IF($B105=\"\",\"\",للطباعة1!$BC$33)","v":""},{"$f":"IF($B105=\"\",\"\",للطباعة1!$BB$33)","v":""},{"$f":"IF($B105=\"\",\"\",(L107+N107+P107+R107)/4)","v":""},{"$f":"IF($B105=\"\",\"\",للطباعة1!$BK$33)","v":""},{"$f":"IF($B105=\"\",\"\",للطباعة1!$BJ$33)","v":""},{"$f":"IF($B105=\"\",\"\",للطباعة1!$BR$33)","v":""},{"$f":"IF($B105=\"\",\"\",للطباعة1!$BQ$33)","v":""},{"$f":"IF($B105=\"\",\"\",للطباعة1!$BY$33)","v":""},{"$f":"IF($B105=\"\",\"\",للطباعة1!$BX$33)","v":""},{"$f":"IF($B105=\"\",\"\",للطباعة1!$CF$33)","v":""},{"$f":"IF($B105=\"\",\"\",للطباعة1!$CE$33)","v":""},{"$f":"IF($B105=\"\",\"\",(U107+W107+Y107+AA107)/4)","v":""},{"$f":"IF($B105=\"\",\"\",(K105+T105+AC105)*0.04)","v":""},{"$f":"IF($B105=\"\",\"\",IF((AD105*40/12-INT(AD105*40/12))>=0.75,INT(AD105*40/12)+1,IF((AD105*40/12-INT(AD105*40/12))<0.25,INT(AD105*40/12),INT(AD105*40/12)+0.5)))","v":""},{"$f":"IF($B105=\"\",\"\",INDIRECT(ADDRESS(11+A105*2,18,1,,\"SeconedPartDegrees1\")))","v":""},{"$f":"IF($B105=\"\",\"\",INDIRECT(ADDRESS(11+A105*2,19,1,,\"SeconedPartDegrees1\")))","v":""},{"$f":"IF(OR(AF105=\"\",AG105=\"\"),\"\",AF105+AG105)","v":""},{"$f":"IF(OR(AE105=\"\",AG105=\"\"),\"\",AG105+AF105+AE105)","v":""},null,null,{"$f":"ROUNDUP(((FirstPartDegrees1!#REF!+D105)/2+(FirstPartDegrees1!E115+O105)/2+(FirstPartDegrees1!#REF!+M105)/2+(FirstPartDegrees1!C115+F105)/2 )/4,0)","v":{"$error":"#REF!"}},{"$f":"ROUNDUP(((FirstPartDegrees1!#REF!+FirstPartDegrees1!#REF!)/2+(FirstPartDegrees1!F115+J105)/2+(FirstPartDegrees1!#REF!+S105)/2+(FirstPartDegrees1!I115+#REF!)/2 )/4,0)","v":{"$error":"#REF!"}},{"$f":"ROUNDUP(((FirstPartDegrees1!#REF!+FirstPartDegrees1!J115)/2+(FirstPartDegrees1!#REF!+FirstPartDegrees1!#REF!)/2+(FirstPartDegrees1!#REF!+V105)/2+(AB105+#REF!)/2)/4,0)","v":{"$error":"#REF!"}},{"$f":"(AN105+AAE105+AL105)*40/12","v":{"$error":"#REF!"}}]
[null,null,{"$f":"IF($B105=\"\",\"\",للطباعة1!$G$33)","v":""},{"$f":"IF($B105=\"\",\"\",للطباعة1!$F$33)","v":""},{"$f":"IF($B105=\"\",\"\",للطباعة1!$N$33)","v":""},{"$f":"IF($B105=\"\",\"\",للطباعة1!$M$33)","v":""},{"$f":"IF($B105=\"\",\"\",للطباعة1!$U$33)","v":""},{"$f":"IF($B105=\"\",\"\",للطباعة1!$T$33)","v":""},{"$f":"IF($B105=\"\",\"\",للطباعة1!$AB$33)","v":""},{"$f":"IF($B105=\"\",\"\",للطباعة1!$AA$33)","v":""},null,{"$f":"IF($B105=\"\",\"\",للطباعة1!$AJ$33)","v":""},{"$f":"IF($B105=\"\",\"\",للطباعة1!$AI$33)","v":""},{"$f":"IF($B105=\"\",\"\",للطباعة1!$AQ$33)","v":""},{"$f":"IF($B105=\"\",\"\",للطباعة1!$AP$33)","v":""},{"$f":"IF($B105=\"\",\"\",للطباعة1!$AX$33)","v":""},{"$f":"IF($B105=\"\",\"\",للطباعة1!$AW$33)","v":""},{"$f":"IF($B105=\"\",\"\",للطباعة1!$BE$33)","v":""},{"$f":"IF($B105=\"\",\"\",للطباعة1!$BD$33)","v":""},null,{"$f":"IF($B105=\"\",\"\",للطباعة1!$BM$33)","v":""},{"$f":"IF($B105=\"\",\"\",للطباعة1!$BL$33)","v":""},{"$f":"IF($B105=\"\",\"\",للطباعة1!$BT$33)","v":""},{"$f":"IF($B105=\"\",\"\",للطباعة1!$BS$33)","v":""},{"$f":"IF($B105=\"\",\"\",للطباعة1!$CA$33)","v":""},{"$f":"IF($B105=\"\",\"\",للطباعة1!$BZ$33)","v":""},{"$f":"IF($B105=\"\",\"\",للطباعة1!$CH$33)","v":""},{"$f":"IF($B105=\"\",\"\",للطباعة1!$CG$33)","v":""}]
[null,"النقاط",{"$f":"IF($B105=\"\",\"\",(D105+D106)*100/8)","v":""},null,{"$f":"IF($B105=\"\",\"\",(F105+F106)*100/8)","v":""},null,{"$f":"IF($B105=\"\",\"\",(H105+H106)*100/8)","v":""},null,{"$f":"IF($B105=\"\",\"\",(J105+J106)*100/8)","v":""},null,null,{"$f":"IF($B105=\"\",\"\",(M105+M106)*100/8)","v":""},null,{"$f":"IF($B105=\"\",\"\",(O105+O106)*100/8)","v":""},null,{"$f":"IF($B105=\"\",\"\",(Q105+Q106)*100/8)","v":""},null,{"$f":"IF($B105=\"\",\"\",(S105+S106)*100/8)","v":""},null,null,{"$f":"IF($B105=\"\",\"\",(V105+V106)*100/8)","v":""},null,{"$f":"IF($B105=\"\",\"\",(X105+X106)*100/8)","v":""},null,{"$f":"IF($B105=\"\",\"\",(Z105+Z106)*100/8)","v":""},null,{"$f":"IF($B105=\"\",\"\",(AB105+AB106)*100/8)","v":""}]
[33,{"$f":"INDIRECT(ADDRESS(A108+1,2,,,\"للطباعة1\"))","v":""},{"$f":"IF($B108=\"\",\"\",للطباعة1!$E$34)","v":""},{"$f":"IF($B108=\"\",\"\",للطباعة1!$D$34)","v":""},{"$f":"IF($B108=\"\",\"\",للطباعة1!$L$34)","v":""},{"$f":"IF($B108=\"\",\"\",للطباعة1!$K$34)","v":""},{"$f":"IF($B108=\"\",\"\",للطباعة1!$S$34)","v":""},{"$f":"IF($B108=\"\",\"\",للطباعة1!$R$34)","v":""},{"$f":"IF($B108=\"\",\"\",للطباعة1!$Z$34)","v":""},{"$f":"IF($B108=\"\",\"\",للطباعة1!$Y$34)","v":""},{"$f":"IF($B108=\"\",\"\",(C110+E110+G110+I110)/4)","v":""},{"$f":"IF($B108=\"\",\"\",للطباعة1!$AH$34)","v":""},{"$f":"IF($B108=\"\",\"\",للطباعة1!$AG$34)","v":""},{"$f":"IF($B108=\"\",\"\",للطباعة1!$AO$34)","v":""},{"$f":"IF($B108=\"\",\"\",للطباعة1!$AN$34)","v":""},{"$f":"IF($B108=\"\",\"\",للطباعة1!$AV$34)","v":""},{"$f":"IF($B108=\"\",\"\",للطباعة1!$AU$34)","v":""},{"$f":"IF($B108=\"\",\"\",للطباعة1!$BC$34)","v":""},{"$f":"IF($B108=\"\",\"\",للطباعة1!$BB$34)","v":""},{"$f":"IF($B108=\"\",\"\",(L110+N110+P110+R110)/4)","v":""},{"$f":"IF($B108=\"\",\"\",للطباعة1!$BK$34)","v":""},{"$f":"IF($B108=\"\",\"\",للطباعة1!$BJ$34)","v":""},{"$f":"IF($B108=\"\",\"\",للطباعة1!$BR$34)","v":""},{"$f":"IF($B108=\"\",\"\",للطباعة1!$BQ$34)","v":""},{"$f":"IF($B108=\"\",\"\",للطباعة1!$BY$34)","v":""},{"$f":"IF($B108=\"\",\"\",للطباعة1!$BX$34)","v":""},{"$f":"IF($B108=\"\",\"\",للطباعة1!$CF$34)","v":""},{"$f":"IF($B108=\"\",\"\",للطباعة1!$CE$34)","v":""},{"$f":"IF($B108=\"\",\"\",(U110+W110+Y110+AA110)/4)","v":""},{"$f":"IF($B108=\"\",\"\",(K108+T108+AC108)*0.04)","v":""},{"$f":"IF($B108=\"\",\"\",IF((AD108*40/12-INT(AD108*40/12))>=0.75,INT(AD108*40/12)+1,IF((AD108*40/12-INT(AD108*40/12))<0.25,INT(AD108*40/12),INT(AD108*40/12)+0.5)))","v":""},{"$f":"IF($B108=\"\",\"\",INDIRECT(ADDRESS(11+A108*2,18,1,,\"SeconedPartDegrees1\")))","v":""},{"$f":"IF($B108=\"\",\"\",INDIRECT(ADDRESS(11+A108*2,19,1,,\"SeconedPartDegrees1\")))","v":""},{"$f":"IF(OR(AF108=\"\",AG108=\"\"),\"\",AF108+AG108)","v":""},{"$f":"IF(OR(AE108=\"\",AG108=\"\"),\"\",AG108+AF108+AE108)","v":""},null,null,{"$f":"ROUNDUP(((FirstPartDegrees1!#REF!+D108)/2+(FirstPartDegrees1!E118+O108)/2+(FirstPartDegrees1!#REF!+M108)/2+(FirstPartDegrees1!C118+F108)/2 )/4,0)","v":{"$error":"#REF!"}},{"$f":"ROUNDUP(((FirstPartDegrees1!#REF!+FirstPartDegrees1!#REF!)/2+(FirstPartDegrees1!F118+J108)/2+(FirstPartDegrees1!#REF!+S108)/2+(FirstPartDegrees1!I118+#REF!)/2 )/4,0)","v":{"$error":"#REF!"}},{"$f":"ROUNDUP(((FirstPartDegrees1!#REF!+FirstPartDegrees1!J118)/2+(FirstPartDegrees1!#REF!+FirstPartDegrees1!#REF!)/2+(FirstPartDegrees1!#REF!+V108)/2+(AB108+#REF!)/2)/4,0)","v":{"$error":"#REF!"}},{"$f":"(AN108+AAE108+AL108)*40/12","v":{"$error":"#REF!"}}]
[null,null,{"$f":"IF($B108=\"\",\"\",للطباعة1!$G$34)","v":""},{"$f":"IF($B108=\"\",\"\",للطباعة1!$F$34)","v":""},{"$f":"IF($B108=\"\",\"\",للطباعة1!$N$34)","v":""},{"$f":"IF($B108=\"\",\"\",للطباعة1!$M$34)","v":""},{"$f":"IF($B108=\"\",\"\",للطباعة1!$U$34)","v":""},{"$f":"IF($B108=\"\",\"\",للطباعة1!$T$34)","v":""},{"$f":"IF($B108=\"\",\"\",للطباعة1!$AB$34)","v":""},{"$f":"IF($B108=\"\",\"\",للطباعة1!$AA$34)","v":""},null,{"$f":"IF($B108=\"\",\"\",للطباعة1!$AJ$34)","v":""},{"$f":"IF($B108=\"\",\"\",للطباعة1!$AI$34)","v":""},{"$f":"IF($B108=\"\",\"\",للطباعة1!$AQ$34)","v":""},{"$f":"IF($B108=\"\",\"\",للطباعة1!$AP$34)","v":""},{"$f":"IF($B108=\"\",\"\",للطباعة1!$AX$34)","v":""},{"$f":"IF($B108=\"\",\"\",للطباعة1!$AW$34)","v":""},{"$f":"IF($B108=\"\",\"\",للطباعة1!$BE$34)","v":""},{"$f":"IF($B108=\"\",\"\",للطباعة1!$BD$34)","v":""},null,{"$f":"IF($B108=\"\",\"\",للطباعة1!$BM$34)","v":""},{"$f":"IF($B108=\"\",\"\",للطباعة1!$BL$34)","v":""},{"$f":"IF($B108=\"\",\"\",للطباعة1!$BT$34)","v":""},{"$f":"IF($B108=\"\",\"\",للطباعة1!$BS$34)","v":""},{"$f":"IF($B108=\"\",\"\",للطباعة1!$CA$34)","v":""},{"$f":"IF($B108=\"\",\"\",للطباعة1!$BZ$34)","v":""},{"$f":"IF($B108=\"\",\"\",للطباعة1!$CH$34)","v":""},{"$f":"IF($B108=\"\",\"\",للطباعة1!$CG$34)","v":""}]
[null,"النقاط",{"$f":"IF($B108=\"\",\"\",(D108+D109)*100/8)","v":""},null,{"$f":"IF($B108=\"\",\"\",(F108+F109)*100/8)","v":""},null,{"$f":"IF($B108=\"\",\"\",(H108+H109)*100/8)","v":""},null,{"$f":"IF($B108=\"\",\"\",(J108+J109)*100/8)","v":""},null,null,{"$f":"IF($B108=\"\",\"\",(M108+M109)*100/8)","v":""},null,{"$f":"IF($B108=\"\",\"\",(O108+O109)*100/8)","v":""},null,{"$f":"IF($B108=\"\",\"\",(Q108+Q109)*100/8)","v":""},null,{"$f":"IF($B108=\"\",\"\",(S108+S109)*100/8)","v":""},null,null,{"$f":"IF($B108=\"\",\"\",(V108+V109)*100/8)","v":""},null,{"$f":"IF($B108=\"\",\"\",(X108+X109)*100/8)","v":""},null,{"$f":"IF($B108=\"\",\"\",(Z108+Z109)*100/8)","v":""},null,{"$f":"IF($B108=\"\",\"\",(AB108+AB109)*100/8)","v":""}]
[34,{"$f":"INDIRECT(ADDRESS(A111+1,2,,,\"للطباعة1\"))","v":""},{"$f":"IF($B111=\"\",\"\",للطباعة1!$E$35)","v":""},{"$f":"IF($B111=\"\",\"\",للطباعة1!$D$35)","v":""},{"$f":"IF($B111=\"\",\"\",للطباعة1!$L$35)","v":""},{"$f":"IF($B111=\"\",\"\",للطباعة1!$K$35)","v":""},{"$f":"IF($B111=\"\",\"\",للطباعة1!$S$35)","v":""},{"$f":"IF($B111=\"\",\"\",للطباعة1!$R$35)","v":""},{"$f":"IF($B111=\"\",\"\",للطباعة1!$Z$35)","v":""},{"$f":"IF($B111=\"\",\"\",للطباعة1!$Y$35)","v":""},{"$f":"IF($B111=\"\",\"\",(C113+E113+G113+I113)/4)","v":""},{"$f":"IF($B111=\"\",\"\",للطباعة1!$AH$35)","v":""},{"$f":"IF($B111=\"\",\"\",للطباعة1!$AG$35)","v":""},{"$f":"IF($B111=\"\",\"\",للطباعة1!$AO$35)","v":""},{"$f":"IF($B111=\"\",\"\",للطباعة1!$AN$35)","v":""},{"$f":"IF($B111=\"\",\"\",للطباعة1!$AV$35)","v":""},{"$f":"IF($B111=\"\",\"\",للطباعة1!$AU$35)","v":""},{"$f":"IF($B111=\"\",\"\",للطباعة1!$BC$35)","v":""},{"$f":"IF($B111=\"\",\"\",للطباعة1!$BB$35)","v":""},{"$f":"IF($B111=\"\",\"\",(L113+N113+P113+R113)/4)","v":""},{"$f":"IF($B111=\"\",\"\",للطباعة1!$BK$35)","v":""},{"$f":"IF($B111=\"\",\"\",للطباعة1!$BJ$35)","v":""},{"$f":"IF($B111=\"\",\"\",للطباعة1!$BR$35)","v":""},{"$f":"IF($B111=\"\",\"\",للطباعة1!$BQ$35)","v":""},{"$f":"IF($B111=\"\",\"\",للطباعة1!$BY$35)","v":""},{"$f":"IF($B111=\"\",\"\",للطباعة1!$BX$35)","v":""},{"$f":"IF($B111=\"\",\"\",للطباعة1!$CF$35)","v":""},{"$f":"IF($B111=\"\",\"\",للطباعة1!$CE$35)","v":""},{"$f":"IF($B111=\"\",\"\",(U113+W113+Y113+AA113)/4)","v":""},{"$f":"IF($B111=\"\",\"\",(K111+T111+AC111)*0.04)","v":""},{"$f":"IF($B111=\"\",\"\",IF((AD111*40/12-INT(AD111*40/12))>=0.75,INT(AD111*40/12)+1,IF((AD111*40/12-INT(AD111*40/12))<0.25,INT(AD111*40/12),INT(AD111*40/12)+0.5)))","v":""},{"$f":"IF($B111=\"\",\"\",INDIRECT(ADDRESS(11+A111*2,18,1,,\"SeconedPartDegrees1\")))","v":""},{"$f":"IF($B111=\"\",\"\",INDIRECT(ADDRESS(11+A111*2,19,1,,\"SeconedPartDegrees1\")))","v":""},{"$f":"IF(OR(AF111=\"\",AG111=\"\"),\"\",AF111+AG111)","v":""},{"$f":"IF(OR(AE111=\"\",AG111=\"\"),\"\",AG111+AF111+AE111)","v":""},null,null,{"$f":"ROUNDUP(((FirstPartDegrees1!#REF!+D111)/2+(FirstPartDegrees1!E121+O111)/2+(FirstPartDegrees1!#REF!+M111)/2+(FirstPartDegrees1!C121+F111)/2 )/4,0)","v":{"$error":"#REF!"}},{"$f":"ROUNDUP(((FirstPartDegrees1!#REF!+FirstPartDegrees1!#REF!)/2+(FirstPartDegrees1!F121+J111)/2+(FirstPartDegrees1!#REF!+S111)/2+(FirstPartDegrees1!I121+#REF!)/2 )/4,0)","v":{"$error":"#REF!"}},{"$f":"ROUNDUP(((FirstPartDegrees1!#REF!+FirstPartDegrees1!J121)/2+(FirstPartDegrees1!#REF!+FirstPartDegrees1!#REF!)/2+(FirstPartDegrees1!#REF!+V111)/2+(AB111+#REF!)/2)/4,0)","v":{"$error":"#REF!"}},{"$f":"(AN111+AAE111+AL111)*40/12","v":{"$error":"#REF!"}}]
[null,null,{"$f":"IF($B111=\"\",\"\",للطباعة1!$G$35)","v":""},{"$f":"IF($B111=\"\",\"\",للطباعة1!$F$35)","v":""},{"$f":"IF($B111=\"\",\"\",للطباعة1!$N$35)","v":""},{"$f":"IF($B111=\"\",\"\",للطباعة1!$M$35)","v":""},{"$f":"IF($B111=\"\",\"\",للطباعة1!$U$35)","v":""},{"$f":"IF($B111=\"\",\"\",للطباعة1!$T$35)","v":""},{"$f":"IF($B111=\"\",\"\",للطباعة1!$AB$35)","v":""},{"$f":"IF($B111=\"\",\"\",للطباعة1!$AA$35)","v":""},null,{"$f":"IF($B111=\"\",\"\",للطباعة1!$AJ$35)","v":""},{"$f":"IF($B111=\"\",\"\",للطباعة1!$AI$35)","v":""},{"$f":"IF($B111=\"\",\"\",للطباعة1!$AQ$35)","v":""},{"$f":"IF($B111=\"\",\"\",للطباعة1!$AP$35)","v":""},{"$f":"IF($B111=\"\",\"\",للطباعة1!$AX$35)","v":""},{"$f":"IF($B111=\"\",\"\",للطباعة1!$AW$35)","v":""},{"$f":"IF($B111=\"\",\"\",للطباعة1!$BE$35)","v":""},{"$f":"IF($B111=\"\",\"\",للطباعة1!$BD$35)","v":""},null,{"$f":"IF($B111=\"\",\"\",للطباعة1!$BM$35)","v":""},{"$f":"IF($B111=\"\",\"\",للطباعة1!$BL$35)","v":""},{"$f":"IF($B111=\"\",\"\",للطباعة1!$BT$35)","v":""},{"$f":"IF($B111=\"\",\"\",للطباعة1!$BS$35)","v":""},{"$f":"IF($B111=\"\",\"\",للطباعة1!$CA$35)","v":""},{"$f":"IF($B111=\"\",\"\",للطباعة1!$BZ$35)","v":""},{"$f":"IF($B111=\"\",\"\",للطباعة1!$CH$35)","v":""},{"$f":"IF($B111=\"\",\"\",للطباعة1!$CG$35)","v":""}]
[null,"النقاط",{"$f":"IF($B111=\"\",\"\",(D111+D112)*100/8)","v":""},null,{"$f":"IF($B111=\"\",\"\",(F111+F112)*100/8)","v":""},null,{"$f":"IF($B111=\"\",\"\",(H111+H112)*100/8)","v":""},null,{"$f":"IF($B111=\"\",\"\",(J111+J112)*100/8)","v":""},null,null,{"$f":"IF($B111=\"\",\"\",(M111+M112)*100/8)","v":""},null,{"$f":"IF($B111=\"\",\"\",(O111+O112)*100/8)","v":""},null,{"$f":"IF($B111=\"\",\"\",(Q111+Q112)*100/8)","v":""},null,{"$f":"IF($B111=\"\",\"\",(S111+S112)*100/8)","v":""},null,null,{"$f":"IF($B111=\"\",\"\",(V111+V112)*100/8)","v":""},null,{"$f":"IF($B111=\"\",\"\",(X111+X112)*100/8)","v":""},null,{"$f":"IF($B111=\"\",\"\",(Z111+Z112)*100/8)","v":""},null,{"$f":"IF($B111=\"\",\"\",(AB111+AB112)*100/8)","v":""}]
[35,{"$f":"INDIRECT(ADDRESS(A114+1,2,,,\"للطباعة1\"))","v":""},{"$f":"IF($B114=\"\",\"\",للطباعة1!$E$36)","v":""},{"$f":"IF($B114=\"\",\"\",للطباعة1!$D$36)","v":""},{"$f":"IF($B114=\"\",\"\",للطباعة1!$L$36)","v":""},{"$f":"IF($B114=\"\",\"\",للطباعة1!$K$36)","v":""},{"$f":"IF($B114=\"\",\"\",للطباعة1!$S$36)","v":""},{"$f":"IF($B114=\"\",\"\",للطباعة1!$R$36)","v":""},{"$f":"IF($B114=\"\",\"\",للطباعة1!$Z$36)","v":""},{"$f":"IF($B114=\"\",\"\",للطباعة1!$Y$36)","v":""},{"$f":"IF($B114=\"\",\"\",(C116+E116+G116+I116)/4)","v":""},{"$f":"IF($B114=\"\",\"\",للطباعة1!$AH$36)","v":""},{"$f":"IF($B114=\"\",\"\",للطباعة1!$AG$36)","v":""},{"$f":"IF($B114=\"\",\"\",للطباعة1!$AO$36)","v":""},{"$f":"IF($B114=\"\",\"\",للطباعة1!$AN$36)","v":""},{"$f":"IF($B114=\"\",\"\",للطباعة1!$AV$36)","v":""},{"$f":"IF($B114=\"\",\"\",للطباعة1!$AU$36)","v":""},{"$f":"IF($B114=\"\",\"\",للطباعة1!$BC$36)","v":""},{"$f":"IF($B114=\"\",\"\",للطباعة1!$BB$36)","v":""},{"$f":"IF($B114=\"\",\"\",(L116+N116+P116+R116)/4)","v":""},{"$f":"IF($B114=\"\",\"\",للطباعة1!$BK$36)","v":""},{"$f":"IF($B114=\"\",\"\",للطباعة1!$BJ$36)","v":""},{"$f":"IF($B114=\"\",\"\",للطباعة1!$BR$36)","v":""},{"$f":"IF($B114=\"\",\"\",للطباعة1!$BQ$36)","v":""},{"$f":"IF($B114=\"\",\"\",للطباعة1!$BY$36)","v":""},{"$f":"IF($B114=\"\",\"\",للطباعة1!$BX$36)","v":""},{"$f":"IF($B114=\"\",\"\",للطباعة1!$CF$36)","v":""},{"$f":"IF($B114=\"\",\"\",للطباعة1!$CE$36)","v":""},{"$f":"IF($B114=\"\",\"\",(U116+W116+Y116+AA116)/4)","v":""},{"$f":"IF($B114=\"\",\"\",(K114+T114+AC114)*0.04)","v":""},{"$f":"IF($B114=\"\",\"\",IF((AD114*40/12-INT(AD114*40/12))>=0.75,INT(AD114*40/12)+1,IF((AD114*40/12-INT(AD114*40/12))<0.25,INT(AD114*40/12),INT(AD114*40/12)+0.5)))","v":""},{"$f":"IF($B114=\"\",\"\",INDIRECT(ADDRESS(11+A114*2,18,1,,\"SeconedPartDegrees1\")))","v":""},{"$f":"IF($B114=\"\",\"\",INDIRECT(ADDRESS(11+A114*2,19,1,,\"SeconedPartDegrees1\")))","v":""},{"$f":"IF(OR(AF114=\"\",AG114=\"\"),\"\",AF114+AG114)","v":""},{"$f":"IF(OR(AE114=\"\",AG114=\"\"),\"\",AG114+AF114+AE114)","v":""},null,null,{"$f":"ROUNDUP(((FirstPartDegrees1!#REF!+D114)/2+(FirstPartDegrees1!E124+O114)/2+(FirstPartDegrees1!#REF!+M114)/2+(FirstPartDegrees1!C124+F114)/2 )/4,0)","v":{"$error":"#REF!"}},{"$f":"ROUNDUP(((FirstPartDegrees1!#REF!+FirstPartDegrees1!#REF!)/2+(FirstPartDegrees1!F124+J114)/2+(FirstPartDegrees1!#REF!+S114)/2+(FirstPartDegrees1!I124+#REF!)/2 )/4,0)","v":{"$error":"#REF!"}},{"$f":"ROUNDUP(((FirstPartDegrees1!#REF!+FirstPartDegrees1!J124)/2+(FirstPartDegrees1!#REF!+FirstPartDegrees1!#REF!)/2+(FirstPartDegrees1!#REF!+V114)/2+(AB114+#REF!)/2)/4,0)","v":{"$error":"#REF!"}},{"$f":"(AN114+AAE114+AL114)*40/12","v":{"$error":"#REF!"}}]
[null,null,{"$f":"IF($B114=\"\",\"\",للطباعة1!$G$36)","v":""},{"$f":"IF($B114=\"\",\"\",للطباعة1!$F$36)","v":""},{"$f":"IF($B114=\"\",\"\",للطباعة1!$N$36)","v":""},{"$f":"IF($B114=\"\",\"\",للطباعة1!$M$36)","v":""},{"$f":"IF($B114=\"\",\"\",للطباعة1!$U$36)","v":""},{"$f":"IF($B114=\"\",\"\",للطباعة1!$T$36)","v":""},{"$f":"IF($B114=\"\",\"\",للطباعة1!$AB$36)","v":""},{"$f":"IF($B114=\"\",\"\",للطباعة1!$AA$36)","v":""},null,{"$f":"IF($B114=\"\",\"\",للطباعة1!$AJ$36)","v":""},{"$f":"IF($B114=\"\",\"\",للطباعة1!$AI$36)","v":""},{"$f":"IF($B114=\"\",\"\",للطباعة1!$AQ$36)","v":""},{"$f":"IF($B114=\"\",\"\",للطباعة1!$AP$36)","v":""},{"$f":"IF($B114=\"\",\"\",للطباعة1!$AX$36)","v":""},{"$f":"IF($B114=\"\",\"\",للطباعة1!$AW$36)","v":""},{"$f":"IF($B114=\"\",\"\",للطباعة1!$BE$36)","v":""},{"$f":"IF($B114=\"\",\"\",للطباعة1!$BD$36)","v":""},null,{"$f":"IF($B114=\"\",\"\",للطباعة1!$BM$36)","v":""},{"$f":"IF($B114=\"\",\"\",للطباعة1!$BL$36)","v":""},{"$f":"IF($B114=\"\",\"\",للطباعة1!$BT$36)","v":""},{"$f":"IF($B114=\"\",\"\",للطباعة1!$BS$36)","v":""},{"$f":"IF($B114=\"\",\"\",للطباعة1!$CA$36)","v":""},{"$f":"IF($B114=\"\",\"\",للطباعة1!$BZ$36)","v":""},{"$f":"IF($B114=\"\",\"\",للطباعة1!$CH$36)","v":""},{"$f":"IF($B114=\"\",\"\",للطباعة1!$CG$36)","v":""}]
[null,"النقاط",{"$f":"IF($B114=\"\",\"\",(D114+D115)*100/8)","v":""},null,{"$f":"IF($B114=\"\",\"\",(F114+F115)*100/8)","v":""},null,{"$f":"IF($B114=\"\",\"\",(H114+H115)*100/8)","v":""},null,{"$f":"IF($B114=\"\",\"\",(J114+J115)*100/8)","v":""},null,null,{"$f":"IF($B114=\"\",\"\",(M114+M115)*100/8)","v":""},null,{"$f":"IF($B114=\"\",\"\",(O114+O115)*100/8)","v":""},null,{"$f":"IF($B114=\"\",\"\",(Q114+Q115)*100/8)","v":""},null,{"$f":"IF($B114=\"\",\"\",(S114+S115)*100/8)","v":""},null,null,{"$f":"IF($B114=\"\",\"\",(V114+V115)*100/8)","v":""},null,{"$f":"IF($B114=\"\",\"\",(X114+X115)*100/8)","v":""},null,{"$f":"IF($B114=\"\",\"\",(Z114+Z115)*100/8)","v":""},null,{"$f":"IF($B114=\"\",\"\",(AB114+AB115)*100/8)","v":""}]
[36,{"$f":"INDIRECT(ADDRESS(A117+1,2,,,\"للطباعة1\"))","v":""},{"$f":"IF($B117=\"\",\"\",للطباعة1!$E$37)","v":""},{"$f":"IF($B117=\"\",\"\",للطباعة1!$D$37)","v":""},{"$f":"IF($B117=\"\",\"\",للطباعة1!$L$37)","v":""},{"$f":"IF($B117=\"\",\"\",للطباعة1!$K$37)","v":""},{"$f":"IF($B117=\"\",\"\",للطباعة1!$S$37)","v":""},{"$f":"IF($B117=\"\",\"\",للطباعة1!$R$37)","v":""},{"$f":"IF($B117=\"\",\"\",للطباعة1!$Z$37)","v":""},{"$f":"IF($B117=\"\",\"\",للطباعة1!$Y$37)","v":""},{"$f":"IF($B117=\"\",\"\",(C119+E119+G119+I119)/4)","v":""},{"$f":"IF($B117=\"\",\"\",للطباعة1!$AH$37)","v":""},{"$f":"IF($B117=\"\",\"\",للطباعة1!$AG$37)","v":""},{"$f":"IF($B117=\"\",\"\",للطباعة1!$AO$37)","v":""},{"$f":"IF($B117=\"\",\"\",للطباعة1!$AN$37)","v":""},{"$f":"IF($B117=\"\",\"\",للطباعة1!$AV$37)","v":""},{"$f":"IF($B117=\"\",\"\",للطباعة1!$AU$37)","v":""},{"$f":"IF($B117=\"\",\"\",للطباعة1!$BC$37)","v":""},{"$f":"IF($B117=\"\",\"\",للطباعة1!$BB$37)","v":""},{"$f":"IF($B117=\"\",\"\",(L119+N119+P119+R119)/4)","v":""},{"$f":"IF($B117=\"\",\"\",للطباعة1!$BK$37)","v":""},{"$f":"IF($B117=\"\",\"\",للطباعة1!$BJ$37)","v":""},{"$f":"IF($B117=\"\",\"\",للطباعة1!$BR$37)","v":""},{"$f":"IF($B117=\"\",\"\",للطباعة1!$BQ$37)","v":""},{"$f":"IF($B117=\"\",\"\",للطباعة1!$BY$37)","v":""},{"$f":"IF($B117=\"\",\"\",للطباعة1!$BX$37)","v":""},{"$f":"IF($B117=\"\",\"\",للطباعة1!$CF$37)","v":""},{"$f":"IF($B117=\"\",\"\",للطباعة1!$CE$37)","v":""},{"$f":"IF($B117=\"\",\"\",(U119+W119+Y119+AA119)/4)","v":""},{"$f":"IF($B117=\"\",\"\",(K117+T117+AC117)*0.04)","v":""},{"$f":"IF($B117=\"\",\"\",IF((AD117*40/12-INT(AD117*40/12))>=0.75,INT(AD117*40/12)+1,IF((AD117*40/12-INT(AD117*40/12))<0.25,INT(AD117*40/12),INT(AD117*40/12)+0.5)))","v":""},{"$f":"IF($B117=\"\",\"\",INDIRECT(ADDRESS(11+A117*2,18,1,,\"SeconedPartDegrees1\")))","v":""},{"$f":"IF($B117=\"\",\"\",INDIRECT(ADDRESS(11+A117*2,19,1,,\"SeconedPartDegrees1\")))","v":""},{"$f":"IF(OR(AF117=\"\",AG117=\"\"),\"\",AF117+AG117)","v":""},{"$f":"IF(OR(AE117=\"\",AG117=\"\"),\"\",AG117+AF117+AE117)","v":""},null,null,{"$f":"ROUNDUP(((FirstPartDegrees1!#REF!+D117)/2+(FirstPartDegrees1!E127+O117)/2+(FirstPartDegrees1!#REF!+M117)/2+(FirstPartDegrees1!C127+F117)/2 )/4,0)","v":{"$error":"#REF!"}},{"$f":"ROUNDUP(((FirstPartDegrees1!#REF!+FirstPartDegrees1!#REF!)/2+(FirstPartDegrees1!F127+J117)/2+(FirstPartDegrees1!#REF!+S117)/2+(FirstPartDegrees1!I127+#REF!)/2 )/4,0)","v":{"$error":"#REF!"}},{"$f":"ROUNDUP(((FirstPartDegrees1!#REF!+FirstPartDegrees1!J127)/2+(FirstPartDegrees1!#REF!+FirstPartDegrees1!#REF!)/2+(FirstPartDegrees1!#REF!+V117)/2+(AB117+#REF!)/2)/4,0)","v":{"$error":"#REF!"}},{"$f":"(AN117+AAE117+AL117)*40/12","v":{"$error":"#REF!"}}]
[null,null,{"$f":"IF($B117=\"\",\"\",للطباعة1!$G$37)","v":""},{"$f":"IF($B117=\"\",\"\",للطباعة1!$F$37)","v":""},{"$f":"IF($B117=\"\",\"\",للطباعة1!$N$37)","v":""},{"$f":"IF($B117=\"\",\"\",للطباعة1!$M$37)","v":""},{"$f":"IF($B117=\"\",\"\",للطباعة1!$U$37)","v":""},{"$f":"IF($B117=\"\",\"\",للطباعة1!$T$37)","v":""},{"$f":"IF($B117=\"\",\"\",للطباعة1!$AB$37)","v":""},{"$f":"IF($B117=\"\",\"\",للطباعة1!$AA$37)","v":""},null,{"$f":"IF($B117=\"\",\"\",للطباعة1!$AJ$37)","v":""},{"$f":"IF($B117=\"\",\"\",للطباعة1!$AI$37)","v":""},{"$f":"IF($B117=\"\",\"\",للطباعة1!$AQ$37)","v":""},{"$f":"IF($B117=\"\",\"\",للطباعة1!$AP$37)","v":""},{"$f":"IF($B117=\"\",\"\",للطباعة1!$AX$37)","v":""},{"$f":"IF($B117=\"\",\"\",للطباعة1!$AW$37)","v":""},{"$f":"IF($B117=\"\",\"\",للطباعة1!$BE$37)","v":""},{"$f":"IF($B117=\"\",\"\",للطباعة1!$BD$37)","v":""},null,{"$f":"IF($B117=\"\",\"\",للطباعة1!$BM$37)","v":""},{"$f":"IF($B117=\"\",\"\",للطباعة1!$BL$37)","v":""},{"$f":"IF($B117=\"\",\"\",للطباعة1!$BT$37)","v":""},{"$f":"IF($B117=\"\",\"\",للطباعة1!$BS$37)","v":""},{"$f":"IF($B117=\"\",\"\",للطباعة1!$CA$37)","v":""},{"$f":"IF($B117=\"\",\"\",للطباعة1!$BZ$37)","v":""},{"$f":"IF($B117=\"\",\"\",للطباعة1!$CH$37)","v":""},{"$f":"IF($B117=\"\",\"\",للطباعة1!$CG$37)","v":""}]
[null,"النقاط",{"$f":"IF($B117=\"\",\"\",(D117+D118)*100/8)","v":""},null,{"$f":"IF($B117=\"\",\"\",(F117+F118)*100/8)","v":""},null,{"$f":"IF($B117=\"\",\"\",(H117+H118)*100/8)","v":""},null,{"$f":"IF($B117=\"\",\"\",(J117+J118)*100/8)","v":""},null,null,{"$f":"IF($B117=\"\",\"\",(M117+M118)*100/8)","v":""},null,{"$f":"IF($B117=\"\",\"\",(O117+O118)*100/8)","v":""},null,{"$f":"IF($B117=\"\",\"\",(Q117+Q118)*100/8)","v":""},null,{"$f":"IF($B117=\"\",\"\",(S117+S118)*100/8)","v":""},null,null,{"$f":"IF($B117=\"\",\"\",(V117+V118)*100/8)","v":""},null,{"$f":"IF($B117=\"\",\"\",(X117+X118)*100/8)","v":""},null,{"$f":"IF($B117=\"\",\"\",(Z117+Z118)*100/8)","v":""},null,{"$f":"IF($B117=\"\",\"\",(AB117+AB118)*100/8)","v":""}]
[37,{"$f":"INDIRECT(ADDRESS(A120+1,2,,,\"للطباعة1\"))","v":""},{"$f":"IF($B120=\"\",\"\",للطباعة1!$E$38)","v":""},{"$f":"IF($B120=\"\",\"\",للطباعة1!$D$38)","v":""},{"$f":"IF($B120=\"\",\"\",للطباعة1!$L$38)","v":""},{"$f":"IF($B120=\"\",\"\",للطباعة1!$K$38)","v":""},{"$f":"IF($B120=\"\",\"\",للطباعة1!$S$38)","v":""},{"$f":"IF($B120=\"\",\"\",للطباعة1!$R$38)","v":""},{"$f":"IF($B120=\"\",\"\",للطباعة1!$Z$38)","v":""},{"$f":"IF($B120=\"\",\"\",للطباعة1!$Y$38)","v":""},{"$f":"IF($B120=\"\",\"\",(C122+E122+G122+I122)/4)","v":""},{"$f":"IF($B120=\"\",\"\",للطباعة1!$AH$38)","v":""},{"$f":"IF($B120=\"\",\"\",للطباعة1!$AG$38)","v":""},{"$f":"IF($B120=\"\",\"\",للطباعة1!$AO$38)","v":""},{"$f":"IF($B120=\"\",\"\",للطباعة1!$AN$38)","v":""},{"$f":"IF($B120=\"\",\"\",للطباعة1!$AV$38)","v":""},{"$f":"IF($B120=\"\",\"\",للطباعة1!$AU$38)","v":""},{"$f":"IF($B120=\"\",\"\",للطباعة1!$BC$38)","v":""},{"$f":"IF($B120=\"\",\"\",للطباعة1!$BB$38)","v":""},{"$f":"IF($B120=\"\",\"\",(L122+N122+P122+R122)/4)","v":""},{"$f":"IF($B120=\"\",\"\",للطباعة1!$BK$38)","v":""},{"$f":"IF($B120=\"\",\"\",للطباعة1!$BJ$38)","v":""},{"$f":"IF($B120=\"\",\"\",للطباعة1!$BR$38)","v":""},{"$f":"IF($B120=\"\",\"\",للطباعة1!$BQ$38)","v":""},{"$f":"IF($B120=\"\",\"\",للطباعة1!$BY$38)","v":""},{"$f":"IF($B120=\"\",\"\",للطباعة1!$BX$38)","v":""},{"$f":"IF($B120=\"\",\"\",للطباعة1!$CF$38)","v":""},{"$f":"IF($B120=\"\",\"\",للطباعة1!$CE$38)","v":""},{"$f":"IF($B120=\"\",\"\",(U122+W122+Y122+AA122)/4)","v":""},{"$f":"IF($B120=\"\",\"\",(K120+T120+AC120)*0.04)","v":""},{"$f":"IF($B120=\"\",\"\",IF((AD120*40/12-INT(AD120*40/12))>=0.75,INT(AD120*40/12)+1,IF((AD120*40/12-INT(AD120*40/12))<0.25,INT(AD120*40/12),INT(AD120*40/12)+0.5)))","v":""},{"$f":"IF($B120=\"\",\"\",INDIRECT(ADDRESS(11+A120*2,18,1,,\"SeconedPartDegrees1\")))","v":""},{"$f":"IF($B120=\"\",\"\",INDIRECT(ADDRESS(11+A120*2,19,1,,\"SeconedPartDegrees1\")))","v":""},{"$f":"IF(OR(AF120=\"\",AG120=\"\"),\"\",AF120+AG120)","v":""},{"$f":"IF(OR(AE120=\"\",AG120=\"\"),\"\",AG120+AF120+AE120)","v":""},null,null,{"$f":"ROUNDUP(((FirstPartDegrees1!#REF!+D120)/2+(FirstPartDegrees1!E130+O120)/2+(FirstPartDegrees1!#REF!+M120)/2+(FirstPartDegrees1!C130+F120)/2 )/4,0)","v":{"$error":"#REF!"}},{"$f":"ROUNDUP(((FirstPartDegrees1!#REF!+FirstPartDegrees1!#REF!)/2+(FirstPartDegrees1!F130+J120)/2+(FirstPartDegrees1!#REF!+S120)/2+(FirstPartDegrees1!I130+#REF!)/2 )/4,0)","v":{"$error":"#REF!"}},{"$f":"ROUNDUP(((FirstPartDegrees1!#REF!+FirstPartDegrees1!J130)/2+(FirstPartDegrees1!#REF!+FirstPartDegrees1!#REF!)/2+(FirstPartDegrees1!#REF!+V120)/2+(AB120+#REF!)/2)/4,0)","v":{"$error":"#REF!"}},{"$f":"(AN120+AAE120+AL120)*40/12","v":{"$error":"#REF!"}}]
[null,null,{"$f":"IF($B120=\"\",\"\",للطباعة1!$G$38)","v":""},{"$f":"IF($B120=\"\",\"\",للطباعة1!$F$38)","v":""},{"$f":"IF($B120=\"\",\"\",للطباعة1!$N$38)","v":""},{"$f":"IF($B120=\"\",\"\",للطباعة1!$M$38)","v":""},{"$f":"IF($B120=\"\",\"\",للطباعة1!$U$38)","v":""},{"$f":"IF($B120=\"\",\"\",للطباعة1!$T$38)","v":""},{"$f":"IF($B120=\"\",\"\",للطباعة1!$AB$38)","v":""},{"$f":"IF($B120=\"\",\"\",للطباعة1!$AA$38)","v":""},null,{"$f":"IF($B120=\"\",\"\",للطباعة1!$AJ$38)","v":""},{"$f":"IF($B120=\"\",\"\",للطباعة1!$AI$38)","v":""},{"$f":"IF($B120=\"\",\"\",للطباعة1!$AQ$38)","v":""},{"$f":"IF($B120=\"\",\"\",للطباعة1!$AP$38)","v":""},{"$f":"IF($B120=\"\",\"\",للطباعة1!$AX$38)","v":""},{"$f":"IF($B120=\"\",\"\",للطباعة1!$AW$38)","v":""},{"$f":"IF($B120=\"\",\"\",للطباعة1!$BE$38)","v":""},{"$f":"IF($B120=\"\",\"\",للطباعة1!$BD$38)","v":""},null,{"$f":"IF($B120=\"\",\"\",للطباعة1!$BM$38)","v":""},{"$f":"IF($B120=\"\",\"\",للطباعة1!$BL$38)","v":""},{"$f":"IF($B120=\"\",\"\",للطباعة1!$BT$38)","v":""},{"$f":"IF($B120=\"\",\"\",للطباعة1!$BS$38)","v":""},{"$f":"IF($B120=\"\",\"\",للطباعة1!$CA$38)","v":""},{"$f":"IF($B120=\"\",\"\",للطباعة1!$BZ$38)","v":""},{"$f":"IF($B120=\"\",\"\",للطباعة1!$CH$38)","v":""},{"$f":"IF($B120=\"\",\"\",للطباعة1!$CG$38)","v":""}]
[null,"النقاط",{"$f":"IF($B120=\"\",\"\",(D120+D121)*100/8)","v":""},null,{"$f":"IF($B120=\"\",\"\",(F120+F121)*100/8)","v":""},null,{"$f":"IF($B120=\"\",\"\",(H120+H121)*100/8)","v":""},null,{"$f":"IF($B120=\"\",\"\",(J120+J121)*100/8)","v":""},null,null,{"$f":"IF($B120=\"\",\"\",(M120+M121)*100/8)","v":""},null,{"$f":"IF($B120=\"\",\"\",(O120+O121)*100/8)","v":""},null,{"$f":"IF($B120=\"\",\"\",(Q120+Q121)*100/8)","v":""},null,{"$f":"IF($B120=\"\",\"\",(S120+S121)*100/8)","v":""},null,null,{"$f":"IF($B120=\"\",\"\",(V120+V121)*100/8)","v":""},null,{"$f":"IF($B120=\"\",\"\",(X120+X121)*100/8)","v":""},null,{"$f":"IF($B120=\"\",\"\",(Z120+Z121)*100/8)","v":""},null,{"$f":"IF($B120=\"\",\"\",(AB120+AB121)*100/8)","v":""}]
[38,{"$f":"INDIRECT(ADDRESS(A123+1,2,,,\"للطباعة1\"))","v":""},{"$f":"IF($B123=\"\",\"\",للطباعة1!$E$39)","v":""},{"$f":"IF($B123=\"\",\"\",للطباعة1!$D$39)","v":""},{"$f":"IF($B123=\"\",\"\",للطباعة1!$L$39)","v":""},{"$f":"IF($B123=\"\",\"\",للطباعة1!$K$39)","v":""},{"$f":"IF($B123=\"\",\"\",للطباعة1!$S$39)","v":""},{"$f":"IF($B123=\"\",\"\",للطباعة1!$R$39)","v":""},{"$f":"IF($B123=\"\",\"\",للطباعة1!$Z$39)","v":""},{"$f":"IF($B123=\"\",\"\",للطباعة1!$Y$39)","v":""},{"$f":"IF($B123=\"\",\"\",(C125+E125+G125+I125)/4)","v":""},{"$f":"IF($B123=\"\",\"\",للطباعة1!$AH$39)","v":""},{"$f":"IF($B123=\"\",\"\",للطباعة1!$AG$39)","v":""},{"$f":"IF($B123=\"\",\"\",للطباعة1!$AO$39)","v":""},{"$f":"IF($B123=\"\",\"\",للطباعة1!$AN$39)","v":""},{"$f":"IF($B123=\"\",\"\",للطباعة1!$AV$39)","v":""},{"$f":"IF($B123=\"\",\"\",للطباعة1!$AU$39)","v":""},{"$f":"IF($B123=\"\",\"\",للطباعة1!$BC$39)","v":""},{"$f":"IF($B123=\"\",\"\",للطباعة1!$BB$39)","v":""},{"$f":"IF($B123=\"\",\"\",(L125+N125+P125+R125)/4)","v":""},{"$f":"IF($B123=\"\",\"\",للطباعة1!$BK$39)","v":""},{"$f":"IF($B123=\"\",\"\",للطباعة1!$BJ$39)","v":""},{"$f":"IF($B123=\"\",\"\",للطباعة1!$BR$39)","v":""},{"$f":"IF($B123=\"\",\"\",للطباعة1!$BQ$39)","v":""},{"$f":"IF($B123=\"\",\"\",للطباعة1!$BY$39)","v":""},{"$f":"IF($B123=\"\",\"\",للطباعة1!$BX$39)","v":""},{"$f":"IF($B123=\"\",\"\",للطباعة1!$CF$39)","v":""},{"$f":"IF($B123=\"\",\"\",للطباعة1!$CE$39)","v":""},{"$f":"IF($B123=\"\",\"\",(U125+W125+Y125+AA125)/4)","v":""},{"$f":"IF($B123=\"\",\"\",(K123+T123+AC123)*0.04)","v":""},{"$f":"IF($B123=\"\",\"\",IF((AD123*40/12-INT(AD123*40/12))>=0.75,INT(AD123*40/12)+1,IF((AD123*40/12-INT(AD123*40/12))<0.25,INT(AD123*40/12),INT(AD123*40/12)+0.5)))","v":""},{"$f":"IF($B123=\"\",\"\",INDIRECT(ADDRESS(11+A123*2,18,1,,\"SeconedPartDegrees1\")))","v":""},{"$f":"IF($B123=\"\",\"\",INDIRECT(ADDRESS(11+A123*2,19,1,,\"SeconedPartDegrees1\")))","v":""},{"$f":"IF(OR(AF123=\"\",AG123=\"\"),\"\",AF123+AG123)","v":""},{"$f":"IF(OR(AE123=\"\",AG123=\"\"),\"\",AG123+AF123+AE123)","v":""},null,null,{"$f":"ROUNDUP(((FirstPartDegrees1!#REF!+D123)/2+(FirstPartDegrees1!E133+O123)/2+(FirstPartDegrees1!#REF!+M123)/2+(FirstPartDegrees1!C133+F123)/2 )/4,0)","v":{"$error":"#REF!"}},{"$f":"ROUNDUP(((FirstPartDegrees1!#REF!+FirstPartDegrees1!#REF!)/2+(FirstPartDegrees1!F133+J123)/2+(FirstPartDegrees1!#REF!+S123)/2+(FirstPartDegrees1!I133+#REF!)/2 )/4,0)","v":{"$error":"#REF!"}},{"$f":"ROUNDUP(((FirstPartDegrees1!#REF!+FirstPartDegrees1!J133)/2+(FirstPartDegrees1!#REF!+FirstPartDegrees1!#REF!)/2+(FirstPartDegrees1!#REF!+V123)/2+(AB123+#REF!)/2)/4,0)","v":{"$error":"#REF!"}},{"$f":"(AN123+AAE123+AL123)*40/12","v":{"$error":"#REF!"}}]
[null,null,{"$f":"IF($B123=\"\",\"\",للطباعة1!$G$39)","v":""},{"$f":"IF($B123=\"\",\"\",للطباعة1!$F$39)","v":""},{"$f":"IF($B123=\"\",\"\",للطباعة1!$N$39)","v":""},{"$f":"IF($B123=\"\",\"\",للطباعة1!$M$39)","v":""},{"$f":"IF($B123=\"\",\"\",للطباعة1!$U$39)","v":""},{"$f":"IF($B123=\"\",\"\",للطباعة1!$T$39)","v":""},{"$f":"IF($B123=\"\",\"\",للطباعة1!$AB$39)","v":""},{"$f":"IF($B123=\"\",\"\",للطباعة1!$AA$39)","v":""},null,{"$f":"IF($B123=\"\",\"\",للطباعة1!$AJ$39)","v":""},{"$f":"IF($B123=\"\",\"\",للطباعة1!$AI$39)","v":""},{"$f":"IF($B123=\"\",\"\",للطباعة1!$AQ$39)","v":""},{"$f":"IF($B123=\"\",\"\",للطباعة1!$AP$39)","v":""},{"$f":"IF($B123=\"\",\"\",للطباعة1!$AX$39)","v":""},{"$f":"IF($B123=\"\",\"\",للطباعة1!$AW$39)","v":""},{"$f":"IF($B123=\"\",\"\",للطباعة1!$BE$39)","v":""},{"$f":"IF($B123=\"\",\"\",للطباعة1!$BD$39)","v":""},null,{"$f":"IF($B123=\"\",\"\",للطباعة1!$BM$39)","v":""},{"$f":"IF($B123=\"\",\"\",للطباعة1!$BL$39)","v":""},{"$f":"IF($B123=\"\",\"\",للطباعة1!$BT$39)","v":""},{"$f":"IF($B123=\"\",\"\",للطباعة1!$BS$39)","v":""},{"$f":"IF($B123=\"\",\"\",للطباعة1!$CA$39)","v":""},{"$f":"IF($B123=\"\",\"\",للطباعة1!$BZ$39)","v":""},{"$f":"IF($B123=\"\",\"\",للطباعة1!$CH$39)","v":""},{"$f":"IF($B123=\"\",\"\",للطباعة1!$CG$39)","v":""}]
[null,"النقاط",{"$f":"IF($B123=\"\",\"\",(D123+D124)*100/8)","v":""},null,{"$f":"IF($B123=\"\",\"\",(F123+F124)*100/8)","v":""},null,{"$f":"IF($B123=\"\",\"\",(H123+H124)*100/8)","v":""},null,{"$f":"IF($B123=\"\",\"\",(J123+J124)*100/8)","v":""},null,null,{"$f":"IF($B123=\"\",\"\",(M123+M124)*100/8)","v":""},null,{"$f":"IF($B123=\"\",\"\",(O123+O124)*100/8)","v":""},null,{"$f":"IF($B123=\"\",\"\",(Q123+Q124)*100/8)","v":""},null,{"$f":"IF($B123=\"\",\"\",(S123+S124)*100/8)","v":""},null,null,{"$f":"IF($B123=\"\",\"\",(V123+V124)*100/8)","v":""},null,{"$f":"IF($B123=\"\",\"\",(X123+X124)*100/8)","v":""},null,{"$f":"IF($B123=\"\",\"\",(Z123+Z124)*100/8)","v":""},null,{"$f":"IF($B123=\"\",\"\",(AB123+AB124)*100/8)","v":""}]
[39,{"$f":"INDIRECT(ADDRESS(A126+1,2,,,\"للطباعة1\"))","v":""},{"$f":"IF($B126=\"\",\"\",للطباعة1!$E$40)","v":""},{"$f":"IF($B126=\"\",\"\",للطباعة1!$D$40)","v":""},{"$f":"IF($B126=\"\",\"\",للطباعة1!$L$40)","v":""},{"$f":"IF($B126=\"\",\"\",للطباعة1!$K$40)","v":""},{"$f":"IF($B126=\"\",\"\",للطباعة1!$S$40)","v":""},{"$f":"IF($B126=\"\",\"\",للطباعة1!$R$40)","v":""},{"$f":"IF($B126=\"\",\"\",للطباعة1!$Z$40)","v":""},{"$f":"IF($B126=\"\",\"\",للطباعة1!$Y$40)","v":""},{"$f":"IF($B126=\"\",\"\",(C128+E128+G128+I128)/4)","v":""},{"$f":"IF($B126=\"\",\"\",للطباعة1!$AH$40)","v":""},{"$f":"IF($B126=\"\",\"\",للطباعة1!$AG$40)","v":""},{"$f":"IF($B126=\"\",\"\",للطباعة1!$AO$40)","v":""},{"$f":"IF($B126=\"\",\"\",للطباعة1!$AN$40)","v":""},{"$f":"IF($B126=\"\",\"\",للطباعة1!$AV$40)","v":""},{"$f":"IF($B126=\"\",\"\",للطباعة1!$AU$40)","v":""},{"$f":"IF($B126=\"\",\"\",للطباعة1!$BC$40)","v":""},{"$f":"IF($B126=\"\",\"\",للطباعة1!$BB$40)","v":""},{"$f":"IF($B126=\"\",\"\",(L128+N128+P128+R128)/4)","v":""},{"$f":"IF($B126=\"\",\"\",للطباعة1!$BK$40)","v":""},{"$f":"IF($B126=\"\",\"\",للطباعة1!$BJ$40)","v":""},{"$f":"IF($B126=\"\",\"\",للطباعة1!$BR$40)","v":""},{"$f":"IF($B126=\"\",\"\",للطباعة1!$BQ$40)","v":""},{"$f":"IF($B126=\"\",\"\",للطباعة1!$BY$40)","v":""},{"$f":"IF($B126=\"\",\"\",للطباعة1!$BX$40)","v":""},{"$f":"IF($B126=\"\",\"\",للطباعة1!$CF$40)","v":""},{"$f":"IF($B126=\"\",\"\",للطباعة1!$CE$40)","v":""},{"$f":"IF($B126=\"\",\"\",(U128+W128+Y128+AA128)/4)","v":""},{"$f":"IF($B126=\"\",\"\",(K126+T126+AC126)*0.04)","v":""},{"$f":"IF($B126=\"\",\"\",IF((AD126*40/12-INT(AD126*40/12))>=0.75,INT(AD126*40/12)+1,IF((AD126*40/12-INT(AD126*40/12))<0.25,INT(AD126*40/12),INT(AD126*40/12)+0.5)))","v":""},{"$f":"IF($B126=\"\",\"\",INDIRECT(ADDRESS(11+A126*2,18,1,,\"SeconedPartDegrees1\")))","v":""},{"$f":"IF($B126=\"\",\"\",INDIRECT(ADDRESS(11+A126*2,19,1,,\"SeconedPartDegrees1\")))","v":""},{"$f":"IF(OR(AF126=\"\",AG126=\"\"),\"\",AF126+AG126)","v":""},{"$f":"IF(OR(AE126=\"\",AG126=\"\"),\"\",AG126+AF126+AE126)","v":""},null,null,{"$f":"ROUNDUP(((FirstPartDegrees1!#REF!+D126)/2+(FirstPartDegrees1!E136+O126)/2+(FirstPartDegrees1!#REF!+M126)/2+(FirstPartDegrees1!C136+F126)/2 )/4,0)","v":{"$error":"#REF!"}},{"$f":"ROUNDUP(((FirstPartDegrees1!#REF!+FirstPartDegrees1!#REF!)/2+(FirstPartDegrees1!F136+J126)/2+(FirstPartDegrees1!#REF!+S126)/2+(FirstPartDegrees1!I136+#REF!)/2 )/4,0)","v":{"$error":"#REF!"}},{"$f":"ROUNDUP(((FirstPartDegrees1!#REF!+FirstPartDegrees1!J136)/2+(FirstPartDegrees1!#REF!+FirstPartDegrees1!#REF!)/2+(FirstPartDegrees1!#REF!+V126)/2+(AB126+#REF!)/2)/4,0)","v":{"$error":"#REF!"}},{"$f":"(AN126+AAE126+AL126)*40/12","v":{"$error":"#REF!"}}]
[null,null,{"$f":"IF($B126=\"\",\"\",للطباعة1!$G$40)","v":""},{"$f":"IF($B126=\"\",\"\",للطباعة1!$F$40)","v":""},{"$f":"IF($B126=\"\",\"\",للطباعة1!$N$40)","v":""},{"$f":"IF($B126=\"\",\"\",للطباعة1!$M$40)","v":""},{"$f":"IF($B126=\"\",\"\",للطباعة1!$U$40)","v":""},{"$f":"IF($B126=\"\",\"\",للطباعة1!$T$40)","v":""},{"$f":"IF($B126=\"\",\"\",للطباعة1!$AB$40)","v":""},{"$f":"IF($B126=\"\",\"\",للطباعة1!$AA$40)","v":""},null,{"$f":"IF($B126=\"\",\"\",للطباعة1!$AJ$40)","v":""},{"$f":"IF($B126=\"\",\"\",للطباعة1!$AI$40)","v":""},{"$f":"IF($B126=\"\",\"\",للطباعة1!$AQ$40)","v":""},{"$f":"IF($B126=\"\",\"\",للطباعة1!$AP$40)","v":""},{"$f":"IF($B126=\"\",\"\",للطباعة1!$AX$40)","v":""},{"$f":"IF($B126=\"\",\"\",للطباعة1!$AW$40)","v":""},{"$f":"IF($B126=\"\",\"\",للطباعة1!$BE$40)","v":""},{"$f":"IF($B126=\"\",\"\",للطباعة1!$BD$40)","v":""},null,{"$f":"IF($B126=\"\",\"\",للطباعة1!$BM$40)","v":""},{"$f":"IF($B126=\"\",\"\",للطباعة1!$BL$40)","v":""},{"$f":"IF($B126=\"\",\"\",للطباعة1!$BT$40)","v":""},{"$f":"IF($B126=\"\",\"\",للطباعة1!$BS$40)","v":""},{"$f":"IF($B126=\"\",\"\",للطباعة1!$CA$40)","v":""},{"$f":"IF($B126=\"\",\"\",للطباعة1!$BZ$40)","v":""},{"$f":"IF($B126=\"\",\"\",للطباعة1!$CH$40)","v":""},{"$f":"IF($B126=\"\",\"\",للطباعة1!$CG$40)","v":""}]
[null,"النقاط",{"$f":"IF($B126=\"\",\"\",(D126+D127)*100/8)","v":""},null,{"$f":"IF($B126=\"\",\"\",(F126+F127)*100/8)","v":""},null,{"$f":"IF($B126=\"\",\"\",(H126+H127)*100/8)","v":""},null,{"$f":"IF($B126=\"\",\"\",(J126+J127)*100/8)","v":""},null,null,{"$f":"IF($B126=\"\",\"\",(M126+M127)*100/8)","v":""},null,{"$f":"IF($B126=\"\",\"\",(O126+O127)*100/8)","v":""},null,{"$f":"IF($B126=\"\",\"\",(Q126+Q127)*100/8)","v":""},null,{"$f":"IF($B126=\"\",\"\",(S126+S127)*100/8)","v":""},null,null,{"$f":"IF($B126=\"\",\"\",(V126+V127)*100/8)","v":""},null,{"$f":"IF($B126=\"\",\"\",(X126+X127)*100/8)","v":""},null,{"$f":"IF($B126=\"\",\"\",(Z126+Z127)*100/8)","v":""},null,{"$f":"IF($B126=\"\",\"\",(AB126+AB127)*100/8)","v":""}]
[40,{"$f":"INDIRECT(ADDRESS(A129+1,2,,,\"للطباعة1\"))","v":""},{"$f":"IF($B129=\"\",\"\",للطباعة1!$E$41)","v":""},{"$f":"IF($B129=\"\",\"\",للطباعة1!$D$41)","v":""},{"$f":"IF($B129=\"\",\"\",للطباعة1!$L$41)","v":""},{"$f":"IF($B129=\"\",\"\",للطباعة1!$K$41)","v":""},{"$f":"IF($B129=\"\",\"\",للطباعة1!$S$41)","v":""},{"$f":"IF($B129=\"\",\"\",للطباعة1!$R$41)","v":""},{"$f":"IF($B129=\"\",\"\",للطباعة1!$Z$41)","v":""},{"$f":"IF($B129=\"\",\"\",للطباعة1!$Y$41)","v":""},{"$f":"IF($B129=\"\",\"\",(C131+E131+G131+I131)/4)","v":""},{"$f":"IF($B129=\"\",\"\",للطباعة1!$AH$41)","v":""},{"$f":"IF($B129=\"\",\"\",للطباعة1!$AG$41)","v":""},{"$f":"IF($B129=\"\",\"\",للطباعة1!$AO$41)","v":""},{"$f":"IF($B129=\"\",\"\",للطباعة1!$AN$41)","v":""},{"$f":"IF($B129=\"\",\"\",للطباعة1!$AV$41)","v":""},{"$f":"IF($B129=\"\",\"\",للطباعة1!$AU$41)","v":""},{"$f":"IF($B129=\"\",\"\",للطباعة1!$BC$41)","v":""},{"$f":"IF($B129=\"\",\"\",للطباعة1!$BB$41)","v":""},{"$f":"IF($B129=\"\",\"\",(L131+N131+P131+R131)/4)","v":""},{"$f":"IF($B129=\"\",\"\",للطباعة1!$BK$41)","v":""},{"$f":"IF($B129=\"\",\"\",للطباعة1!$BJ$41)","v":""},{"$f":"IF($B129=\"\",\"\",للطباعة1!$BR$41)","v":""},{"$f":"IF($B129=\"\",\"\",للطباعة1!$BQ$41)","v":""},{"$f":"IF($B129=\"\",\"\",للطباعة1!$BY$41)","v":""},{"$f":"IF($B129=\"\",\"\",للطباعة1!$BX$41)","v":""},{"$f":"IF($B129=\"\",\"\",للطباعة1!$CF$41)","v":""},{"$f":"IF($B129=\"\",\"\",للطباعة1!$CE$41)","v":""},{"$f":"IF($B129=\"\",\"\",(U131+W131+Y131+AA131)/4)","v":""},{"$f":"IF($B129=\"\",\"\",(K129+T129+AC129)*0.04)","v":""},{"$f":"IF($B129=\"\",\"\",IF((AD129*40/12-INT(AD129*40/12))>=0.75,INT(AD129*40/12)+1,IF((AD129*40/12-INT(AD129*40/12))<0.25,INT(AD129*40/12),INT(AD129*40/12)+0.5)))","v":""},{"$f":"IF($B129=\"\",\"\",INDIRECT(ADDRESS(11+A129*2,18,1,,\"SeconedPartDegrees1\")))","v":""},{"$f":"IF($B129=\"\",\"\",INDIRECT(ADDRESS(11+A129*2,19,1,,\"SeconedPartDegrees1\")))","v":""},{"$f":"IF(OR(AF129=\"\",AG129=\"\"),\"\",AF129+AG129)","v":""},{"$f":"IF(OR(AE129=\"\",AG129=\"\"),\"\",AG129+AF129+AE129)","v":""},null,null,{"$f":"ROUNDUP(((FirstPartDegrees1!#REF!+D129)/2+(FirstPartDegrees1!E124+O129)/2+(FirstPartDegrees1!#REF!+M129)/2+(FirstPartDegrees1!C124+F129)/2 )/4,0)","v":{"$error":"#REF!"}},{"$f":"ROUNDUP(((FirstPartDegrees1!#REF!+FirstPartDegrees1!#REF!)/2+(FirstPartDegrees1!F124+J129)/2+(FirstPartDegrees1!#REF!+S129)/2+(FirstPartDegrees1!I124+#REF!)/2 )/4,0)","v":{"$error":"#REF!"}},{"$f":"ROUNDUP(((FirstPartDegrees1!#REF!+FirstPartDegrees1!J124)/2+(FirstPartDegrees1!#REF!+FirstPartDegrees1!#REF!)/2+(FirstPartDegrees1!#REF!+V129)/2+(AB129+#REF!)/2)/4,0)","v":{"$error":"#REF!"}},{"$f":"(AN129+AAE129+AL129)*40/12","v":{"$error":"#REF!"}}]
[null,null,{"$f":"IF($B129=\"\",\"\",للطباعة1!$G$41)","v":""},{"$f":"IF($B129=\"\",\"\",للطباعة1!$F$41)","v":""},{"$f":"IF($B129=\"\",\"\",للطباعة1!$N$41)","v":""},{"$f":"IF($B129=\"\",\"\",للطباعة1!$M$41)","v":""},{"$f":"IF($B129=\"\",\"\",للطباعة1!$U$41)","v":""},{"$f":"IF($B129=\"\",\"\",للطباعة1!$T$41)","v":""},{"$f":"IF($B129=\"\",\"\",للطباعة1!$AB$41)","v":""},{"$f":"IF($B129=\"\",\"\",للطباعة1!$AA$41)","v":""},null,{"$f":"IF($B129=\"\",\"\",للطباعة1!$AJ$41)","v":""},{"$f":"IF($B129=\"\",\"\",للطباعة1!$AI$41)","v":""},{"$f":"IF($B129=\"\",\"\",للطباعة1!$AQ$41)","v":""},{"$f":"IF($B129=\"\",\"\",للطباعة1!$AP$41)","v":""},{"$f":"IF($B129=\"\",\"\",للطباعة1!$AX$41)","v":""},{"$f":"IF($B129=\"\",\"\",للطباعة1!$AW$41)","v":""},{"$f":"IF($B129=\"\",\"\",للطباعة1!$BE$41)","v":""},{"$f":"IF($B129=\"\",\"\",للطباعة1!$BD$41)","v":""},null,{"$f":"IF($B129=\"\",\"\",للطباعة1!$BM$41)","v":""},{"$f":"IF($B129=\"\",\"\",للطباعة1!$BL$41)","v":""},{"$f":"IF($B129=\"\",\"\",للطباعة1!$BT$41)","v":""},{"$f":"IF($B129=\"\",\"\",للطباعة1!$BS$41)","v":""},{"$f":"IF($B129=\"\",\"\",للطباعة1!$CA$41)","v":""},{"$f":"IF($B129=\"\",\"\",للطباعة1!$BZ$41)","v":""},{"$f":"IF($B129=\"\",\"\",للطباعة1!$CH$41)","v":""},{"$f":"IF($B129=\"\",\"\",للطباعة1!$CG$41)","v":""}]
[null,"النقاط",{"$f":"IF($B129=\"\",\"\",(D129+D130)*100/8)","v":""},null,{"$f":"IF($B129=\"\",\"\",(F129+F130)*100/8)","v":""},null,{"$f":"IF($B129=\"\",\"\",(H129+H130)*100/8)","v":""},null,{"$f":"IF($B129=\"\",\"\",(J129+J130)*100/8)","v":""},null,null,{"$f":"IF($B129=\"\",\"\",(M129+M130)*100/8)","v":""},null,{"$f":"IF($B129=\"\",\"\",(O129+O130)*100/8)","v":""},null,{"$f":"IF($B129=\"\",\"\",(Q129+Q130)*100/8)","v":""},null,{"$f":"IF($B129=\"\",\"\",(S129+S130)*100/8)","v":""},null,null,{"$f":"IF($B129=\"\",\"\",(V129+V130)*100/8)","v":""},null,{"$f":"IF($B129=\"\",\"\",(X129+X130)*100/8)","v":""},null,{"$f":"IF($B129=\"\",\"\",(Z129+Z130)*100/8)","v":""},null,{"$f":"IF($B129=\"\",\"\",(AB129+AB130)*100/8)","v":""}]
[41,{"$f":"INDIRECT(ADDRESS(A132+1,2,,,\"للطباعة1\"))","v":""},{"$f":"IF($B132=\"\",\"\",للطباعة1!$E$42)","v":""},{"$f":"IF($B132=\"\",\"\",للطباعة1!$D$42)","v":""},{"$f":"IF($B132=\"\",\"\",للطباعة1!$L$42)","v":""},{"$f":"IF($B132=\"\",\"\",للطباعة1!$K$42)","v":""},{"$f":"IF($B132=\"\",\"\",للطباعة1!$S$42)","v":""},{"$f":"IF($B132=\"\",\"\",للطباعة1!$R$42)","v":""},{"$f":"IF($B132=\"\",\"\",للطباعة1!$Z$42)","v":""},{"$f":"IF($B132=\"\",\"\",للطباعة1!$Y$42)","v":""},{"$f":"IF($B132=\"\",\"\",(C134+E134+G134+I134)/4)","v":""},{"$f":"IF($B132=\"\",\"\",للطباعة1!$AH$42)","v":""},{"$f":"IF($B132=\"\",\"\",للطباعة1!$AG$42)","v":""},{"$f":"IF($B132=\"\",\"\",للطباعة1!$AO$42)","v":""},{"$f":"IF($B132=\"\",\"\",للطباعة1!$AN$42)","v":""},{"$f":"IF($B132=\"\",\"\",للطباعة1!$AV$42)","v":""},{"$f":"IF($B132=\"\",\"\",للطباعة1!$AU$42)","v":""},{"$f":"IF($B132=\"\",\"\",للطباعة1!$BC$42)","v":""},{"$f":"IF($B132=\"\",\"\",للطباعة1!$BB$42)","v":""},{"$f":"IF($B132=\"\",\"\",(L134+N134+P134+R134)/4)","v":""},{"$f":"IF($B132=\"\",\"\",للطباعة1!$BK$42)","v":""},{"$f":"IF($B132=\"\",\"\",للطباعة1!$BJ$42)","v":""},{"$f":"IF($B132=\"\",\"\",للطباعة1!$BR$42)","v":""},{"$f":"IF($B132=\"\",\"\",للطباعة1!$BQ$42)","v":""},{"$f":"IF($B132=\"\",\"\",للطباعة1!$BY$42)","v":""},{"$f":"IF($B132=\"\",\"\",للطباعة1!$BX$42)","v":""},{"$f":"IF($B132=\"\",\"\",للطباعة1!$CF$42)","v":""},{"$f":"IF($B132=\"\",\"\",للطباعة1!$CE$42)","v":""},{"$f":"IF($B132=\"\",\"\",(U134+W134+Y134+AA134)/4)","v":""},{"$f":"IF($B132=\"\",\"\",(K132+T132+AC132)*0.04)","v":""},{"$f":"IF($B132=\"\",\"\",IF((AD132*40/12-INT(AD132*40/12))>=0.75,INT(AD132*40/12)+1,IF((AD132*40/12-INT(AD132*40/12))<0.25,INT(AD132*40/12),INT(AD132*40/12)+0.5)))","v":""},{"$f":"IF($B132=\"\",\"\",INDIRECT(ADDRESS(11+A132*2,18,1,,\"SeconedPartDegrees1\")))","v":""},{"$f":"IF($B132=\"\",\"\",INDIRECT(ADDRESS(11+A132*2,19,1,,\"SeconedPartDegrees1\")))","v":""},{"$f":"IF(OR(AF132=\"\",AG132=\"\"),\"\",AF132+AG132)","v":""},{"$f":"IF(OR(AE132=\"\",AG132=\"\"),\"\",AG132+AF132+AE132)","v":""},null,null,{"$f":"ROUNDUP(((FirstPartDegrees1!#REF!+D132)/2+(FirstPartDegrees1!E127+O132)/2+(FirstPartDegrees1!#REF!+M132)/2+(FirstPartDegrees1!C127+F132)/2 )/4,0)","v":{"$error":"#REF!"}},{"$f":"ROUNDUP(((FirstPartDegrees1!#REF!+FirstPartDegrees1!#REF!)/2+(FirstPartDegrees1!F127+J132)/2+(FirstPartDegrees1!#REF!+S132)/2+(FirstPartDegrees1!I127+#REF!)/2 )/4,0)","v":{"$error":"#REF!"}},{"$f":"ROUNDUP(((FirstPartDegrees1!#REF!+FirstPartDegrees1!J127)/2+(FirstPartDegrees1!#REF!+FirstPartDegrees1!#REF!)/2+(FirstPartDegrees1!#REF!+V132)/2+(AB132+#REF!)/2)/4,0)","v":{"$error":"#REF!"}},{"$f":"(AN132+AAE132+AL132)*40/12","v":{"$error":"#REF!"}}]
[null,null,{"$f":"IF($B132=\"\",\"\",للطباعة1!$G$42)","v":""},{"$f":"IF($B132=\"\",\"\",للطباعة1!$F$42)","v":""},{"$f":"IF($B132=\"\",\"\",للطباعة1!$N$42)","v":""},{"$f":"IF($B132=\"\",\"\",للطباعة1!$M$42)","v":""},{"$f":"IF($B132=\"\",\"\",للطباعة1!$U$42)","v":""},{"$f":"IF($B132=\"\",\"\",للطباعة1!$T$42)","v":""},{"$f":"IF($B132=\"\",\"\",للطباعة1!$AB$42)","v":""},{"$f":"IF($B132=\"\",\"\",للطباعة1!$AA$42)","v":""},null,{"$f":"IF($B132=\"\",\"\",للطباعة1!$AJ$42)","v":""},{"$f":"IF($B132=\"\",\"\",للطباعة1!$AI$42)","v":""},{"$f":"IF($B132=\"\",\"\",للطباعة1!$AQ$42)","v":""},{"$f":"IF($B132=\"\",\"\",للطباعة1!$AP$42)","v":""},{"$f":"IF($B132=\"\",\"\",للطباعة1!$AX$42)","v":""},{"$f":"IF($B132=\"\",\"\",للطباعة1!$AW$42)","v":""},{"$f":"IF($B132=\"\",\"\",للطباعة1!$BE$42)","v":""},{"$f":"IF($B132=\"\",\"\",للطباعة1!$BD$42)","v":""},null,{"$f":"IF($B132=\"\",\"\",للطباعة1!$BM$42)","v":""},{"$f":"IF($B132=\"\",\"\",للطباعة1!$BL$42)","v":""},{"$f":"IF($B132=\"\",\"\",للطباعة1!$BT$42)","v":""},{"$f":"IF($B132=\"\",\"\",للطباعة1!$BS$42)","v":""},{"$f":"IF($B132=\"\",\"\",للطباعة1!$CA$42)","v":""},{"$f":"IF($B132=\"\",\"\",للطباعة1!$BZ$42)","v":""},{"$f":"IF($B132=\"\",\"\",للطباعة1!$CH$42)","v":""},{"$f":"IF($B132=\"\",\"\",للطباعة1!$CG$42)","v":""}]
[null,"النقاط",{"$f":"IF($B132=\"\",\"\",(D132+D133)*100/8)","v":""},null,{"$f":"IF($B132=\"\",\"\",(F132+F133)*100/8)","v":""},null,{"$f":"IF($B132=\"\",\"\",(H132+H133)*100/8)","v":""},null,{"$f":"IF($B132=\"\",\"\",(J132+J133)*100/8)","v":""},null,null,{"$f":"IF($B132=\"\",\"\",(M132+M133)*100/8)","v":""},null,{"$f":"IF($B132=\"\",\"\",(O132+O133)*100/8)","v":""},null,{"$f":"IF($B132=\"\",\"\",(Q132+Q133)*100/8)","v":""},null,{"$f":"IF($B132=\"\",\"\",(S132+S133)*100/8)","v":""},null,null,{"$f":"IF($B132=\"\",\"\",(V132+V133)*100/8)","v":""},null,{"$f":"IF($B132=\"\",\"\",(X132+X133)*100/8)","v":""},null,{"$f":"IF($B132=\"\",\"\",(Z132+Z133)*100/8)","v":""},null,{"$f":"IF($B132=\"\",\"\",(AB132+AB133)*100/8)","v":""}]
[42,{"$f":"INDIRECT(ADDRESS(A135+1,2,,,\"للطباعة1\"))","v":""},{"$f":"IF($B135=\"\",\"\",للطباعة1!$E$43)","v":""},{"$f":"IF($B135=\"\",\"\",للطباعة1!$D$43)","v":""},{"$f":"IF($B135=\"\",\"\",للطباعة1!$L$43)","v":""},{"$f":"IF($B135=\"\",\"\",للطباعة1!$K$43)","v":""},{"$f":"IF($B135=\"\",\"\",للطباعة1!$S$43)","v":""},{"$f":"IF($B135=\"\",\"\",للطباعة1!$R$43)","v":""},{"$f":"IF($B135=\"\",\"\",للطباعة1!$Z$43)","v":""},{"$f":"IF($B135=\"\",\"\",للطباعة1!$Y$43)","v":""},{"$f":"IF($B135=\"\",\"\",(C137+E137+G137+I137)/4)","v":""},{"$f":"IF($B135=\"\",\"\",للطباعة1!$AH$43)","v":""},{"$f":"IF($B135=\"\",\"\",للطباعة1!$AG$43)","v":""},{"$f":"IF($B135=\"\",\"\",للطباعة1!$AO$43)","v":""},{"$f":"IF($B135=\"\",\"\",للطباعة1!$AN$43)","v":""},{"$f":"IF($B135=\"\",\"\",للطباعة1!$AV$43)","v":""},{"$f":"IF($B135=\"\",\"\",للطباعة1!$AU$43)","v":""},{"$f":"IF($B135=\"\",\"\",للطباعة1!$BC$43)","v":""},{"$f":"IF($B135=\"\",\"\",للطباعة1!$BB$43)","v":""},{"$f":"IF($B135=\"\",\"\",(L137+N137+P137+R137)/4)","v":""},{"$f":"IF($B135=\"\",\"\",للطباعة1!$BK$43)","v":""},{"$f":"IF($B135=\"\",\"\",للطباعة1!$BJ$43)","v":""},{"$f":"IF($B135=\"\",\"\",للطباعة1!$BR$43)","v":""},{"$f":"IF($B135=\"\",\"\",للطباعة1!$BQ$43)","v":""},{"$f":"IF($B135=\"\",\"\",للطباعة1!$BY$43)","v":""},{"$f":"IF($B135=\"\",\"\",للطباعة1!$BX$43)","v":""},{"$f":"IF($B135=\"\",\"\",للطباعة1!$CF$43)","v":""},{"$f":"IF($B135=\"\",\"\",للطباعة1!$CE$43)","v":""},{"$f":"IF($B135=\"\",\"\",(U137+W137+Y137+AA137)/4)","v":""},{"$f":"IF($B135=\"\",\"\",(K135+T135+AC135)*0.04)","v":""},{"$f":"IF($B135=\"\",\"\",IF((AD135*40/12-INT(AD135*40/12))>=0.75,INT(AD135*40/12)+1,IF((AD135*40/12-INT(AD135*40/12))<0.25,INT(AD135*40/12),INT(AD135*40/12)+0.5)))","v":""},{"$f":"IF($B135=\"\",\"\",INDIRECT(ADDRESS(11+A135*2,18,1,,\"SeconedPartDegrees1\")))","v":""},{"$f":"IF($B135=\"\",\"\",INDIRECT(ADDRESS(11+A135*2,19,1,,\"SeconedPartDegrees1\")))","v":""},{"$f":"IF(OR(AF135=\"\",AG135=\"\"),\"\",AF135+AG135)","v":""},{"$f":"IF(OR(AE135=\"\",AG135=\"\"),\"\",AG135+AF135+AE135)","v":""},null,null,{"$f":"ROUNDUP(((FirstPartDegrees1!#REF!+D135)/2+(FirstPartDegrees1!E130+O135)/2+(FirstPartDegrees1!#REF!+M135)/2+(FirstPartDegrees1!C130+F135)/2 )/4,0)","v":{"$error":"#REF!"}},{"$f":"ROUNDUP(((FirstPartDegrees1!#REF!+FirstPartDegrees1!#REF!)/2+(FirstPartDegrees1!F130+J135)/2+(FirstPartDegrees1!#REF!+S135)/2+(FirstPartDegrees1!I130+#REF!)/2 )/4,0)","v":{"$error":"#REF!"}},{"$f":"ROUNDUP(((FirstPartDegrees1!#REF!+FirstPartDegrees1!J130)/2+(FirstPartDegrees1!#REF!+FirstPartDegrees1!#REF!)/2+(FirstPartDegrees1!#REF!+V135)/2+(AB135+#REF!)/2)/4,0)","v":{"$error":"#REF!"}},{"$f":"(AN135+AAE135+AL135)*40/12","v":{"$error":"#REF!"}}]
[null,null,{"$f":"IF($B135=\"\",\"\",للطباعة1!$G$43)","v":""},{"$f":"IF($B135=\"\",\"\",للطباعة1!$F$43)","v":""},{"$f":"IF($B135=\"\",\"\",للطباعة1!$N$43)","v":""},{"$f":"IF($B135=\"\",\"\",للطباعة1!$M$43)","v":""},{"$f":"IF($B135=\"\",\"\",للطباعة1!$U$43)","v":""},{"$f":"IF($B135=\"\",\"\",للطباعة1!$T$43)","v":""},{"$f":"IF($B135=\"\",\"\",للطباعة1!$AB$43)","v":""},{"$f":"IF($B135=\"\",\"\",للطباعة1!$AA$43)","v":""},null,{"$f":"IF($B135=\"\",\"\",للطباعة1!$AJ$43)","v":""},{"$f":"IF($B135=\"\",\"\",للطباعة1!$AI$43)","v":""},{"$f":"IF($B135=\"\",\"\",للطباعة1!$AQ$43)","v":""},{"$f":"IF($B135=\"\",\"\",للطباعة1!$AP$43)","v":""},{"$f":"IF($B135=\"\",\"\",للطباعة1!$AX$43)","v":""},{"$f":"IF($B135=\"\",\"\",للطباعة1!$AW$43)","v":""},{"$f":"IF($B135=\"\",\"\",للطباعة1!$BE$43)","v":""},{"$f":"IF($B135=\"\",\"\",للطباعة1!$BD$43)","v":""},null,{"$f":"IF($B135=\"\",\"\",للطباعة1!$BM$43)","v":""},{"$f":"IF($B135=\"\",\"\",للطباعة1!$BL$43)","v":""},{"$f":"IF($B135=\"\",\"\",للطباعة1!$BT$43)","v":""},{"$f":"IF($B135=\"\",\"\",للطباعة1!$BS$43)","v":""},{"$f":"IF($B135=\"\",\"\",للطباعة1!$CA$43)","v":""},{"$f":"IF($B135=\"\",\"\",للطباعة1!$BZ$43)","v":""},{"$f":"IF($B135=\"\",\"\",للطباعة1!$CH$43)","v":""},{"$f":"IF($B135=\"\",\"\",للطباعة1!$CG$43)","v":""}]
[null,"النقاط",{"$f":"IF($B135=\"\",\"\",(D135+D136)*100/8)","v":""},null,{"$f":"IF($B135=\"\",\"\",(F135+F136)*100/8)","v":""},null,{"$f":"IF($B135=\"\",\"\",(H135+H136)*100/8)","v":""},null,{"$f":"IF($B135=\"\",\"\",(J135+J136)*100/8)","v":""},null,null,{"$f":"IF($B135=\"\",\"\",(M135+M136)*100/8)","v":""},null,{"$f":"IF($B135=\"\",\"\",(O135+O136)*100/8)","v":""},null,{"$f":"IF($B135=\"\",\"\",(Q135+Q136)*100/8)","v":""},null,{"$f":"IF($B135=\"\",\"\",(S135+S136)*100/8)","v":""},null,null,{"$f":"IF($B135=\"\",\"\",(V135+V136)*100/8)","v":""},null,{"$f":"IF($B135=\"\",\"\",(X135+X136)*100/8)","v":""},null,{"$f":"IF($B135=\"\",\"\",(Z135+Z136)*100/8)","v":""},null,{"$f":"IF($B135=\"\",\"\",(AB135+AB136)*100/8)","v":""}]
[43,{"$f":"INDIRECT(ADDRESS(A138+1,2,,,\"للطباعة1\"))","v":""},{"$f":"IF($B138=\"\",\"\",للطباعة1!$E$44)","v":""},{"$f":"IF($B138=\"\",\"\",للطباعة1!$D$44)","v":""},{"$f":"IF($B138=\"\",\"\",للطباعة1!$L$44)","v":""},{"$f":"IF($B138=\"\",\"\",للطباعة1!$K$44)","v":""},{"$f":"IF($B138=\"\",\"\",للطباعة1!$S$44)","v":""},{"$f":"IF($B138=\"\",\"\",للطباعة1!$R$44)","v":""},{"$f":"IF($B138=\"\",\"\",للطباعة1!$Z$44)","v":""},{"$f":"IF($B138=\"\",\"\",للطباعة1!$Y$44)","v":""},{"$f":"IF($B138=\"\",\"\",(C140+E140+G140+I140)/4)","v":""},{"$f":"IF($B138=\"\",\"\",للطباعة1!$AH$44)","v":""},{"$f":"IF($B138=\"\",\"\",للطباعة1!$AG$44)","v":""},{"$f":"IF($B138=\"\",\"\",للطباعة1!$AO$44)","v":""},{"$f":"IF($B138=\"\",\"\",للطباعة1!$AN$44)","v":""},{"$f":"IF($B138=\"\",\"\",للطباعة1!$AV$44)","v":""},{"$f":"IF($B138=\"\",\"\",للطباعة1!$AU$44)","v":""},{"$f":"IF($B138=\"\",\"\",للطباعة1!$BC$44)","v":""},{"$f":"IF($B138=\"\",\"\",للطباعة1!$BB$44)","v":""},{"$f":"IF($B138=\"\",\"\",(L140+N140+P140+R140)/4)","v":""},{"$f":"IF($B138=\"\",\"\",للطباعة1!$BK$44)","v":""},{"$f":"IF($B138=\"\",\"\",للطباعة1!$BJ$44)","v":""},{"$f":"IF($B138=\"\",\"\",للطباعة1!$BR$44)","v":""},{"$f":"IF($B138=\"\",\"\",للطباعة1!$BQ$44)","v":""},{"$f":"IF($B138=\"\",\"\",للطباعة1!$BY$44)","v":""},{"$f":"IF($B138=\"\",\"\",للطباعة1!$BX$44)","v":""},{"$f":"IF($B138=\"\",\"\",للطباعة1!$CF$44)","v":""},{"$f":"IF($B138=\"\",\"\",للطباعة1!$CE$44)","v":""},{"$f":"IF($B138=\"\",\"\",(U140+W140+Y140+AA140)/4)","v":""},{"$f":"IF($B138=\"\",\"\",(K138+T138+AC138)*0.04)","v":""},{"$f":"IF($B138=\"\",\"\",IF((AD138*40/12-INT(AD138*40/12))>=0.75,INT(AD138*40/12)+1,IF((AD138*40/12-INT(AD138*40/12))<0.25,INT(AD138*40/12),INT(AD138*40/12)+0.5)))","v":""},{"$f":"IF($B138=\"\",\"\",INDIRECT(ADDRESS(11+A138*2,18,1,,\"SeconedPartDegrees1\")))","v":""},{"$f":"IF($B138=\"\",\"\",INDIRECT(ADDRESS(11+A138*2,19,1,,\"SeconedPartDegrees1\")))","v":""},{"$f":"IF(OR(AF138=\"\",AG138=\"\"),\"\",AF138+AG138)","v":""},{"$f":"IF(OR(AE138=\"\",AG138=\"\"),\"\",AG138+AF138+AE138)","v":""},null,null,{"$f":"ROUNDUP(((FirstPartDegrees1!#REF!+D138)/2+(FirstPartDegrees1!E133+O138)/2+(FirstPartDegrees1!#REF!+M138)/2+(FirstPartDegrees1!C133+F138)/2 )/4,0)","v":{"$error":"#REF!"}},{"$f":"ROUNDUP(((FirstPartDegrees1!#REF!+FirstPartDegrees1!#REF!)/2+(FirstPartDegrees1!F133+J138)/2+(FirstPartDegrees1!#REF!+S138)/2+(FirstPartDegrees1!I133+#REF!)/2 )/4,0)","v":{"$error":"#REF!"}},{"$f":"ROUNDUP(((FirstPartDegrees1!#REF!+FirstPartDegrees1!J133)/2+(FirstPartDegrees1!#REF!+FirstPartDegrees1!#REF!)/2+(FirstPartDegrees1!#REF!+V138)/2+(AB138+#REF!)/2)/4,0)","v":{"$error":"#REF!"}},{"$f":"(AN138+AAE138+AL138)*40/12","v":{"$error":"#REF!"}}]
[null,null,{"$f":"IF($B138=\"\",\"\",للطباعة1!$G$44)","v":""},{"$f":"IF($B138=\"\",\"\",للطباعة1!$F$44)","v":""},{"$f":"IF($B138=\"\",\"\",للطباعة1!$N$44)","v":""},{"$f":"IF($B138=\"\",\"\",للطباعة1!$M$44)","v":""},{"$f":"IF($B138=\"\",\"\",للطباعة1!$U$44)","v":""},{"$f":"IF($B138=\"\",\"\",للطباعة1!$T$44)","v":""},{"$f":"IF($B138=\"\",\"\",للطباعة1!$AB$44)","v":""},{"$f":"IF($B138=\"\",\"\",للطباعة1!$AA$44)","v":""},null,{"$f":"IF($B138=\"\",\"\",للطباعة1!$AJ$44)","v":""},{"$f":"IF($B138=\"\",\"\",للطباعة1!$AI$44)","v":""},{"$f":"IF($B138=\"\",\"\",للطباعة1!$AQ$44)","v":""},{"$f":"IF($B138=\"\",\"\",للطباعة1!$AP$44)","v":""},{"$f":"IF($B138=\"\",\"\",للطباعة1!$AX$44)","v":""},{"$f":"IF($B138=\"\",\"\",للطباعة1!$AW$44)","v":""},{"$f":"IF($B138=\"\",\"\",للطباعة1!$BE$44)","v":""},{"$f":"IF($B138=\"\",\"\",للطباعة1!$BD$44)","v":""},null,{"$f":"IF($B138=\"\",\"\",للطباعة1!$BM$44)","v":""},{"$f":"IF($B138=\"\",\"\",للطباعة1!$BL$44)","v":""},{"$f":"IF($B138=\"\",\"\",للطباعة1!$BT$44)","v":""},{"$f":"IF($B138=\"\",\"\",للطباعة1!$BS$44)","v":""},{"$f":"IF($B138=\"\",\"\",للطباعة1!$CA$44)","v":""},{"$f":"IF($B138=\"\",\"\",للطباعة1!$BZ$44)","v":""},{"$f":"IF($B138=\"\",\"\",للطباعة1!$CH$44)","v":""},{"$f":"IF($B138=\"\",\"\",للطباعة1!$CG$44)","v":""}]
[null,"النقاط",{"$f":"IF($B138=\"\",\"\",(D138+D139)*100/8)","v":""},null,{"$f":"IF($B138=\"\",\"\",(F138+F139)*100/8)","v":""},null,{"$f":"IF($B138=\"\",\"\",(H138+H139)*100/8)","v":""},null,{"$f":"IF($B138=\"\",\"\",(J138+J139)*100/8)","v":""},null,null,{"$f":"IF($B138=\"\",\"\",(M138+M139)*100/8)","v":""},null,{"$f":"IF($B138=\"\",\"\",(O138+O139)*100/8)","v":""},null,{"$f":"IF($B138=\"\",\"\",(Q138+Q139)*100/8)","v":""},null,{"$f":"IF($B138=\"\",\"\",(S138+S139)*100/8)","v":""},null,null,{"$f":"IF($B138=\"\",\"\",(V138+V139)*100/8)","v":""},null,{"$f":"IF($B138=\"\",\"\",(X138+X139)*100/8)","v":""},null,{"$f":"IF($B138=\"\",\"\",(Z138+Z139)*100/8)","v":""},null,{"$f":"IF($B138=\"\",\"\",(AB138+AB139)*100/8)","v":""}]
[44,{"$f":"INDIRECT(ADDRESS(A141+1,2,,,\"للطباعة1\"))","v":""},{"$f":"IF($B141=\"\",\"\",للطباعة1!$E$45)","v":""},{"$f":"IF($B141=\"\",\"\",للطباعة1!$D$45)","v":""},{"$f":"IF($B141=\"\",\"\",للطباعة1!$L$45)","v":""},{"$f":"IF($B141=\"\",\"\",للطباعة1!$K$45)","v":""},{"$f":"IF($B141=\"\",\"\",للطباعة1!$S$45)","v":""},{"$f":"IF($B141=\"\",\"\",للطباعة1!$R$45)","v":""},{"$f":"IF($B141=\"\",\"\",للطباعة1!$Z$45)","v":""},{"$f":"IF($B141=\"\",\"\",للطباعة1!$Y$45)","v":""},{"$f":"IF($B141=\"\",\"\",(C143+E143+G143+I143)/4)","v":""},{"$f":"IF($B141=\"\",\"\",للطباعة1!$AH$45)","v":""},{"$f":"IF($B141=\"\",\"\",للطباعة1!$AG$45)","v":""},{"$f":"IF($B141=\"\",\"\",للطباعة1!$AO$45)","v":""},{"$f":"IF($B141=\"\",\"\",للطباعة1!$AN$45)","v":""},{"$f":"IF($B141=\"\",\"\",للطباعة1!$AV$45)","v":""},{"$f":"IF($B141=\"\",\"\",للطباعة1!$AU$45)","v":""},{"$f":"IF($B141=\"\",\"\",للطباعة1!$BC$45)","v":""},{"$f":"IF($B141=\"\",\"\",للطباعة1!$BB$45)","v":""},{"$f":"IF($B141=\"\",\"\",(L143+N143+P143+R143)/4)","v":""},{"$f":"IF($B141=\"\",\"\",للطباعة1!$BK$45)","v":""},{"$f":"IF($B141=\"\",\"\",للطباعة1!$BJ$45)","v":""},{"$f":"IF($B141=\"\",\"\",للطباعة1!$BR$45)","v":""},{"$f":"IF($B141=\"\",\"\",للطباعة1!$BQ$45)","v":""},{"$f":"IF($B141=\"\",\"\",للطباعة1!$BY$45)","v":""},{"$f":"IF($B141=\"\",\"\",للطباعة1!$BX$45)","v":""},{"$f":"IF($B141=\"\",\"\",للطباعة1!$CF$45)","v":""},{"$f":"IF($B141=\"\",\"\",للطباعة1!$CE$45)","v":""},{"$f":"IF($B141=\"\",\"\",(U143+W143+Y143+AA143)/4)","v":""},{"$f":"IF($B141=\"\",\"\",(K141+T141+AC141)*0.04)","v":""},{"$f":"IF($B141=\"\",\"\",IF((AD141*40/12-INT(AD141*40/12))>=0.75,INT(AD141*40/12)+1,IF((AD141*40/12-INT(AD141*40/12))<0.25,INT(AD141*40/12),INT(AD141*40/12)+0.5)))","v":""},{"$f":"IF($B141=\"\",\"\",INDIRECT(ADDRESS(11+A141*2,18,1,,\"SeconedPartDegrees1\")))","v":""},{"$f":"IF($B141=\"\",\"\",INDIRECT(ADDRESS(11+A141*2,19,1,,\"SeconedPartDegrees1\")))","v":""},{"$f":"IF(OR(AF141=\"\",AG141=\"\"),\"\",AF141+AG141)","v":""},{"$f":"IF(OR(AE141=\"\",AG141=\"\"),\"\",AG141+AF141+AE141)","v":""},null,null,{"$f":"ROUNDUP(((FirstPartDegrees1!#REF!+D141)/2+(FirstPartDegrees1!E136+O141)/2+(FirstPartDegrees1!#REF!+M141)/2+(FirstPartDegrees1!C136+F141)/2 )/4,0)","v":{"$error":"#REF!"}},{"$f":"ROUNDUP(((FirstPartDegrees1!#REF!+FirstPartDegrees1!#REF!)/2+(FirstPartDegrees1!F136+J141)/2+(FirstPartDegrees1!#REF!+S141)/2+(FirstPartDegrees1!I136+#REF!)/2 )/4,0)","v":{"$error":"#REF!"}},{"$f":"ROUNDUP(((FirstPartDegrees1!#REF!+FirstPartDegrees1!J136)/2+(FirstPartDegrees1!#REF!+FirstPartDegrees1!#REF!)/2+(FirstPartDegrees1!#REF!+V141)/2+(AB141+#REF!)/2)/4,0)","v":{"$error":"#REF!"}},{"$f":"(AN141+AAE141+AL141)*40/12","v":{"$error":"#REF!"}}]
[null,null,{"$f":"IF($B141=\"\",\"\",للطباعة1!$G$45)","v":""},{"$f":"IF($B141=\"\",\"\",للطباعة1!$F$45)","v":""},{"$f":"IF($B141=\"\",\"\",للطباعة1!$N$45)","v":""},{"$f":"IF($B141=\"\",\"\",للطباعة1!$M$45)","v":""},{"$f":"IF($B141=\"\",\"\",للطباعة1!$U$45)","v":""},{"$f":"IF($B141=\"\",\"\",للطباعة1!$T$45)","v":""},{"$f":"IF($B141=\"\",\"\",للطباعة1!$AB$45)","v":""},{"$f":"IF($B141=\"\",\"\",للطباعة1!$AA$45)","v":""},null,{"$f":"IF($B141=\"\",\"\",للطباعة1!$AJ$45)","v":""},{"$f":"IF($B141=\"\",\"\",للطباعة1!$AI$45)","v":""},{"$f":"IF($B141=\"\",\"\",للطباعة1!$AQ$45)","v":""},{"$f":"IF($B141=\"\",\"\",للطباعة1!$AP$45)","v":""},{"$f":"IF($B141=\"\",\"\",للطباعة1!$AX$45)","v":""},{"$f":"IF($B141=\"\",\"\",للطباعة1!$AW$45)","v":""},{"$f":"IF($B141=\"\",\"\",للطباعة1!$BE$45)","v":""},{"$f":"IF($B141=\"\",\"\",للطباعة1!$BD$45)","v":""},null,{"$f":"IF($B141=\"\",\"\",للطباعة1!$BM$45)","v":""},{"$f":"IF($B141=\"\",\"\",للطباعة1!$BL$45)","v":""},{"$f":"IF($B141=\"\",\"\",للطباعة1!$BT$45)","v":""},{"$f":"IF($B141=\"\",\"\",للطباعة1!$BS$45)","v":""},{"$f":"IF($B141=\"\",\"\",للطباعة1!$CA$45)","v":""},{"$f":"IF($B141=\"\",\"\",للطباعة1!$BZ$45)","v":""},{"$f":"IF($B141=\"\",\"\",للطباعة1!$CH$45)","v":""},{"$f":"IF($B141=\"\",\"\",للطباعة1!$CG$45)","v":""}]
[null,"النقاط",{"$f":"IF($B141=\"\",\"\",(D141+D142)*100/8)","v":""},null,{"$f":"IF($B141=\"\",\"\",(F141+F142)*100/8)","v":""},null,{"$f":"IF($B141=\"\",\"\",(H141+H142)*100/8)","v":""},null,{"$f":"IF($B141=\"\",\"\",(J141+J142)*100/8)","v":""},null,null,{"$f":"IF($B141=\"\",\"\",(M141+M142)*100/8)","v":""},null,{"$f":"IF($B141=\"\",\"\",(O141+O142)*100/8)","v":""},null,{"$f":"IF($B141=\"\",\"\",(Q141+Q142)*100/8)","v":""},null,{"$f":"IF($B141=\"\",\"\",(S141+S142)*100/8)","v":""},null,null,{"$f":"IF($B141=\"\",\"\",(V141+V142)*100/8)","v":""},null,{"$f":"IF($B141=\"\",\"\",(X141+X142)*100/8)","v":""},null,{"$f":"IF($B141=\"\",\"\",(Z141+Z142)*100/8)","v":""},null,{"$f":"IF($B141=\"\",\"\",(AB141+AB142)*100/8)","v":""}]
[45,{"$f":"INDIRECT(ADDRESS(A144+1,2,,,\"للطباعة1\"))","v":""},{"$f":"IF($B144=\"\",\"\",للطباعة1!$E$46)","v":""},{"$f":"IF($B144=\"\",\"\",للطباعة1!$D$46)","v":""},{"$f":"IF($B144=\"\",\"\",للطباعة1!$L$46)","v":""},{"$f":"IF($B144=\"\",\"\",للطباعة1!$K$46)","v":""},{"$f":"IF($B144=\"\",\"\",للطباعة1!$S$46)","v":""},{"$f":"IF($B144=\"\",\"\",للطباعة1!$R$46)","v":""},{"$f":"IF($B144=\"\",\"\",للطباعة1!$Z$46)","v":""},{"$f":"IF($B144=\"\",\"\",للطباعة1!$Y$46)","v":""},{"$f":"IF($B144=\"\",\"\",(C146+E146+G146+I146)/4)","v":""},{"$f":"IF($B144=\"\",\"\",للطباعة1!$AH$46)","v":""},{"$f":"IF($B144=\"\",\"\",للطباعة1!$AG$46)","v":""},{"$f":"IF($B144=\"\",\"\",للطباعة1!$AO$46)","v":""},{"$f":"IF($B144=\"\",\"\",للطباعة1!$AN$46)","v":""},{"$f":"IF($B144=\"\",\"\",للطباعة1!$AV$46)","v":""},{"$f":"IF($B144=\"\",\"\",للطباعة1!$AU$46)","v":""},{"$f":"IF($B144=\"\",\"\",للطباعة1!$BC$46)","v":""},{"$f":"IF($B144=\"\",\"\",للطباعة1!$BB$46)","v":""},{"$f":"IF($B144=\"\",\"\",(L146+N146+P146+R146)/4)","v":""},{"$f":"IF($B144=\"\",\"\",للطباعة1!$BK$46)","v":""},{"$f":"IF($B144=\"\",\"\",للطباعة1!$BJ$46)","v":""},{"$f":"IF($B144=\"\",\"\",للطباعة1!$BR$46)","v":""},{"$f":"IF($B144=\"\",\"\",للطباعة1!$BQ$46)","v":""},{"$f":"IF($B144=\"\",\"\",للطباعة1!$BY$46)","v":""},{"$f":"IF($B144=\"\",\"\",للطباعة1!$BX$46)","v":""},{"$f":"IF($B144=\"\",\"\",للطباعة1!$CF$46)","v":""},{"$f":"IF($B144=\"\",\"\",للطباعة1!$CE$46)","v":""},{"$f":"IF($B144=\"\",\"\",(U146+W146+Y146+AA146)/4)","v":""},{"$f":"IF($B144=\"\",\"\",(K144+T144+AC144)*0.04)","v":""},{"$f":"IF($B144=\"\",\"\",IF((AD144*40/12-INT(AD144*40/12))>=0.75,INT(AD144*40/12)+1,IF((AD144*40/12-INT(AD144*40/12))<0.25,INT(AD144*40/12),INT(AD144*40/12)+0.5)))","v":""},{"$f":"IF($B144=\"\",\"\",INDIRECT(ADDRESS(11+A144*2,18,1,,\"SeconedPartDegrees1\")))","v":""},{"$f":"IF($B144=\"\",\"\",INDIRECT(ADDRESS(11+A144*2,19,1,,\"SeconedPartDegrees1\")))","v":""},{"$f":"IF(OR(AF144=\"\",AG144=\"\"),\"\",AF144+AG144)","v":""},{"$f":"IF(OR(AE144=\"\",AG144=\"\"),\"\",AG144+AF144+AE144)","v":""},null,null,{"$f":"ROUNDUP(((FirstPartDegrees1!#REF!+D144)/2+(FirstPartDegrees1!E139+O144)/2+(FirstPartDegrees1!#REF!+M144)/2+(FirstPartDegrees1!C139+F144)/2 )/4,0)","v":{"$error":"#REF!"}},{"$f":"ROUNDUP(((FirstPartDegrees1!#REF!+FirstPartDegrees1!#REF!)/2+(FirstPartDegrees1!F139+J144)/2+(FirstPartDegrees1!#REF!+S144)/2+(FirstPartDegrees1!I139+#REF!)/2 )/4,0)","v":{"$error":"#REF!"}},{"$f":"ROUNDUP(((FirstPartDegrees1!#REF!+FirstPartDegrees1!J139)/2+(FirstPartDegrees1!#REF!+FirstPartDegrees1!#REF!)/2+(FirstPartDegrees1!#REF!+V144)/2+(AB144+#REF!)/2)/4,0)","v":{"$error":"#REF!"}},{"$f":"(AN144+AAE144+AL144)*40/12","v":{"$error":"#REF!"}}]
[null,null,{"$f":"IF($B144=\"\",\"\",للطباعة1!$G$46)","v":""},{"$f":"IF($B144=\"\",\"\",للطباعة1!$F$46)","v":""},{"$f":"IF($B144=\"\",\"\",للطباعة1!$N$46)","v":""},{"$f":"IF($B144=\"\",\"\",للطباعة1!$M$46)","v":""},{"$f":"IF($B144=\"\",\"\",للطباعة1!$U$46)","v":""},{"$f":"IF($B144=\"\",\"\",للطباعة1!$T$46)","v":""},{"$f":"IF($B144=\"\",\"\",للطباعة1!$AB$46)","v":""},{"$f":"IF($B144=\"\",\"\",للطباعة1!$AA$46)","v":""},null,{"$f":"IF($B144=\"\",\"\",للطباعة1!$AJ$46)","v":""},{"$f":"IF($B144=\"\",\"\",للطباعة1!$AI$46)","v":""},{"$f":"IF($B144=\"\",\"\",للطباعة1!$AQ$46)","v":""},{"$f":"IF($B144=\"\",\"\",للطباعة1!$AP$46)","v":""},{"$f":"IF($B144=\"\",\"\",للطباعة1!$AX$46)","v":""},{"$f":"IF($B144=\"\",\"\",للطباعة1!$AW$46)","v":""},{"$f":"IF($B144=\"\",\"\",للطباعة1!$BE$46)","v":""},{"$f":"IF($B144=\"\",\"\",للطباعة1!$BD$46)","v":""},null,{"$f":"IF($B144=\"\",\"\",للطباعة1!$BM$46)","v":""},{"$f":"IF($B144=\"\",\"\",للطباعة1!$BL$46)","v":""},{"$f":"IF($B144=\"\",\"\",للطباعة1!$BT$46)","v":""},{"$f":"IF($B144=\"\",\"\",للطباعة1!$BS$46)","v":""},{"$f":"IF($B144=\"\",\"\",للطباعة1!$CA$46)","v":""},{"$f":"IF($B144=\"\",\"\",للطباعة1!$BZ$46)","v":""},{"$f":"IF($B144=\"\",\"\",للطباعة1!$CH$46)","v":""},{"$f":"IF($B144=\"\",\"\",للطباعة1!$CG$46)","v":""}]
[null,"النقاط",{"$f":"IF($B144=\"\",\"\",(D144+D145)*100/8)","v":""},null,{"$f":"IF($B144=\"\",\"\",(F144+F145)*100/8)","v":""},null,{"$f":"IF($B144=\"\",\"\",(H144+H145)*100/8)","v":""},null,{"$f":"IF($B144=\"\",\"\",(J144+J145)*100/8)","v":""},null,null,{"$f":"IF($B144=\"\",\"\",(M144+M145)*100/8)","v":""},null,{"$f":"IF($B144=\"\",\"\",(O144+O145)*100/8)","v":""},null,{"$f":"IF($B144=\"\",\"\",(Q144+Q145)*100/8)","v":""},null,{"$f":"IF($B144=\"\",\"\",(S144+S145)*100/8)","v":""},null,null,{"$f":"IF($B144=\"\",\"\",(V144+V145)*100/8)","v":""},null,{"$f":"IF($B144=\"\",\"\",(X144+X145)*100/8)","v":""},null,{"$f":"IF($B144=\"\",\"\",(Z144+Z145)*100/8)","v":""},null,{"$f":"IF($B144=\"\",\"\",(AB144+AB145)*100/8)","v":""}]
[46,{"$f":"INDIRECT(ADDRESS(A147+1,2,,,\"للطباعة1\"))","v":""},{"$f":"IF($B147=\"\",\"\",للطباعة1!$E$47)","v":""},{"$f":"IF($B147=\"\",\"\",للطباعة1!$D$47)","v":""},{"$f":"IF($B147=\"\",\"\",للطباعة1!$L$47)","v":""},{"$f":"IF($B147=\"\",\"\",للطباعة1!$K$47)","v":""},{"$f":"IF($B147=\"\",\"\",للطباعة1!$S$47)","v":""},{"$f":"IF($B147=\"\",\"\",للطباعة1!$R$47)","v":""},{"$f":"IF($B147=\"\",\"\",للطباعة1!$Z$47)","v":""},{"$f":"IF($B147=\"\",\"\",للطباعة1!$Y$47)","v":""},{"$f":"IF($B147=\"\",\"\",(C149+E149+G149+I149)/4)","v":""},{"$f":"IF($B147=\"\",\"\",للطباعة1!$AH$47)","v":""},{"$f":"IF($B147=\"\",\"\",للطباعة1!$AG$47)","v":""},{"$f":"IF($B147=\"\",\"\",للطباعة1!$AO$47)","v":""},{"$f":"IF($B147=\"\",\"\",للطباعة1!$AN$47)","v":""},{"$f":"IF($B147=\"\",\"\",للطباعة1!$AV$47)","v":""},{"$f":"IF($B147=\"\",\"\",للطباعة1!$AU$47)","v":""},{"$f":"IF($B147=\"\",\"\",للطباعة1!$BC$47)","v":""},{"$f":"IF($B147=\"\",\"\",للطباعة1!$BB$47)","v":""},{"$f":"IF($B147=\"\",\"\",(L149+N149+P149+R149)/4)","v":""},{"$f":"IF($B147=\"\",\"\",للطباعة1!$BK$47)","v":""},{"$f":"IF($B147=\"\",\"\",للطباعة1!$BJ$47)","v":""},{"$f":"IF($B147=\"\",\"\",للطباعة1!$BR$47)","v":""},{"$f":"IF($B147=\"\",\"\",للطباعة1!$BQ$47)","v":""},{"$f":"IF($B147=\"\",\"\",للطباعة1!$BY$47)","v":""},{"$f":"IF($B147=\"\",\"\",للطباعة1!$BX$47)","v":""},{"$f":"IF($B147=\"\",\"\",للطباعة1!$CF$47)","v":""},{"$f":"IF($B147=\"\",\"\",للطباعة1!$CE$47)","v":""},{"$f":"IF($B147=\"\",\"\",(U149+W149+Y149+AA149)/4)","v":""},{"$f":"IF($B147=\"\",\"\",(K147+T147+AC147)*0.04)","v":""},{"$f":"IF($B147=\"\",\"\",IF((AD147*40/12-INT(AD147*40/12))>=0.75,INT(AD147*40/12)+1,IF((AD147*40/12-INT(AD147*40/12))<0.25,INT(AD147*40/12),INT(AD147*40/12)+0.5)))","v":""},{"$f":"IF($B147=\"\",\"\",INDIRECT(ADDRESS(11+A147*2,18,1,,\"SeconedPartDegrees1\")))","v":""},{"$f":"IF($B147=\"\",\"\",INDIRECT(ADDRESS(11+A147*2,19,1,,\"SeconedPartDegrees1\")))","v":""},{"$f":"IF(OR(AF147=\"\",AG147=\"\"),\"\",AF147+AG147)","v":""},{"$f":"IF(OR(AE147=\"\",AG147=\"\"),\"\",AG147+AF147+AE147)","v":""},null,null,{"$f":"ROUNDUP(((FirstPartDegrees1!#REF!+D147)/2+(FirstPartDegrees1!E142+O147)/2+(FirstPartDegrees1!#REF!+M147)/2+(FirstPartDegrees1!C142+F147)/2 )/4,0)","v":{"$error":"#REF!"}},{"$f":"ROUNDUP(((FirstPartDegrees1!#REF!+FirstPartDegrees1!#REF!)/2+(FirstPartDegrees1!F142+J147)/2+(FirstPartDegrees1!#REF!+S147)/2+(FirstPartDegrees1!I142+#REF!)/2 )/4,0)","v":{"$error":"#REF!"}},{"$f":"ROUNDUP(((FirstPartDegrees1!#REF!+FirstPartDegrees1!J142)/2+(FirstPartDegrees1!#REF!+FirstPartDegrees1!#REF!)/2+(FirstPartDegrees1!#REF!+V147)/2+(AB147+#REF!)/2)/4,0)","v":{"$error":"#REF!"}},{"$f":"(AN147+AAE147+AL147)*40/12","v":{"$error":"#REF!"}}]
[null,null,{"$f":"IF($B147=\"\",\"\",للطباعة1!$G$47)","v":""},{"$f":"IF($B147=\"\",\"\",للطباعة1!$F$47)","v":""},{"$f":"IF($B147=\"\",\"\",للطباعة1!$N$47)","v":""},{"$f":"IF($B147=\"\",\"\",للطباعة1!$M$47)","v":""},{"$f":"IF($B147=\"\",\"\",للطباعة1!$U$47)","v":""},{"$f":"IF($B147=\"\",\"\",للطباعة1!$T$47)","v":""},{"$f":"IF($B147=\"\",\"\",للطباعة1!$AB$47)","v":""},{"$f":"IF($B147=\"\",\"\",للطباعة1!$AA$47)","v":""},null,{"$f":"IF($B147=\"\",\"\",للطباعة1!$AJ$47)","v":""},{"$f":"IF($B147=\"\",\"\",للطباعة1!$AI$47)","v":""},{"$f":"IF($B147=\"\",\"\",للطباعة1!$AQ$47)","v":""},{"$f":"IF($B147=\"\",\"\",للطباعة1!$AP$47)","v":""},{"$f":"IF($B147=\"\",\"\",للطباعة1!$AX$47)","v":""},{"$f":"IF($B147=\"\",\"\",للطباعة1!$AW$47)","v":""},{"$f":"IF($B147=\"\",\"\",للطباعة1!$BE$47)","v":""},{"$f":"IF($B147=\"\",\"\",للطباعة1!$BD$47)","v":""},null,{"$f":"IF($B147=\"\",\"\",للطباعة1!$BM$47)","v":""},{"$f":"IF($B147=\"\",\"\",للطباعة1!$BL$47)","v":""},{"$f":"IF($B147=\"\",\"\",للطباعة1!$BT$47)","v":""},{"$f":"IF($B147=\"\",\"\",للطباعة1!$BS$47)","v":""},{"$f":"IF($B147=\"\",\"\",للطباعة1!$CA$47)","v":""},{"$f":"IF($B147=\"\",\"\",للطباعة1!$BZ$47)","v":""},{"$f":"IF($B147=\"\",\"\",للطباعة1!$CH$47)","v":""},{"$f":"IF($B147=\"\",\"\",للطباعة1!$CG$47)","v":""}]
[null,"النقاط",{"$f":"IF($B147=\"\",\"\",(D147+D148)*100/8)","v":""},null,{"$f":"IF($B147=\"\",\"\",(F147+F148)*100/8)","v":""},null,{"$f":"IF($B147=\"\",\"\",(H147+H148)*100/8)","v":""},null,{"$f":"IF($B147=\"\",\"\",(J147+J148)*100/8)","v":""},null,null,{"$f":"IF($B147=\"\",\"\",(M147+M148)*100/8)","v":""},null,{"$f":"IF($B147=\"\",\"\",(O147+O148)*100/8)","v":""},null,{"$f":"IF($B147=\"\",\"\",(Q147+Q148)*100/8)","v":""},null,{"$f":"IF($B147=\"\",\"\",(S147+S148)*100/8)","v":""},null,null,{"$f":"IF($B147=\"\",\"\",(V147+V148)*100/8)","v":""},null,{"$f":"IF($B147=\"\",\"\",(X147+X148)*100/8)","v":""},null,{"$f":"IF($B147=\"\",\"\",(Z147+Z148)*100/8)","v":""},null,{"$f":"IF($B147=\"\",\"\",(AB147+AB148)*100/8)","v":""}]
[47,{"$f":"INDIRECT(ADDRESS(A150+1,2,,,\"للطباعة1\"))","v":""},{"$f":"IF($B150=\"\",\"\",للطباعة1!$E$48)","v":""},{"$f":"IF($B150=\"\",\"\",للطباعة1!$D$48)","v":""},{"$f":"IF($B150=\"\",\"\",للطباعة1!$L$48)","v":""},{"$f":"IF($B150=\"\",\"\",للطباعة1!$K$48)","v":""},{"$f":"IF($B150=\"\",\"\",للطباعة1!$S$48)","v":""},{"$f":"IF($B150=\"\",\"\",للطباعة1!$R$48)","v":""},{"$f":"IF($B150=\"\",\"\",للطباعة1!$Z$48)","v":""},{"$f":"IF($B150=\"\",\"\",للطباعة1!$Y$48)","v":""},{"$f":"IF($B150=\"\",\"\",(C152+E152+G152+I152)/4)","v":""},{"$f":"IF($B150=\"\",\"\",للطباعة1!$AH$48)","v":""},{"$f":"IF($B150=\"\",\"\",للطباعة1!$AG$48)","v":""},{"$f":"IF($B150=\"\",\"\",للطباعة1!$AO$48)","v":""},{"$f":"IF($B150=\"\",\"\",للطباعة1!$AN$48)","v":""},{"$f":"IF($B150=\"\",\"\",للطباعة1!$AV$48)","v":""},{"$f":"IF($B150=\"\",\"\",للطباعة1!$AU$48)","v":""},{"$f":"IF($B150=\"\",\"\",للطباعة1!$BC$48)","v":""},{"$f":"IF($B150=\"\",\"\",للطباعة1!$BB$48)","v":""},{"$f":"IF($B150=\"\",\"\",(L152+N152+P152+R152)/4)","v":""},{"$f":"IF($B150=\"\",\"\",للطباعة1!$BK$48)","v":""},{"$f":"IF($B150=\"\",\"\",للطباعة1!$BJ$48)","v":""},{"$f":"IF($B150=\"\",\"\",للطباعة1!$BR$48)","v":""},{"$f":"IF($B150=\"\",\"\",للطباعة1!$BQ$48)","v":""},{"$f":"IF($B150=\"\",\"\",للطباعة1!$BY$48)","v":""},{"$f":"IF($B150=\"\",\"\",للطباعة1!$BX$48)","v":""},{"$f":"IF($B150=\"\",\"\",للطباعة1!$CF$48)","v":""},{"$f":"IF($B150=\"\",\"\",للطباعة1!$CE$48)","v":""},{"$f":"IF($B150=\"\",\"\",(U152+W152+Y152+AA152)/4)","v":""},{"$f":"IF($B150=\"\",\"\",(K150+T150+AC150)*0.04)","v":""},{"$f":"IF($B150=\"\",\"\",IF((AD150*40/12-INT(AD150*40/12))>=0.75,INT(AD150*40/12)+1,IF((AD150*40/12-INT(AD150*40/12))<0.25,INT(AD150*40/12),INT(AD150*40/12)+0.5)))","v":""},{"$f":"IF($B150=\"\",\"\",INDIRECT(ADDRESS(11+A150*2,18,1,,\"SeconedPartDegrees1\")))","v":""},{"$f":"IF($B150=\"\",\"\",INDIRECT(ADDRESS(11+A150*2,19,1,,\"SeconedPartDegrees1\")))","v":""},{"$f":"IF(OR(AF150=\"\",AG150=\"\"),\"\",AF150+AG150)","v":""},{"$f":"IF(OR(AE150=\"\",AG150=\"\"),\"\",AG150+AF150+AE150)","v":""},null,null,{"$f":"ROUNDUP(((FirstPartDegrees1!#REF!+D150)/2+(FirstPartDegrees1!E145+O150)/2+(FirstPartDegrees1!#REF!+M150)/2+(FirstPartDegrees1!C145+F150)/2 )/4,0)","v":{"$error":"#REF!"}},{"$f":"ROUNDUP(((FirstPartDegrees1!#REF!+FirstPartDegrees1!#REF!)/2+(FirstPartDegrees1!F145+J150)/2+(FirstPartDegrees1!#REF!+S150)/2+(FirstPartDegrees1!I145+#REF!)/2 )/4,0)","v":{"$error":"#REF!"}},{"$f":"ROUNDUP(((FirstPartDegrees1!#REF!+FirstPartDegrees1!J145)/2+(FirstPartDegrees1!#REF!+FirstPartDegrees1!#REF!)/2+(FirstPartDegrees1!#REF!+V150)/2+(AB150+#REF!)/2)/4,0)","v":{"$error":"#REF!"}},{"$f":"(AN150+AAE150+AL150)*40/12","v":{"$error":"#REF!"}}]
[null,null,{"$f":"IF($B150=\"\",\"\",للطباعة1!$G$48)","v":""},{"$f":"IF($B150=\"\",\"\",للطباعة1!$F$48)","v":""},{"$f":"IF($B150=\"\",\"\",للطباعة1!$N$48)","v":""},{"$f":"IF($B150=\"\",\"\",للطباعة1!$M$48)","v":""},{"$f":"IF($B150=\"\",\"\",للطباعة1!$U$48)","v":""},{"$f":"IF($B150=\"\",\"\",للطباعة1!$T$48)","v":""},{"$f":"IF($B150=\"\",\"\",للطباعة1!$AB$48)","v":""},{"$f":"IF($B150=\"\",\"\",للطباعة1!$AA$48)","v":""},null,{"$f":"IF($B150=\"\",\"\",للطباعة1!$AJ$48)","v":""},{"$f":"IF($B150=\"\",\"\",للطباعة1!$AI$48)","v":""},{"$f":"IF($B150=\"\",\"\",للطباعة1!$AQ$48)","v":""},{"$f":"IF($B150=\"\",\"\",للطباعة1!$AP$48)","v":""},{"$f":"IF($B150=\"\",\"\",للطباعة1!$AX$48)","v":""},{"$f":"IF($B150=\"\",\"\",للطباعة1!$AW$48)","v":""},{"$f":"IF($B150=\"\",\"\",للطباعة1!$BE$48)","v":""},{"$f":"IF($B150=\"\",\"\",للطباعة1!$BD$48)","v":""},null,{"$f":"IF($B150=\"\",\"\",للطباعة1!$BM$48)","v":""},{"$f":"IF($B150=\"\",\"\",للطباعة1!$BL$48)","v":""},{"$f":"IF($B150=\"\",\"\",للطباعة1!$BT$48)","v":""},{"$f":"IF($B150=\"\",\"\",للطباعة1!$BS$48)","v":""},{"$f":"IF($B150=\"\",\"\",للطباعة1!$CA$48)","v":""},{"$f":"IF($B150=\"\",\"\",للطباعة1!$BZ$48)","v":""},{"$f":"IF($B150=\"\",\"\",للطباعة1!$CH$48)","v":""},{"$f":"IF($B150=\"\",\"\",للطباعة1!$CG$48)","v":""}]
[null,"النقاط",{"$f":"IF($B150=\"\",\"\",(D150+D151)*100/8)","v":""},null,{"$f":"IF($B150=\"\",\"\",(F150+F151)*100/8)","v":""},null,{"$f":"IF($B150=\"\",\"\",(H150+H151)*100/8)","v":""},null,{"$f":"IF($B150=\"\",\"\",(J150+J151)*100/8)","v":""},null,null,{"$f":"IF($B150=\"\",\"\",(M150+M151)*100/8)","v":""},null,{"$f":"IF($B150=\"\",\"\",(O150+O151)*100/8)","v":""},null,{"$f":"IF($B150=\"\",\"\",(Q150+Q151)*100/8)","v":""},null,{"$f":"IF($B150=\"\",\"\",(S150+S151)*100/8)","v":""},null,null,{"$f":"IF($B150=\"\",\"\",(V150+V151)*100/8)","v":""},null,{"$f":"IF($B150=\"\",\"\",(X150+X151)*100/8)","v":""},null,{"$f":"IF($B150=\"\",\"\",(Z150+Z151)*100/8)","v":""},null,{"$f":"IF($B150=\"\",\"\",(AB150+AB151)*100/8)","v":""}]
[48,{"$f":"INDIRECT(ADDRESS(A153+1,2,,,\"للطباعة1\"))","v":""},{"$f":"IF($B153=\"\",\"\",للطباعة1!$E$49)","v":""},{"$f":"IF($B153=\"\",\"\",للطباعة1!$D$49)","v":""},{"$f":"IF($B153=\"\",\"\",للطباعة1!$L$49)","v":""},{"$f":"IF($B153=\"\",\"\",للطباعة1!$K$49)","v":""},{"$f":"IF($B153=\"\",\"\",للطباعة1!$S$49)","v":""},{"$f":"IF($B153=\"\",\"\",للطباعة1!$R$49)","v":""},{"$f":"IF($B153=\"\",\"\",للطباعة1!$Z$49)","v":""},{"$f":"IF($B153=\"\",\"\",للطباعة1!$Y$49)","v":""},{"$f":"IF($B153=\"\",\"\",(C155+E155+G155+I155)/4)","v":""},{"$f":"IF($B153=\"\",\"\",للطباعة1!$AH$49)","v":""},{"$f":"IF($B153=\"\",\"\",للطباعة1!$AG$49)","v":""},{"$f":"IF($B153=\"\",\"\",للطباعة1!$AO$49)","v":""},{"$f":"IF($B153=\"\",\"\",للطباعة1!$AN$49)","v":""},{"$f":"IF($B153=\"\",\"\",للطباعة1!$AV$49)","v":""},{"$f":"IF($B153=\"\",\"\",للطباعة1!$AU$49)","v":""},{"$f":"IF($B153=\"\",\"\",للطباعة1!$BC$49)","v":""},{"$f":"IF($B153=\"\",\"\",للطباعة1!$BB$49)","v":""},{"$f":"IF($B153=\"\",\"\",(L155+N155+P155+R155)/4)","v":""},{"$f":"IF($B153=\"\",\"\",للطباعة1!$BK$49)","v":""},{"$f":"IF($B153=\"\",\"\",للطباعة1!$BJ$49)","v":""},{"$f":"IF($B153=\"\",\"\",للطباعة1!$BR$49)","v":""},{"$f":"IF($B153=\"\",\"\",للطباعة1!$BQ$49)","v":""},{"$f":"IF($B153=\"\",\"\",للطباعة1!$BY$49)","v":""},{"$f":"IF($B153=\"\",\"\",للطباعة1!$BX$49)","v":""},{"$f":"IF($B153=\"\",\"\",للطباعة1!$CF$49)","v":""},{"$f":"IF($B153=\"\",\"\",للطباعة1!$CE$49)","v":""},{"$f":"IF($B153=\"\",\"\",(U155+W155+Y155+AA155)/4)","v":""},{"$f":"IF($B153=\"\",\"\",(K153+T153+AC153)*0.04)","v":""},{"$f":"IF($B153=\"\",\"\",IF((AD153*40/12-INT(AD153*40/12))>=0.75,INT(AD153*40/12)+1,IF((AD153*40/12-INT(AD153*40/12))<0.25,INT(AD153*40/12),INT(AD153*40/12)+0.5)))","v":""},{"$f":"IF($B153=\"\",\"\",INDIRECT(ADDRESS(11+A153*2,18,1,,\"SeconedPartDegrees1\")))","v":""},{"$f":"IF($B153=\"\",\"\",INDIRECT(ADDRESS(11+A153*2,19,1,,\"SeconedPartDegrees1\")))","v":""},{"$f":"IF(OR(AF153=\"\",AG153=\"\"),\"\",AF153+AG153)","v":""},{"$f":"IF(OR(AE153=\"\",AG153=\"\"),\"\",AG153+AF153+AE153)","v":""},null,null,{"$f":"ROUNDUP(((FirstPartDegrees1!#REF!+D153)/2+(FirstPartDegrees1!E148+O153)/2+(FirstPartDegrees1!#REF!+M153)/2+(FirstPartDegrees1!C148+F153)/2 )/4,0)","v":{"$error":"#REF!"}},{"$f":"ROUNDUP(((FirstPartDegrees1!#REF!+FirstPartDegrees1!#REF!)/2+(FirstPartDegrees1!F148+J153)/2+(FirstPartDegrees1!#REF!+S153)/2+(FirstPartDegrees1!I148+#REF!)/2 )/4,0)","v":{"$error":"#REF!"}},{"$f":"ROUNDUP(((FirstPartDegrees1!#REF!+FirstPartDegrees1!J148)/2+(FirstPartDegrees1!#REF!+FirstPartDegrees1!#REF!)/2+(FirstPartDegrees1!#REF!+V153)/2+(AB153+#REF!)/2)/4,0)","v":{"$error":"#REF!"}},{"$f":"(AN153+AAE153+AL153)*40/12","v":{"$error":"#REF!"}}]
[null,null,{"$f":"IF($B153=\"\",\"\",للطباعة1!$G$49)","v":""},{"$f":"IF($B153=\"\",\"\",للطباعة1!$F$49)","v":""},{"$f":"IF($B153=\"\",\"\",للطباعة1!$N$49)","v":""},{"$f":"IF($B153=\"\",\"\",للطباعة1!$M$49)","v":""},{"$f":"IF($B153=\"\",\"\",للطباعة1!$U$49)","v":""},{"$f":"IF($B153=\"\",\"\",للطباعة1!$T$49)","v":""},{"$f":"IF($B153=\"\",\"\",للطباعة1!$AB$49)","v":""},{"$f":"IF($B153=\"\",\"\",للطباعة1!$AA$49)","v":""},null,{"$f":"IF($B153=\"\",\"\",للطباعة1!$AJ$49)","v":""},{"$f":"IF($B153=\"\",\"\",للطباعة1!$AI$49)","v":""},{"$f":"IF($B153=\"\",\"\",للطباعة1!$AQ$49)","v":""},{"$f":"IF($B153=\"\",\"\",للطباعة1!$AP$49)","v":""},{"$f":"IF($B153=\"\",\"\",للطباعة1!$AX$49)","v":""},{"$f":"IF($B153=\"\",\"\",للطباعة1!$AW$49)","v":""},{"$f":"IF($B153=\"\",\"\",للطباعة1!$BE$49)","v":""},{"$f":"IF($B153=\"\",\"\",للطباعة1!$BD$49)","v":""},null,{"$f":"IF($B153=\"\",\"\",للطباعة1!$BM$49)","v":""},{"$f":"IF($B153=\"\",\"\",للطباعة1!$BL$49)","v":""},{"$f":"IF($B153=\"\",\"\",للطباعة1!$BT$49)","v":""},{"$f":"IF($B153=\"\",\"\",للطباعة1!$BS$49)","v":""},{"$f":"IF($B153=\"\",\"\",للطباعة1!$CA$49)","v":""},{"$f":"IF($B153=\"\",\"\",للطباعة1!$BZ$49)","v":""},{"$f":"IF($B153=\"\",\"\",للطباعة1!$CH$49)","v":""},{"$f":"IF($B153=\"\",\"\",للطباعة1!$CG$49)","v":""}]
[null,"النقاط",{"$f":"IF($B153=\"\",\"\",(D153+D154)*100/8)","v":""},null,{"$f":"IF($B153=\"\",\"\",(F153+F154)*100/8)","v":""},null,{"$f":"IF($B153=\"\",\"\",(H153+H154)*100/8)","v":""},null,{"$f":"IF($B153=\"\",\"\",(J153+J154)*100/8)","v":""},null,null,{"$f":"IF($B153=\"\",\"\",(M153+M154)*100/8)","v":""},null,{"$f":"IF($B153=\"\",\"\",(O153+O154)*100/8)","v":""},null,{"$f":"IF($B153=\"\",\"\",(Q153+Q154)*100/8)","v":""},null,{"$f":"IF($B153=\"\",\"\",(S153+S154)*100/8)","v":""},null,null,{"$f":"IF($B153=\"\",\"\",(V153+V154)*100/8)","v":""},null,{"$f":"IF($B153=\"\",\"\",(X153+X154)*100/8)","v":""},null,{"$f":"IF($B153=\"\",\"\",(Z153+Z154)*100/8)","v":""},null,{"$f":"IF($B153=\"\",\"\",(AB153+AB154)*100/8)","v":""}]
[49,{"$f":"INDIRECT(ADDRESS(A156+1,2,,,\"للطباعة1\"))","v":""},{"$f":"IF($B156=\"\",\"\",للطباعة1!$E$50)","v":""},{"$f":"IF($B156=\"\",\"\",للطباعة1!$D$50)","v":""},{"$f":"IF($B156=\"\",\"\",للطباعة1!$L$50)","v":""},{"$f":"IF($B156=\"\",\"\",للطباعة1!$K$50)","v":""},{"$f":"IF($B156=\"\",\"\",للطباعة1!$S$50)","v":""},{"$f":"IF($B156=\"\",\"\",للطباعة1!$R$50)","v":""},{"$f":"IF($B156=\"\",\"\",للطباعة1!$Z$50)","v":""},{"$f":"IF($B156=\"\",\"\",للطباعة1!$Y$50)","v":""},{"$f":"IF($B156=\"\",\"\",(C158+E158+G158+I158)/4)","v":""},{"$f":"IF($B156=\"\",\"\",للطباعة1!$AH$50)","v":""},{"$f":"IF($B156=\"\",\"\",للطباعة1!$AG$50)","v":""},{"$f":"IF($B156=\"\",\"\",للطباعة1!$AO$50)","v":""},{"$f":"IF($B156=\"\",\"\",للطباعة1!$AN$50)","v":""},{"$f":"IF($B156=\"\",\"\",للطباعة1!$AV$50)","v":""},{"$f":"IF($B156=\"\",\"\",للطباعة1!$AU$50)","v":""},{"$f":"IF($B156=\"\",\"\",للطباعة1!$BC$50)","v":""},{"$f":"IF($B156=\"\",\"\",للطباعة1!$BB$50)","v":""},{"$f":"IF($B156=\"\",\"\",(L158+N158+P158+R158)/4)","v":""},{"$f":"IF($B156=\"\",\"\",للطباعة1!$BK$50)","v":""},{"$f":"IF($B156=\"\",\"\",للطباعة1!$BJ$50)","v":""},{"$f":"IF($B156=\"\",\"\",للطباعة1!$BR$50)","v":""},{"$f":"IF($B156=\"\",\"\",للطباعة1!$BQ$50)","v":""},{"$f":"IF($B156=\"\",\"\",للطباعة1!$BY$50)","v":""},{"$f":"IF($B156=\"\",\"\",للطباعة1!$BX$50)","v":""},{"$f":"IF($B156=\"\",\"\",للطباعة1!$CF$50)","v":""},{"$f":"IF($B156=\"\",\"\",للطباعة1!$CE$50)","v":""},{"$f":"IF($B156=\"\",\"\",(U158+W158+Y158+AA158)/4)","v":""},{"$f":"IF($B156=\"\",\"\",(K156+T156+AC156)*0.04)","v":""},{"$f":"IF($B156=\"\",\"\",IF((AD156*40/12-INT(AD156*40/12))>=0.75,INT(AD156*40/12)+1,IF((AD156*40/12-INT(AD156*40/12))<0.25,INT(AD156*40/12),INT(AD156*40/12)+0.5)))","v":""},{"$f":"IF($B156=\"\",\"\",INDIRECT(ADDRESS(11+A156*2,18,1,,\"SeconedPartDegrees1\")))","v":""},{"$f":"IF($B156=\"\",\"\",INDIRECT(ADDRESS(11+A156*2,19,1,,\"SeconedPartDegrees1\")))","v":""},{"$f":"IF(OR(AF156=\"\",AG156=\"\"),\"\",AF156+AG156)","v":""},{"$f":"IF(OR(AE156=\"\",AG156=\"\"),\"\",AG156+AF156+AE156)","v":""},null,null,{"$f":"ROUNDUP(((FirstPartDegrees1!#REF!+D156)/2+(FirstPartDegrees1!E151+O156)/2+(FirstPartDegrees1!#REF!+M156)/2+(FirstPartDegrees1!C151+F156)/2 )/4,0)","v":{"$error":"#REF!"}},{"$f":"ROUNDUP(((FirstPartDegrees1!#REF!+FirstPartDegrees1!#REF!)/2+(FirstPartDegrees1!F151+J156)/2+(FirstPartDegrees1!#REF!+S156)/2+(FirstPartDegrees1!I151+#REF!)/2 )/4,0)","v":{"$error":"#REF!"}},{"$f":"ROUNDUP(((FirstPartDegrees1!#REF!+FirstPartDegrees1!J151)/2+(FirstPartDegrees1!#REF!+FirstPartDegrees1!#REF!)/2+(FirstPartDegrees1!#REF!+V156)/2+(AB156+#REF!)/2)/4,0)","v":{"$error":"#REF!"}},{"$f":"(AN156+AAE156+AL156)*40/12","v":{"$error":"#REF!"}}]
[null,null,{"$f":"IF($B156=\"\",\"\",للطباعة1!$G$50)","v":""},{"$f":"IF($B156=\"\",\"\",للطباعة1!$F$50)","v":""},{"$f":"IF($B156=\"\",\"\",للطباعة1!$N$50)","v":""},{"$f":"IF($B156=\"\",\"\",للطباعة1!$M$50)","v":""},{"$f":"IF($B156=\"\",\"\",للطباعة1!$U$50)","v":""},{"$f":"IF($B156=\"\",\"\",للطباعة1!$T$50)","v":""},{"$f":"IF($B156=\"\",\"\",للطباعة1!$AB$50)","v":""},{"$f":"IF($B156=\"\",\"\",للطباعة1!$AA$50)","v":""},null,{"$f":"IF($B156=\"\",\"\",للطباعة1!$AJ$50)","v":""},{"$f":"IF($B156=\"\",\"\",للطباعة1!$AI$50)","v":""},{"$f":"IF($B156=\"\",\"\",للطباعة1!$AQ$50)","v":""},{"$f":"IF($B156=\"\",\"\",للطباعة1!$AP$50)","v":""},{"$f":"IF($B156=\"\",\"\",للطباعة1!$AX$50)","v":""},{"$f":"IF($B156=\"\",\"\",للطباعة1!$AW$50)","v":""},{"$f":"IF($B156=\"\",\"\",للطباعة1!$BE$50)","v":""},{"$f":"IF($B156=\"\",\"\",للطباعة1!$BD$50)","v":""},null,{"$f":"IF($B156=\"\",\"\",للطباعة1!$BM$50)","v":""},{"$f":"IF($B156=\"\",\"\",للطباعة1!$BL$50)","v":""},{"$f":"IF($B156=\"\",\"\",للطباعة1!$BT$50)","v":""},{"$f":"IF($B156=\"\",\"\",للطباعة1!$BS$50)","v":""},{"$f":"IF($B156=\"\",\"\",للطباعة1!$CA$50)","v":""},{"$f":"IF($B156=\"\",\"\",للطباعة1!$BZ$50)","v":""},{"$f":"IF($B156=\"\",\"\",للطباعة1!$CH$50)","v":""},{"$f":"IF($B156=\"\",\"\",للطباعة1!$CG$50)","v":""}]
[null,"النقاط",{"$f":"IF($B156=\"\",\"\",(D156+D157)*100/8)","v":""},null,{"$f":"IF($B156=\"\",\"\",(F156+F157)*100/8)","v":""},null,{"$f":"IF($B156=\"\",\"\",(H156+H157)*100/8)","v":""},null,{"$f":"IF($B156=\"\",\"\",(J156+J157)*100/8)","v":""},null,null,{"$f":"IF($B156=\"\",\"\",(M156+M157)*100/8)","v":""},null,{"$f":"IF($B156=\"\",\"\",(O156+O157)*100/8)","v":""},null,{"$f":"IF($B156=\"\",\"\",(Q156+Q157)*100/8)","v":""},null,{"$f":"IF($B156=\"\",\"\",(S156+S157)*100/8)","v":""},null,null,{"$f":"IF($B156=\"\",\"\",(V156+V157)*100/8)","v":""},null,{"$f":"IF($B156=\"\",\"\",(X156+X157)*100/8)","v":""},null,{"$f":"IF($B156=\"\",\"\",(Z156+Z157)*100/8)","v":""},null,{"$f":"IF($B156=\"\",\"\",(AB156+AB157)*100/8)","v":""}]
[50,{"$f":"INDIRECT(ADDRESS(A159+1,2,,,\"للطباعة1\"))","v":""},{"$f":"IF($B159=\"\",\"\",للطباعة1!$E$51)","v":""},{"$f":"IF($B159=\"\",\"\",للطباعة1!$D$51)","v":""},{"$f":"IF($B159=\"\",\"\",للطباعة1!$L$51)","v":""},{"$f":"IF($B159=\"\",\"\",للطباعة1!$K$51)","v":""},{"$f":"IF($B159=\"\",\"\",للطباعة1!$S$51)","v":""},{"$f":"IF($B159=\"\",\"\",للطباعة1!$R$51)","v":""},{"$f":"IF($B159=\"\",\"\",للطباعة1!$Z$51)","v":""},{"$f":"IF($B159=\"\",\"\",للطباعة1!$Y$51)","v":""},{"$f":"IF($B159=\"\",\"\",(C161+E161+G161+I161)/4)","v":""},{"$f":"IF($B159=\"\",\"\",للطباعة1!$AH$51)","v":""},{"$f":"IF($B159=\"\",\"\",للطباعة1!$AG$51)","v":""},{"$f":"IF($B159=\"\",\"\",للطباعة1!$AO$51)","v":""},{"$f":"IF($B159=\"\",\"\",للطباعة1!$AN$51)","v":""},{"$f":"IF($B159=\"\",\"\",للطباعة1!$AV$51)","v":""},{"$f":"IF($B159=\"\",\"\",للطباعة1!$AU$51)","v":""},{"$f":"IF($B159=\"\",\"\",للطباعة1!$BC$51)","v":""},{"$f":"IF($B159=\"\",\"\",للطباعة1!$BB$51)","v":""},{"$f":"IF($B159=\"\",\"\",(L161+N161+P161+R161)/4)","v":""},{"$f":"IF($B159=\"\",\"\",للطباعة1!$BK$51)","v":""},{"$f":"IF($B159=\"\",\"\",للطباعة1!$BJ$51)","v":""},{"$f":"IF($B159=\"\",\"\",للطباعة1!$BR$51)","v":""},{"$f":"IF($B159=\"\",\"\",للطباعة1!$BQ$51)","v":""},{"$f":"IF($B159=\"\",\"\",للطباعة1!$BY$51)","v":""},{"$f":"IF($B159=\"\",\"\",للطباعة1!$BX$51)","v":""},{"$f":"IF($B159=\"\",\"\",للطباعة1!$CF$51)","v":""},{"$f":"IF($B159=\"\",\"\",للطباعة1!$CE$51)","v":""},{"$f":"IF($B159=\"\",\"\",(U161+W161+Y161+AA161)/4)","v":""},{"$f":"IF($B159=\"\",\"\",(K159+T159+AC159)*0.04)","v":""},{"$f":"IF($B159=\"\",\"\",IF((AD159*40/12-INT(AD159*40/12))>=0.75,INT(AD159*40/12)+1,IF((AD159*40/12-INT(AD159*40/12))<0.25,INT(AD159*40/12),INT(AD159*40/12)+0.5)))","v":""},{"$f":"IF($B159=\"\",\"\",INDIRECT(ADDRESS(11+A159*2,18,1,,\"SeconedPartDegrees1\")))","v":""},{"$f":"IF($B159=\"\",\"\",INDIRECT(ADDRESS(11+A159*2,19,1,,\"SeconedPartDegrees1\")))","v":""},{"$f":"IF(OR(AF159=\"\",AG159=\"\"),\"\",AF159+AG159)","v":""},{"$f":"IF(OR(AE159=\"\",AG159=\"\"),\"\",AG159+AF159+AE159)","v":""},null,null,{"$f":"ROUNDUP(((FirstPartDegrees1!#REF!+D159)/2+(FirstPartDegrees1!E154+O159)/2+(FirstPartDegrees1!#REF!+M159)/2+(FirstPartDegrees1!C154+F159)/2 )/4,0)","v":{"$error":"#REF!"}},{"$f":"ROUNDUP(((FirstPartDegrees1!#REF!+FirstPartDegrees1!#REF!)/2+(FirstPartDegrees1!F154+J159)/2+(FirstPartDegrees1!#REF!+S159)/2+(FirstPartDegrees1!I154+#REF!)/2 )/4,0)","v":{"$error":"#REF!"}},{"$f":"ROUNDUP(((FirstPartDegrees1!#REF!+FirstPartDegrees1!J154)/2+(FirstPartDegrees1!#REF!+FirstPartDegrees1!#REF!)/2+(FirstPartDegrees1!#REF!+V159)/2+(AB159+#REF!)/2)/4,0)","v":{"$error":"#REF!"}},{"$f":"(AN159+AAE159+AL159)*40/12","v":{"$error":"#REF!"}}]
[null,null,{"$f":"IF($B159=\"\",\"\",للطباعة1!$G$51)","v":""},{"$f":"IF($B159=\"\",\"\",للطباعة1!$F$51)","v":""},{"$f":"IF($B159=\"\",\"\",للطباعة1!$N$51)","v":""},{"$f":"IF($B159=\"\",\"\",للطباعة1!$M$51)","v":""},{"$f":"IF($B159=\"\",\"\",للطباعة1!$U$51)","v":""},{"$f":"IF($B159=\"\",\"\",للطباعة1!$T$51)","v":""},{"$f":"IF($B159=\"\",\"\",للطباعة1!$AB$51)","v":""},{"$f":"IF($B159=\"\",\"\",للطباعة1!$AA$51)","v":""},null,{"$f":"IF($B159=\"\",\"\",للطباعة1!$AJ$51)","v":""},{"$f":"IF($B159=\"\",\"\",للطباعة1!$AI$51)","v":""},{"$f":"IF($B159=\"\",\"\",للطباعة1!$AQ$51)","v":""},{"$f":"IF($B159=\"\",\"\",للطباعة1!$AP$51)","v":""},{"$f":"IF($B159=\"\",\"\",للطباعة1!$AX$51)","v":""},{"$f":"IF($B159=\"\",\"\",للطباعة1!$AW$51)","v":""},{"$f":"IF($B159=\"\",\"\",للطباعة1!$BE$51)","v":""},{"$f":"IF($B159=\"\",\"\",للطباعة1!$BD$51)","v":""},null,{"$f":"IF($B159=\"\",\"\",للطباعة1!$BM$51)","v":""},{"$f":"IF($B159=\"\",\"\",للطباعة1!$BL$51)","v":""},{"$f":"IF($B159=\"\",\"\",للطباعة1!$BT$51)","v":""},{"$f":"IF($B159=\"\",\"\",للطباعة1!$BS$51)","v":""},{"$f":"IF($B159=\"\",\"\",للطباعة1!$CA$51)","v":""},{"$f":"IF($B159=\"\",\"\",للطباعة1!$BZ$51)","v":""},{"$f":"IF($B159=\"\",\"\",للطباعة1!$CH$51)","v":""},{"$f":"IF($B159=\"\",\"\",للطباعة1!$CG$51)","v":""}]
[null,"النقاط",{"$f":"IF($B159=\"\",\"\",(D159+D160)*100/8)","v":""},null,{"$f":"IF($B159=\"\",\"\",(F159+F160)*100/8)","v":""},null,{"$f":"IF($B159=\"\",\"\",(H159+H160)*100/8)","v":""},null,{"$f":"IF($B159=\"\",\"\",(J159+J160)*100/8)","v":""},null,null,{"$f":"IF($B159=\"\",\"\",(M159+M160)*100/8)","v":""},null,{"$f":"IF($B159=\"\",\"\",(O159+O160)*100/8)","v":""},null,{"$f":"IF($B159=\"\",\"\",(Q159+Q160)*100/8)","v":""},null,{"$f":"IF($B159=\"\",\"\",(S159+S160)*100/8)","v":""},null,null,{"$f":"IF($B159=\"\",\"\",(V159+V160)*100/8)","v":""},null,{"$f":"IF($B159=\"\",\"\",(X159+X160)*100/8)","v":""},null,{"$f":"IF($B159=\"\",\"\",(Z159+Z160)*100/8)","v":""},null,{"$f":"IF($B159=\"\",\"\",(AB159+AB160)*100/8)","v":""}]
[51,{"$f":"INDIRECT(ADDRESS(A162+1,2,,,\"للطباعة1\"))","v":""},{"$f":"IF($B162=\"\",\"\",للطباعة1!$E$52)","v":""},{"$f":"IF($B162=\"\",\"\",للطباعة1!$D$52)","v":""},{"$f":"IF($B162=\"\",\"\",للطباعة1!$L$52)","v":""},{"$f":"IF($B162=\"\",\"\",للطباعة1!$K$52)","v":""},{"$f":"IF($B162=\"\",\"\",للطباعة1!$S$52)","v":""},{"$f":"IF($B162=\"\",\"\",للطباعة1!$R$52)","v":""},{"$f":"IF($B162=\"\",\"\",للطباعة1!$Z$52)","v":""},{"$f":"IF($B162=\"\",\"\",للطباعة1!$Y$52)","v":""},{"$f":"IF($B162=\"\",\"\",(C164+E164+G164+I164)/4)","v":""},{"$f":"IF($B162=\"\",\"\",للطباعة1!$AH$52)","v":""},{"$f":"IF($B162=\"\",\"\",للطباعة1!$AG$52)","v":""},{"$f":"IF($B162=\"\",\"\",للطباعة1!$AO$52)","v":""},{"$f":"IF($B162=\"\",\"\",للطباعة1!$AN$52)","v":""},{"$f":"IF($B162=\"\",\"\",للطباعة1!$AV$52)","v":""},{"$f":"IF($B162=\"\",\"\",للطباعة1!$AU$52)","v":""},{"$f":"IF($B162=\"\",\"\",للطباعة1!$BC$52)","v":""},{"$f":"IF($B162=\"\",\"\",للطباعة1!$BB$52)","v":""},{"$f":"IF($B162=\"\",\"\",(L164+N164+P164+R164)/4)","v":""},{"$f":"IF($B162=\"\",\"\",للطباعة1!$BK$52)","v":""},{"$f":"IF($B162=\"\",\"\",للطباعة1!$BJ$52)","v":""},{"$f":"IF($B162=\"\",\"\",للطباعة1!$BR$52)","v":""},{"$f":"IF($B162=\"\",\"\",للطباعة1!$BQ$52)","v":""},{"$f":"IF($B162=\"\",\"\",للطباعة1!$BY$52)","v":""},{"$f":"IF($B162=\"\",\"\",للطباعة1!$BX$52)","v":""},{"$f":"IF($B162=\"\",\"\",للطباعة1!$CF$52)","v":""},{"$f":"IF($B162=\"\",\"\",للطباعة1!$CE$52)","v":""},{"$f":"IF($B162=\"\",\"\",(U164+W164+Y164+AA164)/4)","v":""},{"$f":"IF($B162=\"\",\"\",(K162+T162+AC162)*0.04)","v":""},{"$f":"IF($B162=\"\",\"\",IF((AD162*40/12-INT(AD162*40/12))>=0.75,INT(AD162*40/12)+1,IF((AD162*40/12-INT(AD162*40/12))<0.25,INT(AD162*40/12),INT(AD162*40/12)+0.5)))","v":""},{"$f":"IF($B162=\"\",\"\",INDIRECT(ADDRESS(11+A162*2,18,1,,\"SeconedPartDegrees1\")))","v":""},{"$f":"IF($B162=\"\",\"\",INDIRECT(ADDRESS(11+A162*2,19,1,,\"SeconedPartDegrees1\")))","v":""},{"$f":"IF(OR(AF162=\"\",AG162=\"\"),\"\",AF162+AG162)","v":""},{"$f":"IF(OR(AE162=\"\",AG162=\"\"),\"\",AG162+AF162+AE162)","v":""},null,null,{"$f":"ROUNDUP(((FirstPartDegrees1!#REF!+D162)/2+(FirstPartDegrees1!E157+O162)/2+(FirstPartDegrees1!#REF!+M162)/2+(FirstPartDegrees1!C157+F162)/2 )/4,0)","v":{"$error":"#REF!"}},{"$f":"ROUNDUP(((FirstPartDegrees1!#REF!+FirstPartDegrees1!#REF!)/2+(FirstPartDegrees1!F157+J162)/2+(FirstPartDegrees1!#REF!+S162)/2+(FirstPartDegrees1!I157+#REF!)/2 )/4,0)","v":{"$error":"#REF!"}},{"$f":"ROUNDUP(((FirstPartDegrees1!#REF!+FirstPartDegrees1!J157)/2+(FirstPartDegrees1!#REF!+FirstPartDegrees1!#REF!)/2+(FirstPartDegrees1!#REF!+V162)/2+(AB162+#REF!)/2)/4,0)","v":{"$error":"#REF!"}},{"$f":"(AN162+AAE162+AL162)*40/12","v":{"$error":"#REF!"}}]
[null,null,{"$f":"IF($B162=\"\",\"\",للطباعة1!$G$52)","v":""},{"$f":"IF($B162=\"\",\"\",للطباعة1!$F$52)","v":""},{"$f":"IF($B162=\"\",\"\",للطباعة1!$N$52)","v":""},{"$f":"IF($B162=\"\",\"\",للطباعة1!$M$52)","v":""},{"$f":"IF($B162=\"\",\"\",للطباعة1!$U$52)","v":""},{"$f":"IF($B162=\"\",\"\",للطباعة1!$T$52)","v":""},{"$f":"IF($B162=\"\",\"\",للطباعة1!$AB$52)","v":""},{"$f":"IF($B162=\"\",\"\",للطباعة1!$AA$52)","v":""},null,{"$f":"IF($B162=\"\",\"\",للطباعة1!$AJ$52)","v":""},{"$f":"IF($B162=\"\",\"\",للطباعة1!$AI$52)","v":""},{"$f":"IF($B162=\"\",\"\",للطباعة1!$AQ$52)","v":""},{"$f":"IF($B162=\"\",\"\",للطباعة1!$AP$52)","v":""},{"$f":"IF($B162=\"\",\"\",للطباعة1!$AX$52)","v":""},{"$f":"IF($B162=\"\",\"\",للطباعة1!$AW$52)","v":""},{"$f":"IF($B162=\"\",\"\",للطباعة1!$BE$52)","v":""},{"$f":"IF($B162=\"\",\"\",للطباعة1!$BD$52)","v":""},null,{"$f":"IF($B162=\"\",\"\",للطباعة1!$BM$52)","v":""},{"$f":"IF($B162=\"\",\"\",للطباعة1!$BL$52)","v":""},{"$f":"IF($B162=\"\",\"\",للطباعة1!$BT$52)","v":""},{"$f":"IF($B162=\"\",\"\",للطباعة1!$BS$52)","v":""},{"$f":"IF($B162=\"\",\"\",للطباعة1!$CA$52)","v":""},{"$f":"IF($B162=\"\",\"\",للطباعة1!$BZ$52)","v":""},{"$f":"IF($B162=\"\",\"\",للطباعة1!$CH$52)","v":""},{"$f":"IF($B162=\"\",\"\",للطباعة1!$CG$52)","v":""}]
[null,"النقاط",{"$f":"IF($B162=\"\",\"\",(D162+D163)*100/8)","v":""},null,{"$f":"IF($B162=\"\",\"\",(F162+F163)*100/8)","v":""},null,{"$f":"IF($B162=\"\",\"\",(H162+H163)*100/8)","v":""},null,{"$f":"IF($B162=\"\",\"\",(J162+J163)*100/8)","v":""},null,null,{"$f":"IF($B162=\"\",\"\",(M162+M163)*100/8)","v":""},null,{"$f":"IF($B162=\"\",\"\",(O162+O163)*100/8)","v":""},null,{"$f":"IF($B162=\"\",\"\",(Q162+Q163)*100/8)","v":""},null,{"$f":"IF($B162=\"\",\"\",(S162+S163)*100/8)","v":""},null,null,{"$f":"IF($B162=\"\",\"\",(V162+V163)*100/8)","v":""},null,{"$f":"IF($B162=\"\",\"\",(X162+X163)*100/8)","v":""},null,{"$f":"IF($B162=\"\",\"\",(Z162+Z163)*100/8)","v":""},null,{"$f":"IF($B162=\"\",\"\",(AB162+AB163)*100/8)","v":""}]
[52,{"$f":"INDIRECT(ADDRESS(A165+1,2,,,\"للطباعة1\"))","v":""},{"$f":"IF($B165=\"\",\"\",للطباعة1!$E$53)","v":""},{"$f":"IF($B165=\"\",\"\",للطباعة1!$D$53)","v":""},{"$f":"IF($B165=\"\",\"\",للطباعة1!$L$53)","v":""},{"$f":"IF($B165=\"\",\"\",للطباعة1!$K$53)","v":""},{"$f":"IF($B165=\"\",\"\",للطباعة1!$S$53)","v":""},{"$f":"IF($B165=\"\",\"\",للطباعة1!$R$53)","v":""},{"$f":"IF($B165=\"\",\"\",للطباعة1!$Z$53)","v":""},{"$f":"IF($B165=\"\",\"\",للطباعة1!$Y$53)","v":""},{"$f":"IF($B165=\"\",\"\",(C167+E167+G167+I167)/4)","v":""},{"$f":"IF($B165=\"\",\"\",للطباعة1!$AH$53)","v":""},{"$f":"IF($B165=\"\",\"\",للطباعة1!$AG$53)","v":""},{"$f":"IF($B165=\"\",\"\",للطباعة1!$AO$53)","v":""},{"$f":"IF($B165=\"\",\"\",للطباعة1!$AN$53)","v":""},{"$f":"IF($B165=\"\",\"\",للطباعة1!$AV$53)","v":""},{"$f":"IF($B165=\"\",\"\",للطباعة1!$AU$53)","v":""},{"$f":"IF($B165=\"\",\"\",للطباعة1!$BC$53)","v":""},{"$f":"IF($B165=\"\",\"\",للطباعة1!$BB$53)","v":""},{"$f":"IF($B165=\"\",\"\",(L167+N167+P167+R167)/4)","v":""},{"$f":"IF($B165=\"\",\"\",للطباعة1!$BK$53)","v":""},{"$f":"IF($B165=\"\",\"\",للطباعة1!$BJ$53)","v":""},{"$f":"IF($B165=\"\",\"\",للطباعة1!$BR$53)","v":""},{"$f":"IF($B165=\"\",\"\",للطباعة1!$BQ$53)","v":""},{"$f":"IF($B165=\"\",\"\",للطباعة1!$BY$53)","v":""},{"$f":"IF($B165=\"\",\"\",للطباعة1!$BX$53)","v":""},{"$f":"IF($B165=\"\",\"\",للطباعة1!$CF$53)","v":""},{"$f":"IF($B165=\"\",\"\",للطباعة1!$CE$53)","v":""},{"$f":"IF($B165=\"\",\"\",(U167+W167+Y167+AA167)/4)","v":""},{"$f":"IF($B165=\"\",\"\",(K165+T165+AC165)*0.04)","v":""},{"$f":"IF($B165=\"\",\"\",IF((AD165*40/12-INT(AD165*40/12))>=0.75,INT(AD165*40/12)+1,IF((AD165*40/12-INT(AD165*40/12))<0.25,INT(AD165*40/12),INT(AD165*40/12)+0.5)))","v":""},{"$f":"IF($B165=\"\",\"\",INDIRECT(ADDRESS(11+A165*2,18,1,,\"SeconedPartDegrees1\")))","v":""},{"$f":"IF($B165=\"\",\"\",INDIRECT(ADDRESS(11+A165*2,19,1,,\"SeconedPartDegrees1\")))","v":""},{"$f":"IF(OR(AF165=\"\",AG165=\"\"),\"\",AF165+AG165)","v":""},{"$f":"IF(OR(AE165=\"\",AG165=\"\"),\"\",AG165+AF165+AE165)","v":""},null,null,{"$f":"ROUNDUP(((FirstPartDegrees1!#REF!+D165)/2+(FirstPartDegrees1!E160+O165)/2+(FirstPartDegrees1!#REF!+M165)/2+(FirstPartDegrees1!C160+F165)/2 )/4,0)","v":{"$error":"#REF!"}},{"$f":"ROUNDUP(((FirstPartDegrees1!#REF!+FirstPartDegrees1!#REF!)/2+(FirstPartDegrees1!F160+J165)/2+(FirstPartDegrees1!#REF!+S165)/2+(FirstPartDegrees1!I160+#REF!)/2 )/4,0)","v":{"$error":"#REF!"}},{"$f":"ROUNDUP(((FirstPartDegrees1!#REF!+FirstPartDegrees1!J160)/2+(FirstPartDegrees1!#REF!+FirstPartDegrees1!#REF!)/2+(FirstPartDegrees1!#REF!+V165)/2+(AB165+#REF!)/2)/4,0)","v":{"$error":"#REF!"}},{"$f":"(AN165+AAE165+AL165)*40/12","v":{"$error":"#REF!"}}]
[null,null,{"$f":"IF($B165=\"\",\"\",للطباعة1!$G$53)","v":""},{"$f":"IF($B165=\"\",\"\",للطباعة1!$F$53)","v":""},{"$f":"IF($B165=\"\",\"\",للطباعة1!$N$53)","v":""},{"$f":"IF($B165=\"\",\"\",للطباعة1!$M$53)","v":""},{"$f":"IF($B165=\"\",\"\",للطباعة1!$U$53)","v":""},{"$f":"IF($B165=\"\",\"\",للطباعة1!$T$53)","v":""},{"$f":"IF($B165=\"\",\"\",للطباعة1!$AB$53)","v":""},{"$f":"IF($B165=\"\",\"\",للطباعة1!$AA$53)","v":""},null,{"$f":"IF($B165=\"\",\"\",للطباعة1!$AJ$53)","v":""},{"$f":"IF($B165=\"\",\"\",للطباعة1!$AI$53)","v":""},{"$f":"IF($B165=\"\",\"\",للطباعة1!$AQ$53)","v":""},{"$f":"IF($B165=\"\",\"\",للطباعة1!$AP$53)","v":""},{"$f":"IF($B165=\"\",\"\",للطباعة1!$AX$53)","v":""},{"$f":"IF($B165=\"\",\"\",للطباعة1!$AW$53)","v":""},{"$f":"IF($B165=\"\",\"\",للطباعة1!$BE$53)","v":""},{"$f":"IF($B165=\"\",\"\",للطباعة1!$BD$53)","v":""},null,{"$f":"IF($B165=\"\",\"\",للطباعة1!$BM$53)","v":""},{"$f":"IF($B165=\"\",\"\",للطباعة1!$BL$53)","v":""},{"$f":"IF($B165=\"\",\"\",للطباعة1!$BT$53)","v":""},{"$f":"IF($B165=\"\",\"\",للطباعة1!$BS$53)","v":""},{"$f":"IF($B165=\"\",\"\",للطباعة1!$CA$53)","v":""},{"$f":"IF($B165=\"\",\"\",للطباعة1!$BZ$53)","v":""},{"$f":"IF($B165=\"\",\"\",للطباعة1!$CH$53)","v":""},{"$f":"IF($B165=\"\",\"\",للطباعة1!$CG$53)","v":""}]
[null,"النقاط",{"$f":"IF($B165=\"\",\"\",(D165+D166)*100/8)","v":""},null,{"$f":"IF($B165=\"\",\"\",(F165+F166)*100/8)","v":""},null,{"$f":"IF($B165=\"\",\"\",(H165+H166)*100/8)","v":""},null,{"$f":"IF($B165=\"\",\"\",(J165+J166)*100/8)","v":""},null,null,{"$f":"IF($B165=\"\",\"\",(M165+M166)*100/8)","v":""},null,{"$f":"IF($B165=\"\",\"\",(O165+O166)*100/8)","v":""},null,{"$f":"IF($B165=\"\",\"\",(Q165+Q166)*100/8)","v":""},null,{"$f":"IF($B165=\"\",\"\",(S165+S166)*100/8)","v":""},null,null,{"$f":"IF($B165=\"\",\"\",(V165+V166)*100/8)","v":""},null,{"$f":"IF($B165=\"\",\"\",(X165+X166)*100/8)","v":""},null,{"$f":"IF($B165=\"\",\"\",(Z165+Z166)*100/8)","v":""},null,{"$f":"IF($B165=\"\",\"\",(AB165+AB166)*100/8)","v":""}]
[53,{"$f":"INDIRECT(ADDRESS(A168+1,2,,,\"للطباعة1\"))","v":""},{"$f":"IF($B168=\"\",\"\",للطباعة1!$E$54)","v":""},{"$f":"IF($B168=\"\",\"\",للطباعة1!$D$54)","v":""},{"$f":"IF($B168=\"\",\"\",للطباعة1!$L$54)","v":""},{"$f":"IF($B168=\"\",\"\",للطباعة1!$K$54)","v":""},{"$f":"IF($B168=\"\",\"\",للطباعة1!$S$54)","v":""},{"$f":"IF($B168=\"\",\"\",للطباعة1!$R$54)","v":""},{"$f":"IF($B168=\"\",\"\",للطباعة1!$Z$54)","v":""},{"$f":"IF($B168=\"\",\"\",للطباعة1!$Y$54)","v":""},{"$f":"IF($B168=\"\",\"\",(C170+E170+G170+I170)/4)","v":""},{"$f":"IF($B168=\"\",\"\",للطباعة1!$AH$54)","v":""},{"$f":"IF($B168=\"\",\"\",للطباعة1!$AG$54)","v":""},{"$f":"IF($B168=\"\",\"\",للطباعة1!$AO$54)","v":""},{"$f":"IF($B168=\"\",\"\",للطباعة1!$AN$54)","v":""},{"$f":"IF($B168=\"\",\"\",للطباعة1!$AV$54)","v":""},{"$f":"IF($B168=\"\",\"\",للطباعة1!$AU$54)","v":""},{"$f":"IF($B168=\"\",\"\",للطباعة1!$BC$54)","v":""},{"$f":"IF($B168=\"\",\"\",للطباعة1!$BB$54)","v":""},{"$f":"IF($B168=\"\",\"\",(L170+N170+P170+R170)/4)","v":""},{"$f":"IF($B168=\"\",\"\",للطباعة1!$BK$54)","v":""},{"$f":"IF($B168=\"\",\"\",للطباعة1!$BJ$54)","v":""},{"$f":"IF($B168=\"\",\"\",للطباعة1!$BR$54)","v":""},{"$f":"IF($B168=\"\",\"\",للطباعة1!$BQ$54)","v":""},{"$f":"IF($B168=\"\",\"\",للطباعة1!$BY$54)","v":""},{"$f":"IF($B168=\"\",\"\",للطباعة1!$BX$54)","v":""},{"$f":"IF($B168=\"\",\"\",للطباعة1!$CF$54)","v":""},{"$f":"IF($B168=\"\",\"\",للطباعة1!$CE$54)","v":""},{"$f":"IF($B168=\"\",\"\",(U170+W170+Y170+AA170)/4)","v":""},{"$f":"IF($B168=\"\",\"\",(K168+T168+AC168)*0.04)","v":""},{"$f":"IF($B168=\"\",\"\",IF((AD168*40/12-INT(AD168*40/12))>=0.75,INT(AD168*40/12)+1,IF((AD168*40/12-INT(AD168*40/12))<0.25,INT(AD168*40/12),INT(AD168*40/12)+0.5)))","v":""},{"$f":"IF($B168=\"\",\"\",INDIRECT(ADDRESS(11+A168*2,18,1,,\"SeconedPartDegrees1\")))","v":""},{"$f":"IF($B168=\"\",\"\",INDIRECT(ADDRESS(11+A168*2,19,1,,\"SeconedPartDegrees1\")))","v":""},{"$f":"IF(OR(AF168=\"\",AG168=\"\"),\"\",AF168+AG168)","v":""},{"$f":"IF(OR(AE168=\"\",AG168=\"\"),\"\",AG168+AF168+AE168)","v":""},null,null,{"$f":"ROUNDUP(((FirstPartDegrees1!#REF!+D168)/2+(FirstPartDegrees1!E163+O168)/2+(FirstPartDegrees1!#REF!+M168)/2+(FirstPartDegrees1!C163+F168)/2 )/4,0)","v":{"$error":"#REF!"}},{"$f":"ROUNDUP(((FirstPartDegrees1!#REF!+FirstPartDegrees1!#REF!)/2+(FirstPartDegrees1!F163+J168)/2+(FirstPartDegrees1!#REF!+S168)/2+(FirstPartDegrees1!I163+#REF!)/2 )/4,0)","v":{"$error":"#REF!"}},{"$f":"ROUNDUP(((FirstPartDegrees1!#REF!+FirstPartDegrees1!J163)/2+(FirstPartDegrees1!#REF!+FirstPartDegrees1!#REF!)/2+(FirstPartDegrees1!#REF!+V168)/2+(AB168+#REF!)/2)/4,0)","v":{"$error":"#REF!"}},{"$f":"(AN168+AAE168+AL168)*40/12","v":{"$error":"#REF!"}}]
[null,null,{"$f":"IF($B168=\"\",\"\",للطباعة1!$G$54)","v":""},{"$f":"IF($B168=\"\",\"\",للطباعة1!$F$54)","v":""},{"$f":"IF($B168=\"\",\"\",للطباعة1!$N$54)","v":""},{"$f":"IF($B168=\"\",\"\",للطباعة1!$M$54)","v":""},{"$f":"IF($B168=\"\",\"\",للطباعة1!$U$54)","v":""},{"$f":"IF($B168=\"\",\"\",للطباعة1!$T$54)","v":""},{"$f":"IF($B168=\"\",\"\",للطباعة1!$AB$54)","v":""},{"$f":"IF($B168=\"\",\"\",للطباعة1!$AA$54)","v":""},null,{"$f":"IF($B168=\"\",\"\",للطباعة1!$AJ$54)","v":""},{"$f":"IF($B168=\"\",\"\",للطباعة1!$AI$54)","v":""},{"$f":"IF($B168=\"\",\"\",للطباعة1!$AQ$54)","v":""},{"$f":"IF($B168=\"\",\"\",للطباعة1!$AP$54)","v":""},{"$f":"IF($B168=\"\",\"\",للطباعة1!$AX$54)","v":""},{"$f":"IF($B168=\"\",\"\",للطباعة1!$AW$54)","v":""},{"$f":"IF($B168=\"\",\"\",للطباعة1!$BE$54)","v":""},{"$f":"IF($B168=\"\",\"\",للطباعة1!$BD$54)","v":""},null,{"$f":"IF($B168=\"\",\"\",للطباعة1!$BM$54)","v":""},{"$f":"IF($B168=\"\",\"\",للطباعة1!$BL$54)","v":""},{"$f":"IF($B168=\"\",\"\",للطباعة1!$BT$54)","v":""},{"$f":"IF($B168=\"\",\"\",للطباعة1!$BS$54)","v":""},{"$f":"IF($B168=\"\",\"\",للطباعة1!$CA$54)","v":""},{"$f":"IF($B168=\"\",\"\",للطباعة1!$BZ$54)","v":""},{"$f":"IF($B168=\"\",\"\",للطباعة1!$CH$54)","v":""},{"$f":"IF($B168=\"\",\"\",للطباعة1!$CG$54)","v":""}]
[null,"النقاط",{"$f":"IF($B168=\"\",\"\",(D168+D169)*100/8)","v":""},null,{"$f":"IF($B168=\"\",\"\",(F168+F169)*100/8)","v":""},null,{"$f":"IF($B168=\"\",\"\",(H168+H169)*100/8)","v":""},null,{"$f":"IF($B168=\"\",\"\",(J168+J169)*100/8)","v":""},null,null,{"$f":"IF($B168=\"\",\"\",(M168+M169)*100/8)","v":""},null,{"$f":"IF($B168=\"\",\"\",(O168+O169)*100/8)","v":""},null,{"$f":"IF($B168=\"\",\"\",(Q168+Q169)*100/8)","v":""},null,{"$f":"IF($B168=\"\",\"\",(S168+S169)*100/8)","v":""},null,null,{"$f":"IF($B168=\"\",\"\",(V168+V169)*100/8)","v":""},null,{"$f":"IF($B168=\"\",\"\",(X168+X169)*100/8)","v":""},null,{"$f":"IF($B168=\"\",\"\",(Z168+Z169)*100/8)","v":""},null,{"$f":"IF($B168=\"\",\"\",(AB168+AB169)*100/8)","v":""}]
[54,{"$f":"INDIRECT(ADDRESS(A171+1,2,,,\"للطباعة1\"))","v":""},{"$f":"IF($B171=\"\",\"\",للطباعة1!$E$55)","v":""},{"$f":"IF($B171=\"\",\"\",للطباعة1!$D$55)","v":""},{"$f":"IF($B171=\"\",\"\",للطباعة1!$L$55)","v":""},{"$f":"IF($B171=\"\",\"\",للطباعة1!$K$55)","v":""},{"$f":"IF($B171=\"\",\"\",للطباعة1!$S$55)","v":""},{"$f":"IF($B171=\"\",\"\",للطباعة1!$R$55)","v":""},{"$f":"IF($B171=\"\",\"\",للطباعة1!$Z$55)","v":""},{"$f":"IF($B171=\"\",\"\",للطباعة1!$Y$55)","v":""},{"$f":"IF($B171=\"\",\"\",(C173+E173+G173+I173)/4)","v":""},{"$f":"IF($B171=\"\",\"\",للطباعة1!$AH$55)","v":""},{"$f":"IF($B171=\"\",\"\",للطباعة1!$AG$55)","v":""},{"$f":"IF($B171=\"\",\"\",للطباعة1!$AO$55)","v":""},{"$f":"IF($B171=\"\",\"\",للطباعة1!$AN$55)","v":""},{"$f":"IF($B171=\"\",\"\",للطباعة1!$AV$55)","v":""},{"$f":"IF($B171=\"\",\"\",للطباعة1!$AU$55)","v":""},{"$f":"IF($B171=\"\",\"\",للطباعة1!$BC$55)","v":""},{"$f":"IF($B171=\"\",\"\",للطباعة1!$BB$55)","v":""},{"$f":"IF($B171=\"\",\"\",(L173+N173+P173+R173)/4)","v":""},{"$f":"IF($B171=\"\",\"\",للطباعة1!$BK$55)","v":""},{"$f":"IF($B171=\"\",\"\",للطباعة1!$BJ$55)","v":""},{"$f":"IF($B171=\"\",\"\",للطباعة1!$BR$55)","v":""},{"$f":"IF($B171=\"\",\"\",للطباعة1!$BQ$55)","v":""},{"$f":"IF($B171=\"\",\"\",للطباعة1!$BY$55)","v":""},{"$f":"IF($B171=\"\",\"\",للطباعة1!$BX$55)","v":""},{"$f":"IF($B171=\"\",\"\",للطباعة1!$CF$55)","v":""},{"$f":"IF($B171=\"\",\"\",للطباعة1!$CE$55)","v":""},{"$f":"IF($B171=\"\",\"\",(U173+W173+Y173+AA173)/4)","v":""},{"$f":"IF($B171=\"\",\"\",(K171+T171+AC171)*0.04)","v":""},{"$f":"IF($B171=\"\",\"\",IF((AD171*40/12-INT(AD171*40/12))>=0.75,INT(AD171*40/12)+1,IF((AD171*40/12-INT(AD171*40/12))<0.25,INT(AD171*40/12),INT(AD171*40/12)+0.5)))","v":""},{"$f":"IF($B171=\"\",\"\",INDIRECT(ADDRESS(11+A171*2,18,1,,\"SeconedPartDegrees1\")))","v":""},{"$f":"IF($B171=\"\",\"\",INDIRECT(ADDRESS(11+A171*2,19,1,,\"SeconedPartDegrees1\")))","v":""},{"$f":"IF(OR(AF171=\"\",AG171=\"\"),\"\",AF171+AG171)","v":""},{"$f":"IF(OR(AE171=\"\",AG171=\"\"),\"\",AG171+AF171+AE171)","v":""},null,null,{"$f":"ROUNDUP(((FirstPartDegrees1!#REF!+D171)/2+(FirstPartDegrees1!E166+O171)/2+(FirstPartDegrees1!#REF!+M171)/2+(FirstPartDegrees1!C166+F171)/2 )/4,0)","v":{"$error":"#REF!"}},{"$f":"ROUNDUP(((FirstPartDegrees1!#REF!+FirstPartDegrees1!#REF!)/2+(FirstPartDegrees1!F166+J171)/2+(FirstPartDegrees1!#REF!+S171)/2+(FirstPartDegrees1!I166+#REF!)/2 )/4,0)","v":{"$error":"#REF!"}},{"$f":"ROUNDUP(((FirstPartDegrees1!#REF!+FirstPartDegrees1!J166)/2+(FirstPartDegrees1!#REF!+FirstPartDegrees1!#REF!)/2+(FirstPartDegrees1!#REF!+V171)/2+(AB171+#REF!)/2)/4,0)","v":{"$error":"#REF!"}},{"$f":"(AN171+AAE171+AL171)*40/12","v":{"$error":"#REF!"}}]
[null,null,{"$f":"IF($B171=\"\",\"\",للطباعة1!$G$55)","v":""},{"$f":"IF($B171=\"\",\"\",للطباعة1!$F$55)","v":""},{"$f":"IF($B171=\"\",\"\",للطباعة1!$N$55)","v":""},{"$f":"IF($B171=\"\",\"\",للطباعة1!$M$55)","v":""},{"$f":"IF($B171=\"\",\"\",للطباعة1!$U$55)","v":""},{"$f":"IF($B171=\"\",\"\",للطباعة1!$T$55)","v":""},{"$f":"IF($B171=\"\",\"\",للطباعة1!$AB$55)","v":""},{"$f":"IF($B171=\"\",\"\",للطباعة1!$AA$55)","v":""},null,{"$f":"IF($B171=\"\",\"\",للطباعة1!$AJ$55)","v":""},{"$f":"IF($B171=\"\",\"\",للطباعة1!$AI$55)","v":""},{"$f":"IF($B171=\"\",\"\",للطباعة1!$AQ$55)","v":""},{"$f":"IF($B171=\"\",\"\",للطباعة1!$AP$55)","v":""},{"$f":"IF($B171=\"\",\"\",للطباعة1!$AX$55)","v":""},{"$f":"IF($B171=\"\",\"\",للطباعة1!$AW$55)","v":""},{"$f":"IF($B171=\"\",\"\",للطباعة1!$BE$55)","v":""},{"$f":"IF($B171=\"\",\"\",للطباعة1!$BD$55)","v":""},null,{"$f":"IF($B171=\"\",\"\",للطباعة1!$BM$55)","v":""},{"$f":"IF($B171=\"\",\"\",للطباعة1!$BL$55)","v":""},{"$f":"IF($B171=\"\",\"\",للطباعة1!$BT$55)","v":""},{"$f":"IF($B171=\"\",\"\",للطباعة1!$BS$55)","v":""},{"$f":"IF($B171=\"\",\"\",للطباعة1!$CA$55)","v":""},{"$f":"IF($B171=\"\",\"\",للطباعة1!$BZ$55)","v":""},{"$f":"IF($B171=\"\",\"\",للطباعة1!$CH$55)","v":""},{"$f":"IF($B171=\"\",\"\",للطباعة1!$CG$55)","v":""}]
[null,"النقاط",{"$f":"IF($B171=\"\",\"\",(D171+D172)*100/8)","v":""},null,{"$f":"IF($B171=\"\",\"\",(F171+F172)*100/8)","v":""},null,{"$f":"IF($B171=\"\",\"\",(H171+H172)*100/8)","v":""},null,{"$f":"IF($B171=\"\",\"\",(J171+J172)*100/8)","v":""},null,null,{"$f":"IF($B171=\"\",\"\",(M171+M172)*100/8)","v":""},null,{"$f":"IF($B171=\"\",\"\",(O171+O172)*100/8)","v":""},null,{"$f":"IF($B171=\"\",\"\",(Q171+Q172)*100/8)","v":""},null,{"$f":"IF($B171=\"\",\"\",(S171+S172)*100/8)","v":""},null,null,{"$f":"IF($B171=\"\",\"\",(V171+V172)*100/8)","v":""},null,{"$f":"IF($B171=\"\",\"\",(X171+X172)*100/8)","v":""},null,{"$f":"IF($B171=\"\",\"\",(Z171+Z172)*100/8)","v":""},null,{"$f":"IF($B171=\"\",\"\",(AB171+AB172)*100/8)","v":""}]
[55,{"$f":"INDIRECT(ADDRESS(A174+1,2,,,\"للطباعة1\"))","v":""},{"$f":"IF($B174=\"\",\"\",للطباعة1!$E$56)","v":""},{"$f":"IF($B174=\"\",\"\",للطباعة1!$D$56)","v":""},{"$f":"IF($B174=\"\",\"\",للطباعة1!$L$56)","v":""},{"$f":"IF($B174=\"\",\"\",للطباعة1!$K$56)","v":""},{"$f":"IF($B174=\"\",\"\",للطباعة1!$S$56)","v":""},{"$f":"IF($B174=\"\",\"\",للطباعة1!$R$56)","v":""},{"$f":"IF($B174=\"\",\"\",للطباعة1!$Z$56)","v":""},{"$f":"IF($B174=\"\",\"\",للطباعة1!$Y$56)","v":""},{"$f":"IF($B174=\"\",\"\",(C176+E176+G176+I176)/4)","v":""},{"$f":"IF($B174=\"\",\"\",للطباعة1!$AH$56)","v":""},{"$f":"IF($B174=\"\",\"\",للطباعة1!$AG$56)","v":""},{"$f":"IF($B174=\"\",\"\",للطباعة1!$AO$56)","v":""},{"$f":"IF($B174=\"\",\"\",للطباعة1!$AN$56)","v":""},{"$f":"IF($B174=\"\",\"\",للطباعة1!$AV$56)","v":""},{"$f":"IF($B174=\"\",\"\",للطباعة1!$AU$56)","v":""},{"$f":"IF($B174=\"\",\"\",للطباعة1!$BC$56)","v":""},{"$f":"IF($B174=\"\",\"\",للطباعة1!$BB$56)","v":""},{"$f":"IF($B174=\"\",\"\",(L176+N176+P176+R176)/4)","v":""},{"$f":"IF($B174=\"\",\"\",للطباعة1!$BK$56)","v":""},{"$f":"IF($B174=\"\",\"\",للطباعة1!$BJ$56)","v":""},{"$f":"IF($B174=\"\",\"\",للطباعة1!$BR$56)","v":""},{"$f":"IF($B174=\"\",\"\",للطباعة1!$BQ$56)","v":""},{"$f":"IF($B174=\"\",\"\",للطباعة1!$BY$56)","v":""},{"$f":"IF($B174=\"\",\"\",للطباعة1!$BX$56)","v":""},{"$f":"IF($B174=\"\",\"\",للطباعة1!$CF$56)","v":""},{"$f":"IF($B174=\"\",\"\",للطباعة1!$CE$56)","v":""},{"$f":"IF($B174=\"\",\"\",(U176+W176+Y176+AA176)/4)","v":""},{"$f":"IF($B174=\"\",\"\",(K174+T174+AC174)*0.04)","v":""},{"$f":"IF($B174=\"\",\"\",IF((AD174*40/12-INT(AD174*40/12))>=0.75,INT(AD174*40/12)+1,IF((AD174*40/12-INT(AD174*40/12))<0.25,INT(AD174*40/12),INT(AD174*40/12)+0.5)))","v":""},{"$f":"IF($B174=\"\",\"\",INDIRECT(ADDRESS(11+A174*2,18,1,,\"SeconedPartDegrees1\")))","v":""},{"$f":"IF($B174=\"\",\"\",INDIRECT(ADDRESS(11+A174*2,19,1,,\"SeconedPartDegrees1\")))","v":""},{"$f":"IF(OR(AF174=\"\",AG174=\"\"),\"\",AF174+AG174)","v":""},{"$f":"IF(OR(AE174=\"\",AG174=\"\"),\"\",AG174+AF174+AE174)","v":""},null,null,{"$f":"ROUNDUP(((FirstPartDegrees1!#REF!+D174)/2+(FirstPartDegrees1!E169+O174)/2+(FirstPartDegrees1!#REF!+M174)/2+(FirstPartDegrees1!C169+F174)/2 )/4,0)","v":{"$error":"#REF!"}},{"$f":"ROUNDUP(((FirstPartDegrees1!#REF!+FirstPartDegrees1!#REF!)/2+(FirstPartDegrees1!F169+J174)/2+(FirstPartDegrees1!#REF!+S174)/2+(FirstPartDegrees1!I169+#REF!)/2 )/4,0)","v":{"$error":"#REF!"}},{"$f":"ROUNDUP(((FirstPartDegrees1!#REF!+FirstPartDegrees1!J169)/2+(FirstPartDegrees1!#REF!+FirstPartDegrees1!#REF!)/2+(FirstPartDegrees1!#REF!+V174)/2+(AB174+#REF!)/2)/4,0)","v":{"$error":"#REF!"}},{"$f":"(AN174+AAE174+AL174)*40/12","v":{"$error":"#REF!"}}]
[null,null,{"$f":"IF($B174=\"\",\"\",للطباعة1!$G$56)","v":""},{"$f":"IF($B174=\"\",\"\",للطباعة1!$F$56)","v":""},{"$f":"IF($B174=\"\",\"\",للطباعة1!$N$56)","v":""},{"$f":"IF($B174=\"\",\"\",للطباعة1!$M$56)","v":""},{"$f":"IF($B174=\"\",\"\",للطباعة1!$U$56)","v":""},{"$f":"IF($B174=\"\",\"\",للطباعة1!$T$56)","v":""},{"$f":"IF($B174=\"\",\"\",للطباعة1!$AB$56)","v":""},{"$f":"IF($B174=\"\",\"\",للطباعة1!$AA$56)","v":""},null,{"$f":"IF($B174=\"\",\"\",للطباعة1!$AJ$56)","v":""},{"$f":"IF($B174=\"\",\"\",للطباعة1!$AI$56)","v":""},{"$f":"IF($B174=\"\",\"\",للطباعة1!$AQ$56)","v":""},{"$f":"IF($B174=\"\",\"\",للطباعة1!$AP$56)","v":""},{"$f":"IF($B174=\"\",\"\",للطباعة1!$AX$56)","v":""},{"$f":"IF($B174=\"\",\"\",للطباعة1!$AW$56)","v":""},{"$f":"IF($B174=\"\",\"\",للطباعة1!$BE$56)","v":""},{"$f":"IF($B174=\"\",\"\",للطباعة1!$BD$56)","v":""},null,{"$f":"IF($B174=\"\",\"\",للطباعة1!$BM$56)","v":""},{"$f":"IF($B174=\"\",\"\",للطباعة1!$BL$56)","v":""},{"$f":"IF($B174=\"\",\"\",للطباعة1!$BT$56)","v":""},{"$f":"IF($B174=\"\",\"\",للطباعة1!$BS$56)","v":""},{"$f":"IF($B174=\"\",\"\",للطباعة1!$CA$56)","v":""},{"$f":"IF($B174=\"\",\"\",للطباعة1!$BZ$56)","v":""},{"$f":"IF($B174=\"\",\"\",للطباعة1!$CH$56)","v":""},{"$f":"IF($B174=\"\",\"\",للطباعة1!$CG$56)","v":""}]
[null,"النقاط",{"$f":"IF($B174=\"\",\"\",(D174+D175)*100/8)","v":""},null,{"$f":"IF($B174=\"\",\"\",(F174+F175)*100/8)","v":""},null,{"$f":"IF($B174=\"\",\"\",(H174+H175)*100/8)","v":""},null,{"$f":"IF($B174=\"\",\"\",(J174+J175)*100/8)","v":""},null,null,{"$f":"IF($B174=\"\",\"\",(M174+M175)*100/8)","v":""},null,{"$f":"IF($B174=\"\",\"\",(O174+O175)*100/8)","v":""},null,{"$f":"IF($B174=\"\",\"\",(Q174+Q175)*100/8)","v":""},null,{"$f":"IF($B174=\"\",\"\",(S174+S175)*100/8)","v":""},null,null,{"$f":"IF($B174=\"\",\"\",(V174+V175)*100/8)","v":""},null,{"$f":"IF($B174=\"\",\"\",(X174+X175)*100/8)","v":""},null,{"$f":"IF($B174=\"\",\"\",(Z174+Z175)*100/8)","v":""},null,{"$f":"IF($B174=\"\",\"\",(AB174+AB175)*100/8)","v":""}]
[56,{"$f":"INDIRECT(ADDRESS(A177+1,2,,,\"للطباعة1\"))","v":""},{"$f":"IF($B177=\"\",\"\",للطباعة1!$E$57)","v":""},{"$f":"IF($B177=\"\",\"\",للطباعة1!$D$57)","v":""},{"$f":"IF($B177=\"\",\"\",للطباعة1!$L$57)","v":""},{"$f":"IF($B177=\"\",\"\",للطباعة1!$K$57)","v":""},{"$f":"IF($B177=\"\",\"\",للطباعة1!$S$57)","v":""},{"$f":"IF($B177=\"\",\"\",للطباعة1!$R$57)","v":""},{"$f":"IF($B177=\"\",\"\",للطباعة1!$Z$57)","v":""},{"$f":"IF($B177=\"\",\"\",للطباعة1!$Y$57)","v":""},{"$f":"IF($B177=\"\",\"\",(C179+E179+G179+I179)/4)","v":""},{"$f":"IF($B177=\"\",\"\",للطباعة1!$AH$57)","v":""},{"$f":"IF($B177=\"\",\"\",للطباعة1!$AG$57)","v":""},{"$f":"IF($B177=\"\",\"\",للطباعة1!$AO$57)","v":""},{"$f":"IF($B177=\"\",\"\",للطباعة1!$AN$57)","v":""},{"$f":"IF($B177=\"\",\"\",للطباعة1!$AV$57)","v":""},{"$f":"IF($B177=\"\",\"\",للطباعة1!$AU$57)","v":""},{"$f":"IF($B177=\"\",\"\",للطباعة1!$BC$57)","v":""},{"$f":"IF($B177=\"\",\"\",للطباعة1!$BB$57)","v":""},{"$f":"IF($B177=\"\",\"\",(L179+N179+P179+R179)/4)","v":""},{"$f":"IF($B177=\"\",\"\",للطباعة1!$BK$57)","v":""},{"$f":"IF($B177=\"\",\"\",للطباعة1!$BJ$57)","v":""},{"$f":"IF($B177=\"\",\"\",للطباعة1!$BR$57)","v":""},{"$f":"IF($B177=\"\",\"\",للطباعة1!$BQ$57)","v":""},{"$f":"IF($B177=\"\",\"\",للطباعة1!$BY$57)","v":""},{"$f":"IF($B177=\"\",\"\",للطباعة1!$BX$57)","v":""},{"$f":"IF($B177=\"\",\"\",للطباعة1!$CF$57)","v":""},{"$f":"IF($B177=\"\",\"\",للطباعة1!$CE$57)","v":""},{"$f":"IF($B177=\"\",\"\",(U179+W179+Y179+AA179)/4)","v":""},{"$f":"IF($B177=\"\",\"\",(K177+T177+AC177)*0.04)","v":""},{"$f":"IF($B177=\"\",\"\",IF((AD177*40/12-INT(AD177*40/12))>=0.75,INT(AD177*40/12)+1,IF((AD177*40/12-INT(AD177*40/12))<0.25,INT(AD177*40/12),INT(AD177*40/12)+0.5)))","v":""},{"$f":"IF($B177=\"\",\"\",INDIRECT(ADDRESS(11+A177*2,18,1,,\"SeconedPartDegrees1\")))","v":""},{"$f":"IF($B177=\"\",\"\",INDIRECT(ADDRESS(11+A177*2,19,1,,\"SeconedPartDegrees1\")))","v":""},{"$f":"IF(OR(AF177=\"\",AG177=\"\"),\"\",AF177+AG177)","v":""},{"$f":"IF(OR(AE177=\"\",AG177=\"\"),\"\",AG177+AF177+AE177)","v":""},null,null,{"$f":"ROUNDUP(((FirstPartDegrees1!#REF!+D177)/2+(FirstPartDegrees1!E172+O177)/2+(FirstPartDegrees1!#REF!+M177)/2+(FirstPartDegrees1!C172+F177)/2 )/4,0)","v":{"$error":"#REF!"}},{"$f":"ROUNDUP(((FirstPartDegrees1!#REF!+FirstPartDegrees1!#REF!)/2+(FirstPartDegrees1!F172+J177)/2+(FirstPartDegrees1!#REF!+S177)/2+(FirstPartDegrees1!I172+#REF!)/2 )/4,0)","v":{"$error":"#REF!"}},{"$f":"ROUNDUP(((FirstPartDegrees1!#REF!+FirstPartDegrees1!J172)/2+(FirstPartDegrees1!#REF!+FirstPartDegrees1!#REF!)/2+(FirstPartDegrees1!#REF!+V177)/2+(AB177+#REF!)/2)/4,0)","v":{"$error":"#REF!"}},{"$f":"(AN177+AAE177+AL177)*40/12","v":{"$error":"#REF!"}}]
[null,null,{"$f":"IF($B177=\"\",\"\",للطباعة1!$G$57)","v":""},{"$f":"IF($B177=\"\",\"\",للطباعة1!$F$57)","v":""},{"$f":"IF($B177=\"\",\"\",للطباعة1!$N$57)","v":""},{"$f":"IF($B177=\"\",\"\",للطباعة1!$M$57)","v":""},{"$f":"IF($B177=\"\",\"\",للطباعة1!$U$57)","v":""},{"$f":"IF($B177=\"\",\"\",للطباعة1!$T$57)","v":""},{"$f":"IF($B177=\"\",\"\",للطباعة1!$AB$57)","v":""},{"$f":"IF($B177=\"\",\"\",للطباعة1!$AA$57)","v":""},null,{"$f":"IF($B177=\"\",\"\",للطباعة1!$AJ$57)","v":""},{"$f":"IF($B177=\"\",\"\",للطباعة1!$AI$57)","v":""},{"$f":"IF($B177=\"\",\"\",للطباعة1!$AQ$57)","v":""},{"$f":"IF($B177=\"\",\"\",للطباعة1!$AP$57)","v":""},{"$f":"IF($B177=\"\",\"\",للطباعة1!$AX$57)","v":""},{"$f":"IF($B177=\"\",\"\",للطباعة1!$AW$57)","v":""},{"$f":"IF($B177=\"\",\"\",للطباعة1!$BE$57)","v":""},{"$f":"IF($B177=\"\",\"\",للطباعة1!$BD$57)","v":""},null,{"$f":"IF($B177=\"\",\"\",للطباعة1!$BM$57)","v":""},{"$f":"IF($B177=\"\",\"\",للطباعة1!$BL$57)","v":""},{"$f":"IF($B177=\"\",\"\",للطباعة1!$BT$57)","v":""},{"$f":"IF($B177=\"\",\"\",للطباعة1!$BS$57)","v":""},{"$f":"IF($B177=\"\",\"\",للطباعة1!$CA$57)","v":""},{"$f":"IF($B177=\"\",\"\",للطباعة1!$BZ$57)","v":""},{"$f":"IF($B177=\"\",\"\",للطباعة1!$CH$57)","v":""},{"$f":"IF($B177=\"\",\"\",للطباعة1!$CG$57)","v":""}]
[null,"النقاط",{"$f":"IF($B177=\"\",\"\",(D177+D178)*100/8)","v":""},null,{"$f":"IF($B177=\"\",\"\",(F177+F178)*100/8)","v":""},null,{"$f":"IF($B177=\"\",\"\",(H177+H178)*100/8)","v":""},null,{"$f":"IF($B177=\"\",\"\",(J177+J178)*100/8)","v":""},null,null,{"$f":"IF($B177=\"\",\"\",(M177+M178)*100/8)","v":""},null,{"$f":"IF($B177=\"\",\"\",(O177+O178)*100/8)","v":""},null,{"$f":"IF($B177=\"\",\"\",(Q177+Q178)*100/8)","v":""},null,{"$f":"IF($B177=\"\",\"\",(S177+S178)*100/8)","v":""},null,null,{"$f":"IF($B177=\"\",\"\",(V177+V178)*100/8)","v":""},null,{"$f":"IF($B177=\"\",\"\",(X177+X178)*100/8)","v":""},null,{"$f":"IF($B177=\"\",\"\",(Z177+Z178)*100/8)","v":""},null,{"$f":"IF($B177=\"\",\"\",(AB177+AB178)*100/8)","v":""}]
[57,{"$f":"INDIRECT(ADDRESS(A180+1,2,,,\"للطباعة1\"))","v":""},{"$f":"IF($B180=\"\",\"\",للطباعة1!$E$58)","v":""},{"$f":"IF($B180=\"\",\"\",للطباعة1!$D$58)","v":""},{"$f":"IF($B180=\"\",\"\",للطباعة1!$L$58)","v":""},{"$f":"IF($B180=\"\",\"\",للطباعة1!$K$58)","v":""},{"$f":"IF($B180=\"\",\"\",للطباعة1!$S$58)","v":""},{"$f":"IF($B180=\"\",\"\",للطباعة1!$R$58)","v":""},{"$f":"IF($B180=\"\",\"\",للطباعة1!$Z$58)","v":""},{"$f":"IF($B180=\"\",\"\",للطباعة1!$Y$58)","v":""},{"$f":"IF($B180=\"\",\"\",(C182+E182+G182+I182)/4)","v":""},{"$f":"IF($B180=\"\",\"\",للطباعة1!$AH$58)","v":""},{"$f":"IF($B180=\"\",\"\",للطباعة1!$AG$58)","v":""},{"$f":"IF($B180=\"\",\"\",للطباعة1!$AO$58)","v":""},{"$f":"IF($B180=\"\",\"\",للطباعة1!$AN$58)","v":""},{"$f":"IF($B180=\"\",\"\",للطباعة1!$AV$58)","v":""},{"$f":"IF($B180=\"\",\"\",للطباعة1!$AU$58)","v":""},{"$f":"IF($B180=\"\",\"\",للطباعة1!$BC$58)","v":""},{"$f":"IF($B180=\"\",\"\",للطباعة1!$BB$58)","v":""},{"$f":"IF($B180=\"\",\"\",(L182+N182+P182+R182)/4)","v":""},{"$f":"IF($B180=\"\",\"\",للطباعة1!$BK$58)","v":""},{"$f":"IF($B180=\"\",\"\",للطباعة1!$BJ$58)","v":""},{"$f":"IF($B180=\"\",\"\",للطباعة1!$BR$58)","v":""},{"$f":"IF($B180=\"\",\"\",للطباعة1!$BQ$58)","v":""},{"$f":"IF($B180=\"\",\"\",للطباعة1!$BY$58)","v":""},{"$f":"IF($B180=\"\",\"\",للطباعة1!$BX$58)","v":""},{"$f":"IF($B180=\"\",\"\",للطباعة1!$CF$58)","v":""},{"$f":"IF($B180=\"\",\"\",للطباعة1!$CE$58)","v":""},{"$f":"IF($B180=\"\",\"\",(U182+W182+Y182+AA182)/4)","v":""},{"$f":"IF($B180=\"\",\"\",(K180+T180+AC180)*0.04)","v":""},{"$f":"IF($B180=\"\",\"\",IF((AD180*40/12-INT(AD180*40/12))>=0.75,INT(AD180*40/12)+1,IF((AD180*40/12-INT(AD180*40/12))<0.25,INT(AD180*40/12),INT(AD180*40/12)+0.5)))","v":""},{"$f":"IF($B180=\"\",\"\",INDIRECT(ADDRESS(11+A180*2,18,1,,\"SeconedPartDegrees1\")))","v":""},{"$f":"IF($B180=\"\",\"\",INDIRECT(ADDRESS(11+A180*2,19,1,,\"SeconedPartDegrees1\")))","v":""},{"$f":"IF(OR(AF180=\"\",AG180=\"\"),\"\",AF180+AG180)","v":""},{"$f":"IF(OR(AE180=\"\",AG180=\"\"),\"\",AG180+AF180+AE180)","v":""},null,null,{"$f":"ROUNDUP(((FirstPartDegrees1!#REF!+D180)/2+(FirstPartDegrees1!E175+O180)/2+(FirstPartDegrees1!#REF!+M180)/2+(FirstPartDegrees1!C175+F180)/2 )/4,0)","v":{"$error":"#REF!"}},{"$f":"ROUNDUP(((FirstPartDegrees1!#REF!+FirstPartDegrees1!#REF!)/2+(FirstPartDegrees1!F175+J180)/2+(FirstPartDegrees1!#REF!+S180)/2+(FirstPartDegrees1!I175+#REF!)/2 )/4,0)","v":{"$error":"#REF!"}},{"$f":"ROUNDUP(((FirstPartDegrees1!#REF!+FirstPartDegrees1!J175)/2+(FirstPartDegrees1!#REF!+FirstPartDegrees1!#REF!)/2+(FirstPartDegrees1!#REF!+V180)/2+(AB180+#REF!)/2)/4,0)","v":{"$error":"#REF!"}},{"$f":"(AN180+AAE180+AL180)*40/12","v":{"$error":"#REF!"}}]
[null,null,{"$f":"IF($B180=\"\",\"\",للطباعة1!$G$58)","v":""},{"$f":"IF($B180=\"\",\"\",للطباعة1!$F$58)","v":""},{"$f":"IF($B180=\"\",\"\",للطباعة1!$N$58)","v":""},{"$f":"IF($B180=\"\",\"\",للطباعة1!$M$58)","v":""},{"$f":"IF($B180=\"\",\"\",للطباعة1!$U$58)","v":""},{"$f":"IF($B180=\"\",\"\",للطباعة1!$T$58)","v":""},{"$f":"IF($B180=\"\",\"\",للطباعة1!$AB$58)","v":""},{"$f":"IF($B180=\"\",\"\",للطباعة1!$AA$58)","v":""},null,{"$f":"IF($B180=\"\",\"\",للطباعة1!$AJ$58)","v":""},{"$f":"IF($B180=\"\",\"\",للطباعة1!$AI$58)","v":""},{"$f":"IF($B180=\"\",\"\",للطباعة1!$AQ$58)","v":""},{"$f":"IF($B180=\"\",\"\",للطباعة1!$AP$58)","v":""},{"$f":"IF($B180=\"\",\"\",للطباعة1!$AX$58)","v":""},{"$f":"IF($B180=\"\",\"\",للطباعة1!$AW$58)","v":""},{"$f":"IF($B180=\"\",\"\",للطباعة1!$BE$58)","v":""},{"$f":"IF($B180=\"\",\"\",للطباعة1!$BD$58)","v":""},null,{"$f":"IF($B180=\"\",\"\",للطباعة1!$BM$58)","v":""},{"$f":"IF($B180=\"\",\"\",للطباعة1!$BL$58)","v":""},{"$f":"IF($B180=\"\",\"\",للطباعة1!$BT$58)","v":""},{"$f":"IF($B180=\"\",\"\",للطباعة1!$BS$58)","v":""},{"$f":"IF($B180=\"\",\"\",للطباعة1!$CA$58)","v":""},{"$f":"IF($B180=\"\",\"\",للطباعة1!$BZ$58)","v":""},{"$f":"IF($B180=\"\",\"\",للطباعة1!$CH$58)","v":""},{"$f":"IF($B180=\"\",\"\",للطباعة1!$CG$58)","v":""}]
[null,"النقاط",{"$f":"IF($B180=\"\",\"\",(D180+D181)*100/8)","v":""},null,{"$f":"IF($B180=\"\",\"\",(F180+F181)*100/8)","v":""},null,{"$f":"IF($B180=\"\",\"\",(H180+H181)*100/8)","v":""},null,{"$f":"IF($B180=\"\",\"\",(J180+J181)*100/8)","v":""},null,null,{"$f":"IF($B180=\"\",\"\",(M180+M181)*100/8)","v":""},null,{"$f":"IF($B180=\"\",\"\",(O180+O181)*100/8)","v":""},null,{"$f":"IF($B180=\"\",\"\",(Q180+Q181)*100/8)","v":""},null,{"$f":"IF($B180=\"\",\"\",(S180+S181)*100/8)","v":""},null,null,{"$f":"IF($B180=\"\",\"\",(V180+V181)*100/8)","v":""},null,{"$f":"IF($B180=\"\",\"\",(X180+X181)*100/8)","v":""},null,{"$f":"IF($B180=\"\",\"\",(Z180+Z181)*100/8)","v":""},null,{"$f":"IF($B180=\"\",\"\",(AB180+AB181)*100/8)","v":""}]
[58,{"$f":"INDIRECT(ADDRESS(A183+1,2,,,\"للطباعة1\"))","v":""},{"$f":"IF($B183=\"\",\"\",للطباعة1!$E$59)","v":""},{"$f":"IF($B183=\"\",\"\",للطباعة1!$D$59)","v":""},{"$f":"IF($B183=\"\",\"\",للطباعة1!$L$59)","v":""},{"$f":"IF($B183=\"\",\"\",للطباعة1!$K$59)","v":""},{"$f":"IF($B183=\"\",\"\",للطباعة1!$S$59)","v":""},{"$f":"IF($B183=\"\",\"\",للطباعة1!$R$59)","v":""},{"$f":"IF($B183=\"\",\"\",للطباعة1!$Z$59)","v":""},{"$f":"IF($B183=\"\",\"\",للطباعة1!$Y$59)","v":""},{"$f":"IF($B183=\"\",\"\",(C185+E185+G185+I185)/4)","v":""},{"$f":"IF($B183=\"\",\"\",للطباعة1!$AH$59)","v":""},{"$f":"IF($B183=\"\",\"\",للطباعة1!$AG$59)","v":""},{"$f":"IF($B183=\"\",\"\",للطباعة1!$AO$59)","v":""},{"$f":"IF($B183=\"\",\"\",للطباعة1!$AN$59)","v":""},{"$f":"IF($B183=\"\",\"\",للطباعة1!$AV$59)","v":""},{"$f":"IF($B183=\"\",\"\",للطباعة1!$AU$59)","v":""},{"$f":"IF($B183=\"\",\"\",للطباعة1!$BC$59)","v":""},{"$f":"IF($B183=\"\",\"\",للطباعة1!$BB$59)","v":""},{"$f":"IF($B183=\"\",\"\",(L185+N185+P185+R185)/4)","v":""},{"$f":"IF($B183=\"\",\"\",للطباعة1!$BK$59)","v":""},{"$f":"IF($B183=\"\",\"\",للطباعة1!$BJ$59)","v":""},{"$f":"IF($B183=\"\",\"\",للطباعة1!$BR$59)","v":""},{"$f":"IF($B183=\"\",\"\",للطباعة1!$BQ$59)","v":""},{"$f":"IF($B183=\"\",\"\",للطباعة1!$BY$59)","v":""},{"$f":"IF($B183=\"\",\"\",للطباعة1!$BX$59)","v":""},{"$f":"IF($B183=\"\",\"\",للطباعة1!$CF$59)","v":""},{"$f":"IF($B183=\"\",\"\",للطباعة1!$CE$59)","v":""},{"$f":"IF($B183=\"\",\"\",(U185+W185+Y185+AA185)/4)","v":""},{"$f":"IF($B183=\"\",\"\",(K183+T183+AC183)*0.04)","v":""},{"$f":"IF($B183=\"\",\"\",IF((AD183*40/12-INT(AD183*40/12))>=0.75,INT(AD183*40/12)+1,IF((AD183*40/12-INT(AD183*40/12))<0.25,INT(AD183*40/12),INT(AD183*40/12)+0.5)))","v":""},{"$f":"IF($B183=\"\",\"\",INDIRECT(ADDRESS(11+A183*2,18,1,,\"SeconedPartDegrees1\")))","v":""},{"$f":"IF($B183=\"\",\"\",INDIRECT(ADDRESS(11+A183*2,19,1,,\"SeconedPartDegrees1\")))","v":""},{"$f":"IF(OR(AF183=\"\",AG183=\"\"),\"\",AF183+AG183)","v":""},{"$f":"IF(OR(AE183=\"\",AG183=\"\"),\"\",AG183+AF183+AE183)","v":""},null,null,{"$f":"ROUNDUP(((FirstPartDegrees1!#REF!+D183)/2+(FirstPartDegrees1!E178+O183)/2+(FirstPartDegrees1!#REF!+M183)/2+(FirstPartDegrees1!C178+F183)/2 )/4,0)","v":{"$error":"#REF!"}},{"$f":"ROUNDUP(((FirstPartDegrees1!#REF!+FirstPartDegrees1!#REF!)/2+(FirstPartDegrees1!F178+J183)/2+(FirstPartDegrees1!#REF!+S183)/2+(FirstPartDegrees1!I178+#REF!)/2 )/4,0)","v":{"$error":"#REF!"}},{"$f":"ROUNDUP(((FirstPartDegrees1!#REF!+FirstPartDegrees1!J178)/2+(FirstPartDegrees1!#REF!+FirstPartDegrees1!#REF!)/2+(FirstPartDegrees1!#REF!+V183)/2+(AB183+#REF!)/2)/4,0)","v":{"$error":"#REF!"}},{"$f":"(AN183+AAE183+AL183)*40/12","v":{"$error":"#REF!"}}]
[null,null,{"$f":"IF($B183=\"\",\"\",للطباعة1!$G$59)","v":""},{"$f":"IF($B183=\"\",\"\",للطباعة1!$F$59)","v":""},{"$f":"IF($B183=\"\",\"\",للطباعة1!$N$59)","v":""},{"$f":"IF($B183=\"\",\"\",للطباعة1!$M$59)","v":""},{"$f":"IF($B183=\"\",\"\",للطباعة1!$U$59)","v":""},{"$f":"IF($B183=\"\",\"\",للطباعة1!$T$59)","v":""},{"$f":"IF($B183=\"\",\"\",للطباعة1!$AB$59)","v":""},{"$f":"IF($B183=\"\",\"\",للطباعة1!$AA$59)","v":""},null,{"$f":"IF($B183=\"\",\"\",للطباعة1!$AJ$59)","v":""},{"$f":"IF($B183=\"\",\"\",للطباعة1!$AI$59)","v":""},{"$f":"IF($B183=\"\",\"\",للطباعة1!$AQ$59)","v":""},{"$f":"IF($B183=\"\",\"\",للطباعة1!$AP$59)","v":""},{"$f":"IF($B183=\"\",\"\",للطباعة1!$AX$59)","v":""},{"$f":"IF($B183=\"\",\"\",للطباعة1!$AW$59)","v":""},{"$f":"IF($B183=\"\",\"\",للطباعة1!$BE$59)","v":""},{"$f":"IF($B183=\"\",\"\",للطباعة1!$BD$59)","v":""},null,{"$f":"IF($B183=\"\",\"\",للطباعة1!$BM$59)","v":""},{"$f":"IF($B183=\"\",\"\",للطباعة1!$BL$59)","v":""},{"$f":"IF($B183=\"\",\"\",للطباعة1!$BT$59)","v":""},{"$f":"IF($B183=\"\",\"\",للطباعة1!$BS$59)","v":""},{"$f":"IF($B183=\"\",\"\",للطباعة1!$CA$59)","v":""},{"$f":"IF($B183=\"\",\"\",للطباعة1!$BZ$59)","v":""},{"$f":"IF($B183=\"\",\"\",للطباعة1!$CH$59)","v":""},{"$f":"IF($B183=\"\",\"\",للطباعة1!$CG$59)","v":""}]
[null,"النقاط",{"$f":"IF($B183=\"\",\"\",(D183+D184)*100/8)","v":""},null,{"$f":"IF($B183=\"\",\"\",(F183+F184)*100/8)","v":""},null,{"$f":"IF($B183=\"\",\"\",(H183+H184)*100/8)","v":""},null,{"$f":"IF($B183=\"\",\"\",(J183+J184)*100/8)","v":""},null,null,{"$f":"IF($B183=\"\",\"\",(M183+M184)*100/8)","v":""},null,{"$f":"IF($B183=\"\",\"\",(O183+O184)*100/8)","v":""},null,{"$f":"IF($B183=\"\",\"\",(Q183+Q184)*100/8)","v":""},null,{"$f":"IF($B183=\"\",\"\",(S183+S184)*100/8)","v":""},null,null,{"$f":"IF($B183=\"\",\"\",(V183+V184)*100/8)","v":""},null,{"$f":"IF($B183=\"\",\"\",(X183+X184)*100/8)","v":""},null,{"$f":"IF($B183=\"\",\"\",(Z183+Z184)*100/8)","v":""},null,{"$f":"IF($B183=\"\",\"\",(AB183+AB184)*100/8)","v":""}]
[59,{"$f":"INDIRECT(ADDRESS(A186+1,2,,,\"للطباعة1\"))","v":""},{"$f":"IF($B186=\"\",\"\",للطباعة1!$E$60)","v":""},{"$f":"IF($B186=\"\",\"\",للطباعة1!$D$60)","v":""},{"$f":"IF($B186=\"\",\"\",للطباعة1!$L$60)","v":""},{"$f":"IF($B186=\"\",\"\",للطباعة1!$K$60)","v":""},{"$f":"IF($B186=\"\",\"\",للطباعة1!$S$60)","v":""},{"$f":"IF($B186=\"\",\"\",للطباعة1!$R$60)","v":""},{"$f":"IF($B186=\"\",\"\",للطباعة1!$Z$60)","v":""},{"$f":"IF($B186=\"\",\"\",للطباعة1!$Y$60)","v":""},{"$f":"IF($B186=\"\",\"\",(C188+E188+G188+I188)/4)","v":""},{"$f":"IF($B186=\"\",\"\",للطباعة1!$AH$60)","v":""},{"$f":"IF($B186=\"\",\"\",للطباعة1!$AG$60)","v":""},{"$f":"IF($B186=\"\",\"\",للطباعة1!$AO$60)","v":""},{"$f":"IF($B186=\"\",\"\",للطباعة1!$AN$60)","v":""},{"$f":"IF($B186=\"\",\"\",للطباعة1!$AV$60)","v":""},{"$f":"IF($B186=\"\",\"\",للطباعة1!$AU$60)","v":""},{"$f":"IF($B186=\"\",\"\",للطباعة1!$BC$60)","v":""},{"$f":"IF($B186=\"\",\"\",للطباعة1!$BB$60)","v":""},{"$f":"IF($B186=\"\",\"\",(L188+N188+P188+R188)/4)","v":""},{"$f":"IF($B186=\"\",\"\",للطباعة1!$BK$60)","v":""},{"$f":"IF($B186=\"\",\"\",للطباعة1!$BJ$60)","v":""},{"$f":"IF($B186=\"\",\"\",للطباعة1!$BR$60)","v":""},{"$f":"IF($B186=\"\",\"\",للطباعة1!$BQ$60)","v":""},{"$f":"IF($B186=\"\",\"\",للطباعة1!$BY$60)","v":""},{"$f":"IF($B186=\"\",\"\",للطباعة1!$BX$60)","v":""},{"$f":"IF($B186=\"\",\"\",للطباعة1!$CF$60)","v":""},{"$f":"IF($B186=\"\",\"\",للطباعة1!$CE$60)","v":""},{"$f":"IF($B186=\"\",\"\",(U188+W188+Y188+AA188)/4)","v":""},{"$f":"IF($B186=\"\",\"\",(K186+T186+AC186)*0.04)","v":""},{"$f":"IF($B186=\"\",\"\",IF((AD186*40/12-INT(AD186*40/12))>=0.75,INT(AD186*40/12)+1,IF((AD186*40/12-INT(AD186*40/12))<0.25,INT(AD186*40/12),INT(AD186*40/12)+0.5)))","v":""},{"$f":"IF($B186=\"\",\"\",INDIRECT(ADDRESS(11+A186*2,18,1,,\"SeconedPartDegrees1\")))","v":""},{"$f":"IF($B186=\"\",\"\",INDIRECT(ADDRESS(11+A186*2,19,1,,\"SeconedPartDegrees1\")))","v":""},{"$f":"IF(OR(AF186=\"\",AG186=\"\"),\"\",AF186+AG186)","v":""},{"$f":"IF(OR(AE186=\"\",AG186=\"\"),\"\",AG186+AF186+AE186)","v":""},null,null,{"$f":"ROUNDUP(((FirstPartDegrees1!#REF!+D186)/2+(FirstPartDegrees1!E181+O186)/2+(FirstPartDegrees1!#REF!+M186)/2+(FirstPartDegrees1!C181+F186)/2 )/4,0)","v":{"$error":"#REF!"}},{"$f":"ROUNDUP(((FirstPartDegrees1!#REF!+FirstPartDegrees1!#REF!)/2+(FirstPartDegrees1!F181+J186)/2+(FirstPartDegrees1!#REF!+S186)/2+(FirstPartDegrees1!I181+#REF!)/2 )/4,0)","v":{"$error":"#REF!"}},{"$f":"ROUNDUP(((FirstPartDegrees1!#REF!+FirstPartDegrees1!J181)/2+(FirstPartDegrees1!#REF!+FirstPartDegrees1!#REF!)/2+(FirstPartDegrees1!#REF!+V186)/2+(AB186+#REF!)/2)/4,0)","v":{"$error":"#REF!"}},{"$f":"(AN186+AAE186+AL186)*40/12","v":{"$error":"#REF!"}}]
[null,null,{"$f":"IF($B186=\"\",\"\",للطباعة1!$G$60)","v":""},{"$f":"IF($B186=\"\",\"\",للطباعة1!$F$60)","v":""},{"$f":"IF($B186=\"\",\"\",للطباعة1!$N$60)","v":""},{"$f":"IF($B186=\"\",\"\",للطباعة1!$M$60)","v":""},{"$f":"IF($B186=\"\",\"\",للطباعة1!$U$60)","v":""},{"$f":"IF($B186=\"\",\"\",للطباعة1!$T$60)","v":""},{"$f":"IF($B186=\"\",\"\",للطباعة1!$AB$60)","v":""},{"$f":"IF($B186=\"\",\"\",للطباعة1!$AA$60)","v":""},null,{"$f":"IF($B186=\"\",\"\",للطباعة1!$AJ$60)","v":""},{"$f":"IF($B186=\"\",\"\",للطباعة1!$AI$60)","v":""},{"$f":"IF($B186=\"\",\"\",للطباعة1!$AQ$60)","v":""},{"$f":"IF($B186=\"\",\"\",للطباعة1!$AP$60)","v":""},{"$f":"IF($B186=\"\",\"\",للطباعة1!$AX$60)","v":""},{"$f":"IF($B186=\"\",\"\",للطباعة1!$AW$60)","v":""},{"$f":"IF($B186=\"\",\"\",للطباعة1!$BE$60)","v":""},{"$f":"IF($B186=\"\",\"\",للطباعة1!$BD$60)","v":""},null,{"$f":"IF($B186=\"\",\"\",للطباعة1!$BM$60)","v":""},{"$f":"IF($B186=\"\",\"\",للطباعة1!$BL$60)","v":""},{"$f":"IF($B186=\"\",\"\",للطباعة1!$BT$60)","v":""},{"$f":"IF($B186=\"\",\"\",للطباعة1!$BS$60)","v":""},{"$f":"IF($B186=\"\",\"\",للطباعة1!$CA$60)","v":""},{"$f":"IF($B186=\"\",\"\",للطباعة1!$BZ$60)","v":""},{"$f":"IF($B186=\"\",\"\",للطباعة1!$CH$60)","v":""},{"$f":"IF($B186=\"\",\"\",للطباعة1!$CG$60)","v":""}]
[null,"النقاط",{"$f":"IF($B186=\"\",\"\",(D186+D187)*100/8)","v":""},null,{"$f":"IF($B186=\"\",\"\",(F186+F187)*100/8)","v":""},null,{"$f":"IF($B186=\"\",\"\",(H186+H187)*100/8)","v":""},null,{"$f":"IF($B186=\"\",\"\",(J186+J187)*100/8)","v":""},null,null,{"$f":"IF($B186=\"\",\"\",(M186+M187)*100/8)","v":""},null,{"$f":"IF($B186=\"\",\"\",(O186+O187)*100/8)","v":""},null,{"$f":"IF($B186=\"\",\"\",(Q186+Q187)*100/8)","v":""},null,{"$f":"IF($B186=\"\",\"\",(S186+S187)*100/8)","v":""},null,null,{"$f":"IF($B186=\"\",\"\",(V186+V187)*100/8)","v":""},null,{"$f":"IF($B186=\"\",\"\",(X186+X187)*100/8)","v":""},null,{"$f":"IF($B186=\"\",\"\",(Z186+Z187)*100/8)","v":""},null,{"$f":"IF($B186=\"\",\"\",(AB186+AB187)*100/8)","v":""}]
[60,{"$f":"INDIRECT(ADDRESS(A189+1,2,,,\"للطباعة1\"))","v":""},{"$f":"IF($B189=\"\",\"\",للطباعة1!$E$61)","v":""},{"$f":"IF($B189=\"\",\"\",للطباعة1!$D$61)","v":""},{"$f":"IF($B189=\"\",\"\",للطباعة1!$L$61)","v":""},{"$f":"IF($B189=\"\",\"\",للطباعة1!$K$61)","v":""},{"$f":"IF($B189=\"\",\"\",للطباعة1!$S$61)","v":""},{"$f":"IF($B189=\"\",\"\",للطباعة1!$R$61)","v":""},{"$f":"IF($B189=\"\",\"\",للطباعة1!$Z$61)","v":""},{"$f":"IF($B189=\"\",\"\",للطباعة1!$Y$61)","v":""},{"$f":"IF($B189=\"\",\"\",(C191+E191+G191+I191)/4)","v":""},{"$f":"IF($B189=\"\",\"\",للطباعة1!$AH$61)","v":""},{"$f":"IF($B189=\"\",\"\",للطباعة1!$AG$61)","v":""},{"$f":"IF($B189=\"\",\"\",للطباعة1!$AO$61)","v":""},{"$f":"IF($B189=\"\",\"\",للطباعة1!$AN$61)","v":""},{"$f":"IF($B189=\"\",\"\",للطباعة1!$AV$61)","v":""},{"$f":"IF($B189=\"\",\"\",للطباعة1!$AU$61)","v":""},{"$f":"IF($B189=\"\",\"\",للطباعة1!$BC$61)","v":""},{"$f":"IF($B189=\"\",\"\",للطباعة1!$BB$61)","v":""},{"$f":"IF($B189=\"\",\"\",(L191+N191+P191+R191)/4)","v":""},{"$f":"IF($B189=\"\",\"\",للطباعة1!$BK$61)","v":""},{"$f":"IF($B189=\"\",\"\",للطباعة1!$BJ$61)","v":""},{"$f":"IF($B189=\"\",\"\",للطباعة1!$BR$61)","v":""},{"$f":"IF($B189=\"\",\"\",للطباعة1!$BQ$61)","v":""},{"$f":"IF($B189=\"\",\"\",للطباعة1!$BY$61)","v":""},{"$f":"IF($B189=\"\",\"\",للطباعة1!$BX$61)","v":""},{"$f":"IF($B189=\"\",\"\",للطباعة1!$CF$61)","v":""},{"$f":"IF($B189=\"\",\"\",للطباعة1!$CE$61)","v":""},{"$f":"IF($B189=\"\",\"\",(U191+W191+Y191+AA191)/4)","v":""},{"$f":"IF($B189=\"\",\"\",(K189+T189+AC189)*0.04)","v":""},{"$f":"IF($B189=\"\",\"\",IF((AD189*40/12-INT(AD189*40/12))>=0.75,INT(AD189*40/12)+1,IF((AD189*40/12-INT(AD189*40/12))<0.25,INT(AD189*40/12),INT(AD189*40/12)+0.5)))","v":""},{"$f":"IF($B189=\"\",\"\",INDIRECT(ADDRESS(11+A189*2,18,1,,\"SeconedPartDegrees1\")))","v":""},{"$f":"IF($B189=\"\",\"\",INDIRECT(ADDRESS(11+A189*2,19,1,,\"SeconedPartDegrees1\")))","v":""},{"$f":"IF(OR(AF189=\"\",AG189=\"\"),\"\",AF189+AG189)","v":""},{"$f":"IF(OR(AE189=\"\",AG189=\"\"),\"\",AG189+AF189+AE189)","v":""},null,null,{"$f":"ROUNDUP(((FirstPartDegrees1!#REF!+D189)/2+(FirstPartDegrees1!E184+O189)/2+(FirstPartDegrees1!#REF!+M189)/2+(FirstPartDegrees1!C184+F189)/2 )/4,0)","v":{"$error":"#REF!"}},{"$f":"ROUNDUP(((FirstPartDegrees1!#REF!+FirstPartDegrees1!#REF!)/2+(FirstPartDegrees1!F184+J189)/2+(FirstPartDegrees1!#REF!+S189)/2+(FirstPartDegrees1!I184+#REF!)/2 )/4,0)","v":{"$error":"#REF!"}},{"$f":"ROUNDUP(((FirstPartDegrees1!#REF!+FirstPartDegrees1!J184)/2+(FirstPartDegrees1!#REF!+FirstPartDegrees1!#REF!)/2+(FirstPartDegrees1!#REF!+V189)/2+(AB189+#REF!)/2)/4,0)","v":{"$error":"#REF!"}},{"$f":"(AN189+AAE189+AL189)*40/12","v":{"$error":"#REF!"}}]
[null,null,{"$f":"IF($B189=\"\",\"\",للطباعة1!$G$61)","v":""},{"$f":"IF($B189=\"\",\"\",للطباعة1!$F$61)","v":""},{"$f":"IF($B189=\"\",\"\",للطباعة1!$N$61)","v":""},{"$f":"IF($B189=\"\",\"\",للطباعة1!$M$61)","v":""},{"$f":"IF($B189=\"\",\"\",للطباعة1!$U$61)","v":""},{"$f":"IF($B189=\"\",\"\",للطباعة1!$T$61)","v":""},{"$f":"IF($B189=\"\",\"\",للطباعة1!$AB$61)","v":""},{"$f":"IF($B189=\"\",\"\",للطباعة1!$AA$61)","v":""},null,{"$f":"IF($B189=\"\",\"\",للطباعة1!$AJ$61)","v":""},{"$f":"IF($B189=\"\",\"\",للطباعة1!$AI$61)","v":""},{"$f":"IF($B189=\"\",\"\",للطباعة1!$AQ$61)","v":""},{"$f":"IF($B189=\"\",\"\",للطباعة1!$AP$61)","v":""},{"$f":"IF($B189=\"\",\"\",للطباعة1!$AX$61)","v":""},{"$f":"IF($B189=\"\",\"\",للطباعة1!$AW$61)","v":""},{"$f":"IF($B189=\"\",\"\",للطباعة1!$BE$61)","v":""},{"$f":"IF($B189=\"\",\"\",للطباعة1!$BD$61)","v":""},null,{"$f":"IF($B189=\"\",\"\",للطباعة1!$BM$61)","v":""},{"$f":"IF($B189=\"\",\"\",للطباعة1!$BL$61)","v":""},{"$f":"IF($B189=\"\",\"\",للطباعة1!$BT$61)","v":""},{"$f":"IF($B189=\"\",\"\",للطباعة1!$BS$61)","v":""},{"$f":"IF($B189=\"\",\"\",للطباعة1!$CA$61)","v":""},{"$f":"IF($B189=\"\",\"\",للطباعة1!$BZ$61)","v":""},{"$f":"IF($B189=\"\",\"\",للطباعة1!$CH$61)","v":""},{"$f":"IF($B189=\"\",\"\",للطباعة1!$CG$61)","v":""}]
[null,"النقاط",{"$f":"IF($B189=\"\",\"\",(D189+D190)*100/8)","v":""},null,{"$f":"IF($B189=\"\",\"\",(F189+F190)*100/8)","v":""},null,{"$f":"IF($B189=\"\",\"\",(H189+H190)*100/8)","v":""},null,{"$f":"IF($B189=\"\",\"\",(J189+J190)*100/8)","v":""},null,null,{"$f":"IF($B189=\"\",\"\",(M189+M190)*100/8)","v":""},null,{"$f":"IF($B189=\"\",\"\",(O189+O190)*100/8)","v":""},null,{"$f":"IF($B189=\"\",\"\",(Q189+Q190)*100/8)","v":""},null,{"$f":"IF($B189=\"\",\"\",(S189+S190)*100/8)","v":""},null,null,{"$f":"IF($B189=\"\",\"\",(V189+V190)*100/8)","v":""},null,{"$f":"IF($B189=\"\",\"\",(X189+X190)*100/8)","v":""},null,{"$f":"IF($B189=\"\",\"\",(Z189+Z190)*100/8)","v":""},null,{"$f":"IF($B189=\"\",\"\",(AB189+AB190)*100/8)","v":""}]
[61,{"$f":"INDIRECT(ADDRESS(A192+1,2,,,\"للطباعة1\"))","v":""},{"$f":"IF($B192=\"\",\"\",للطباعة1!$E$62)","v":""},{"$f":"IF($B192=\"\",\"\",للطباعة1!$D$62)","v":""},{"$f":"IF($B192=\"\",\"\",للطباعة1!$L$62)","v":""},{"$f":"IF($B192=\"\",\"\",للطباعة1!$K$62)","v":""},{"$f":"IF($B192=\"\",\"\",للطباعة1!$S$62)","v":""},{"$f":"IF($B192=\"\",\"\",للطباعة1!$R$62)","v":""},{"$f":"IF($B192=\"\",\"\",للطباعة1!$Z$62)","v":""},{"$f":"IF($B192=\"\",\"\",للطباعة1!$Y$62)","v":""},{"$f":"IF($B192=\"\",\"\",(C194+E194+G194+I194)/4)","v":""},{"$f":"IF($B192=\"\",\"\",للطباعة1!$AH$62)","v":""},{"$f":"IF($B192=\"\",\"\",للطباعة1!$AG$62)","v":""},{"$f":"IF($B192=\"\",\"\",للطباعة1!$AO$62)","v":""},{"$f":"IF($B192=\"\",\"\",للطباعة1!$AN$62)","v":""},{"$f":"IF($B192=\"\",\"\",للطباعة1!$AV$62)","v":""},{"$f":"IF($B192=\"\",\"\",للطباعة1!$AU$62)","v":""},{"$f":"IF($B192=\"\",\"\",للطباعة1!$BC$62)","v":""},{"$f":"IF($B192=\"\",\"\",للطباعة1!$BB$62)","v":""},{"$f":"IF($B192=\"\",\"\",(L194+N194+P194+R194)/4)","v":""},{"$f":"IF($B192=\"\",\"\",للطباعة1!$BK$62)","v":""},{"$f":"IF($B192=\"\",\"\",للطباعة1!$BJ$62)","v":""},{"$f":"IF($B192=\"\",\"\",للطباعة1!$BR$62)","v":""},{"$f":"IF($B192=\"\",\"\",للطباعة1!$BQ$62)","v":""},{"$f":"IF($B192=\"\",\"\",للطباعة1!$BY$62)","v":""},{"$f":"IF($B192=\"\",\"\",للطباعة1!$BX$62)","v":""},{"$f":"IF($B192=\"\",\"\",للطباعة1!$CF$62)","v":""},{"$f":"IF($B192=\"\",\"\",للطباعة1!$CE$62)","v":""},{"$f":"IF($B192=\"\",\"\",(U194+W194+Y194+AA194)/4)","v":""},{"$f":"IF($B192=\"\",\"\",(K192+T192+AC192)*0.04)","v":""},{"$f":"IF($B192=\"\",\"\",IF((AD192*40/12-INT(AD192*40/12))>=0.75,INT(AD192*40/12)+1,IF((AD192*40/12-INT(AD192*40/12))<0.25,INT(AD192*40/12),INT(AD192*40/12)+0.5)))","v":""},{"$f":"IF($B192=\"\",\"\",INDIRECT(ADDRESS(11+A192*2,18,1,,\"SeconedPartDegrees1\")))","v":""},{"$f":"IF($B192=\"\",\"\",INDIRECT(ADDRESS(11+A192*2,19,1,,\"SeconedPartDegrees1\")))","v":""},{"$f":"IF(OR(AF192=\"\",AG192=\"\"),\"\",AF192+AG192)","v":""},{"$f":"IF(OR(AE192=\"\",AG192=\"\"),\"\",AG192+AF192+AE192)","v":""},null,null,{"$f":"ROUNDUP(((FirstPartDegrees1!#REF!+D192)/2+(FirstPartDegrees1!E187+O192)/2+(FirstPartDegrees1!#REF!+M192)/2+(FirstPartDegrees1!C187+F192)/2 )/4,0)","v":{"$error":"#REF!"}},{"$f":"ROUNDUP(((FirstPartDegrees1!#REF!+FirstPartDegrees1!#REF!)/2+(FirstPartDegrees1!F187+J192)/2+(FirstPartDegrees1!#REF!+S192)/2+(FirstPartDegrees1!I187+#REF!)/2 )/4,0)","v":{"$error":"#REF!"}},{"$f":"ROUNDUP(((FirstPartDegrees1!#REF!+FirstPartDegrees1!J187)/2+(FirstPartDegrees1!#REF!+FirstPartDegrees1!#REF!)/2+(FirstPartDegrees1!#REF!+V192)/2+(AB192+#REF!)/2)/4,0)","v":{"$error":"#REF!"}},{"$f":"(AN192+AAE192+AL192)*40/12","v":{"$error":"#REF!"}}]
[null,null,{"$f":"IF($B192=\"\",\"\",للطباعة1!$G$62)","v":""},{"$f":"IF($B192=\"\",\"\",للطباعة1!$F$62)","v":""},{"$f":"IF($B192=\"\",\"\",للطباعة1!$N$62)","v":""},{"$f":"IF($B192=\"\",\"\",للطباعة1!$M$62)","v":""},{"$f":"IF($B192=\"\",\"\",للطباعة1!$U$62)","v":""},{"$f":"IF($B192=\"\",\"\",للطباعة1!$T$62)","v":""},{"$f":"IF($B192=\"\",\"\",للطباعة1!$AB$62)","v":""},{"$f":"IF($B192=\"\",\"\",للطباعة1!$AA$62)","v":""},null,{"$f":"IF($B192=\"\",\"\",للطباعة1!$AJ$62)","v":""},{"$f":"IF($B192=\"\",\"\",للطباعة1!$AI$62)","v":""},{"$f":"IF($B192=\"\",\"\",للطباعة1!$AQ$62)","v":""},{"$f":"IF($B192=\"\",\"\",للطباعة1!$AP$62)","v":""},{"$f":"IF($B192=\"\",\"\",للطباعة1!$AX$62)","v":""},{"$f":"IF($B192=\"\",\"\",للطباعة1!$AW$62)","v":""},{"$f":"IF($B192=\"\",\"\",للطباعة1!$BE$62)","v":""},{"$f":"IF($B192=\"\",\"\",للطباعة1!$BD$62)","v":""},null,{"$f":"IF($B192=\"\",\"\",للطباعة1!$BM$62)","v":""},{"$f":"IF($B192=\"\",\"\",للطباعة1!$BL$62)","v":""},{"$f":"IF($B192=\"\",\"\",للطباعة1!$BT$62)","v":""},{"$f":"IF($B192=\"\",\"\",للطباعة1!$BS$62)","v":""},{"$f":"IF($B192=\"\",\"\",للطباعة1!$CA$62)","v":""},{"$f":"IF($B192=\"\",\"\",للطباعة1!$BZ$62)","v":""},{"$f":"IF($B192=\"\",\"\",للطباعة1!$CH$62)","v":""},{"$f":"IF($B192=\"\",\"\",للطباعة1!$CG$62)","v":""}]
[null,"النقاط",{"$f":"IF($B192=\"\",\"\",(D192+D193)*100/8)","v":""},null,{"$f":"IF($B192=\"\",\"\",(F192+F193)*100/8)","v":""},null,{"$f":"IF($B192=\"\",\"\",(H192+H193)*100/8)","v":""},null,{"$f":"IF($B192=\"\",\"\",(J192+J193)*100/8)","v":""},null,null,{"$f":"IF($B192=\"\",\"\",(M192+M193)*100/8)","v":""},null,{"$f":"IF($B192=\"\",\"\",(O192+O193)*100/8)","v":""},null,{"$f":"IF($B192=\"\",\"\",(Q192+Q193)*100/8)","v":""},null,{"$f":"IF($B192=\"\",\"\",(S192+S193)*100/8)","v":""},null,null,{"$f":"IF($B192=\"\",\"\",(V192+V193)*100/8)","v":""},null,{"$f":"IF($B192=\"\",\"\",(X192+X193)*100/8)","v":""},null,{"$f":"IF($B192=\"\",\"\",(Z192+Z193)*100/8)","v":""},null,{"$f":"IF($B192=\"\",\"\",(AB192+AB193)*100/8)","v":""}]
[62,{"$f":"INDIRECT(ADDRESS(A195+1,2,,,\"للطباعة1\"))","v":""},{"$f":"IF($B195=\"\",\"\",للطباعة1!$E$63)","v":""},{"$f":"IF($B195=\"\",\"\",للطباعة1!$D$63)","v":""},{"$f":"IF($B195=\"\",\"\",للطباعة1!$L$63)","v":""},{"$f":"IF($B195=\"\",\"\",للطباعة1!$K$63)","v":""},{"$f":"IF($B195=\"\",\"\",للطباعة1!$S$63)","v":""},{"$f":"IF($B195=\"\",\"\",للطباعة1!$R$63)","v":""},{"$f":"IF($B195=\"\",\"\",للطباعة1!$Z$63)","v":""},{"$f":"IF($B195=\"\",\"\",للطباعة1!$Y$63)","v":""},{"$f":"IF($B195=\"\",\"\",(C197+E197+G197+I197)/4)","v":""},{"$f":"IF($B195=\"\",\"\",للطباعة1!$AH$63)","v":""},{"$f":"IF($B195=\"\",\"\",للطباعة1!$AG$63)","v":""},{"$f":"IF($B195=\"\",\"\",للطباعة1!$AO$63)","v":""},{"$f":"IF($B195=\"\",\"\",للطباعة1!$AN$63)","v":""},{"$f":"IF($B195=\"\",\"\",للطباعة1!$AV$63)","v":""},{"$f":"IF($B195=\"\",\"\",للطباعة1!$AU$63)","v":""},{"$f":"IF($B195=\"\",\"\",للطباعة1!$BC$63)","v":""},{"$f":"IF($B195=\"\",\"\",للطباعة1!$BB$63)","v":""},{"$f":"IF($B195=\"\",\"\",(L197+N197+P197+R197)/4)","v":""},{"$f":"IF($B195=\"\",\"\",للطباعة1!$BK$63)","v":""},{"$f":"IF($B195=\"\",\"\",للطباعة1!$BJ$63)","v":""},{"$f":"IF($B195=\"\",\"\",للطباعة1!$BR$63)","v":""},{"$f":"IF($B195=\"\",\"\",للطباعة1!$BQ$63)","v":""},{"$f":"IF($B195=\"\",\"\",للطباعة1!$BY$63)","v":""},{"$f":"IF($B195=\"\",\"\",للطباعة1!$BX$63)","v":""},{"$f":"IF($B195=\"\",\"\",للطباعة1!$CF$63)","v":""},{"$f":"IF($B195=\"\",\"\",للطباعة1!$CE$63)","v":""},{"$f":"IF($B195=\"\",\"\",(U197+W197+Y197+AA197)/4)","v":""},{"$f":"IF($B195=\"\",\"\",(K195+T195+AC195)*0.04)","v":""},{"$f":"IF($B195=\"\",\"\",IF((AD195*40/12-INT(AD195*40/12))>=0.75,INT(AD195*40/12)+1,IF((AD195*40/12-INT(AD195*40/12))<0.25,INT(AD195*40/12),INT(AD195*40/12)+0.5)))","v":""},{"$f":"IF($B195=\"\",\"\",INDIRECT(ADDRESS(11+A195*2,18,1,,\"SeconedPartDegrees1\")))","v":""},{"$f":"IF($B195=\"\",\"\",INDIRECT(ADDRESS(11+A195*2,19,1,,\"SeconedPartDegrees1\")))","v":""},{"$f":"IF(OR(AF195=\"\",AG195=\"\"),\"\",AF195+AG195)","v":""},{"$f":"IF(OR(AE195=\"\",AG195=\"\"),\"\",AG195+AF195+AE195)","v":""},null,null,{"$f":"ROUNDUP(((FirstPartDegrees1!#REF!+D195)/2+(FirstPartDegrees1!E190+O195)/2+(FirstPartDegrees1!#REF!+M195)/2+(FirstPartDegrees1!C190+F195)/2 )/4,0)","v":{"$error":"#REF!"}},{"$f":"ROUNDUP(((FirstPartDegrees1!#REF!+FirstPartDegrees1!#REF!)/2+(FirstPartDegrees1!F190+J195)/2+(FirstPartDegrees1!#REF!+S195)/2+(FirstPartDegrees1!I190+#REF!)/2 )/4,0)","v":{"$error":"#REF!"}},{"$f":"ROUNDUP(((FirstPartDegrees1!#REF!+FirstPartDegrees1!J190)/2+(FirstPartDegrees1!#REF!+FirstPartDegrees1!#REF!)/2+(FirstPartDegrees1!#REF!+V195)/2+(AB195+#REF!)/2)/4,0)","v":{"$error":"#REF!"}},{"$f":"(AN195+AAE195+AL195)*40/12","v":{"$error":"#REF!"}}]
[null,null,{"$f":"IF($B195=\"\",\"\",للطباعة1!$G$63)","v":""},{"$f":"IF($B195=\"\",\"\",للطباعة1!$F$63)","v":""},{"$f":"IF($B195=\"\",\"\",للطباعة1!$N$63)","v":""},{"$f":"IF($B195=\"\",\"\",للطباعة1!$M$63)","v":""},{"$f":"IF($B195=\"\",\"\",للطباعة1!$U$63)","v":""},{"$f":"IF($B195=\"\",\"\",للطباعة1!$T$63)","v":""},{"$f":"IF($B195=\"\",\"\",للطباعة1!$AB$63)","v":""},{"$f":"IF($B195=\"\",\"\",للطباعة1!$AA$63)","v":""},null,{"$f":"IF($B195=\"\",\"\",للطباعة1!$AJ$63)","v":""},{"$f":"IF($B195=\"\",\"\",للطباعة1!$AI$63)","v":""},{"$f":"IF($B195=\"\",\"\",للطباعة1!$AQ$63)","v":""},{"$f":"IF($B195=\"\",\"\",للطباعة1!$AP$63)","v":""},{"$f":"IF($B195=\"\",\"\",للطباعة1!$AX$63)","v":""},{"$f":"IF($B195=\"\",\"\",للطباعة1!$AW$63)","v":""},{"$f":"IF($B195=\"\",\"\",للطباعة1!$BE$63)","v":""},{"$f":"IF($B195=\"\",\"\",للطباعة1!$BD$63)","v":""},null,{"$f":"IF($B195=\"\",\"\",للطباعة1!$BM$63)","v":""},{"$f":"IF($B195=\"\",\"\",للطباعة1!$BL$63)","v":""},{"$f":"IF($B195=\"\",\"\",للطباعة1!$BT$63)","v":""},{"$f":"IF($B195=\"\",\"\",للطباعة1!$BS$63)","v":""},{"$f":"IF($B195=\"\",\"\",للطباعة1!$CA$63)","v":""},{"$f":"IF($B195=\"\",\"\",للطباعة1!$BZ$63)","v":""},{"$f":"IF($B195=\"\",\"\",للطباعة1!$CH$63)","v":""},{"$f":"IF($B195=\"\",\"\",للطباعة1!$CG$63)","v":""}]
[null,"النقاط",{"$f":"IF($B195=\"\",\"\",(D195+D196)*100/8)","v":""},null,{"$f":"IF($B195=\"\",\"\",(F195+F196)*100/8)","v":""},null,{"$f":"IF($B195=\"\",\"\",(H195+H196)*100/8)","v":""},null,{"$f":"IF($B195=\"\",\"\",(J195+J196)*100/8)","v":""},null,null,{"$f":"IF($B195=\"\",\"\",(M195+M196)*100/8)","v":""},null,{"$f":"IF($B195=\"\",\"\",(O195+O196)*100/8)","v":""},null,{"$f":"IF($B195=\"\",\"\",(Q195+Q196)*100/8)","v":""},null,{"$f":"IF($B195=\"\",\"\",(S195+S196)*100/8)","v":""},null,null,{"$f":"IF($B195=\"\",\"\",(V195+V196)*100/8)","v":""},null,{"$f":"IF($B195=\"\",\"\",(X195+X196)*100/8)","v":""},null,{"$f":"IF($B195=\"\",\"\",(Z195+Z196)*100/8)","v":""},null,{"$f":"IF($B195=\"\",\"\",(AB195+AB196)*100/8)","v":""}]
[63,{"$f":"INDIRECT(ADDRESS(A198+1,2,,,\"للطباعة1\"))","v":""},{"$f":"IF($B198=\"\",\"\",للطباعة1!$E$64)","v":""},{"$f":"IF($B198=\"\",\"\",للطباعة1!$D$64)","v":""},{"$f":"IF($B198=\"\",\"\",للطباعة1!$L$64)","v":""},{"$f":"IF($B198=\"\",\"\",للطباعة1!$K$64)","v":""},{"$f":"IF($B198=\"\",\"\",للطباعة1!$S$64)","v":""},{"$f":"IF($B198=\"\",\"\",للطباعة1!$R$64)","v":""},{"$f":"IF($B198=\"\",\"\",للطباعة1!$Z$64)","v":""},{"$f":"IF($B198=\"\",\"\",للطباعة1!$Y$64)","v":""},{"$f":"IF($B198=\"\",\"\",(C200+E200+G200+I200)/4)","v":""},{"$f":"IF($B198=\"\",\"\",للطباعة1!$AH$64)","v":""},{"$f":"IF($B198=\"\",\"\",للطباعة1!$AG$64)","v":""},{"$f":"IF($B198=\"\",\"\",للطباعة1!$AO$64)","v":""},{"$f":"IF($B198=\"\",\"\",للطباعة1!$AN$64)","v":""},{"$f":"IF($B198=\"\",\"\",للطباعة1!$AV$64)","v":""},{"$f":"IF($B198=\"\",\"\",للطباعة1!$AU$64)","v":""},{"$f":"IF($B198=\"\",\"\",للطباعة1!$BC$64)","v":""},{"$f":"IF($B198=\"\",\"\",للطباعة1!$BB$64)","v":""},{"$f":"IF($B198=\"\",\"\",(L200+N200+P200+R200)/4)","v":""},{"$f":"IF($B198=\"\",\"\",للطباعة1!$BK$64)","v":""},{"$f":"IF($B198=\"\",\"\",للطباعة1!$BJ$64)","v":""},{"$f":"IF($B198=\"\",\"\",للطباعة1!$BR$64)","v":""},{"$f":"IF($B198=\"\",\"\",للطباعة1!$BQ$64)","v":""},{"$f":"IF($B198=\"\",\"\",للطباعة1!$BY$64)","v":""},{"$f":"IF($B198=\"\",\"\",للطباعة1!$BX$64)","v":""},{"$f":"IF($B198=\"\",\"\",للطباعة1!$CF$64)","v":""},{"$f":"IF($B198=\"\",\"\",للطباعة1!$CE$64)","v":""},{"$f":"IF($B198=\"\",\"\",(U200+W200+Y200+AA200)/4)","v":""},{"$f":"IF($B198=\"\",\"\",(K198+T198+AC198)*0.04)","v":""},{"$f":"IF($B198=\"\",\"\",IF((AD198*40/12-INT(AD198*40/12))>=0.75,INT(AD198*40/12)+1,IF((AD198*40/12-INT(AD198*40/12))<0.25,INT(AD198*40/12),INT(AD198*40/12)+0.5)))","v":""},{"$f":"IF($B198=\"\",\"\",INDIRECT(ADDRESS(11+A198*2,18,1,,\"SeconedPartDegrees1\")))","v":""},{"$f":"IF($B198=\"\",\"\",INDIRECT(ADDRESS(11+A198*2,19,1,,\"SeconedPartDegrees1\")))","v":""},{"$f":"IF(OR(AF198=\"\",AG198=\"\"),\"\",AF198+AG198)","v":""},{"$f":"IF(OR(AE198=\"\",AG198=\"\"),\"\",AG198+AF198+AE198)","v":""},null,null,{"$f":"ROUNDUP(((FirstPartDegrees1!#REF!+D198)/2+(FirstPartDegrees1!E193+O198)/2+(FirstPartDegrees1!#REF!+M198)/2+(FirstPartDegrees1!C193+F198)/2 )/4,0)","v":{"$error":"#REF!"}},{"$f":"ROUNDUP(((FirstPartDegrees1!#REF!+FirstPartDegrees1!#REF!)/2+(FirstPartDegrees1!F193+J198)/2+(FirstPartDegrees1!#REF!+S198)/2+(FirstPartDegrees1!I193+#REF!)/2 )/4,0)","v":{"$error":"#REF!"}},{"$f":"ROUNDUP(((FirstPartDegrees1!#REF!+FirstPartDegrees1!J193)/2+(FirstPartDegrees1!#REF!+FirstPartDegrees1!#REF!)/2+(FirstPartDegrees1!#REF!+V198)/2+(AB198+#REF!)/2)/4,0)","v":{"$error":"#REF!"}},{"$f":"(AN198+AAE198+AL198)*40/12","v":{"$error":"#REF!"}}]
[null,null,{"$f":"IF($B198=\"\",\"\",للطباعة1!$G$64)","v":""},{"$f":"IF($B198=\"\",\"\",للطباعة1!$F$64)","v":""},{"$f":"IF($B198=\"\",\"\",للطباعة1!$N$64)","v":""},{"$f":"IF($B198=\"\",\"\",للطباعة1!$M$64)","v":""},{"$f":"IF($B198=\"\",\"\",للطباعة1!$U$64)","v":""},{"$f":"IF($B198=\"\",\"\",للطباعة1!$T$64)","v":""},{"$f":"IF($B198=\"\",\"\",للطباعة1!$AB$64)","v":""},{"$f":"IF($B198=\"\",\"\",للطباعة1!$AA$64)","v":""},null,{"$f":"IF($B198=\"\",\"\",للطباعة1!$AJ$64)","v":""},{"$f":"IF($B198=\"\",\"\",للطباعة1!$AI$64)","v":""},{"$f":"IF($B198=\"\",\"\",للطباعة1!$AQ$64)","v":""},{"$f":"IF($B198=\"\",\"\",للطباعة1!$AP$64)","v":""},{"$f":"IF($B198=\"\",\"\",للطباعة1!$AX$64)","v":""},{"$f":"IF($B198=\"\",\"\",للطباعة1!$AW$64)","v":""},{"$f":"IF($B198=\"\",\"\",للطباعة1!$BE$64)","v":""},{"$f":"IF($B198=\"\",\"\",للطباعة1!$BD$64)","v":""},null,{"$f":"IF($B198=\"\",\"\",للطباعة1!$BM$64)","v":""},{"$f":"IF($B198=\"\",\"\",للطباعة1!$BL$64)","v":""},{"$f":"IF($B198=\"\",\"\",للطباعة1!$BT$64)","v":""},{"$f":"IF($B198=\"\",\"\",للطباعة1!$BS$64)","v":""},{"$f":"IF($B198=\"\",\"\",للطباعة1!$CA$64)","v":""},{"$f":"IF($B198=\"\",\"\",للطباعة1!$BZ$64)","v":""},{"$f":"IF($B198=\"\",\"\",للطباعة1!$CH$64)","v":""},{"$f":"IF($B198=\"\",\"\",للطباعة1!$CG$64)","v":""}]
[null,"النقاط",{"$f":"IF($B198=\"\",\"\",(D198+D199)*100/8)","v":""},null,{"$f":"IF($B198=\"\",\"\",(F198+F199)*100/8)","v":""},null,{"$f":"IF($B198=\"\",\"\",(H198+H199)*100/8)","v":""},null,{"$f":"IF($B198=\"\",\"\",(J198+J199)*100/8)","v":""},null,null,{"$f":"IF($B198=\"\",\"\",(M198+M199)*100/8)","v":""},null,{"$f":"IF($B198=\"\",\"\",(O198+O199)*100/8)","v":""},null,{"$f":"IF($B198=\"\",\"\",(Q198+Q199)*100/8)","v":""},null,{"$f":"IF($B198=\"\",\"\",(S198+S199)*100/8)","v":""},null,null,{"$f":"IF($B198=\"\",\"\",(V198+V199)*100/8)","v":""},null,{"$f":"IF($B198=\"\",\"\",(X198+X199)*100/8)","v":""},null,{"$f":"IF($B198=\"\",\"\",(Z198+Z199)*100/8)","v":""},null,{"$f":"IF($B198=\"\",\"\",(AB198+AB199)*100/8)","v":""}]
[64,{"$f":"INDIRECT(ADDRESS(A201+1,2,,,\"للطباعة1\"))","v":""},{"$f":"IF($B201=\"\",\"\",للطباعة1!$E$65)","v":""},{"$f":"IF($B201=\"\",\"\",للطباعة1!$D$65)","v":""},{"$f":"IF($B201=\"\",\"\",للطباعة1!$L$65)","v":""},{"$f":"IF($B201=\"\",\"\",للطباعة1!$K$65)","v":""},{"$f":"IF($B201=\"\",\"\",للطباعة1!$S$65)","v":""},{"$f":"IF($B201=\"\",\"\",للطباعة1!$R$65)","v":""},{"$f":"IF($B201=\"\",\"\",للطباعة1!$Z$65)","v":""},{"$f":"IF($B201=\"\",\"\",للطباعة1!$Y$65)","v":""},{"$f":"IF($B201=\"\",\"\",(C203+E203+G203+I203)/4)","v":""},{"$f":"IF($B201=\"\",\"\",للطباعة1!$AH$65)","v":""},{"$f":"IF($B201=\"\",\"\",للطباعة1!$AG$65)","v":""},{"$f":"IF($B201=\"\",\"\",للطباعة1!$AO$65)","v":""},{"$f":"IF($B201=\"\",\"\",للطباعة1!$AN$65)","v":""},{"$f":"IF($B201=\"\",\"\",للطباعة1!$AV$65)","v":""},{"$f":"IF($B201=\"\",\"\",للطباعة1!$AU$65)","v":""},{"$f":"IF($B201=\"\",\"\",للطباعة1!$BC$65)","v":""},{"$f":"IF($B201=\"\",\"\",للطباعة1!$BB$65)","v":""},{"$f":"IF($B201=\"\",\"\",(L203+N203+P203+R203)/4)","v":""},{"$f":"IF($B201=\"\",\"\",للطباعة1!$BK$65)","v":""},{"$f":"IF($B201=\"\",\"\",للطباعة1!$BJ$65)","v":""},{"$f":"IF($B201=\"\",\"\",للطباعة1!$BR$65)","v":""},{"$f":"IF($B201=\"\",\"\",للطباعة1!$BQ$65)","v":""},{"$f":"IF($B201=\"\",\"\",للطباعة1!$BY$65)","v":""},{"$f":"IF($B201=\"\",\"\",للطباعة1!$BX$65)","v":""},{"$f":"IF($B201=\"\",\"\",للطباعة1!$CF$65)","v":""},{"$f":"IF($B201=\"\",\"\",للطباعة1!$CE$65)","v":""},{"$f":"IF($B201=\"\",\"\",(U203+W203+Y203+AA203)/4)","v":""},{"$f":"IF($B201=\"\",\"\",(K201+T201+AC201)*0.04)","v":""},{"$f":"IF($B201=\"\",\"\",IF((AD201*40/12-INT(AD201*40/12))>=0.75,INT(AD201*40/12)+1,IF((AD201*40/12-INT(AD201*40/12))<0.25,INT(AD201*40/12),INT(AD201*40/12)+0.5)))","v":""},{"$f":"IF($B201=\"\",\"\",INDIRECT(ADDRESS(11+A201*2,18,1,,\"SeconedPartDegrees1\")))","v":""},{"$f":"IF($B201=\"\",\"\",INDIRECT(ADDRESS(11+A201*2,19,1,,\"SeconedPartDegrees1\")))","v":""},{"$f":"IF(OR(AF201=\"\",AG201=\"\"),\"\",AF201+AG201)","v":""},{"$f":"IF(OR(AE201=\"\",AG201=\"\"),\"\",AG201+AF201+AE201)","v":""},null,null,{"$f":"ROUNDUP(((FirstPartDegrees1!#REF!+D201)/2+(FirstPartDegrees1!E196+O201)/2+(FirstPartDegrees1!#REF!+M201)/2+(FirstPartDegrees1!C196+F201)/2 )/4,0)","v":{"$error":"#REF!"}},{"$f":"ROUNDUP(((FirstPartDegrees1!#REF!+FirstPartDegrees1!#REF!)/2+(FirstPartDegrees1!F196+J201)/2+(FirstPartDegrees1!#REF!+S201)/2+(FirstPartDegrees1!I196+#REF!)/2 )/4,0)","v":{"$error":"#REF!"}},{"$f":"ROUNDUP(((FirstPartDegrees1!#REF!+FirstPartDegrees1!J196)/2+(FirstPartDegrees1!#REF!+FirstPartDegrees1!#REF!)/2+(FirstPartDegrees1!#REF!+V201)/2+(AB201+#REF!)/2)/4,0)","v":{"$error":"#REF!"}},{"$f":"(AN201+AAE201+AL201)*40/12","v":{"$error":"#REF!"}}]
[null,null,{"$f":"IF($B201=\"\",\"\",للطباعة1!$G$65)","v":""},{"$f":"IF($B201=\"\",\"\",للطباعة1!$F$65)","v":""},{"$f":"IF($B201=\"\",\"\",للطباعة1!$N$65)","v":""},{"$f":"IF($B201=\"\",\"\",للطباعة1!$M$65)","v":""},{"$f":"IF($B201=\"\",\"\",للطباعة1!$U$65)","v":""},{"$f":"IF($B201=\"\",\"\",للطباعة1!$T$65)","v":""},{"$f":"IF($B201=\"\",\"\",للطباعة1!$AB$65)","v":""},{"$f":"IF($B201=\"\",\"\",للطباعة1!$AA$65)","v":""},null,{"$f":"IF($B201=\"\",\"\",للطباعة1!$AJ$65)","v":""},{"$f":"IF($B201=\"\",\"\",للطباعة1!$AI$65)","v":""},{"$f":"IF($B201=\"\",\"\",للطباعة1!$AQ$65)","v":""},{"$f":"IF($B201=\"\",\"\",للطباعة1!$AP$65)","v":""},{"$f":"IF($B201=\"\",\"\",للطباعة1!$AX$65)","v":""},{"$f":"IF($B201=\"\",\"\",للطباعة1!$AW$65)","v":""},{"$f":"IF($B201=\"\",\"\",للطباعة1!$BE$65)","v":""},{"$f":"IF($B201=\"\",\"\",للطباعة1!$BD$65)","v":""},null,{"$f":"IF($B201=\"\",\"\",للطباعة1!$BM$65)","v":""},{"$f":"IF($B201=\"\",\"\",للطباعة1!$BL$65)","v":""},{"$f":"IF($B201=\"\",\"\",للطباعة1!$BT$65)","v":""},{"$f":"IF($B201=\"\",\"\",للطباعة1!$BS$65)","v":""},{"$f":"IF($B201=\"\",\"\",للطباعة1!$CA$65)","v":""},{"$f":"IF($B201=\"\",\"\",للطباعة1!$BZ$65)","v":""},{"$f":"IF($B201=\"\",\"\",للطباعة1!$CH$65)","v":""},{"$f":"IF($B201=\"\",\"\",للطباعة1!$CG$65)","v":""}]
[null,"النقاط",{"$f":"IF($B201=\"\",\"\",(D201+D202)*100/8)","v":""},null,{"$f":"IF($B201=\"\",\"\",(F201+F202)*100/8)","v":""},null,{"$f":"IF($B201=\"\",\"\",(H201+H202)*100/8)","v":""},null,{"$f":"IF($B201=\"\",\"\",(J201+J202)*100/8)","v":""},null,null,{"$f":"IF($B201=\"\",\"\",(M201+M202)*100/8)","v":""},null,{"$f":"IF($B201=\"\",\"\",(O201+O202)*100/8)","v":""},null,{"$f":"IF($B201=\"\",\"\",(Q201+Q202)*100/8)","v":""},null,{"$f":"IF($B201=\"\",\"\",(S201+S202)*100/8)","v":""},null,null,{"$f":"IF($B201=\"\",\"\",(V201+V202)*100/8)","v":""},null,{"$f":"IF($B201=\"\",\"\",(X201+X202)*100/8)","v":""},null,{"$f":"IF($B201=\"\",\"\",(Z201+Z202)*100/8)","v":""},null,{"$f":"IF($B201=\"\",\"\",(AB201+AB202)*100/8)","v":""}]
[65,{"$f":"INDIRECT(ADDRESS(A204+1,2,,,\"للطباعة1\"))","v":""},{"$f":"IF($B204=\"\",\"\",للطباعة1!$E$66)","v":""},{"$f":"IF($B204=\"\",\"\",للطباعة1!$D$66)","v":""},{"$f":"IF($B204=\"\",\"\",للطباعة1!$L$66)","v":""},{"$f":"IF($B204=\"\",\"\",للطباعة1!$K$66)","v":""},{"$f":"IF($B204=\"\",\"\",للطباعة1!$S$66)","v":""},{"$f":"IF($B204=\"\",\"\",للطباعة1!$R$66)","v":""},{"$f":"IF($B204=\"\",\"\",للطباعة1!$Z$66)","v":""},{"$f":"IF($B204=\"\",\"\",للطباعة1!$Y$66)","v":""},{"$f":"IF($B204=\"\",\"\",(C206+E206+G206+I206)/4)","v":""},{"$f":"IF($B204=\"\",\"\",للطباعة1!$AH$66)","v":""},{"$f":"IF($B204=\"\",\"\",للطباعة1!$AG$66)","v":""},{"$f":"IF($B204=\"\",\"\",للطباعة1!$AO$66)","v":""},{"$f":"IF($B204=\"\",\"\",للطباعة1!$AN$66)","v":""},{"$f":"IF($B204=\"\",\"\",للطباعة1!$AV$66)","v":""},{"$f":"IF($B204=\"\",\"\",للطباعة1!$AU$66)","v":""},{"$f":"IF($B204=\"\",\"\",للطباعة1!$BC$66)","v":""},{"$f":"IF($B204=\"\",\"\",للطباعة1!$BB$66)","v":""},{"$f":"IF($B204=\"\",\"\",(L206+N206+P206+R206)/4)","v":""},{"$f":"IF($B204=\"\",\"\",للطباعة1!$BK$66)","v":""},{"$f":"IF($B204=\"\",\"\",للطباعة1!$BJ$66)","v":""},{"$f":"IF($B204=\"\",\"\",للطباعة1!$BR$66)","v":""},{"$f":"IF($B204=\"\",\"\",للطباعة1!$BQ$66)","v":""},{"$f":"IF($B204=\"\",\"\",للطباعة1!$BY$66)","v":""},{"$f":"IF($B204=\"\",\"\",للطباعة1!$BX$66)","v":""},{"$f":"IF($B204=\"\",\"\",للطباعة1!$CF$66)","v":""},{"$f":"IF($B204=\"\",\"\",للطباعة1!$CE$66)","v":""},{"$f":"IF($B204=\"\",\"\",(U206+W206+Y206+AA206)/4)","v":""},{"$f":"IF($B204=\"\",\"\",(K204+T204+AC204)*0.04)","v":""},{"$f":"IF($B204=\"\",\"\",IF((AD204*40/12-INT(AD204*40/12))>=0.75,INT(AD204*40/12)+1,IF((AD204*40/12-INT(AD204*40/12))<0.25,INT(AD204*40/12),INT(AD204*40/12)+0.5)))","v":""},{"$f":"IF($B204=\"\",\"\",INDIRECT(ADDRESS(11+A204*2,18,1,,\"SeconedPartDegrees1\")))","v":""},{"$f":"IF($B204=\"\",\"\",INDIRECT(ADDRESS(11+A204*2,19,1,,\"SeconedPartDegrees1\")))","v":""},{"$f":"IF(OR(AF204=\"\",AG204=\"\"),\"\",AF204+AG204)","v":""},{"$f":"IF(OR(AE204=\"\",AG204=\"\"),\"\",AG204+AF204+AE204)","v":""},null,null,{"$f":"ROUNDUP(((FirstPartDegrees1!#REF!+D204)/2+(FirstPartDegrees1!E199+O204)/2+(FirstPartDegrees1!#REF!+M204)/2+(FirstPartDegrees1!C199+F204)/2 )/4,0)","v":{"$error":"#REF!"}},{"$f":"ROUNDUP(((FirstPartDegrees1!#REF!+FirstPartDegrees1!#REF!)/2+(FirstPartDegrees1!F199+J204)/2+(FirstPartDegrees1!#REF!+S204)/2+(FirstPartDegrees1!I199+#REF!)/2 )/4,0)","v":{"$error":"#REF!"}},{"$f":"ROUNDUP(((FirstPartDegrees1!#REF!+FirstPartDegrees1!J199)/2+(FirstPartDegrees1!#REF!+FirstPartDegrees1!#REF!)/2+(FirstPartDegrees1!#REF!+V204)/2+(AB204+#REF!)/2)/4,0)","v":{"$error":"#REF!"}},{"$f":"(AN204+AAE204+AL204)*40/12","v":{"$error":"#REF!"}}]
[null,null,{"$f":"IF($B204=\"\",\"\",للطباعة1!$G$66)","v":""},{"$f":"IF($B204=\"\",\"\",للطباعة1!$F$66)","v":""},{"$f":"IF($B204=\"\",\"\",للطباعة1!$N$66)","v":""},{"$f":"IF($B204=\"\",\"\",للطباعة1!$M$66)","v":""},{"$f":"IF($B204=\"\",\"\",للطباعة1!$U$66)","v":""},{"$f":"IF($B204=\"\",\"\",للطباعة1!$T$66)","v":""},{"$f":"IF($B204=\"\",\"\",للطباعة1!$AB$66)","v":""},{"$f":"IF($B204=\"\",\"\",للطباعة1!$AA$66)","v":""},null,{"$f":"IF($B204=\"\",\"\",للطباعة1!$AJ$66)","v":""},{"$f":"IF($B204=\"\",\"\",للطباعة1!$AI$66)","v":""},{"$f":"IF($B204=\"\",\"\",للطباعة1!$AQ$66)","v":""},{"$f":"IF($B204=\"\",\"\",للطباعة1!$AP$66)","v":""},{"$f":"IF($B204=\"\",\"\",للطباعة1!$AX$66)","v":""},{"$f":"IF($B204=\"\",\"\",للطباعة1!$AW$66)","v":""},{"$f":"IF($B204=\"\",\"\",للطباعة1!$BE$66)","v":""},{"$f":"IF($B204=\"\",\"\",للطباعة1!$BD$66)","v":""},null,{"$f":"IF($B204=\"\",\"\",للطباعة1!$BM$66)","v":""},{"$f":"IF($B204=\"\",\"\",للطباعة1!$BL$66)","v":""},{"$f":"IF($B204=\"\",\"\",للطباعة1!$BT$66)","v":""},{"$f":"IF($B204=\"\",\"\",للطباعة1!$BS$66)","v":""},{"$f":"IF($B204=\"\",\"\",للطباعة1!$CA$66)","v":""},{"$f":"IF($B204=\"\",\"\",للطباعة1!$BZ$66)","v":""},{"$f":"IF($B204=\"\",\"\",للطباعة1!$CH$66)","v":""},{"$f":"IF($B204=\"\",\"\",للطباعة1!$CG$66)","v":""}]
[null,"النقاط",{"$f":"IF($B204=\"\",\"\",(D204+D205)*100/8)","v":""},null,{"$f":"IF($B204=\"\",\"\",(F204+F205)*100/8)","v":""},null,{"$f":"IF($B204=\"\",\"\",(H204+H205)*100/8)","v":""},null,{"$f":"IF($B204=\"\",\"\",(J204+J205)*100/8)","v":""},null,null,{"$f":"IF($B204=\"\",\"\",(M204+M205)*100/8)","v":""},null,{"$f":"IF($B204=\"\",\"\",(O204+O205)*100/8)","v":""},null,{"$f":"IF($B204=\"\",\"\",(Q204+Q205)*100/8)","v":""},null,{"$f":"IF($B204=\"\",\"\",(S204+S205)*100/8)","v":""},null,null,{"$f":"IF($B204=\"\",\"\",(V204+V205)*100/8)","v":""},null,{"$f":"IF($B204=\"\",\"\",(X204+X205)*100/8)","v":""},null,{"$f":"IF($B204=\"\",\"\",(Z204+Z205)*100/8)","v":""},null,{"$f":"IF($B204=\"\",\"\",(AB204+AB205)*100/8)","v":""}]
[66,{"$f":"INDIRECT(ADDRESS(A207+1,2,,,\"للطباعة1\"))","v":""},{"$f":"IF($B207=\"\",\"\",للطباعة1!$E$67)","v":""},{"$f":"IF($B207=\"\",\"\",للطباعة1!$D$67)","v":""},{"$f":"IF($B207=\"\",\"\",للطباعة1!$L$67)","v":""},{"$f":"IF($B207=\"\",\"\",للطباعة1!$K$67)","v":""},{"$f":"IF($B207=\"\",\"\",للطباعة1!$S$67)","v":""},{"$f":"IF($B207=\"\",\"\",للطباعة1!$R$67)","v":""},{"$f":"IF($B207=\"\",\"\",للطباعة1!$Z$67)","v":""},{"$f":"IF($B207=\"\",\"\",للطباعة1!$Y$67)","v":""},{"$f":"IF($B207=\"\",\"\",(C209+E209+G209+I209)/4)","v":""},{"$f":"IF($B207=\"\",\"\",للطباعة1!$AH$67)","v":""},{"$f":"IF($B207=\"\",\"\",للطباعة1!$AG$67)","v":""},{"$f":"IF($B207=\"\",\"\",للطباعة1!$AO$67)","v":""},{"$f":"IF($B207=\"\",\"\",للطباعة1!$AN$67)","v":""},{"$f":"IF($B207=\"\",\"\",للطباعة1!$AV$67)","v":""},{"$f":"IF($B207=\"\",\"\",للطباعة1!$AU$67)","v":""},{"$f":"IF($B207=\"\",\"\",للطباعة1!$BC$67)","v":""},{"$f":"IF($B207=\"\",\"\",للطباعة1!$BB$67)","v":""},{"$f":"IF($B207=\"\",\"\",(L209+N209+P209+R209)/4)","v":""},{"$f":"IF($B207=\"\",\"\",للطباعة1!$BK$67)","v":""},{"$f":"IF($B207=\"\",\"\",للطباعة1!$BJ$67)","v":""},{"$f":"IF($B207=\"\",\"\",للطباعة1!$BR$67)","v":""},{"$f":"IF($B207=\"\",\"\",للطباعة1!$BQ$67)","v":""},{"$f":"IF($B207=\"\",\"\",للطباعة1!$BY$67)","v":""},{"$f":"IF($B207=\"\",\"\",للطباعة1!$BX$67)","v":""},{"$f":"IF($B207=\"\",\"\",للطباعة1!$CF$67)","v":""},{"$f":"IF($B207=\"\",\"\",للطباعة1!$CE$67)","v":""},{"$f":"IF($B207=\"\",\"\",(U209+W209+Y209+AA209)/4)","v":""},{"$f":"IF($B207=\"\",\"\",(K207+T207+AC207)*0.04)","v":""},{"$f":"IF($B207=\"\",\"\",IF((AD207*40/12-INT(AD207*40/12))>=0.75,INT(AD207*40/12)+1,IF((AD207*40/12-INT(AD207*40/12))<0.25,INT(AD207*40/12),INT(AD207*40/12)+0.5)))","v":""},{"$f":"IF($B207=\"\",\"\",INDIRECT(ADDRESS(11+A207*2,18,1,,\"SeconedPartDegrees1\")))","v":""},{"$f":"IF($B207=\"\",\"\",INDIRECT(ADDRESS(11+A207*2,19,1,,\"SeconedPartDegrees1\")))","v":""},{"$f":"IF(OR(AF207=\"\",AG207=\"\"),\"\",AF207+AG207)","v":""},{"$f":"IF(OR(AE207=\"\",AG207=\"\"),\"\",AG207+AF207+AE207)","v":""},null,null,{"$f":"ROUNDUP(((FirstPartDegrees1!#REF!+D207)/2+(FirstPartDegrees1!E202+O207)/2+(FirstPartDegrees1!#REF!+M207)/2+(FirstPartDegrees1!C202+F207)/2 )/4,0)","v":{"$error":"#REF!"}},{"$f":"ROUNDUP(((FirstPartDegrees1!#REF!+FirstPartDegrees1!#REF!)/2+(FirstPartDegrees1!F202+J207)/2+(FirstPartDegrees1!#REF!+S207)/2+(FirstPartDegrees1!I202+#REF!)/2 )/4,0)","v":{"$error":"#REF!"}},{"$f":"ROUNDUP(((FirstPartDegrees1!#REF!+FirstPartDegrees1!J202)/2+(FirstPartDegrees1!#REF!+FirstPartDegrees1!#REF!)/2+(FirstPartDegrees1!#REF!+V207)/2+(AB207+#REF!)/2)/4,0)","v":{"$error":"#REF!"}},{"$f":"(AN207+AAE207+AL207)*40/12","v":{"$error":"#REF!"}}]
[null,null,{"$f":"IF($B207=\"\",\"\",للطباعة1!$G$67)","v":""},{"$f":"IF($B207=\"\",\"\",للطباعة1!$F$67)","v":""},{"$f":"IF($B207=\"\",\"\",للطباعة1!$N$67)","v":""},{"$f":"IF($B207=\"\",\"\",للطباعة1!$M$67)","v":""},{"$f":"IF($B207=\"\",\"\",للطباعة1!$U$67)","v":""},{"$f":"IF($B207=\"\",\"\",للطباعة1!$T$67)","v":""},{"$f":"IF($B207=\"\",\"\",للطباعة1!$AB$67)","v":""},{"$f":"IF($B207=\"\",\"\",للطباعة1!$AA$67)","v":""},null,{"$f":"IF($B207=\"\",\"\",للطباعة1!$AJ$67)","v":""},{"$f":"IF($B207=\"\",\"\",للطباعة1!$AI$67)","v":""},{"$f":"IF($B207=\"\",\"\",للطباعة1!$AQ$67)","v":""},{"$f":"IF($B207=\"\",\"\",للطباعة1!$AP$67)","v":""},{"$f":"IF($B207=\"\",\"\",للطباعة1!$AX$67)","v":""},{"$f":"IF($B207=\"\",\"\",للطباعة1!$AW$67)","v":""},{"$f":"IF($B207=\"\",\"\",للطباعة1!$BE$67)","v":""},{"$f":"IF($B207=\"\",\"\",للطباعة1!$BD$67)","v":""},null,{"$f":"IF($B207=\"\",\"\",للطباعة1!$BM$67)","v":""},{"$f":"IF($B207=\"\",\"\",للطباعة1!$BL$67)","v":""},{"$f":"IF($B207=\"\",\"\",للطباعة1!$BT$67)","v":""},{"$f":"IF($B207=\"\",\"\",للطباعة1!$BS$67)","v":""},{"$f":"IF($B207=\"\",\"\",للطباعة1!$CA$67)","v":""},{"$f":"IF($B207=\"\",\"\",للطباعة1!$BZ$67)","v":""},{"$f":"IF($B207=\"\",\"\",للطباعة1!$CH$67)","v":""},{"$f":"IF($B207=\"\",\"\",للطباعة1!$CG$67)","v":""}]
[null,"النقاط",{"$f":"IF($B207=\"\",\"\",(D207+D208)*100/8)","v":""},null,{"$f":"IF($B207=\"\",\"\",(F207+F208)*100/8)","v":""},null,{"$f":"IF($B207=\"\",\"\",(H207+H208)*100/8)","v":""},null,{"$f":"IF($B207=\"\",\"\",(J207+J208)*100/8)","v":""},null,null,{"$f":"IF($B207=\"\",\"\",(M207+M208)*100/8)","v":""},null,{"$f":"IF($B207=\"\",\"\",(O207+O208)*100/8)","v":""},null,{"$f":"IF($B207=\"\",\"\",(Q207+Q208)*100/8)","v":""},null,{"$f":"IF($B207=\"\",\"\",(S207+S208)*100/8)","v":""},null,null,{"$f":"IF($B207=\"\",\"\",(V207+V208)*100/8)","v":""},null,{"$f":"IF($B207=\"\",\"\",(X207+X208)*100/8)","v":""},null,{"$f":"IF($B207=\"\",\"\",(Z207+Z208)*100/8)","v":""},null,{"$f":"IF($B207=\"\",\"\",(AB207+AB208)*100/8)","v":""}]
[67,{"$f":"INDIRECT(ADDRESS(A210+1,2,,,\"للطباعة1\"))","v":""},{"$f":"IF($B210=\"\",\"\",للطباعة1!$E$68)","v":""},{"$f":"IF($B210=\"\",\"\",للطباعة1!$D$68)","v":""},{"$f":"IF($B210=\"\",\"\",للطباعة1!$L$68)","v":""},{"$f":"IF($B210=\"\",\"\",للطباعة1!$K$68)","v":""},{"$f":"IF($B210=\"\",\"\",للطباعة1!$S$68)","v":""},{"$f":"IF($B210=\"\",\"\",للطباعة1!$R$68)","v":""},{"$f":"IF($B210=\"\",\"\",للطباعة1!$Z$68)","v":""},{"$f":"IF($B210=\"\",\"\",للطباعة1!$Y$68)","v":""},{"$f":"IF($B210=\"\",\"\",(C212+E212+G212+I212)/4)","v":""},{"$f":"IF($B210=\"\",\"\",للطباعة1!$AH$68)","v":""},{"$f":"IF($B210=\"\",\"\",للطباعة1!$AG$68)","v":""},{"$f":"IF($B210=\"\",\"\",للطباعة1!$AO$68)","v":""},{"$f":"IF($B210=\"\",\"\",للطباعة1!$AN$68)","v":""},{"$f":"IF($B210=\"\",\"\",للطباعة1!$AV$68)","v":""},{"$f":"IF($B210=\"\",\"\",للطباعة1!$AU$68)","v":""},{"$f":"IF($B210=\"\",\"\",للطباعة1!$BC$68)","v":""},{"$f":"IF($B210=\"\",\"\",للطباعة1!$BB$68)","v":""},{"$f":"IF($B210=\"\",\"\",(L212+N212+P212+R212)/4)","v":""},{"$f":"IF($B210=\"\",\"\",للطباعة1!$BK$68)","v":""},{"$f":"IF($B210=\"\",\"\",للطباعة1!$BJ$68)","v":""},{"$f":"IF($B210=\"\",\"\",للطباعة1!$BR$68)","v":""},{"$f":"IF($B210=\"\",\"\",للطباعة1!$BQ$68)","v":""},{"$f":"IF($B210=\"\",\"\",للطباعة1!$BY$68)","v":""},{"$f":"IF($B210=\"\",\"\",للطباعة1!$BX$68)","v":""},{"$f":"IF($B210=\"\",\"\",للطباعة1!$CF$68)","v":""},{"$f":"IF($B210=\"\",\"\",للطباعة1!$CE$68)","v":""},{"$f":"IF($B210=\"\",\"\",(U212+W212+Y212+AA212)/4)","v":""},{"$f":"IF($B210=\"\",\"\",(K210+T210+AC210)*0.04)","v":""},{"$f":"IF($B210=\"\",\"\",IF((AD210*40/12-INT(AD210*40/12))>=0.75,INT(AD210*40/12)+1,IF((AD210*40/12-INT(AD210*40/12))<0.25,INT(AD210*40/12),INT(AD210*40/12)+0.5)))","v":""},{"$f":"IF($B210=\"\",\"\",INDIRECT(ADDRESS(11+A210*2,18,1,,\"SeconedPartDegrees1\")))","v":""},{"$f":"IF($B210=\"\",\"\",INDIRECT(ADDRESS(11+A210*2,19,1,,\"SeconedPartDegrees1\")))","v":""},{"$f":"IF(OR(AF210=\"\",AG210=\"\"),\"\",AF210+AG210)","v":""},{"$f":"IF(OR(AE210=\"\",AG210=\"\"),\"\",AG210+AF210+AE210)","v":""},null,null,{"$f":"ROUNDUP(((FirstPartDegrees1!#REF!+D210)/2+(FirstPartDegrees1!E205+O210)/2+(FirstPartDegrees1!#REF!+M210)/2+(FirstPartDegrees1!C205+F210)/2 )/4,0)","v":{"$error":"#REF!"}},{"$f":"ROUNDUP(((FirstPartDegrees1!#REF!+FirstPartDegrees1!#REF!)/2+(FirstPartDegrees1!F205+J210)/2+(FirstPartDegrees1!#REF!+S210)/2+(FirstPartDegrees1!I205+#REF!)/2 )/4,0)","v":{"$error":"#REF!"}},{"$f":"ROUNDUP(((FirstPartDegrees1!#REF!+FirstPartDegrees1!J205)/2+(FirstPartDegrees1!#REF!+FirstPartDegrees1!#REF!)/2+(FirstPartDegrees1!#REF!+V210)/2+(AB210+#REF!)/2)/4,0)","v":{"$error":"#REF!"}},{"$f":"(AN210+AAE210+AL210)*40/12","v":{"$error":"#REF!"}}]
[null,null,{"$f":"IF($B210=\"\",\"\",للطباعة1!$G$68)","v":""},{"$f":"IF($B210=\"\",\"\",للطباعة1!$F$68)","v":""},{"$f":"IF($B210=\"\",\"\",للطباعة1!$N$68)","v":""},{"$f":"IF($B210=\"\",\"\",للطباعة1!$M$68)","v":""},{"$f":"IF($B210=\"\",\"\",للطباعة1!$U$68)","v":""},{"$f":"IF($B210=\"\",\"\",للطباعة1!$T$68)","v":""},{"$f":"IF($B210=\"\",\"\",للطباعة1!$AB$68)","v":""},{"$f":"IF($B210=\"\",\"\",للطباعة1!$AA$68)","v":""},null,{"$f":"IF($B210=\"\",\"\",للطباعة1!$AJ$68)","v":""},{"$f":"IF($B210=\"\",\"\",للطباعة1!$AI$68)","v":""},{"$f":"IF($B210=\"\",\"\",للطباعة1!$AQ$68)","v":""},{"$f":"IF($B210=\"\",\"\",للطباعة1!$AP$68)","v":""},{"$f":"IF($B210=\"\",\"\",للطباعة1!$AX$68)","v":""},{"$f":"IF($B210=\"\",\"\",للطباعة1!$AW$68)","v":""},{"$f":"IF($B210=\"\",\"\",للطباعة1!$BE$68)","v":""},{"$f":"IF($B210=\"\",\"\",للطباعة1!$BD$68)","v":""},null,{"$f":"IF($B210=\"\",\"\",للطباعة1!$BM$68)","v":""},{"$f":"IF($B210=\"\",\"\",للطباعة1!$BL$68)","v":""},{"$f":"IF($B210=\"\",\"\",للطباعة1!$BT$68)","v":""},{"$f":"IF($B210=\"\",\"\",للطباعة1!$BS$68)","v":""},{"$f":"IF($B210=\"\",\"\",للطباعة1!$CA$68)","v":""},{"$f":"IF($B210=\"\",\"\",للطباعة1!$BZ$68)","v":""},{"$f":"IF($B210=\"\",\"\",للطباعة1!$CH$68)","v":""},{"$f":"IF($B210=\"\",\"\",للطباعة1!$CG$68)","v":""}]
[null,"النقاط",{"$f":"IF($B210=\"\",\"\",(D210+D211)*100/8)","v":""},null,{"$f":"IF($B210=\"\",\"\",(F210+F211)*100/8)","v":""},null,{"$f":"IF($B210=\"\",\"\",(H210+H211)*100/8)","v":""},null,{"$f":"IF($B210=\"\",\"\",(J210+J211)*100/8)","v":""},null,null,{"$f":"IF($B210=\"\",\"\",(M210+M211)*100/8)","v":""},null,{"$f":"IF($B210=\"\",\"\",(O210+O211)*100/8)","v":""},null,{"$f":"IF($B210=\"\",\"\",(Q210+Q211)*100/8)","v":""},null,{"$f":"IF($B210=\"\",\"\",(S210+S211)*100/8)","v":""},null,null,{"$f":"IF($B210=\"\",\"\",(V210+V211)*100/8)","v":""},null,{"$f":"IF($B210=\"\",\"\",(X210+X211)*100/8)","v":""},null,{"$f":"IF($B210=\"\",\"\",(Z210+Z211)*100/8)","v":""},null,{"$f":"IF($B210=\"\",\"\",(AB210+AB211)*100/8)","v":""}]
[68,{"$f":"INDIRECT(ADDRESS(A213+1,2,,,\"للطباعة1\"))","v":""},{"$f":"IF($B213=\"\",\"\",للطباعة1!$E$69)","v":""},{"$f":"IF($B213=\"\",\"\",للطباعة1!$D$69)","v":""},{"$f":"IF($B213=\"\",\"\",للطباعة1!$L$69)","v":""},{"$f":"IF($B213=\"\",\"\",للطباعة1!$K$69)","v":""},{"$f":"IF($B213=\"\",\"\",للطباعة1!$S$69)","v":""},{"$f":"IF($B213=\"\",\"\",للطباعة1!$R$69)","v":""},{"$f":"IF($B213=\"\",\"\",للطباعة1!$Z$69)","v":""},{"$f":"IF($B213=\"\",\"\",للطباعة1!$Y$69)","v":""},{"$f":"IF($B213=\"\",\"\",(C215+E215+G215+I215)/4)","v":""},{"$f":"IF($B213=\"\",\"\",للطباعة1!$AH$69)","v":""},{"$f":"IF($B213=\"\",\"\",للطباعة1!$AG$69)","v":""},{"$f":"IF($B213=\"\",\"\",للطباعة1!$AO$69)","v":""},{"$f":"IF($B213=\"\",\"\",للطباعة1!$AN$69)","v":""},{"$f":"IF($B213=\"\",\"\",للطباعة1!$AV$69)","v":""},{"$f":"IF($B213=\"\",\"\",للطباعة1!$AU$69)","v":""},{"$f":"IF($B213=\"\",\"\",للطباعة1!$BC$69)","v":""},{"$f":"IF($B213=\"\",\"\",للطباعة1!$BB$69)","v":""},{"$f":"IF($B213=\"\",\"\",(L215+N215+P215+R215)/4)","v":""},{"$f":"IF($B213=\"\",\"\",للطباعة1!$BK$69)","v":""},{"$f":"IF($B213=\"\",\"\",للطباعة1!$BJ$69)","v":""},{"$f":"IF($B213=\"\",\"\",للطباعة1!$BR$69)","v":""},{"$f":"IF($B213=\"\",\"\",للطباعة1!$BQ$69)","v":""},{"$f":"IF($B213=\"\",\"\",للطباعة1!$BY$69)","v":""},{"$f":"IF($B213=\"\",\"\",للطباعة1!$BX$69)","v":""},{"$f":"IF($B213=\"\",\"\",للطباعة1!$CF$69)","v":""},{"$f":"IF($B213=\"\",\"\",للطباعة1!$CE$69)","v":""},{"$f":"IF($B213=\"\",\"\",(U215+W215+Y215+AA215)/4)","v":""},{"$f":"IF($B213=\"\",\"\",(K213+T213+AC213)*0.04)","v":""},{"$f":"IF($B213=\"\",\"\",IF((AD213*40/12-INT(AD213*40/12))>=0.75,INT(AD213*40/12)+1,IF((AD213*40/12-INT(AD213*40/12))<0.25,INT(AD213*40/12),INT(AD213*40/12)+0.5)))","v":""},{"$f":"IF($B213=\"\",\"\",INDIRECT(ADDRESS(11+A213*2,18,1,,\"SeconedPartDegrees1\")))","v":""},{"$f":"IF($B213=\"\",\"\",INDIRECT(ADDRESS(11+A213*2,19,1,,\"SeconedPartDegrees1\")))","v":""},{"$f":"IF(OR(AF213=\"\",AG213=\"\"),\"\",AF213+AG213)","v":""},{"$f":"IF(OR(AE213=\"\",AG213=\"\"),\"\",AG213+AF213+AE213)","v":""},null,null,{"$f":"ROUNDUP(((FirstPartDegrees1!#REF!+D213)/2+(FirstPartDegrees1!E208+O213)/2+(FirstPartDegrees1!#REF!+M213)/2+(FirstPartDegrees1!C208+F213)/2 )/4,0)","v":{"$error":"#REF!"}},{"$f":"ROUNDUP(((FirstPartDegrees1!#REF!+FirstPartDegrees1!#REF!)/2+(FirstPartDegrees1!F208+J213)/2+(FirstPartDegrees1!#REF!+S213)/2+(FirstPartDegrees1!I208+#REF!)/2 )/4,0)","v":{"$error":"#REF!"}},{"$f":"ROUNDUP(((FirstPartDegrees1!#REF!+FirstPartDegrees1!J208)/2+(FirstPartDegrees1!#REF!+FirstPartDegrees1!#REF!)/2+(FirstPartDegrees1!#REF!+V213)/2+(AB213+#REF!)/2)/4,0)","v":{"$error":"#REF!"}},{"$f":"(AN213+AAE213+AL213)*40/12","v":{"$error":"#REF!"}}]
[null,null,{"$f":"IF($B213=\"\",\"\",للطباعة1!$G$69)","v":""},{"$f":"IF($B213=\"\",\"\",للطباعة1!$F$69)","v":""},{"$f":"IF($B213=\"\",\"\",للطباعة1!$N$69)","v":""},{"$f":"IF($B213=\"\",\"\",للطباعة1!$M$69)","v":""},{"$f":"IF($B213=\"\",\"\",للطباعة1!$U$69)","v":""},{"$f":"IF($B213=\"\",\"\",للطباعة1!$T$69)","v":""},{"$f":"IF($B213=\"\",\"\",للطباعة1!$AB$69)","v":""},{"$f":"IF($B213=\"\",\"\",للطباعة1!$AA$69)","v":""},null,{"$f":"IF($B213=\"\",\"\",للطباعة1!$AJ$69)","v":""},{"$f":"IF($B213=\"\",\"\",للطباعة1!$AI$69)","v":""},{"$f":"IF($B213=\"\",\"\",للطباعة1!$AQ$69)","v":""},{"$f":"IF($B213=\"\",\"\",للطباعة1!$AP$69)","v":""},{"$f":"IF($B213=\"\",\"\",للطباعة1!$AX$69)","v":""},{"$f":"IF($B213=\"\",\"\",للطباعة1!$AW$69)","v":""},{"$f":"IF($B213=\"\",\"\",للطباعة1!$BE$69)","v":""},{"$f":"IF($B213=\"\",\"\",للطباعة1!$BD$69)","v":""},null,{"$f":"IF($B213=\"\",\"\",للطباعة1!$BM$69)","v":""},{"$f":"IF($B213=\"\",\"\",للطباعة1!$BL$69)","v":""},{"$f":"IF($B213=\"\",\"\",للطباعة1!$BT$69)","v":""},{"$f":"IF($B213=\"\",\"\",للطباعة1!$BS$69)","v":""},{"$f":"IF($B213=\"\",\"\",للطباعة1!$CA$69)","v":""},{"$f":"IF($B213=\"\",\"\",للطباعة1!$BZ$69)","v":""},{"$f":"IF($B213=\"\",\"\",للطباعة1!$CH$69)","v":""},{"$f":"IF($B213=\"\",\"\",للطباعة1!$CG$69)","v":""}]
[null,"النقاط",{"$f":"IF($B213=\"\",\"\",(D213+D214)*100/8)","v":""},null,{"$f":"IF($B213=\"\",\"\",(F213+F214)*100/8)","v":""},null,{"$f":"IF($B213=\"\",\"\",(H213+H214)*100/8)","v":""},null,{"$f":"IF($B213=\"\",\"\",(J213+J214)*100/8)","v":""},null,null,{"$f":"IF($B213=\"\",\"\",(M213+M214)*100/8)","v":""},null,{"$f":"IF($B213=\"\",\"\",(O213+O214)*100/8)","v":""},null,{"$f":"IF($B213=\"\",\"\",(Q213+Q214)*100/8)","v":""},null,{"$f":"IF($B213=\"\",\"\",(S213+S214)*100/8)","v":""},null,null,{"$f":"IF($B213=\"\",\"\",(V213+V214)*100/8)","v":""},null,{"$f":"IF($B213=\"\",\"\",(X213+X214)*100/8)","v":""},null,{"$f":"IF($B213=\"\",\"\",(Z213+Z214)*100/8)","v":""},null,{"$f":"IF($B213=\"\",\"\",(AB213+AB214)*100/8)","v":""}]
[69,{"$f":"INDIRECT(ADDRESS(A216+1,2,,,\"للطباعة1\"))","v":""},{"$f":"IF($B216=\"\",\"\",للطباعة1!$E$70)","v":""},{"$f":"IF($B216=\"\",\"\",للطباعة1!$D$70)","v":""},{"$f":"IF($B216=\"\",\"\",للطباعة1!$L$70)","v":""},{"$f":"IF($B216=\"\",\"\",للطباعة1!$K$70)","v":""},{"$f":"IF($B216=\"\",\"\",للطباعة1!$S$70)","v":""},{"$f":"IF($B216=\"\",\"\",للطباعة1!$R$70)","v":""},{"$f":"IF($B216=\"\",\"\",للطباعة1!$Z$70)","v":""},{"$f":"IF($B216=\"\",\"\",للطباعة1!$Y$70)","v":""},{"$f":"IF($B216=\"\",\"\",(C218+E218+G218+I218)/4)","v":""},{"$f":"IF($B216=\"\",\"\",للطباعة1!$AH$70)","v":""},{"$f":"IF($B216=\"\",\"\",للطباعة1!$AG$70)","v":""},{"$f":"IF($B216=\"\",\"\",للطباعة1!$AO$70)","v":""},{"$f":"IF($B216=\"\",\"\",للطباعة1!$AN$70)","v":""},{"$f":"IF($B216=\"\",\"\",للطباعة1!$AV$70)","v":""},{"$f":"IF($B216=\"\",\"\",للطباعة1!$AU$70)","v":""},{"$f":"IF($B216=\"\",\"\",للطباعة1!$BC$70)","v":""},{"$f":"IF($B216=\"\",\"\",للطباعة1!$BB$70)","v":""},{"$f":"IF($B216=\"\",\"\",(L218+N218+P218+R218)/4)","v":""},{"$f":"IF($B216=\"\",\"\",للطباعة1!$BK$70)","v":""},{"$f":"IF($B216=\"\",\"\",للطباعة1!$BJ$70)","v":""},{"$f":"IF($B216=\"\",\"\",للطباعة1!$BR$70)","v":""},{"$f":"IF($B216=\"\",\"\",للطباعة1!$BQ$70)","v":""},{"$f":"IF($B216=\"\",\"\",للطباعة1!$BY$70)","v":""},{"$f":"IF($B216=\"\",\"\",للطباعة1!$BX$70)","v":""},{"$f":"IF($B216=\"\",\"\",للطباعة1!$CF$70)","v":""},{"$f":"IF($B216=\"\",\"\",للطباعة1!$CE$70)","v":""},{"$f":"IF($B216=\"\",\"\",(U218+W218+Y218+AA218)/4)","v":""},{"$f":"IF($B216=\"\",\"\",(K216+T216+AC216)*0.04)","v":""},{"$f":"IF($B216=\"\",\"\",IF((AD216*40/12-INT(AD216*40/12))>=0.75,INT(AD216*40/12)+1,IF((AD216*40/12-INT(AD216*40/12))<0.25,INT(AD216*40/12),INT(AD216*40/12)+0.5)))","v":""},{"$f":"IF($B216=\"\",\"\",INDIRECT(ADDRESS(11+A216*2,18,1,,\"SeconedPartDegrees1\")))","v":""},{"$f":"IF($B216=\"\",\"\",INDIRECT(ADDRESS(11+A216*2,19,1,,\"SeconedPartDegrees1\")))","v":""},{"$f":"IF(OR(AF216=\"\",AG216=\"\"),\"\",AF216+AG216)","v":""},{"$f":"IF(OR(AE216=\"\",AG216=\"\"),\"\",AG216+AF216+AE216)","v":""},null,null,{"$f":"ROUNDUP(((FirstPartDegrees1!#REF!+D216)/2+(FirstPartDegrees1!E211+O216)/2+(FirstPartDegrees1!#REF!+M216)/2+(FirstPartDegrees1!C211+F216)/2 )/4,0)","v":{"$error":"#REF!"}},{"$f":"ROUNDUP(((FirstPartDegrees1!#REF!+FirstPartDegrees1!#REF!)/2+(FirstPartDegrees1!F211+J216)/2+(FirstPartDegrees1!#REF!+S216)/2+(FirstPartDegrees1!I211+#REF!)/2 )/4,0)","v":{"$error":"#REF!"}},{"$f":"ROUNDUP(((FirstPartDegrees1!#REF!+FirstPartDegrees1!J211)/2+(FirstPartDegrees1!#REF!+FirstPartDegrees1!#REF!)/2+(FirstPartDegrees1!#REF!+V216)/2+(AB216+#REF!)/2)/4,0)","v":{"$error":"#REF!"}},{"$f":"(AN216+AAE216+AL216)*40/12","v":{"$error":"#REF!"}}]
[null,null,{"$f":"IF($B216=\"\",\"\",للطباعة1!$G$70)","v":""},{"$f":"IF($B216=\"\",\"\",للطباعة1!$F$70)","v":""},{"$f":"IF($B216=\"\",\"\",للطباعة1!$N$70)","v":""},{"$f":"IF($B216=\"\",\"\",للطباعة1!$M$70)","v":""},{"$f":"IF($B216=\"\",\"\",للطباعة1!$U$70)","v":""},{"$f":"IF($B216=\"\",\"\",للطباعة1!$T$70)","v":""},{"$f":"IF($B216=\"\",\"\",للطباعة1!$AB$70)","v":""},{"$f":"IF($B216=\"\",\"\",للطباعة1!$AA$70)","v":""},null,{"$f":"IF($B216=\"\",\"\",للطباعة1!$AJ$70)","v":""},{"$f":"IF($B216=\"\",\"\",للطباعة1!$AI$70)","v":""},{"$f":"IF($B216=\"\",\"\",للطباعة1!$AQ$70)","v":""},{"$f":"IF($B216=\"\",\"\",للطباعة1!$AP$70)","v":""},{"$f":"IF($B216=\"\",\"\",للطباعة1!$AX$70)","v":""},{"$f":"IF($B216=\"\",\"\",للطباعة1!$AW$70)","v":""},{"$f":"IF($B216=\"\",\"\",للطباعة1!$BE$70)","v":""},{"$f":"IF($B216=\"\",\"\",للطباعة1!$BD$70)","v":""},null,{"$f":"IF($B216=\"\",\"\",للطباعة1!$BM$70)","v":""},{"$f":"IF($B216=\"\",\"\",للطباعة1!$BL$70)","v":""},{"$f":"IF($B216=\"\",\"\",للطباعة1!$BT$70)","v":""},{"$f":"IF($B216=\"\",\"\",للطباعة1!$BS$70)","v":""},{"$f":"IF($B216=\"\",\"\",للطباعة1!$CA$70)","v":""},{"$f":"IF($B216=\"\",\"\",للطباعة1!$BZ$70)","v":""},{"$f":"IF($B216=\"\",\"\",للطباعة1!$CH$70)","v":""},{"$f":"IF($B216=\"\",\"\",للطباعة1!$CG$70)","v":""}]
[null,"النقاط",{"$f":"IF($B216=\"\",\"\",(D216+D217)*100/8)","v":""},null,{"$f":"IF($B216=\"\",\"\",(F216+F217)*100/8)","v":""},null,{"$f":"IF($B216=\"\",\"\",(H216+H217)*100/8)","v":""},null,{"$f":"IF($B216=\"\",\"\",(J216+J217)*100/8)","v":""},null,null,{"$f":"IF($B216=\"\",\"\",(M216+M217)*100/8)","v":""},null,{"$f":"IF($B216=\"\",\"\",(O216+O217)*100/8)","v":""},null,{"$f":"IF($B216=\"\",\"\",(Q216+Q217)*100/8)","v":""},null,{"$f":"IF($B216=\"\",\"\",(S216+S217)*100/8)","v":""},null,null,{"$f":"IF($B216=\"\",\"\",(V216+V217)*100/8)","v":""},null,{"$f":"IF($B216=\"\",\"\",(X216+X217)*100/8)","v":""},null,{"$f":"IF($B216=\"\",\"\",(Z216+Z217)*100/8)","v":""},null,{"$f":"IF($B216=\"\",\"\",(AB216+AB217)*100/8)","v":""}]
[70,{"$f":"INDIRECT(ADDRESS(A219+1,2,,,\"للطباعة1\"))","v":""},{"$f":"IF($B219=\"\",\"\",للطباعة1!$E$71)","v":""},{"$f":"IF($B219=\"\",\"\",للطباعة1!$D$71)","v":""},{"$f":"IF($B219=\"\",\"\",للطباعة1!$L$71)","v":""},{"$f":"IF($B219=\"\",\"\",للطباعة1!$K$71)","v":""},{"$f":"IF($B219=\"\",\"\",للطباعة1!$S$71)","v":""},{"$f":"IF($B219=\"\",\"\",للطباعة1!$R$71)","v":""},{"$f":"IF($B219=\"\",\"\",للطباعة1!$Z$71)","v":""},{"$f":"IF($B219=\"\",\"\",للطباعة1!$Y$71)","v":""},{"$f":"IF($B219=\"\",\"\",(C221+E221+G221+I221)/4)","v":""},{"$f":"IF($B219=\"\",\"\",للطباعة1!$AH$71)","v":""},{"$f":"IF($B219=\"\",\"\",للطباعة1!$AG$71)","v":""},{"$f":"IF($B219=\"\",\"\",للطباعة1!$AO$71)","v":""},{"$f":"IF($B219=\"\",\"\",للطباعة1!$AN$71)","v":""},{"$f":"IF($B219=\"\",\"\",للطباعة1!$AV$71)","v":""},{"$f":"IF($B219=\"\",\"\",للطباعة1!$AU$71)","v":""},{"$f":"IF($B219=\"\",\"\",للطباعة1!$BC$71)","v":""},{"$f":"IF($B219=\"\",\"\",للطباعة1!$BB$71)","v":""},{"$f":"IF($B219=\"\",\"\",(L221+N221+P221+R221)/4)","v":""},{"$f":"IF($B219=\"\",\"\",للطباعة1!$BK$71)","v":""},{"$f":"IF($B219=\"\",\"\",للطباعة1!$BJ$71)","v":""},{"$f":"IF($B219=\"\",\"\",للطباعة1!$BR$71)","v":""},{"$f":"IF($B219=\"\",\"\",للطباعة1!$BQ$71)","v":""},{"$f":"IF($B219=\"\",\"\",للطباعة1!$BY$71)","v":""},{"$f":"IF($B219=\"\",\"\",للطباعة1!$BX$71)","v":""},{"$f":"IF($B219=\"\",\"\",للطباعة1!$CF$71)","v":""},{"$f":"IF($B219=\"\",\"\",للطباعة1!$CE$71)","v":""},{"$f":"IF($B219=\"\",\"\",(U221+W221+Y221+AA221)/4)","v":""},{"$f":"IF($B219=\"\",\"\",(K219+T219+AC219)*0.04)","v":""},{"$f":"IF($B219=\"\",\"\",IF((AD219*40/12-INT(AD219*40/12))>=0.75,INT(AD219*40/12)+1,IF((AD219*40/12-INT(AD219*40/12))<0.25,INT(AD219*40/12),INT(AD219*40/12)+0.5)))","v":""},{"$f":"IF($B219=\"\",\"\",INDIRECT(ADDRESS(11+A219*2,18,1,,\"SeconedPartDegrees1\")))","v":""},{"$f":"IF($B219=\"\",\"\",INDIRECT(ADDRESS(11+A219*2,19,1,,\"SeconedPartDegrees1\")))","v":""},{"$f":"IF(OR(AF219=\"\",AG219=\"\"),\"\",AF219+AG219)","v":""},{"$f":"IF(OR(AE219=\"\",AG219=\"\"),\"\",AG219+AF219+AE219)","v":""},null,null,{"$f":"ROUNDUP(((FirstPartDegrees1!#REF!+D219)/2+(FirstPartDegrees1!E214+O219)/2+(FirstPartDegrees1!#REF!+M219)/2+(FirstPartDegrees1!C214+F219)/2 )/4,0)","v":{"$error":"#REF!"}},{"$f":"ROUNDUP(((FirstPartDegrees1!#REF!+FirstPartDegrees1!#REF!)/2+(FirstPartDegrees1!F214+J219)/2+(FirstPartDegrees1!#REF!+S219)/2+(FirstPartDegrees1!I214+#REF!)/2 )/4,0)","v":{"$error":"#REF!"}},{"$f":"ROUNDUP(((FirstPartDegrees1!#REF!+FirstPartDegrees1!J214)/2+(FirstPartDegrees1!#REF!+FirstPartDegrees1!#REF!)/2+(FirstPartDegrees1!#REF!+V219)/2+(AB219+#REF!)/2)/4,0)","v":{"$error":"#REF!"}},{"$f":"(AN219+AAE219+AL219)*40/12","v":{"$error":"#REF!"}}]
[null,null,{"$f":"IF($B219=\"\",\"\",للطباعة1!$G$71)","v":""},{"$f":"IF($B219=\"\",\"\",للطباعة1!$F$71)","v":""},{"$f":"IF($B219=\"\",\"\",للطباعة1!$N$71)","v":""},{"$f":"IF($B219=\"\",\"\",للطباعة1!$M$71)","v":""},{"$f":"IF($B219=\"\",\"\",للطباعة1!$U$71)","v":""},{"$f":"IF($B219=\"\",\"\",للطباعة1!$T$71)","v":""},{"$f":"IF($B219=\"\",\"\",للطباعة1!$AB$71)","v":""},{"$f":"IF($B219=\"\",\"\",للطباعة1!$AA$71)","v":""},null,{"$f":"IF($B219=\"\",\"\",للطباعة1!$AJ$71)","v":""},{"$f":"IF($B219=\"\",\"\",للطباعة1!$AI$71)","v":""},{"$f":"IF($B219=\"\",\"\",للطباعة1!$AQ$71)","v":""},{"$f":"IF($B219=\"\",\"\",للطباعة1!$AP$71)","v":""},{"$f":"IF($B219=\"\",\"\",للطباعة1!$AX$71)","v":""},{"$f":"IF($B219=\"\",\"\",للطباعة1!$AW$71)","v":""},{"$f":"IF($B219=\"\",\"\",للطباعة1!$BE$71)","v":""},{"$f":"IF($B219=\"\",\"\",للطباعة1!$BD$71)","v":""},null,{"$f":"IF($B219=\"\",\"\",للطباعة1!$BM$71)","v":""},{"$f":"IF($B219=\"\",\"\",للطباعة1!$BL$71)","v":""},{"$f":"IF($B219=\"\",\"\",للطباعة1!$BT$71)","v":""},{"$f":"IF($B219=\"\",\"\",للطباعة1!$BS$71)","v":""},{"$f":"IF($B219=\"\",\"\",للطباعة1!$CA$71)","v":""},{"$f":"IF($B219=\"\",\"\",للطباعة1!$BZ$71)","v":""},{"$f":"IF($B219=\"\",\"\",للطباعة1!$CH$71)","v":""},{"$f":"IF($B219=\"\",\"\",للطباعة1!$CG$71)","v":""}]
[null,"النقاط",{"$f":"IF($B219=\"\",\"\",(D219+D220)*100/8)","v":""},null,{"$f":"IF($B219=\"\",\"\",(F219+F220)*100/8)","v":""},null,{"$f":"IF($B219=\"\",\"\",(H219+H220)*100/8)","v":""},null,{"$f":"IF($B219=\"\",\"\",(J219+J220)*100/8)","v":""},null,null,{"$f":"IF($B219=\"\",\"\",(M219+M220)*100/8)","v":""},null,{"$f":"IF($B219=\"\",\"\",(O219+O220)*100/8)","v":""},null,{"$f":"IF($B219=\"\",\"\",(Q219+Q220)*100/8)","v":""},null,{"$f":"IF($B219=\"\",\"\",(S219+S220)*100/8)","v":""},null,null,{"$f":"IF($B219=\"\",\"\",(V219+V220)*100/8)","v":""},null,{"$f":"IF($B219=\"\",\"\",(X219+X220)*100/8)","v":""},null,{"$f":"IF($B219=\"\",\"\",(Z219+Z220)*100/8)","v":""},null,{"$f":"IF($B219=\"\",\"\",(AB219+AB220)*100/8)","v":""}]

{"sheet":"FirstPartDegrees2","index":7,"n_rows":152,"n_cols":23,"rows_kept":152,"cut":false,"hidden":false,"merged":[[90,0,91,0],[88,0,89,0],[86,0,87,0],[84,0,85,0],[9,12,9,13],[9,10,9,11],[80,0,81,0],[82,0,83,0],[72,0,73,0],[74,0,75,0],[76,0,77,0],[58,0,59,0],[56,0,57,0],[18,0,19,0],[14,0,15,0],[16,0,17,0],[6,12,6,13],[7,7,7,9],[8,7,8,9],[9,8,9,9],[8,10,8,11],[4,2,4,11],[12,0,13,0],[3,0,3,1],[7,2,7,4],[9,3,9,4],[7,0,11,0],[7,1,11,1],[4,0,4,1],[5,0,5,1],[7,5,7,6],[5,6,5,8],[5,10,5,11],[8,2,8,4],[6,2,6,3],[7,10,7,13],[8,12,8,13],[78,0,79,0],[40,0,41,0],[38,0,39,0],[50,0,51,0],[48,0,49,0],[46,0,47,0],[42,0,43,0],[44,0,45,0],[66,0,67,0],[60,0,61,0],[64,0,65,0],[52,0,53,0],[54,0,55,0],[70,0,71,0],[68,0,69,0],[62,0,63,0],[20,0,21,0],[26,0,27,0],[22,0,23,0],[24,0,25,0],[36,0,37,0],[28,0,29,0],[34,0,35,0],[30,0,31,0],[32,0,33,0],[92,0,93,0],[94,0,95,0],[96,0,97,0],[98,0,99,0],[100,0,101,0],[102,0,103,0],[104,0,105,0],[106,0,107,0],[108,0,109,0],[110,0,111,0],[112,0,113,0],[114,0,115,0],[116,0,117,0],[118,0,119,0],[120,0,121,0],[122,0,123,0],[124,0,125,0],[126,0,127,0],[128,0,129,0],[130,0,131,0],[132,0,133,0],[134,0,135,0],[136,0,137,0],[138,0,139,0],[140,0,141,0],[142,0,143,0],[144,0,145,0],[146,0,147,0],[148,0,149,0],[150,0,151,0]]}
[null,null,null,null,null,null,null,null,null,"ذذ",null,null,null,null,null,null,null,null,null,null,null,4,"غياب"]
[null,null,null,null,null,null,null,null,null,null,null,null,null,null,null,null,null,null,null,null,null,3,"عزوف عن تطبيق ورقة العمل"]
[null,null,null,null,null,null,null,null,null,null,null,null,null,null,null,null,null,null,null,null,null,2,"قليل المشاركة في الانشطة الصفية"]
[null,null,null,null,null,null,null,null,null,null,null,null,null,null,null,null,null,null,null,null,null,1,"يحتاج إلى تعزيز في السلوكيات التربوية"]
[{"$f":"الرئيسية!H12","v":"منطقة حولي التعليمية"},null,"كشــــــف درجات المتعلمين في مادة تكنولوجيا المعلومات والاتصالات",null,null,null,null,null,null,null,null,null,null,null,null,null,null,null,null,null,null,0,"لا يحضر ادواته ( الكتاب ، .... ) "]
[{"$f":"\"مدرسة \"& الرئيسية!H13","v":"مدرسة "},null,null,null,null,null,null,null,null,null,null,null,"العام الدراسي:",{"$f":"الرئيسية!H11","v":"2018-2017"},null,null,null,null,null,null,null,null,"أخرى"]
[null,"اسم المعلم :",{"$f":"الرئيسية!H14","v":""},null,null,null,"الصف:",{"$f":"الرئيسية!H15","v":"7-1"},null,null,null,null,"الفصل الدراسي الثاني"]
["م","اسم المتعلم / المتعلمة","الدرس الأول - أنا منتج",null,null,"الدرس الثاني والثالث - دمج الصور",null,"الدرس الرابع - الانعكاس",null,null,"الدرس الخامس والسادس - الرسم"]
[]
[null,null,"كفاية 1.1","كفاية 1.3",null,"كفاية 1.1","كفاية 1.1","كفاية 4.1","كفاية 2.3",null,"كفاية 2.1",null,"كفاية 3.3"]
[null,null,"النقاط","النقاط","التقييم الثاني","النقاط","النقاط","النقاط","النقاط","التقييم الثاني","النقاط","التقييم الثاني","النقاط","التقييم الثاني"]
[null,null,4,4,4,4,4,4,4,4,4,4,4,4]
[1,{"$f":"IF(INDIRECT(ADDRESS(A13,1,1,,\"اسماء المتعلمين\"))=\"\",\"\",INDIRECT(ADDRESS(A13,1,1,,\"اسماء المتعلمين\")))","v":""}]
[null,"ملاحظات"]
[2,{"$f":"IF(INDIRECT(ADDRESS(A15,1,1,,\"اسماء المتعلمين\"))=\"\",\"\",INDIRECT(ADDRESS(A15,1,1,,\"اسماء المتعلمين\")))","v":""}]
[null,"ملاحظات"]
[3,""]
[null,"ملاحظات"]
[4,""]
[null,"ملاحظات"]
[5,""]
[null,"ملاحظات"]
[6,""]
[null,"ملاحظات"]
[7,""]
[null,"ملاحظات"]
[8,""]
[null,"ملاحظات"]
[9,""]
[null,"ملاحظات"]
[10,""]
[null,"ملاحظات"]
[11,""]
[null,"ملاحظات"]
[12,""]
[null,"ملاحظات"]
[13,""]
[null,"ملاحظات"]
[14,""]
[null,"ملاحظات"]
[15,""]
[null,"ملاحظات"]
[16,""]
[null,"ملاحظات"]
[17,""]
[null,"ملاحظات"]
[18,""]
[null,"ملاحظات"]
[19,""]
[null,"ملاحظات"]
[20,""]
[null,"ملاحظات"]
[21,""]
[null,"ملاحظات"]
[22,""]
[null,"ملاحظات"]
[23,""]
[null,"ملاحظات"]
[24,""]
[null,"ملاحظات"]
[25,""]
[null,"ملاحظات"]
[26,""]
[null,"ملاحظات"]
[27,""]
[null,"ملاحظات"]
[28,""]
[null,"ملاحظات"]
[29,""]
[null,"ملاحظات"]
[30,""]
[null,"ملاحظات"]
[31,""]
[null,"ملاحظات"]
[32,""]
[null,"ملاحظات"]
[33,""]
[null,"ملاحظات"]
[34,{"$f":"IF(INDIRECT(ADDRESS(A79,1,1,,\"اسماء المتعلمين\"))=\"\",\"\",INDIRECT(ADDRESS(A79,1,1,,\"اسماء المتعلمين\")))","v":""}]
[null,"ملاحظات"]
[35,""]
[null,"ملاحظات"]
[36,""]
[null,"ملاحظات"]
[37,""]
[null,"ملاحظات"]
[38,""]
[null,"ملاحظات"]
[39,""]
[null,"ملاحظات"]
[40,""]
[null,"ملاحظات"]
[41,""]
[null,"ملاحظات"]
[42,""]
[null,"ملاحظات"]
[43,""]
[null,"ملاحظات"]
[44,""]
[null,"ملاحظات"]
[45,""]
[null,"ملاحظات"]
[46,""]
[null,"ملاحظات"]
[47,""]
[null,"ملاحظات"]
[48,""]
[null,"ملاحظات"]
[49,""]
[null,"ملاحظات"]
[50,""]
[null,"ملاحظات"]
[51,""]
[null,"ملاحظات"]
[52,""]
[null,"ملاحظات"]
[53,""]
[null,"ملاحظات"]
[54,""]
[null,"ملاحظات"]
[55,""]
[null,"ملاحظات"]
[56,""]
[null,"ملاحظات"]
[57,""]
[null,"ملاحظات"]
[58,""]
[null,"ملاحظات"]
[59,""]
[null,"ملاحظات"]
[60,""]
[null,"ملاحظات"]
[61,""]
[null,"ملاحظات"]
[62,""]
[null,"ملاحظات"]
[63,""]
[null,"ملاحظات"]
[64,""]
[null,"ملاحظات"]
[65,""]
[null,"ملاحظات"]
[66,{"$f":"IF(INDIRECT(ADDRESS(A143,1,1,,\"اسماء المتعلمين\"))=\"\",\"\",INDIRECT(ADDRESS(A143,1,1,,\"اسماء المتعلمين\")))","v":""}]
[null,"ملاحظات"]
[67,""]
[null,"ملاحظات"]
[68,""]
[null,"ملاحظات"]
[69,""]
[null,"ملاحظات"]
[70,""]
[null,"ملاحظات"]

{"sheet":"SeconedPartDegrees2","index":8,"n_rows":152,"n_cols":33,"rows_kept":152,"cut":false,"hidden":false,"merged":[[68,23,69,23],[70,23,71,23],[5,19,5,21],[5,22,5,26],[7,4,7,5],[9,12,9,13],[7,6,7,15],[8,6,8,11],[8,12,8,15],[7,18,10,18],[7,17,10,17],[7,16,10,16],[9,14,9,15],[44,23,45,23],[46,23,47,23],[48,23,49,23],[50,23,51,23],[52,23,53,23],[58,23,59,23],[60,23,61,23],[62,23,63,23],[64,23,65,23],[22,23,23,23],[24,23,25,23],[32,23,33,23],[34,23,35,23],[36,23,37,23],[38,23,39,23],[46,22,47,22],[24,22,25,22],[26,22,27,22],[28,22,29,22],[30,22,31,22],[32,22,33,22],[34,22,35,22],[36,22,37,22],[38,22,39,22],[44,22,45,22],[20,23,21,23],[14,20,15,20],[14,16,15,16],[14,17,15,17],[14,18,15,18],[14,19,15,19],[6,19,6,24],[56,21,57,21],[12,22,13,22],[14,22,15,22],[16,22,17,22],[18,22,19,22],[20,22,21,22],[7,23,10,23],[12,23,13,23],[14,23,15,23],[42,19,43,19],[42,24,43,24],[42,20,43,20],[36,16,37,16],[36,17,37,17],[24,24,25,24],[52,24,53,24],[22,22,23,22],[20,21,21,21],[22,21,23,21],[24,21,25,21],[26,21,27,21],[28,21,29,21],[30,21,31,21],[38,21,39,21],[40,21,41,21],[42,21,43,21],[86,0,87,0],[86,16,87,16],[86,17,87,17],[70,0,71,0],[70,16,71,16],[70,17,71,17],[72,0,73,0],[72,16,73,16],[72,17,73,17],[74,0,75,0],[74,16,75,16],[74,17,75,17],[76,0,77,0],[76,16,77,16],[76,17,77,17],[78,0,79,0],[78,16,79,16],[78,17,79,17],[36,0,37,0],[38,0,39,0],[38,16,39,16],[38,17,39,17],[60,16,61,16],[60,17,61,17],[58,0,59,0],[58,16,59,16],[58,17,59,17],[50,0,51,0],[52,0,53,0],[42,16,43,16],[42,17,43,17],[40,0,41,0],[40,16,41,16],[40,17,41,17],[42,0,43,0],[44,0,45,0],[60,0,61,0],[56,0,57,0],[56,16,57,16],[56,17,57,17],[54,0,55,0],[54,16,55,16],[90,0,91,0],[90,16,91,16],[90,17,91,17],[90,18,91,18],[90,19,91,19],[90,20,91,20],[88,0,89,0],[88,16,89,16],[88,17,89,17],[88,18,89,18],[88,19,89,19],[88,20,89,20],[86,24,87,24],[86,21,87,21],[86,22,87,22],[86,23,87,23],[86,18,87,18],[86,19,87,19],[86,20,87,20],[90,24,91,24],[90,21,91,21],[90,22,91,22],[90,23,91,23],[88,24,89,24],[88,21,89,21],[88,22,89,22],[88,23,89,23],[84,24,85,24],[84,21,85,21],[82,0,83,0],[82,16,83,16],[82,17,83,17],[82,18,83,18],[82,19,83,19],[82,20,83,20],[82,24,83,24],[84,0,85,0],[84,16,85,16],[84,17,85,17],[84,18,85,18],[84,19,85,19],[84,20,85,20],[82,21,83,21],[82,23,83,23],[84,23,85,23],[82,22,83,22],[84,22,85,22],[62,0,63,0],[50,21,51,21],[52,21,53,21],[54,21,55,21],[58,21,59,21],[70,18,71,18],[70,19,71,19],[70,20,71,20],[70,24,71,24],[68,0,69,0],[68,16,69,16],[68,17,69,17],[68,18,69,18],[68,19,69,19],[68,20,69,20],[68,24,69,24],[68,21,69,21],[70,21,71,21],[68,22,69,22],[70,22,71,22],[64,21,65,21],[58,22,59,22],[60,22,61,22],[66,23,67,23],[66,0,67,0],[66,16,67,16],[66,17,67,17],[66,18,67,18],[66,19,67,19],[66,24,67,24],[64,20,65,20],[66,20,67,20],[64,0,65,0],[64,16,65,16],[64,17,65,17],[64,18,65,18],[64,19,65,19],[66,21,67,21],[64,22,65,22],[66,22,67,22],[54,23,55,23],[56,23,57,23],[54,24,55,24],[56,24,57,24],[54,22,55,22],[56,22,57,22],[58,24,59,24],[46,21,47,21],[64,24,65,24],[48,21,49,21],[62,24,63,24],[62,20,63,20],[62,16,63,16],[62,17,63,17],[62,18,63,18],[62,19,63,19],[62,22,63,22],[60,18,61,18],[60,19,61,19],[60,24,61,24],[60,20,61,20],[60,21,61,21],[62,21,63,21],[44,18,45,18],[44,16,45,16],[44,17,45,17],[52,16,53,16],[52,17,53,17],[44,19,45,19],[44,24,45,24],[44,20,45,20],[52,18,53,18],[52,19,53,19],[50,19,51,19],[50,16,51,16],[52,20,53,20],[46,19,47,19],[46,24,47,24],[44,21,45,21],[48,22,49,22],[50,22,51,22],[52,22,53,22],[50,24,51,24],[48,24,49,24],[48,0,49,0],[48,16,49,16],[48,17,49,17],[48,18,49,18],[46,0,47,0],[46,16,47,16],[46,17,47,17],[46,18,47,18],[58,20,59,20],[58,18,59,18],[56,20,57,20],[54,19,55,19],[54,20,55,20],[56,19,57,19],[56,18,57,18],[54,18,55,18],[58,19,59,19],[50,20,51,20],[48,19,49,19],[48,20,49,20],[50,17,51,17],[50,18,51,18],[54,17,55,17],[36,18,37,18],[36,19,37,19],[36,24,37,24],[36,20,37,20],[36,21,37,21],[40,22,41,22],[42,22,43,22],[38,18,39,18],[38,19,39,19],[38,24,39,24],[38,20,39,20],[40,18,41,18],[40,19,41,19],[40,24,41,24],[40,20,41,20],[42,18,43,18],[40,23,41,23],[42,23,43,23],[30,24,31,24],[28,24,29,24],[30,20,31,20],[28,20,29,20],[26,24,27,24],[28,0,29,0],[28,16,29,16],[28,17,29,17],[28,18,29,18],[28,19,29,19],[26,23,27,23],[28,23,29,23],[30,23,31,23],[34,0,35,0],[34,18,35,18],[34,16,35,16],[34,17,35,17],[26,0,27,0],[26,16,27,16],[26,17,27,17],[26,18,27,18],[26,19,27,19],[22,18,23,18],[22,19,23,19],[24,0,25,0],[24,16,25,16],[24,17,25,17],[24,18,25,18],[24,19,25,19],[32,0,33,0],[32,16,33,16],[32,17,33,17],[32,18,33,18],[30,0,31,0],[30,16,31,16],[30,17,31,17],[30,18,31,18],[20,0,21,0],[20,16,21,16],[20,17,21,17],[20,18,21,18],[20,19,21,19],[20,24,21,24],[46,20,47,20],[22,24,23,24],[22,20,23,20],[24,20,25,20],[20,20,21,20],[26,20,27,20],[32,24,33,24],[34,20,35,20],[32,20,33,20],[32,21,33,21],[32,19,33,19],[30,19,31,19],[34,19,35,19],[34,24,35,24],[34,21,35,21],[22,0,23,0],[22,16,23,16],[22,17,23,17],[18,24,19,24],[18,20,19,20],[16,24,17,24],[16,20,17,20],[16,23,17,23],[18,23,19,23],[18,0,19,0],[18,16,19,16],[18,17,19,17],[18,18,19,18],[18,19,19,19],[16,0,17,0],[16,21,17,21],[18,21,19,21],[12,0,13,0],[7,2,7,3],[14,24,15,24],[16,16,17,16],[16,17,17,17],[16,18,17,18],[16,19,17,19],[14,0,15,0],[7,24,11,24],[12,24,13,24],[7,20,10,20],[12,20,13,20],[7,19,10,19],[9,6,9,7],[7,21,10,21],[12,21,13,21],[7,22,10,22],[12,19,13,19],[12,16,13,16],[12,17,13,17],[12,18,13,18],[14,21,15,21],[3,0,3,1],[4,0,4,1],[5,0,5,1],[9,10,9,11],[7,0,11,0],[7,1,11,1],[4,2,4,18],[9,8,9,9],[6,2,6,3],[74,18,75,18],[74,19,75,19],[74,20,75,20],[74,21,75,21],[74,22,75,22],[74,23,75,23],[74,24,75,24],[72,18,73,18],[72,19,73,19],[72,20,73,20],[72,21,73,21],[72,22,73,22],[72,23,73,23],[72,24,73,24],[78,18,79,18],[78,19,79,19],[78,20,79,20],[78,21,79,21],[78,22,79,22],[78,23,79,23],[78,24,79,24],[76,18,77,18],[76,19,77,19],[76,20,77,20],[76,21,77,21],[76,22,77,22],[76,23,77,23],[76,24,77,24],[80,24,81,24],[80,0,81,0],[80,16,81,16],[80,17,81,17],[80,18,81,18],[80,19,81,19],[80,20,81,20],[80,21,81,21],[80,22,81,22],[80,23,81,23],[92,24,93,24],[94,0,95,0],[94,16,95,16],[94,17,95,17],[94,18,95,18],[94,19,95,19],[94,20,95,20],[94,21,95,21],[94,22,95,22],[94,23,95,23],[94,24,95,24],[92,0,93,0],[92,16,93,16],[92,17,93,17],[92,18,93,18],[92,19,93,19],[92,20,93,20],[92,21,93,21],[92,22,93,22],[92,23,93,23],[96,24,97,24],[98,0,99,0],[98,16,99,16],[98,17,99,17],[98,18,99,18],[98,19,99,19],[98,20,99,20],[98,21,99,21],[98,22,99,22],[98,23,99,23],[98,24,99,24],[96,0,97,0],[96,16,97,16],[96,17,97,17],[96,18,97,18],[96,19,97,19],[96,20,97,20],[96,21,97,21],[96,22,97,22],[96,23,97,23],[100,24,101,24],[102,0,103,0],[102,16,103,16],[102,17,103,17],[102,18,103,18],[102,19,103,19],[102,20,103,20],[102,21,103,21],[102,22,103,22],[102,23,103,23],[102,24,103,24],[100,0,101,0],[100,16,101,16],[100,17,101,17],[100,18,101,18],[100,19,101,19],[100,20,101,20],[100,21,101,21],[100,22,101,22],[100,23,101,23],[104,24,105,24],[106,0,107,0],[106,16,107,16],[106,17,107,17],[106,18,107,18],[106,19,107,19],[106,20,107,20],[106,21,107,21],[106,22,107,22],[106,23,107,23],[106,24,107,24],[104,0,105,0],[104,16,105,16],[104,17,105,17],[104,18,105,18],[104,19,105,19],[104,20,105,20],[104,21,105,21],[104,22,105,22],[104,23,105,23],[108,24,109,24],[110,0,111,0],[110,16,111,16],[110,17,111,17],[110,18,111,18],[110,19,111,19],[110,20,111,20],[110,21,111,21],[110,22,111,22],[110,23,111,23],[110,24,111,24],[108,0,109,0],[108,16,109,16],[108,17,109,17],[108,18,109,18],[108,19,109,19],[108,20,109,20],[108,21,109,21],[108,22,109,22],[108,23,109,23],[112,24,113,24],[114,0,115,0],[114,16,115,16],[114,17,115,17],[114,18,115,18],[114,19,115,19],[114,20,115,20],[114,21,115,21],[114,22,115,22],[114,23,115,23],[114,24,115,24],[112,0,113,0],[112,16,113,16],[112,17,113,17],[112,18,113,18],[112,19,113,19],[112,20,113,20],[112,21,113,21],[112,22,113,22],[112,23,113,23],[116,24,117,24],[118,0,119,0],[118,16,119,16],[118,17,119,17],[118,18,119,18],[118,19,119,19],[118,20,119,20],[118,21,119,21],[118,22,119,22],[118,23,119,23],[118,24,119,24],[116,0,117,0],[116,16,117,16],[116,17,117,17],[116,18,117,18],[116,19,117,19],[116,20,117,20],[116,21,117,21],[116,22,117,22],[116,23,117,23],[120,24,121,24],[122,0,123,0],[122,16,123,16],[122,17,123,17],[122,18,123,18],[122,19,123,19],[122,20,123,20],[122,21,123,21],[122,22,123,22],[122,23,123,23],[122,24,123,24],[120,0,121,0],[120,16,121,16],[120,17,121,17],[120,18,121,18],[120,19,121,19],[120,20,121,20],[120,21,121,21],[120,22,121,22],[120,23,121,23],[124,24,125,24],[126,0,127,0],[126,16,127,16],[126,17,127,17],[126,18,127,18],[126,19,127,19],[126,20,127,20],[126,21,127,21],[126,22,127,22],[126,23,127,23],[126,24,127,24],[124,0,125,0],[124,16,125,16],[124,17,125,17],[124,18,125,18],[124,19,125,19],[124,20,125,20],[124,21,125,21],[124,22,125,22],[124,23,125,23],[128,24,129,24],[130,0,131,0],[130,16,131,16],[130,17,131,17],[130,18,131,18],[130,19,131,19],[130,20,131,20],[130,21,131,21],[130,22,131,22],[130,23,131,23],[130,24,131,24],[128,0,129,0],[128,16,129,16],[128,17,129,17],[128,18,129,18],[128,19,129,19],[128,20,129,20],[128,21,129,21],[128,22,129,22],[128,23,129,23],[132,24,133,24],[134,0,135,0],[134,16,135,16],[134,17,135,17],[134,18,135,18],[134,19,135,19],[134,20,135,20],[134,21,135,21],[134,22,135,22],[134,23,135,23],[134,24,135,24],[132,0,133,0],[132,16,133,16],[132,17,133,17],[132,18,133,18],[132,19,133,19],[132,20,133,20],[132,21,133,21],[132,22,133,22],[132,23,133,23],[136,24,137,24],[138,0,139,0],[138,16,139,16],[138,17,139,17],[138,18,139,18],[138,19,139,19],[138,20,139,20],[138,21,139,21],[138,22,139,22],[138,23,139,23],[138,24,139,24],[136,0,137,0],[136,16,137,16],[136,17,137,17],[136,18,137,18],[136,19,137,19],[136,20,137,20],[136,21,137,21],[136,22,137,22],[136,23,137,23],[140,24,141,24],[142,0,143,0],[142,16,143,16],[142,17,143,17],[142,18,143,18],[142,19,143,19],[142,20,143,20],[142,21,143,21],[142,22,143,22],[142,23,143,23],[142,24,143,24],[140,0,141,0],[140,16,141,16],[140,17,141,17],[140,18,141,18],[140,19,141,19],[140,20,141,20],[140,21,141,21],[140,22,141,22],[140,23,141,23],[144,24,145,24],[146,0,147,0],[146,16,147,16],[146,17,147,17],[146,18,147,18],[146,19,147,19],[146,20,147,20],[146,21,147,21],[146,22,147,22],[146,23,147,23],[146,24,147,24],[144,0,145,0],[144,16,145,16],[144,17,145,17],[144,18,145,18],[144,19,145,19],[144,20,145,20],[144,21,145,21],[144,22,145,22],[144,23,145,23],[148,24,149,24],[150,0,151,0],[150,16,151,16],[150,17,151,17],[150,18,151,18],[150,19,151,19],[150,20,151,20],[150,21,151,21],[150,22,151,22],[150,23,151,23],[150,24,151,24],[148,0,149,0],[148,16,149,16],[148,17,149,17],[148,18,149,18],[148,19,149,19],[148,20,149,20],[148,21,149,21],[148,22,149,22],[148,23,149,23]]}
[null,null,null,null,null,null,null,null,null,null,null,null,null,null,null,null,null,null,null,null,null,null,null,null,null,null,null,null,null,null,null,4,"غياب"]
[null,null,null,null,null,null,null,null,null,null,null,null,null,null,null,null,null,null,null,null,null,null,null,null,null,null,null,null,null,null,null,3,"عزوف عن تطبيق ورقة العمل"]
[null,null,null,null,null,null,null,null,null,null,null,null,null,null,null,null,null,null,null,null,null,null,null,null,null,null,null,null,null,null,null,2,"قليل المشاركة في الانشطة الصفية"]
[null,null,null,null,null,null,null,null,null,null,null,null,null,null,null,null,null,null,null,null,null,null,null,null,null,null,null,null,null,null,null,1,"يحتاج إلى تعزيز في السلوكيات التربوية"]
[{"$f":"الرئيسية!H12","v":"منطقة حولي التعليمية"},null,"كشــــــف درجات المتعلمين في مادة تكنولوجيا المعلومات والاتصالات",null,null,null,null,null,null,null,null,null,null,null,null,null,null,null,null,null,null,null,null,null,null,null,null,null,null,null,null,0,"لا يحضر ادواته ( الكتاب ، .... ) "]
[{"$f":"\"مدرسة \"& الرئيسية!H13","v":"مدرسة "},null,null,null,null,null,null,null,null,null,null,null,null,null,null,null,null,null,null,"العام الدراسي :",null,null,{"$f":"الرئيسية!H11","v":"2018-2017"},null,null,null,null,null,null,null,null,null,"أخرى"]
[null,{"$f":"FirstPartDegrees2!B7","v":"اسم المعلم :"},{"$f":" الرئيسية!H14","v":""},null,null,null,null,null,"الصف : ",{"$f":"الرئيسية!H15","v":"7-1"},null,null,null,null,null,null,null,null,null,"الفصل الدراسي الثاني"]
["م","اسم المتعلم / المتعلمة","الدرس السابع والثامن - إزالة الخلفية",null,"الدرس التاسع والعاشر - تصميم المنشورات",null,"الدرس الحادي عشر والثاني عشر - مشروعي المميز",null,null,null,null,null,null,null,null,null,"معدل النقاط","درجة التقييم البنائي","درجة المشروع ف2","اختبار نهاية الفصل","مجموع الاختبار","نهاية الفصل الثاني","نهاية الفصل الاول","نهاية العام الدراسي","النتيجة"]
[]
[null,null,"كفاية 4.1","كفاية 4.3","كفاية 4.1","كفاية 4.3","كفاية 1.2",null,"كفاية 2.2",null,"كفاية 4.2",null,"كفاية 3.1",null,"كفاية 3.2"]
[null,null,"النقاط","النقاط","النقاط","النقاط","النقاط","التقييم الثاني","النقاط","التقييم الثاني","النقاط","التقييم الثاني","النقاط","التقييم الثاني","النقاط","التقييم الثاني"]
[null,null,4,4,4,4,4,4,4,4,4,4,4,4,4,4,12,40,20,40,60,100,100,100]
[1,{"$f":"IF(INDIRECT(ADDRESS(A13,1,1,,\"اسماء المتعلمين\"))=\"\",\"\",INDIRECT(ADDRESS(A13,1,1,,\"اسماء المتعلمين\")))","v":""},null,null,null,null,null,null,null,null,null,null,null,null,null,null,{"$f":"INDIRECT(ADDRESS(9+A13*3,30,,,\"Final Degree2\"))","v":""},{"$f":"IF($B13=\"\",\"\",IF((Q13*40/12-INT(Q13*40/12))>=0.75,INT(Q13*40/12)+1,IF((Q13*40/12-INT(Q13*40/12))<0.25,INT(Q13*40/12),INT(Q13*40/12)+0.5)))","v":""},null,null,{"$f":"IF(OR(S13=\"\",T13=\"\"),\"\",S13+T13)","v":""},{"$f":"IF(OR(R13=\"\",T13=\"\"),\"\",T13+R13+S13)","v":""},{"$f":"INDIRECT(ADDRESS(11+A13*2,21,1,,\"SeconedPartDegrees1\"))","v":""},{"$f":"IFERROR(IF(V13=\"\",\"\",IF(((V13+W13)/2-INT((V13+W13)/2))>=0.75,INT((V13+W13)/2)+1,IF(((V13+W13)/2-INT((V13+W13)/2))<0.25,INT((V13+W13)/2),INT((V13+W13)/2)+0.5))),\"\")","v":""},{"$f":"IF(X13=\"\",\"\",IF(AND(X13<50,T13>0),\"دور ثاني\",IF(T13=\"\",\"غياب وعليه دور ثاني\",\"ناجح\")))","v":""},null,null,{"$f":"ROUNDUP(((FirstPartDegrees2!#REF!+C13)/2+(FirstPartDegrees2!F13+H13)/2+(FirstPartDegrees2!#REF!+#REF!)/2+(FirstPartDegrees2!C13+#REF!)/2 )/4,0)","v":{"$error":"#REF!"}},{"$f":"ROUNDUP(((FirstPartDegrees2!#REF!+FirstPartDegrees2!#REF!)/2+(FirstPartDegrees2!G13+D13)/2+(FirstPartDegrees2!L13+J13)/2+(FirstPartDegrees2!H13+#REF!)/2 )/4,0)","v":{"$error":"#REF!"}},{"$f":"ROUNDUP(((FirstPartDegrees2!E13+FirstPartDegrees2!I13)/2+(FirstPartDegrees2!#REF!+FirstPartDegrees2!#REF!)/2+(FirstPartDegrees2!N13+L13)/2+(P13+#REF!)/2)/4,0)","v":{"$error":"#REF!"}},{"$f":"(AD13+AC13+AB13)*40/12","v":{"$error":"#REF!"}}]
[null,"ملاحظات"]
[2,{"$f":"IF(INDIRECT(ADDRESS(A15,1,1,,\"اسماء المتعلمين\"))=\"\",\"\",INDIRECT(ADDRESS(A15,1,1,,\"اسماء المتعلمين\")))","v":""},null,null,null,null,null,null,null,null,null,null,null,null,null,null,{"$f":"INDIRECT(ADDRESS(9+A15*3,30,,,\"Final Degree2\"))","v":""},{"$f":"IF($B15=\"\",\"\",IF((Q15*40/12-INT(Q15*40/12))>=0.75,INT(Q15*40/12)+1,IF((Q15*40/12-INT(Q15*40/12))<0.25,INT(Q15*40/12),INT(Q15*40/12)+0.5)))","v":""},null,null,{"$f":"IF(OR(S15=\"\",T15=\"\"),\"\",S15+T15)","v":""},{"$f":"IF(OR(R15=\"\",T15=\"\"),\"\",T15+R15+S15)","v":""},{"$f":"INDIRECT(ADDRESS(11+A15*2,21,1,,\"SeconedPartDegrees1\"))","v":""},{"$f":"IFERROR(IF(V15=\"\",\"\",IF(((V15+W15)/2-INT((V15+W15)/2))>=0.75,INT((V15+W15)/2)+1,IF(((V15+W15)/2-INT((V15+W15)/2))<0.25,INT((V15+W15)/2),INT((V15+W15)/2)+0.5))),\"\")","v":""},{"$f":"IF(X15=\"\",\"\",IF(AND(X15<50,T15>0),\"دور ثاني\",IF(T15=\"\",\"غياب وعليه دور ثاني\",\"ناجح\")))","v":""},null,null,{"$f":"ROUNDUP(((FirstPartDegrees2!#REF!+C15)/2+(FirstPartDegrees2!F15+H15)/2+(FirstPartDegrees2!#REF!+#REF!)/2+(FirstPartDegrees2!C15+#REF!)/2 )/4,0)","v":{"$error":"#REF!"}},{"$f":"ROUNDUP(((FirstPartDegrees2!#REF!+FirstPartDegrees2!#REF!)/2+(FirstPartDegrees2!G15+D15)/2+(FirstPartDegrees2!L15+J15)/2+(FirstPartDegrees2!H15+#REF!)/2 )/4,0)","v":{"$error":"#REF!"}},{"$f":"ROUNDUP(((FirstPartDegrees2!E15+FirstPartDegrees2!I15)/2+(FirstPartDegrees2!#REF!+FirstPartDegrees2!#REF!)/2+(FirstPartDegrees2!N15+L15)/2+(P15+#REF!)/2)/4,0)","v":{"$error":"#REF!"}},{"$f":"(AD15+AC15+AB15)*40/12","v":{"$error":"#REF!"}}]
[null,"ملاحظات"]
[3,"",null,null,null,null,null,null,null,null,null,null,null,null,null,null,{"$f":"INDIRECT(ADDRESS(9+A17*3,30,,,\"Final Degree2\"))","v":""},{"$f":"IF($B17=\"\",\"\",IF((Q17*40/12-INT(Q17*40/12))>=0.75,INT(Q17*40/12)+1,IF((Q17*40/12-INT(Q17*40/12))<0.25,INT(Q17*40/12),INT(Q17*40/12)+0.5)))","v":""},null,null,{"$f":"IF(OR(S17=\"\",T17=\"\"),\"\",S17+T17)","v":""},{"$f":"IF(OR(R17=\"\",T17=\"\"),\"\",T17+R17+S17)","v":""},{"$f":"INDIRECT(ADDRESS(11+A17*2,21,1,,\"SeconedPartDegrees1\"))","v":""},{"$f":"IFERROR(IF(V17=\"\",\"\",IF(((V17+W17)/2-INT((V17+W17)/2))>=0.75,INT((V17+W17)/2)+1,IF(((V17+W17)/2-INT((V17+W17)/2))<0.25,INT((V17+W17)/2),INT((V17+W17)/2)+0.5))),\"\")","v":""},{"$f":"IF(X17=\"\",\"\",IF(AND(X17<50,T17>0),\"دور ثاني\",IF(T17=\"\",\"غياب وعليه دور ثاني\",\"ناجح\")))","v":""},null,null,{"$f":"ROUNDUP(((FirstPartDegrees2!#REF!+C17)/2+(FirstPartDegrees2!F17+H17)/2+(FirstPartDegrees2!#REF!+#REF!)/2+(FirstPartDegrees2!C17+#REF!)/2 )/4,0)","v":{"$error":"#REF!"}},{"$f":"ROUNDUP(((FirstPartDegrees2!#REF!+FirstPartDegrees2!#REF!)/2+(FirstPartDegrees2!G17+D17)/2+(FirstPartDegrees2!L17+J17)/2+(FirstPartDegrees2!H17+#REF!)/2 )/4,0)","v":{"$error":"#REF!"}},{"$f":"ROUNDUP(((FirstPartDegrees2!E17+FirstPartDegrees2!I17)/2+(FirstPartDegrees2!#REF!+FirstPartDegrees2!#REF!)/2+(FirstPartDegrees2!N17+L17)/2+(P17+#REF!)/2)/4,0)","v":{"$error":"#REF!"}},{"$f":"(AD17+AC17+AB17)*40/12","v":{"$error":"#REF!"}}]
[null,"ملاحظات"]
[4,"",null,null,null,null,null,null,null,null,null,null,null,null,null,null,{"$f":"INDIRECT(ADDRESS(9+A19*3,30,,,\"Final Degree2\"))","v":""},{"$f":"IF($B19=\"\",\"\",IF((Q19*40/12-INT(Q19*40/12))>=0.75,INT(Q19*40/12)+1,IF((Q19*40/12-INT(Q19*40/12))<0.25,INT(Q19*40/12),INT(Q19*40/12)+0.5)))","v":""},null,null,{"$f":"IF(OR(S19=\"\",T19=\"\"),\"\",S19+T19)","v":""},{"$f":"IF(OR(R19=\"\",T19=\"\"),\"\",T19+R19+S19)","v":""},{"$f":"INDIRECT(ADDRESS(11+A19*2,21,1,,\"SeconedPartDegrees1\"))","v":""},{"$f":"IFERROR(IF(V19=\"\",\"\",IF(((V19+W19)/2-INT((V19+W19)/2))>=0.75,INT((V19+W19)/2)+1,IF(((V19+W19)/2-INT((V19+W19)/2))<0.25,INT((V19+W19)/2),INT((V19+W19)/2)+0.5))),\"\")","v":""},{"$f":"IF(X19=\"\",\"\",IF(AND(X19<50,T19>0),\"دور ثاني\",IF(T19=\"\",\"غياب وعليه دور ثاني\",\"ناجح\")))","v":""},null,null,{"$f":"ROUNDUP(((FirstPartDegrees2!#REF!+C19)/2+(FirstPartDegrees2!F19+H19)/2+(FirstPartDegrees2!#REF!+#REF!)/2+(FirstPartDegrees2!C19+#REF!)/2 )/4,0)","v":{"$error":"#REF!"}},{"$f":"ROUNDUP(((FirstPartDegrees2!#REF!+FirstPartDegrees2!#REF!)/2+(FirstPartDegrees2!G19+D19)/2+(FirstPartDegrees2!L19+J19)/2+(FirstPartDegrees2!H19+#REF!)/2 )/4,0)","v":{"$error":"#REF!"}},{"$f":"ROUNDUP(((FirstPartDegrees2!E19+FirstPartDegrees2!I19)/2+(FirstPartDegrees2!#REF!+FirstPartDegrees2!#REF!)/2+(FirstPartDegrees2!N19+L19)/2+(P19+#REF!)/2)/4,0)","v":{"$error":"#REF!"}},{"$f":"(AD19+AC19+AB19)*40/12","v":{"$error":"#REF!"}}]
[null,"ملاحظات"]
[5,"",null,null,null,null,null,null,null,null,null,null,null,null,null,null,{"$f":"INDIRECT(ADDRESS(9+A21*3,30,,,\"Final Degree2\"))","v":""},{"$f":"IF($B21=\"\",\"\",IF((Q21*40/12-INT(Q21*40/12))>=0.75,INT(Q21*40/12)+1,IF((Q21*40/12-INT(Q21*40/12))<0.25,INT(Q21*40/12),INT(Q21*40/12)+0.5)))","v":""},null,null,{"$f":"IF(OR(S21=\"\",T21=\"\"),\"\",S21+T21)","v":""},{"$f":"IF(OR(R21=\"\",T21=\"\"),\"\",T21+R21+S21)","v":""},{"$f":"INDIRECT(ADDRESS(11+A21*2,21,1,,\"SeconedPartDegrees1\"))","v":""},{"$f":"IFERROR(IF(V21=\"\",\"\",IF(((V21+W21)/2-INT((V21+W21)/2))>=0.75,INT((V21+W21)/2)+1,IF(((V21+W21)/2-INT((V21+W21)/2))<0.25,INT((V21+W21)/2),INT((V21+W21)/2)+0.5))),\"\")","v":""},{"$f":"IF(X21=\"\",\"\",IF(AND(X21<50,T21>0),\"دور ثاني\",IF(T21=\"\",\"غياب وعليه دور ثاني\",\"ناجح\")))","v":""},null,null,{"$f":"ROUNDUP(((FirstPartDegrees2!#REF!+C21)/2+(FirstPartDegrees2!F21+H21)/2+(FirstPartDegrees2!#REF!+#REF!)/2+(FirstPartDegrees2!C21+#REF!)/2 )/4,0)","v":{"$error":"#REF!"}},{"$f":"ROUNDUP(((FirstPartDegrees2!#REF!+FirstPartDegrees2!#REF!)/2+(FirstPartDegrees2!G21+D21)/2+(FirstPartDegrees2!L21+J21)/2+(FirstPartDegrees2!H21+#REF!)/2 )/4,0)","v":{"$error":"#REF!"}},{"$f":"ROUNDUP(((FirstPartDegrees2!E21+FirstPartDegrees2!I21)/2+(FirstPartDegrees2!#REF!+FirstPartDegrees2!#REF!)/2+(FirstPartDegrees2!N21+L21)/2+(P21+#REF!)/2)/4,0)","v":{"$error":"#REF!"}},{"$f":"(AD21+AC21+AB21)*40/12","v":{"$error":"#REF!"}}]
[null,"ملاحظات"]
[6,"",null,null,null,null,null,null,null,null,null,null,null,null,null,null,{"$f":"INDIRECT(ADDRESS(9+A23*3,30,,,\"Final Degree2\"))","v":""},{"$f":"IF($B23=\"\",\"\",IF((Q23*40/12-INT(Q23*40/12))>=0.75,INT(Q23*40/12)+1,IF((Q23*40/12-INT(Q23*40/12))<0.25,INT(Q23*40/12),INT(Q23*40/12)+0.5)))","v":""},null,null,{"$f":"IF(OR(S23=\"\",T23=\"\"),\"\",S23+T23)","v":""},{"$f":"IF(OR(R23=\"\",T23=\"\"),\"\",T23+R23+S23)","v":""},{"$f":"INDIRECT(ADDRESS(11+A23*2,21,1,,\"SeconedPartDegrees1\"))","v":""},{"$f":"IFERROR(IF(V23=\"\",\"\",IF(((V23+W23)/2-INT((V23+W23)/2))>=0.75,INT((V23+W23)/2)+1,IF(((V23+W23)/2-INT((V23+W23)/2))<0.25,INT((V23+W23)/2),INT((V23+W23)/2)+0.5))),\"\")","v":""},{"$f":"IF(X23=\"\",\"\",IF(AND(X23<50,T23>0),\"دور ثاني\",IF(T23=\"\",\"غياب وعليه دور ثاني\",\"ناجح\")))","v":""},null,null,{"$f":"ROUNDUP(((FirstPartDegrees2!#REF!+C23)/2+(FirstPartDegrees2!F23+H23)/2+(FirstPartDegrees2!#REF!+#REF!)/2+(FirstPartDegrees2!C23+#REF!)/2 )/4,0)","v":{"$error":"#REF!"}},{"$f":"ROUNDUP(((FirstPartDegrees2!#REF!+FirstPartDegrees2!#REF!)/2+(FirstPartDegrees2!G23+D23)/2+(FirstPartDegrees2!L23+J23)/2+(FirstPartDegrees2!H23+#REF!)/2 )/4,0)","v":{"$error":"#REF!"}},{"$f":"ROUNDUP(((FirstPartDegrees2!E23+FirstPartDegrees2!I23)/2+(FirstPartDegrees2!#REF!+FirstPartDegrees2!#REF!)/2+(FirstPartDegrees2!N23+L23)/2+(P23+#REF!)/2)/4,0)","v":{"$error":"#REF!"}},{"$f":"(AD23+AC23+AB23)*40/12","v":{"$error":"#REF!"}}]
[null,"ملاحظات"]
[7,"",null,null,null,null,null,null,null,null,null,null,null,null,null,null,{"$f":"INDIRECT(ADDRESS(9+A25*3,30,,,\"Final Degree2\"))","v":""},{"$f":"IF($B25=\"\",\"\",IF((Q25*40/12-INT(Q25*40/12))>=0.75,INT(Q25*40/12)+1,IF((Q25*40/12-INT(Q25*40/12))<0.25,INT(Q25*40/12),INT(Q25*40/12)+0.5)))","v":""},null,null,{"$f":"IF(OR(S25=\"\",T25=\"\"),\"\",S25+T25)","v":""},{"$f":"IF(OR(R25=\"\",T25=\"\"),\"\",T25+R25+S25)","v":""},{"$f":"INDIRECT(ADDRESS(11+A25*2,21,1,,\"SeconedPartDegrees1\"))","v":""},{"$f":"IFERROR(IF(V25=\"\",\"\",IF(((V25+W25)/2-INT((V25+W25)/2))>=0.75,INT((V25+W25)/2)+1,IF(((V25+W25)/2-INT((V25+W25)/2))<0.25,INT((V25+W25)/2),INT((V25+W25)/2)+0.5))),\"\")","v":""},{"$f":"IF(X25=\"\",\"\",IF(AND(X25<50,T25>0),\"دور ثاني\",IF(T25=\"\",\"غياب وعليه دور ثاني\",\"ناجح\")))","v":""},null,null,{"$f":"ROUNDUP(((FirstPartDegrees2!#REF!+C25)/2+(FirstPartDegrees2!F25+H25)/2+(FirstPartDegrees2!#REF!+#REF!)/2+(FirstPartDegrees2!C25+#REF!)/2 )/4,0)","v":{"$error":"#REF!"}},{"$f":"ROUNDUP(((FirstPartDegrees2!#REF!+FirstPartDegrees2!#REF!)/2+(FirstPartDegrees2!G25+D25)/2+(FirstPartDegrees2!L25+J25)/2+(FirstPartDegrees2!H25+#REF!)/2 )/4,0)","v":{"$error":"#REF!"}},{"$f":"ROUNDUP(((FirstPartDegrees2!E25+FirstPartDegrees2!I25)/2+(FirstPartDegrees2!#REF!+FirstPartDegrees2!#REF!)/2+(FirstPartDegrees2!N25+L25)/2+(P25+#REF!)/2)/4,0)","v":{"$error":"#REF!"}},{"$f":"(AD25+AC25+AB25)*40/12","v":{"$error":"#REF!"}}]
[null,"ملاحظات"]
[8,"",null,null,null,null,null,null,null,null,null,null,null,null,null,null,{"$f":"INDIRECT(ADDRESS(9+A27*3,30,,,\"Final Degree2\"))","v":""},{"$f":"IF($B27=\"\",\"\",IF((Q27*40/12-INT(Q27*40/12))>=0.75,INT(Q27*40/12)+1,IF((Q27*40/12-INT(Q27*40/12))<0.25,INT(Q27*40/12),INT(Q27*40/12)+0.5)))","v":""},null,null,{"$f":"IF(OR(S27=\"\",T27=\"\"),\"\",S27+T27)","v":""},{"$f":"IF(OR(R27=\"\",T27=\"\"),\"\",T27+R27+S27)","v":""},{"$f":"INDIRECT(ADDRESS(11+A27*2,21,1,,\"SeconedPartDegrees1\"))","v":""},{"$f":"IFERROR(IF(V27=\"\",\"\",IF(((V27+W27)/2-INT((V27+W27)/2))>=0.75,INT((V27+W27)/2)+1,IF(((V27+W27)/2-INT((V27+W27)/2))<0.25,INT((V27+W27)/2),INT((V27+W27)/2)+0.5))),\"\")","v":""},{"$f":"IF(X27=\"\",\"\",IF(AND(X27<50,T27>0),\"دور ثاني\",IF(T27=\"\",\"غياب وعليه دور ثاني\",\"ناجح\")))","v":""},null,null,{"$f":"ROUNDUP(((FirstPartDegrees2!#REF!+C27)/2+(FirstPartDegrees2!F27+H27)/2+(FirstPartDegrees2!#REF!+#REF!)/2+(FirstPartDegrees2!C27+#REF!)/2 )/4,0)","v":{"$error":"#REF!"}},{"$f":"ROUNDUP(((FirstPartDegrees2!#REF!+FirstPartDegrees2!#REF!)/2+(FirstPartDegrees2!G27+D27)/2+(FirstPartDegrees2!L27+J27)/2+(FirstPartDegrees2!H27+#REF!)/2 )/4,0)","v":{"$error":"#REF!"}},{"$f":"ROUNDUP(((FirstPartDegrees2!E27+FirstPartDegrees2!I27)/2+(FirstPartDegrees2!#REF!+FirstPartDegrees2!#REF!)/2+(FirstPartDegrees2!N27+L27)/2+(P27+#REF!)/2)/4,0)","v":{"$error":"#REF!"}},{"$f":"(AD27+AC27+AB27)*40/12","v":{"$error":"#REF!"}}]
[null,"ملاحظات"]
[9,"",null,null,null,null,null,null,null,null,null,null,null,null,null,null,{"$f":"INDIRECT(ADDRESS(9+A29*3,30,,,\"Final Degree2\"))","v":""},{"$f":"IF($B29=\"\",\"\",IF((Q29*40/12-INT(Q29*40/12))>=0.75,INT(Q29*40/12)+1,IF((Q29*40/12-INT(Q29*40/12))<0.25,INT(Q29*40/12),INT(Q29*40/12)+0.5)))","v":""},null,null,{"$f":"IF(OR(S29=\"\",T29=\"\"),\"\",S29+T29)","v":""},{"$f":"IF(OR(R29=\"\",T29=\"\"),\"\",T29+R29+S29)","v":""},{"$f":"INDIRECT(ADDRESS(11+A29*2,21,1,,\"SeconedPartDegrees1\"))","v":""},{"$f":"IFERROR(IF(V29=\"\",\"\",IF(((V29+W29)/2-INT((V29+W29)/2))>=0.75,INT((V29+W29)/2)+1,IF(((V29+W29)/2-INT((V29+W29)/2))<0.25,INT((V29+W29)/2),INT((V29+W29)/2)+0.5))),\"\")","v":""},{"$f":"IF(X29=\"\",\"\",IF(AND(X29<50,T29>0),\"دور ثاني\",IF(T29=\"\",\"غياب وعليه دور ثاني\",\"ناجح\")))","v":""},null,null,{"$f":"ROUNDUP(((FirstPartDegrees2!#REF!+C29)/2+(FirstPartDegrees2!F29+H29)/2+(FirstPartDegrees2!#REF!+#REF!)/2+(FirstPartDegrees2!C29+#REF!)/2 )/4,0)","v":{"$error":"#REF!"}},{"$f":"ROUNDUP(((FirstPartDegrees2!#REF!+FirstPartDegrees2!#REF!)/2+(FirstPartDegrees2!G29+D29)/2+(FirstPartDegrees2!L29+J29)/2+(FirstPartDegrees2!H29+#REF!)/2 )/4,0)","v":{"$error":"#REF!"}},{"$f":"ROUNDUP(((FirstPartDegrees2!E29+FirstPartDegrees2!I29)/2+(FirstPartDegrees2!#REF!+FirstPartDegrees2!#REF!)/2+(FirstPartDegrees2!N29+L29)/2+(P29+#REF!)/2)/4,0)","v":{"$error":"#REF!"}},{"$f":"(AD29+AC29+AB29)*40/12","v":{"$error":"#REF!"}}]
[null,"ملاحظات"]
[10,"",null,null,null,null,null,null,null,null,null,null,null,null,null,null,{"$f":"INDIRECT(ADDRESS(9+A31*3,30,,,\"Final Degree2\"))","v":""},{"$f":"IF($B31=\"\",\"\",IF((Q31*40/12-INT(Q31*40/12))>=0.75,INT(Q31*40/12)+1,IF((Q31*40/12-INT(Q31*40/12))<0.25,INT(Q31*40/12),INT(Q31*40/12)+0.5)))","v":""},null,null,{"$f":"IF(OR(S31=\"\",T31=\"\"),\"\",S31+T31)","v":""},{"$f":"IF(OR(R31=\"\",T31=\"\"),\"\",T31+R31+S31)","v":""},{"$f":"INDIRECT(ADDRESS(11+A31*2,21,1,,\"SeconedPartDegrees1\"))","v":""},{"$f":"IFERROR(IF(V31=\"\",\"\",IF(((V31+W31)/2-INT((V31+W31)/2))>=0.75,INT((V31+W31)/2)+1,IF(((V31+W31)/2-INT((V31+W31)/2))<0.25,INT((V31+W31)/2),INT((V31+W31)/2)+0.5))),\"\")","v":""},{"$f":"IF(X31=\"\",\"\",IF(AND(X31<50,T31>0),\"دور ثاني\",IF(T31=\"\",\"غياب وعليه دور ثاني\",\"ناجح\")))","v":""},null,null,{"$f":"ROUNDUP(((FirstPartDegrees2!#REF!+C31)/2+(FirstPartDegrees2!F31+H31)/2+(FirstPartDegrees2!#REF!+#REF!)/2+(FirstPartDegrees2!C31+#REF!)/2 )/4,0)","v":{"$error":"#REF!"}},{"$f":"ROUNDUP(((FirstPartDegrees2!#REF!+FirstPartDegrees2!#REF!)/2+(FirstPartDegrees2!G31+D31)/2+(FirstPartDegrees2!L31+J31)/2+(FirstPartDegrees2!H31+#REF!)/2 )/4,0)","v":{"$error":"#REF!"}},{"$f":"ROUNDUP(((FirstPartDegrees2!E31+FirstPartDegrees2!I31)/2+(FirstPartDegrees2!#REF!+FirstPartDegrees2!#REF!)/2+(FirstPartDegrees2!N31+L31)/2+(P31+#REF!)/2)/4,0)","v":{"$error":"#REF!"}},{"$f":"(AD31+AC31+AB31)*40/12","v":{"$error":"#REF!"}}]
[null,"ملاحظات"]
[11,"",null,null,null,null,null,null,null,null,null,null,null,null,null,null,{"$f":"INDIRECT(ADDRESS(9+A33*3,30,,,\"Final Degree2\"))","v":""},{"$f":"IF($B33=\"\",\"\",IF((Q33*40/12-INT(Q33*40/12))>=0.75,INT(Q33*40/12)+1,IF((Q33*40/12-INT(Q33*40/12))<0.25,INT(Q33*40/12),INT(Q33*40/12)+0.5)))","v":""},null,null,{"$f":"IF(OR(S33=\"\",T33=\"\"),\"\",S33+T33)","v":""},{"$f":"IF(OR(R33=\"\",T33=\"\"),\"\",T33+R33+S33)","v":""},{"$f":"INDIRECT(ADDRESS(11+A33*2,21,1,,\"SeconedPartDegrees1\"))","v":""},{"$f":"IFERROR(IF(V33=\"\",\"\",IF(((V33+W33)/2-INT((V33+W33)/2))>=0.75,INT((V33+W33)/2)+1,IF(((V33+W33)/2-INT((V33+W33)/2))<0.25,INT((V33+W33)/2),INT((V33+W33)/2)+0.5))),\"\")","v":""},{"$f":"IF(X33=\"\",\"\",IF(AND(X33<50,T33>0),\"دور ثاني\",IF(T33=\"\",\"غياب وعليه دور ثاني\",\"ناجح\")))","v":""},null,null,{"$f":"ROUNDUP(((FirstPartDegrees2!#REF!+C33)/2+(FirstPartDegrees2!F33+H33)/2+(FirstPartDegrees2!#REF!+#REF!)/2+(FirstPartDegrees2!C33+#REF!)/2 )/4,0)","v":{"$error":"#REF!"}},{"$f":"ROUNDUP(((FirstPartDegrees2!#REF!+FirstPartDegrees2!#REF!)/2+(FirstPartDegrees2!G33+D33)/2+(FirstPartDegrees2!L33+J33)/2+(FirstPartDegrees2!H33+#REF!)/2 )/4,0)","v":{"$error":"#REF!"}},{"$f":"ROUNDUP(((FirstPartDegrees2!E33+FirstPartDegrees2!I33)/2+(FirstPartDegrees2!#REF!+FirstPartDegrees2!#REF!)/2+(FirstPartDegrees2!N33+L33)/2+(P33+#REF!)/2)/4,0)","v":{"$error":"#REF!"}},{"$f":"(AD33+AC33+AB33)*40/12","v":{"$error":"#REF!"}}]
[null,"ملاحظات"]
[12,"",null,null,null,null,null,null,null,null,null,null,null,null,null,null,{"$f":"INDIRECT(ADDRESS(9+A35*3,30,,,\"Final Degree2\"))","v":""},{"$f":"IF($B35=\"\",\"\",IF((Q35*40/12-INT(Q35*40/12))>=0.75,INT(Q35*40/12)+1,IF((Q35*40/12-INT(Q35*40/12))<0.25,INT(Q35*40/12),INT(Q35*40/12)+0.5)))","v":""},null,null,{"$f":"IF(OR(S35=\"\",T35=\"\"),\"\",S35+T35)","v":""},{"$f":"IF(OR(R35=\"\",T35=\"\"),\"\",T35+R35+S35)","v":""},{"$f":"INDIRECT(ADDRESS(11+A35*2,21,1,,\"SeconedPartDegrees1\"))","v":""},{"$f":"IFERROR(IF(V35=\"\",\"\",IF(((V35+W35)/2-INT((V35+W35)/2))>=0.75,INT((V35+W35)/2)+1,IF(((V35+W35)/2-INT((V35+W35)/2))<0.25,INT((V35+W35)/2),INT((V35+W35)/2)+0.5))),\"\")","v":""},{"$f":"IF(X35=\"\",\"\",IF(AND(X35<50,T35>0),\"دور ثاني\",IF(T35=\"\",\"غياب وعليه دور ثاني\",\"ناجح\")))","v":""},null,null,{"$f":"ROUNDUP(((FirstPartDegrees2!#REF!+C35)/2+(FirstPartDegrees2!F35+H35)/2+(FirstPartDegrees2!#REF!+#REF!)/2+(FirstPartDegrees2!C35+#REF!)/2 )/4,0)","v":{"$error":"#REF!"}},{"$f":"ROUNDUP(((FirstPartDegrees2!#REF!+FirstPartDegrees2!#REF!)/2+(FirstPartDegrees2!G35+D35)/2+(FirstPartDegrees2!L35+J35)/2+(FirstPartDegrees2!H35+#REF!)/2 )/4,0)","v":{"$error":"#REF!"}},{"$f":"ROUNDUP(((FirstPartDegrees2!E35+FirstPartDegrees2!I35)/2+(FirstPartDegrees2!#REF!+FirstPartDegrees2!#REF!)/2+(FirstPartDegrees2!N35+L35)/2+(P35+#REF!)/2)/4,0)","v":{"$error":"#REF!"}},{"$f":"(AD35+AC35+AB35)*40/12","v":{"$error":"#REF!"}}]
[null,"ملاحظات"]
[13,"",null,null,null,null,null,null,null,null,null,null,null,null,null,null,{"$f":"INDIRECT(ADDRESS(9+A37*3,30,,,\"Final Degree2\"))","v":""},{"$f":"IF($B37=\"\",\"\",IF((Q37*40/12-INT(Q37*40/12))>=0.75,INT(Q37*40/12)+1,IF((Q37*40/12-INT(Q37*40/12))<0.25,INT(Q37*40/12),INT(Q37*40/12)+0.5)))","v":""},null,null,{"$f":"IF(OR(S37=\"\",T37=\"\"),\"\",S37+T37)","v":""},{"$f":"IF(OR(R37=\"\",T37=\"\"),\"\",T37+R37+S37)","v":""},{"$f":"INDIRECT(ADDRESS(11+A37*2,21,1,,\"SeconedPartDegrees1\"))","v":""},{"$f":"IFERROR(IF(V37=\"\",\"\",IF(((V37+W37)/2-INT((V37+W37)/2))>=0.75,INT((V37+W37)/2)+1,IF(((V37+W37)/2-INT((V37+W37)/2))<0.25,INT((V37+W37)/2),INT((V37+W37)/2)+0.5))),\"\")","v":""},{"$f":"IF(X37=\"\",\"\",IF(AND(X37<50,T37>0),\"دور ثاني\",IF(T37=\"\",\"غياب وعليه دور ثاني\",\"ناجح\")))","v":""},null,null,{"$f":"ROUNDUP(((FirstPartDegrees2!#REF!+C37)/2+(FirstPartDegrees2!F37+H37)/2+(FirstPartDegrees2!#REF!+#REF!)/2+(FirstPartDegrees2!C37+#REF!)/2 )/4,0)","v":{"$error":"#REF!"}},{"$f":"ROUNDUP(((FirstPartDegrees2!#REF!+FirstPartDegrees2!#REF!)/2+(FirstPartDegrees2!G37+D37)/2+(FirstPartDegrees2!L37+J37)/2+(FirstPartDegrees2!H37+#REF!)/2 )/4,0)","v":{"$error":"#REF!"}},{"$f":"ROUNDUP(((FirstPartDegrees2!E37+FirstPartDegrees2!I37)/2+(FirstPartDegrees2!#REF!+FirstPartDegrees2!#REF!)/2+(FirstPartDegrees2!N37+L37)/2+(P37+#REF!)/2)/4,0)","v":{"$error":"#REF!"}},{"$f":"(AD37+AC37+AB37)*40/12","v":{"$error":"#REF!"}}]
[null,"ملاحظات"]
[14,"",null,null,null,null,null,null,null,null,null,null,null,null,null,null,{"$f":"INDIRECT(ADDRESS(9+A39*3,30,,,\"Final Degree2\"))","v":""},{"$f":"IF($B39=\"\",\"\",IF((Q39*40/12-INT(Q39*40/12))>=0.75,INT(Q39*40/12)+1,IF((Q39*40/12-INT(Q39*40/12))<0.25,INT(Q39*40/12),INT(Q39*40/12)+0.5)))","v":""},null,null,{"$f":"IF(OR(S39=\"\",T39=\"\"),\"\",S39+T39)","v":""},{"$f":"IF(OR(R39=\"\",T39=\"\"),\"\",T39+R39+S39)","v":""},{"$f":"INDIRECT(ADDRESS(11+A39*2,21,1,,\"SeconedPartDegrees1\"))","v":""},{"$f":"IFERROR(IF(V39=\"\",\"\",IF(((V39+W39)/2-INT((V39+W39)/2))>=0.75,INT((V39+W39)/2)+1,IF(((V39+W39)/2-INT((V39+W39)/2))<0.25,INT((V39+W39)/2),INT((V39+W39)/2)+0.5))),\"\")","v":""},{"$f":"IF(X39=\"\",\"\",IF(AND(X39<50,T39>0),\"دور ثاني\",IF(T39=\"\",\"غياب وعليه دور ثاني\",\"ناجح\")))","v":""},null,null,{"$f":"ROUNDUP(((FirstPartDegrees2!#REF!+C39)/2+(FirstPartDegrees2!F39+H39)/2+(FirstPartDegrees2!#REF!+#REF!)/2+(FirstPartDegrees2!C39+#REF!)/2 )/4,0)","v":{"$error":"#REF!"}},{"$f":"ROUNDUP(((FirstPartDegrees2!#REF!+FirstPartDegrees2!#REF!)/2+(FirstPartDegrees2!G39+D39)/2+(FirstPartDegrees2!L39+J39)/2+(FirstPartDegrees2!H39+#REF!)/2 )/4,0)","v":{"$error":"#REF!"}},{"$f":"ROUNDUP(((FirstPartDegrees2!E39+FirstPartDegrees2!I39)/2+(FirstPartDegrees2!#REF!+FirstPartDegrees2!#REF!)/2+(FirstPartDegrees2!N39+L39)/2+(P39+#REF!)/2)/4,0)","v":{"$error":"#REF!"}},{"$f":"(AD39+AC39+AB39)*40/12","v":{"$error":"#REF!"}}]
[null,"ملاحظات"]
[15,"",null,null,null,null,null,null,null,null,null,null,null,null,null,null,{"$f":"INDIRECT(ADDRESS(9+A41*3,30,,,\"Final Degree2\"))","v":""},{"$f":"IF($B41=\"\",\"\",IF((Q41*40/12-INT(Q41*40/12))>=0.75,INT(Q41*40/12)+1,IF((Q41*40/12-INT(Q41*40/12))<0.25,INT(Q41*40/12),INT(Q41*40/12)+0.5)))","v":""},null,null,{"$f":"IF(OR(S41=\"\",T41=\"\"),\"\",S41+T41)","v":""},{"$f":"IF(OR(R41=\"\",T41=\"\"),\"\",T41+R41+S41)","v":""},{"$f":"INDIRECT(ADDRESS(11+A41*2,21,1,,\"SeconedPartDegrees1\"))","v":""},{"$f":"IFERROR(IF(V41=\"\",\"\",IF(((V41+W41)/2-INT((V41+W41)/2))>=0.75,INT((V41+W41)/2)+1,IF(((V41+W41)/2-INT((V41+W41)/2))<0.25,INT((V41+W41)/2),INT((V41+W41)/2)+0.5))),\"\")","v":""},{"$f":"IF(X41=\"\",\"\",IF(AND(X41<50,T41>0),\"دور ثاني\",IF(T41=\"\",\"غياب وعليه دور ثاني\",\"ناجح\")))","v":""},null,null,{"$f":"ROUNDUP(((FirstPartDegrees2!#REF!+C41)/2+(FirstPartDegrees2!F41+H41)/2+(FirstPartDegrees2!#REF!+#REF!)/2+(FirstPartDegrees2!C41+#REF!)/2 )/4,0)","v":{"$error":"#REF!"}},{"$f":"ROUNDUP(((FirstPartDegrees2!#REF!+FirstPartDegrees2!#REF!)/2+(FirstPartDegrees2!G41+D41)/2+(FirstPartDegrees2!L41+J41)/2+(FirstPartDegrees2!H41+#REF!)/2 )/4,0)","v":{"$error":"#REF!"}},{"$f":"ROUNDUP(((FirstPartDegrees2!E41+FirstPartDegrees2!I41)/2+(FirstPartDegrees2!#REF!+FirstPartDegrees2!#REF!)/2+(FirstPartDegrees2!N41+L41)/2+(P41+#REF!)/2)/4,0)","v":{"$error":"#REF!"}},{"$f":"(AD41+AC41+AB41)*40/12","v":{"$error":"#REF!"}}]
[null,"ملاحظات"]
[16,"",null,null,null,null,null,null,null,null,null,null,null,null,null,null,{"$f":"INDIRECT(ADDRESS(9+A43*3,30,,,\"Final Degree2\"))","v":""},{"$f":"IF($B43=\"\",\"\",IF((Q43*40/12-INT(Q43*40/12))>=0.75,INT(Q43*40/12)+1,IF((Q43*40/12-INT(Q43*40/12))<0.25,INT(Q43*40/12),INT(Q43*40/12)+0.5)))","v":""},null,null,{"$f":"IF(OR(S43=\"\",T43=\"\"),\"\",S43+T43)","v":""},{"$f":"IF(OR(R43=\"\",T43=\"\"),\"\",T43+R43+S43)","v":""},{"$f":"INDIRECT(ADDRESS(11+A43*2,21,1,,\"SeconedPartDegrees1\"))","v":""},{"$f":"IFERROR(IF(V43=\"\",\"\",IF(((V43+W43)/2-INT((V43+W43)/2))>=0.75,INT((V43+W43)/2)+1,IF(((V43+W43)/2-INT((V43+W43)/2))<0.25,INT((V43+W43)/2),INT((V43+W43)/2)+0.5))),\"\")","v":""},{"$f":"IF(X43=\"\",\"\",IF(AND(X43<50,T43>0),\"دور ثاني\",IF(T43=\"\",\"غياب وعليه دور ثاني\",\"ناجح\")))","v":""},null,null,{"$f":"ROUNDUP(((FirstPartDegrees2!#REF!+C43)/2+(FirstPartDegrees2!F43+H43)/2+(FirstPartDegrees2!#REF!+#REF!)/2+(FirstPartDegrees2!C43+#REF!)/2 )/4,0)","v":{"$error":"#REF!"}},{"$f":"ROUNDUP(((FirstPartDegrees2!#REF!+FirstPartDegrees2!#REF!)/2+(FirstPartDegrees2!G43+D43)/2+(FirstPartDegrees2!L43+J43)/2+(FirstPartDegrees2!H43+#REF!)/2 )/4,0)","v":{"$error":"#REF!"}},{"$f":"ROUNDUP(((FirstPartDegrees2!E43+FirstPartDegrees2!I43)/2+(FirstPartDegrees2!#REF!+FirstPartDegrees2!#REF!)/2+(FirstPartDegrees2!N43+L43)/2+(P43+#REF!)/2)/4,0)","v":{"$error":"#REF!"}},{"$f":"(AD43+AC43+AB43)*40/12","v":{"$error":"#REF!"}}]
[null,"ملاحظات"]
[17,"",null,null,null,null,null,null,null,null,null,null,null,null,null,null,{"$f":"INDIRECT(ADDRESS(9+A45*3,30,,,\"Final Degree2\"))","v":""},{"$f":"IF($B45=\"\",\"\",IF((Q45*40/12-INT(Q45*40/12))>=0.75,INT(Q45*40/12)+1,IF((Q45*40/12-INT(Q45*40/12))<0.25,INT(Q45*40/12),INT(Q45*40/12)+0.5)))","v":""},null,null,{"$f":"IF(OR(S45=\"\",T45=\"\"),\"\",S45+T45)","v":""},{"$f":"IF(OR(R45=\"\",T45=\"\"),\"\",T45+R45+S45)","v":""},{"$f":"INDIRECT(ADDRESS(11+A45*2,21,1,,\"SeconedPartDegrees1\"))","v":""},{"$f":"IFERROR(IF(V45=\"\",\"\",IF(((V45+W45)/2-INT((V45+W45)/2))>=0.75,INT((V45+W45)/2)+1,IF(((V45+W45)/2-INT((V45+W45)/2))<0.25,INT((V45+W45)/2),INT((V45+W45)/2)+0.5))),\"\")","v":""},{"$f":"IF(X45=\"\",\"\",IF(AND(X45<50,T45>0),\"دور ثاني\",IF(T45=\"\",\"غياب وعليه دور ثاني\",\"ناجح\")))","v":""},null,null,{"$f":"ROUNDUP(((FirstPartDegrees2!#REF!+C45)/2+(FirstPartDegrees2!F45+H45)/2+(FirstPartDegrees2!#REF!+#REF!)/2+(FirstPartDegrees2!C45+#REF!)/2 )/4,0)","v":{"$error":"#REF!"}},{"$f":"ROUNDUP(((FirstPartDegrees2!#REF!+FirstPartDegrees2!#REF!)/2+(FirstPartDegrees2!G45+D45)/2+(FirstPartDegrees2!L45+J45)/2+(FirstPartDegrees2!H45+#REF!)/2 )/4,0)","v":{"$error":"#REF!"}},{"$f":"ROUNDUP(((FirstPartDegrees2!E45+FirstPartDegrees2!I45)/2+(FirstPartDegrees2!#REF!+FirstPartDegrees2!#REF!)/2+(FirstPartDegrees2!N45+L45)/2+(P45+#REF!)/2)/4,0)","v":{"$error":"#REF!"}},{"$f":"(AD45+AC45+AB45)*40/12","v":{"$error":"#REF!"}}]
[null,"ملاحظات"]
[18,"",null,null,null,null,null,null,null,null,null,null,null,null,null,null,{"$f":"INDIRECT(ADDRESS(9+A47*3,30,,,\"Final Degree2\"))","v":""},{"$f":"IF($B47=\"\",\"\",IF((Q47*40/12-INT(Q47*40/12))>=0.75,INT(Q47*40/12)+1,IF((Q47*40/12-INT(Q47*40/12))<0.25,INT(Q47*40/12),INT(Q47*40/12)+0.5)))","v":""},null,null,{"$f":"IF(OR(S47=\"\",T47=\"\"),\"\",S47+T47)","v":""},{"$f":"IF(OR(R47=\"\",T47=\"\"),\"\",T47+R47+S47)","v":""},{"$f":"INDIRECT(ADDRESS(11+A47*2,21,1,,\"SeconedPartDegrees1\"))","v":""},{"$f":"IFERROR(IF(V47=\"\",\"\",IF(((V47+W47)/2-INT((V47+W47)/2))>=0.75,INT((V47+W47)/2)+1,IF(((V47+W47)/2-INT((V47+W47)/2))<0.25,INT((V47+W47)/2),INT((V47+W47)/2)+0.5))),\"\")","v":""},{"$f":"IF(X47=\"\",\"\",IF(AND(X47<50,T47>0),\"دور ثاني\",IF(T47=\"\",\"غياب وعليه دور ثاني\",\"ناجح\")))","v":""},null,null,{"$f":"ROUNDUP(((FirstPartDegrees2!#REF!+C47)/2+(FirstPartDegrees2!F47+H47)/2+(FirstPartDegrees2!#REF!+#REF!)/2+(FirstPartDegrees2!C47+#REF!)/2 )/4,0)","v":{"$error":"#REF!"}},{"$f":"ROUNDUP(((FirstPartDegrees2!#REF!+FirstPartDegrees2!#REF!)/2+(FirstPartDegrees2!G47+D47)/2+(FirstPartDegrees2!L47+J47)/2+(FirstPartDegrees2!H47+#REF!)/2 )/4,0)","v":{"$error":"#REF!"}},{"$f":"ROUNDUP(((FirstPartDegrees2!E47+FirstPartDegrees2!I47)/2+(FirstPartDegrees2!#REF!+FirstPartDegrees2!#REF!)/2+(FirstPartDegrees2!N47+L47)/2+(P47+#REF!)/2)/4,0)","v":{"$error":"#REF!"}},{"$f":"(AD47+AC47+AB47)*40/12","v":{"$error":"#REF!"}}]
[null,"ملاحظات"]
[19,"",null,null,null,null,null,null,null,null,null,null,null,null,null,null,{"$f":"INDIRECT(ADDRESS(9+A49*3,30,,,\"Final Degree2\"))","v":""},{"$f":"IF($B49=\"\",\"\",IF((Q49*40/12-INT(Q49*40/12))>=0.75,INT(Q49*40/12)+1,IF((Q49*40/12-INT(Q49*40/12))<0.25,INT(Q49*40/12),INT(Q49*40/12)+0.5)))","v":""},null,null,{"$f":"IF(OR(S49=\"\",T49=\"\"),\"\",S49+T49)","v":""},{"$f":"IF(OR(R49=\"\",T49=\"\"),\"\",T49+R49+S49)","v":""},{"$f":"INDIRECT(ADDRESS(11+A49*2,21,1,,\"SeconedPartDegrees1\"))","v":""},{"$f":"IFERROR(IF(V49=\"\",\"\",IF(((V49+W49)/2-INT((V49+W49)/2))>=0.75,INT((V49+W49)/2)+1,IF(((V49+W49)/2-INT((V49+W49)/2))<0.25,INT((V49+W49)/2),INT((V49+W49)/2)+0.5))),\"\")","v":""},{"$f":"IF(X49=\"\",\"\",IF(AND(X49<50,T49>0),\"دور ثاني\",IF(T49=\"\",\"غياب وعليه دور ثاني\",\"ناجح\")))","v":""},null,null,{"$f":"ROUNDUP(((FirstPartDegrees2!#REF!+C49)/2+(FirstPartDegrees2!F49+H49)/2+(FirstPartDegrees2!#REF!+#REF!)/2+(FirstPartDegrees2!C49+#REF!)/2 )/4,0)","v":{"$error":"#REF!"}},{"$f":"ROUNDUP(((FirstPartDegrees2!#REF!+FirstPartDegrees2!#REF!)/2+(FirstPartDegrees2!G49+D49)/2+(FirstPartDegrees2!L49+J49)/2+(FirstPartDegrees2!H49+#REF!)/2 )/4,0)","v":{"$error":"#REF!"}},{"$f":"ROUNDUP(((FirstPartDegrees2!E49+FirstPartDegrees2!I49)/2+(FirstPartDegrees2!#REF!+FirstPartDegrees2!#REF!)/2+(FirstPartDegrees2!N49+L49)/2+(P49+#REF!)/2)/4,0)","v":{"$error":"#REF!"}},{"$f":"(AD49+AC49+AB49)*40/12","v":{"$error":"#REF!"}}]
[null,"ملاحظات"]
[20,"",null,null,null,null,null,null,null,null,null,null,null,null,null,null,{"$f":"INDIRECT(ADDRESS(9+A51*3,30,,,\"Final Degree2\"))","v":""},{"$f":"IF($B51=\"\",\"\",IF((Q51*40/12-INT(Q51*40/12))>=0.75,INT(Q51*40/12)+1,IF((Q51*40/12-INT(Q51*40/12))<0.25,INT(Q51*40/12),INT(Q51*40/12)+0.5)))","v":""},null,null,{"$f":"IF(OR(S51=\"\",T51=\"\"),\"\",S51+T51)","v":""},{"$f":"IF(OR(R51=\"\",T51=\"\"),\"\",T51+R51+S51)","v":""},{"$f":"INDIRECT(ADDRESS(11+A51*2,21,1,,\"SeconedPartDegrees1\"))","v":""},{"$f":"IFERROR(IF(V51=\"\",\"\",IF(((V51+W51)/2-INT((V51+W51)/2))>=0.75,INT((V51+W51)/2)+1,IF(((V51+W51)/2-INT((V51+W51)/2))<0.25,INT((V51+W51)/2),INT((V51+W51)/2)+0.5))),\"\")","v":""},{"$f":"IF(X51=\"\",\"\",IF(AND(X51<50,T51>0),\"دور ثاني\",IF(T51=\"\",\"غياب وعليه دور ثاني\",\"ناجح\")))","v":""},null,null,{"$f":"ROUNDUP(((FirstPartDegrees2!#REF!+C51)/2+(FirstPartDegrees2!F51+H51)/2+(FirstPartDegrees2!#REF!+#REF!)/2+(FirstPartDegrees2!C51+#REF!)/2 )/4,0)","v":{"$error":"#REF!"}},{"$f":"ROUNDUP(((FirstPartDegrees2!#REF!+FirstPartDegrees2!#REF!)/2+(FirstPartDegrees2!G51+D51)/2+(FirstPartDegrees2!L51+J51)/2+(FirstPartDegrees2!H51+#REF!)/2 )/4,0)","v":{"$error":"#REF!"}},{"$f":"ROUNDUP(((FirstPartDegrees2!E51+FirstPartDegrees2!I51)/2+(FirstPartDegrees2!#REF!+FirstPartDegrees2!#REF!)/2+(FirstPartDegrees2!N51+L51)/2+(P51+#REF!)/2)/4,0)","v":{"$error":"#REF!"}},{"$f":"(AD51+AC51+AB51)*40/12","v":{"$error":"#REF!"}}]
[null,"ملاحظات"]
[21,"",null,null,null,null,null,null,null,null,null,null,null,null,null,null,{"$f":"INDIRECT(ADDRESS(9+A53*3,30,,,\"Final Degree2\"))","v":""},{"$f":"IF($B53=\"\",\"\",IF((Q53*40/12-INT(Q53*40/12))>=0.75,INT(Q53*40/12)+1,IF((Q53*40/12-INT(Q53*40/12))<0.25,INT(Q53*40/12),INT(Q53*40/12)+0.5)))","v":""},null,null,{"$f":"IF(OR(S53=\"\",T53=\"\"),\"\",S53+T53)","v":""},{"$f":"IF(OR(R53=\"\",T53=\"\"),\"\",T53+R53+S53)","v":""},{"$f":"INDIRECT(ADDRESS(11+A53*2,21,1,,\"SeconedPartDegrees1\"))","v":""},{"$f":"IFERROR(IF(V53=\"\",\"\",IF(((V53+W53)/2-INT((V53+W53)/2))>=0.75,INT((V53+W53)/2)+1,IF(((V53+W53)/2-INT((V53+W53)/2))<0.25,INT((V53+W53)/2),INT((V53+W53)/2)+0.5))),\"\")","v":""},{"$f":"IF(X53=\"\",\"\",IF(AND(X53<50,T53>0),\"دور ثاني\",IF(T53=\"\",\"غياب وعليه دور ثاني\",\"ناجح\")))","v":""},null,null,{"$f":"ROUNDUP(((FirstPartDegrees2!#REF!+C53)/2+(FirstPartDegrees2!F53+H53)/2+(FirstPartDegrees2!#REF!+#REF!)/2+(FirstPartDegrees2!C53+#REF!)/2 )/4,0)","v":{"$error":"#REF!"}},{"$f":"ROUNDUP(((FirstPartDegrees2!#REF!+FirstPartDegrees2!#REF!)/2+(FirstPartDegrees2!G53+D53)/2+(FirstPartDegrees2!L53+J53)/2+(FirstPartDegrees2!H53+#REF!)/2 )/4,0)","v":{"$error":"#REF!"}},{"$f":"ROUNDUP(((FirstPartDegrees2!E53+FirstPartDegrees2!I53)/2+(FirstPartDegrees2!#REF!+FirstPartDegrees2!#REF!)/2+(FirstPartDegrees2!N53+L53)/2+(P53+#REF!)/2)/4,0)","v":{"$error":"#REF!"}},{"$f":"(AD53+AC53+AB53)*40/12","v":{"$error":"#REF!"}}]
[null,"ملاحظات"]
[22,"",null,null,null,null,null,null,null,null,null,null,null,null,null,null,{"$f":"INDIRECT(ADDRESS(9+A55*3,30,,,\"Final Degree2\"))","v":""},{"$f":"IF($B55=\"\",\"\",IF((Q55*40/12-INT(Q55*40/12))>=0.75,INT(Q55*40/12)+1,IF((Q55*40/12-INT(Q55*40/12))<0.25,INT(Q55*40/12),INT(Q55*40/12)+0.5)))","v":""},null,null,{"$f":"IF(OR(S55=\"\",T55=\"\"),\"\",S55+T55)","v":""},{"$f":"IF(OR(R55=\"\",T55=\"\"),\"\",T55+R55+S55)","v":""},{"$f":"INDIRECT(ADDRESS(11+A55*2,21,1,,\"SeconedPartDegrees1\"))","v":""},{"$f":"IFERROR(IF(V55=\"\",\"\",IF(((V55+W55)/2-INT((V55+W55)/2))>=0.75,INT((V55+W55)/2)+1,IF(((V55+W55)/2-INT((V55+W55)/2))<0.25,INT((V55+W55)/2),INT((V55+W55)/2)+0.5))),\"\")","v":""},{"$f":"IF(X55=\"\",\"\",IF(AND(X55<50,T55>0),\"دور ثاني\",IF(T55=\"\",\"غياب وعليه دور ثاني\",\"ناجح\")))","v":""},null,null,{"$f":"ROUNDUP(((FirstPartDegrees2!#REF!+C55)/2+(FirstPartDegrees2!F55+H55)/2+(FirstPartDegrees2!#REF!+#REF!)/2+(FirstPartDegrees2!C55+#REF!)/2 )/4,0)","v":{"$error":"#REF!"}},{"$f":"ROUNDUP(((FirstPartDegrees2!#REF!+FirstPartDegrees2!#REF!)/2+(FirstPartDegrees2!G55+D55)/2+(FirstPartDegrees2!L55+J55)/2+(FirstPartDegrees2!H55+#REF!)/2 )/4,0)","v":{"$error":"#REF!"}},{"$f":"ROUNDUP(((FirstPartDegrees2!E55+FirstPartDegrees2!I55)/2+(FirstPartDegrees2!#REF!+FirstPartDegrees2!#REF!)/2+(FirstPartDegrees2!N55+L55)/2+(P55+#REF!)/2)/4,0)","v":{"$error":"#REF!"}},{"$f":"(AD55+AC55+AB55)*40/12","v":{"$error":"#REF!"}}]
[null,"ملاحظات"]
[23,"",null,null,null,null,null,null,null,null,null,null,null,null,null,null,{"$f":"INDIRECT(ADDRESS(9+A57*3,30,,,\"Final Degree2\"))","v":""},{"$f":"IF($B57=\"\",\"\",IF((Q57*40/12-INT(Q57*40/12))>=0.75,INT(Q57*40/12)+1,IF((Q57*40/12-INT(Q57*40/12))<0.25,INT(Q57*40/12),INT(Q57*40/12)+0.5)))","v":""},null,null,{"$f":"IF(OR(S57=\"\",T57=\"\"),\"\",S57+T57)","v":""},{"$f":"IF(OR(R57=\"\",T57=\"\"),\"\",T57+R57+S57)","v":""},{"$f":"INDIRECT(ADDRESS(11+A57*2,21,1,,\"SeconedPartDegrees1\"))","v":""},{"$f":"IFERROR(IF(V57=\"\",\"\",IF(((V57+W57)/2-INT((V57+W57)/2))>=0.75,INT((V57+W57)/2)+1,IF(((V57+W57)/2-INT((V57+W57)/2))<0.25,INT((V57+W57)/2),INT((V57+W57)/2)+0.5))),\"\")","v":""},{"$f":"IF(X57=\"\",\"\",IF(AND(X57<50,T57>0),\"دور ثاني\",IF(T57=\"\",\"غياب وعليه دور ثاني\",\"ناجح\")))","v":""},null,null,{"$f":"ROUNDUP(((FirstPartDegrees2!#REF!+C57)/2+(FirstPartDegrees2!F57+H57)/2+(FirstPartDegrees2!#REF!+#REF!)/2+(FirstPartDegrees2!C57+#REF!)/2 )/4,0)","v":{"$error":"#REF!"}},{"$f":"ROUNDUP(((FirstPartDegrees2!#REF!+FirstPartDegrees2!#REF!)/2+(FirstPartDegrees2!G57+D57)/2+(FirstPartDegrees2!L57+J57)/2+(FirstPartDegrees2!H57+#REF!)/2 )/4,0)","v":{"$error":"#REF!"}},{"$f":"ROUNDUP(((FirstPartDegrees2!E57+FirstPartDegrees2!I57)/2+(FirstPartDegrees2!#REF!+FirstPartDegrees2!#REF!)/2+(FirstPartDegrees2!N57+L57)/2+(P57+#REF!)/2)/4,0)","v":{"$error":"#REF!"}},{"$f":"(AD57+AC57+AB57)*40/12","v":{"$error":"#REF!"}}]
[null,"ملاحظات"]
[24,"",null,null,null,null,null,null,null,null,null,null,null,null,null,null,{"$f":"INDIRECT(ADDRESS(9+A59*3,30,,,\"Final Degree2\"))","v":""},{"$f":"IF($B59=\"\",\"\",IF((Q59*40/12-INT(Q59*40/12))>=0.75,INT(Q59*40/12)+1,IF((Q59*40/12-INT(Q59*40/12))<0.25,INT(Q59*40/12),INT(Q59*40/12)+0.5)))","v":""},null,null,{"$f":"IF(OR(S59=\"\",T59=\"\"),\"\",S59+T59)","v":""},{"$f":"IF(OR(R59=\"\",T59=\"\"),\"\",T59+R59+S59)","v":""},{"$f":"INDIRECT(ADDRESS(11+A59*2,21,1,,\"SeconedPartDegrees1\"))","v":""},{"$f":"IFERROR(IF(V59=\"\",\"\",IF(((V59+W59)/2-INT((V59+W59)/2))>=0.75,INT((V59+W59)/2)+1,IF(((V59+W59)/2-INT((V59+W59)/2))<0.25,INT((V59+W59)/2),INT((V59+W59)/2)+0.5))),\"\")","v":""},{"$f":"IF(X59=\"\",\"\",IF(AND(X59<50,T59>0),\"دور ثاني\",IF(T59=\"\",\"غياب وعليه دور ثاني\",\"ناجح\")))","v":""},null,null,{"$f":"ROUNDUP(((FirstPartDegrees2!#REF!+C59)/2+(FirstPartDegrees2!F59+H59)/2+(FirstPartDegrees2!#REF!+#REF!)/2+(FirstPartDegrees2!C59+#REF!)/2 )/4,0)","v":{"$error":"#REF!"}},{"$f":"ROUNDUP(((FirstPartDegrees2!#REF!+FirstPartDegrees2!#REF!)/2+(FirstPartDegrees2!G59+D59)/2+(FirstPartDegrees2!L59+J59)/2+(FirstPartDegrees2!H59+#REF!)/2 )/4,0)","v":{"$error":"#REF!"}},{"$f":"ROUNDUP(((FirstPartDegrees2!E59+FirstPartDegrees2!I59)/2+(FirstPartDegrees2!#REF!+FirstPartDegrees2!#REF!)/2+(FirstPartDegrees2!N59+L59)/2+(P59+#REF!)/2)/4,0)","v":{"$error":"#REF!"}},{"$f":"(AD59+AC59+AB59)*40/12","v":{"$error":"#REF!"}}]
[null,"ملاحظات"]
[25,"",null,null,null,null,null,null,null,null,null,null,null,null,null,null,{"$f":"INDIRECT(ADDRESS(9+A61*3,30,,,\"Final Degree2\"))","v":""},{"$f":"IF($B61=\"\",\"\",IF((Q61*40/12-INT(Q61*40/12))>=0.75,INT(Q61*40/12)+1,IF((Q61*40/12-INT(Q61*40/12))<0.25,INT(Q61*40/12),INT(Q61*40/12)+0.5)))","v":""},null,null,{"$f":"IF(OR(S61=\"\",T61=\"\"),\"\",S61+T61)","v":""},{"$f":"IF(OR(R61=\"\",T61=\"\"),\"\",T61+R61+S61)","v":""},{"$f":"INDIRECT(ADDRESS(11+A61*2,21,1,,\"SeconedPartDegrees1\"))","v":""},{"$f":"IFERROR(IF(V61=\"\",\"\",IF(((V61+W61)/2-INT((V61+W61)/2))>=0.75,INT((V61+W61)/2)+1,IF(((V61+W61)/2-INT((V61+W61)/2))<0.25,INT((V61+W61)/2),INT((V61+W61)/2)+0.5))),\"\")","v":""},{"$f":"IF(X61=\"\",\"\",IF(AND(X61<50,T61>0),\"دور ثاني\",IF(T61=\"\",\"غياب وعليه دور ثاني\",\"ناجح\")))","v":""},null,null,{"$f":"ROUNDUP(((FirstPartDegrees2!#REF!+C61)/2+(FirstPartDegrees2!F61+H61)/2+(FirstPartDegrees2!#REF!+#REF!)/2+(FirstPartDegrees2!C61+#REF!)/2 )/4,0)","v":{"$error":"#REF!"}},{"$f":"ROUNDUP(((FirstPartDegrees2!#REF!+FirstPartDegrees2!#REF!)/2+(FirstPartDegrees2!G61+D61)/2+(FirstPartDegrees2!L61+J61)/2+(FirstPartDegrees2!H61+#REF!)/2 )/4,0)","v":{"$error":"#REF!"}},{"$f":"ROUNDUP(((FirstPartDegrees2!E61+FirstPartDegrees2!I61)/2+(FirstPartDegrees2!#REF!+FirstPartDegrees2!#REF!)/2+(FirstPartDegrees2!N61+L61)/2+(P61+#REF!)/2)/4,0)","v":{"$error":"#REF!"}},{"$f":"(AD61+AC61+AB61)*40/12","v":{"$error":"#REF!"}}]
[null,"ملاحظات"]
[26,"",null,null,null,null,null,null,null,null,null,null,null,null,null,null,{"$f":"INDIRECT(ADDRESS(9+A63*3,30,,,\"Final Degree2\"))","v":""},{"$f":"IF($B63=\"\",\"\",IF((Q63*40/12-INT(Q63*40/12))>=0.75,INT(Q63*40/12)+1,IF((Q63*40/12-INT(Q63*40/12))<0.25,INT(Q63*40/12),INT(Q63*40/12)+0.5)))","v":""},null,null,{"$f":"IF(OR(S63=\"\",T63=\"\"),\"\",S63+T63)","v":""},{"$f":"IF(OR(R63=\"\",T63=\"\"),\"\",T63+R63+S63)","v":""},{"$f":"INDIRECT(ADDRESS(11+A63*2,21,1,,\"SeconedPartDegrees1\"))","v":""},{"$f":"IFERROR(IF(V63=\"\",\"\",IF(((V63+W63)/2-INT((V63+W63)/2))>=0.75,INT((V63+W63)/2)+1,IF(((V63+W63)/2-INT((V63+W63)/2))<0.25,INT((V63+W63)/2),INT((V63+W63)/2)+0.5))),\"\")","v":""},{"$f":"IF(X63=\"\",\"\",IF(AND(X63<50,T63>0),\"دور ثاني\",IF(T63=\"\",\"غياب وعليه دور ثاني\",\"ناجح\")))","v":""},null,null,{"$f":"ROUNDUP(((FirstPartDegrees2!#REF!+C63)/2+(FirstPartDegrees2!F63+H63)/2+(FirstPartDegrees2!#REF!+#REF!)/2+(FirstPartDegrees2!C63+#REF!)/2 )/4,0)","v":{"$error":"#REF!"}},{"$f":"ROUNDUP(((FirstPartDegrees2!#REF!+FirstPartDegrees2!#REF!)/2+(FirstPartDegrees2!G63+D63)/2+(FirstPartDegrees2!L63+J63)/2+(FirstPartDegrees2!H63+#REF!)/2 )/4,0)","v":{"$error":"#REF!"}},{"$f":"ROUNDUP(((FirstPartDegrees2!E63+FirstPartDegrees2!I63)/2+(FirstPartDegrees2!#REF!+FirstPartDegrees2!#REF!)/2+(FirstPartDegrees2!N63+L63)/2+(P63+#REF!)/2)/4,0)","v":{"$error":"#REF!"}},{"$f":"(AD63+AC63+AB63)*40/12","v":{"$error":"#REF!"}}]
[null,"ملاحظات"]
[27,"",null,null,null,null,null,null,null,null,null,null,null,null,null,null,{"$f":"INDIRECT(ADDRESS(9+A65*3,30,,,\"Final Degree2\"))","v":""},{"$f":"IF($B65=\"\",\"\",IF((Q65*40/12-INT(Q65*40/12))>=0.75,INT(Q65*40/12)+1,IF((Q65*40/12-INT(Q65*40/12))<0.25,INT(Q65*40/12),INT(Q65*40/12)+0.5)))","v":""},null,null,{"$f":"IF(OR(S65=\"\",T65=\"\"),\"\",S65+T65)","v":""},{"$f":"IF(OR(R65=\"\",T65=\"\"),\"\",T65+R65+S65)","v":""},{"$f":"INDIRECT(ADDRESS(11+A65*2,21,1,,\"SeconedPartDegrees1\"))","v":""},{"$f":"IFERROR(IF(V65=\"\",\"\",IF(((V65+W65)/2-INT((V65+W65)/2))>=0.75,INT((V65+W65)/2)+1,IF(((V65+W65)/2-INT((V65+W65)/2))<0.25,INT((V65+W65)/2),INT((V65+W65)/2)+0.5))),\"\")","v":""},{"$f":"IF(X65=\"\",\"\",IF(AND(X65<50,T65>0),\"دور ثاني\",IF(T65=\"\",\"غياب وعليه دور ثاني\",\"ناجح\")))","v":""},null,null,{"$f":"ROUNDUP(((FirstPartDegrees2!#REF!+C65)/2+(FirstPartDegrees2!F65+H65)/2+(FirstPartDegrees2!#REF!+#REF!)/2+(FirstPartDegrees2!C65+#REF!)/2 )/4,0)","v":{"$error":"#REF!"}},{"$f":"ROUNDUP(((FirstPartDegrees2!#REF!+FirstPartDegrees2!#REF!)/2+(FirstPartDegrees2!G65+D65)/2+(FirstPartDegrees2!L65+J65)/2+(FirstPartDegrees2!H65+#REF!)/2 )/4,0)","v":{"$error":"#REF!"}},{"$f":"ROUNDUP(((FirstPartDegrees2!E65+FirstPartDegrees2!I65)/2+(FirstPartDegrees2!#REF!+FirstPartDegrees2!#REF!)/2+(FirstPartDegrees2!N65+L65)/2+(P65+#REF!)/2)/4,0)","v":{"$error":"#REF!"}},{"$f":"(AD65+AC65+AB65)*40/12","v":{"$error":"#REF!"}}]
[null,"ملاحظات"]
[28,"",null,null,null,null,null,null,null,null,null,null,null,null,null,null,{"$f":"INDIRECT(ADDRESS(9+A67*3,30,,,\"Final Degree2\"))","v":""},{"$f":"IF($B67=\"\",\"\",IF((Q67*40/12-INT(Q67*40/12))>=0.75,INT(Q67*40/12)+1,IF((Q67*40/12-INT(Q67*40/12))<0.25,INT(Q67*40/12),INT(Q67*40/12)+0.5)))","v":""},null,null,{"$f":"IF(OR(S67=\"\",T67=\"\"),\"\",S67+T67)","v":""},{"$f":"IF(OR(R67=\"\",T67=\"\"),\"\",T67+R67+S67)","v":""},{"$f":"INDIRECT(ADDRESS(11+A67*2,21,1,,\"SeconedPartDegrees1\"))","v":""},{"$f":"IFERROR(IF(V67=\"\",\"\",IF(((V67+W67)/2-INT((V67+W67)/2))>=0.75,INT((V67+W67)/2)+1,IF(((V67+W67)/2-INT((V67+W67)/2))<0.25,INT((V67+W67)/2),INT((V67+W67)/2)+0.5))),\"\")","v":""},{"$f":"IF(X67=\"\",\"\",IF(AND(X67<50,T67>0),\"دور ثاني\",IF(T67=\"\",\"غياب وعليه دور ثاني\",\"ناجح\")))","v":""},null,null,{"$f":"ROUNDUP(((FirstPartDegrees2!#REF!+C67)/2+(FirstPartDegrees2!F67+H67)/2+(FirstPartDegrees2!#REF!+#REF!)/2+(FirstPartDegrees2!C67+#REF!)/2 )/4,0)","v":{"$error":"#REF!"}},{"$f":"ROUNDUP(((FirstPartDegrees2!#REF!+FirstPartDegrees2!#REF!)/2+(FirstPartDegrees2!G67+D67)/2+(FirstPartDegrees2!L67+J67)/2+(FirstPartDegrees2!H67+#REF!)/2 )/4,0)","v":{"$error":"#REF!"}},{"$f":"ROUNDUP(((FirstPartDegrees2!E67+FirstPartDegrees2!I67)/2+(FirstPartDegrees2!#REF!+FirstPartDegrees2!#REF!)/2+(FirstPartDegrees2!N67+L67)/2+(P67+#REF!)/2)/4,0)","v":{"$error":"#REF!"}},{"$f":"(AD67+AC67+AB67)*40/12","v":{"$error":"#REF!"}}]
[null,"ملاحظات"]
[29,"",null,null,null,null,null,null,null,null,null,null,null,null,null,null,{"$f":"INDIRECT(ADDRESS(9+A69*3,30,,,\"Final Degree2\"))","v":""},{"$f":"IF($B69=\"\",\"\",IF((Q69*40/12-INT(Q69*40/12))>=0.75,INT(Q69*40/12)+1,IF((Q69*40/12-INT(Q69*40/12))<0.25,INT(Q69*40/12),INT(Q69*40/12)+0.5)))","v":""},null,null,{"$f":"IF(OR(S69=\"\",T69=\"\"),\"\",S69+T69)","v":""},{"$f":"IF(OR(R69=\"\",T69=\"\"),\"\",T69+R69+S69)","v":""},{"$f":"INDIRECT(ADDRESS(11+A69*2,21,1,,\"SeconedPartDegrees1\"))","v":""},{"$f":"IFERROR(IF(V69=\"\",\"\",IF(((V69+W69)/2-INT((V69+W69)/2))>=0.75,INT((V69+W69)/2)+1,IF(((V69+W69)/2-INT((V69+W69)/2))<0.25,INT((V69+W69)/2),INT((V69+W69)/2)+0.5))),\"\")","v":""},{"$f":"IF(X69=\"\",\"\",IF(AND(X69<50,T69>0),\"دور ثاني\",IF(T69=\"\",\"غياب وعليه دور ثاني\",\"ناجح\")))","v":""},null,null,{"$f":"ROUNDUP(((FirstPartDegrees2!#REF!+C69)/2+(FirstPartDegrees2!F69+H69)/2+(FirstPartDegrees2!#REF!+#REF!)/2+(FirstPartDegrees2!C69+#REF!)/2 )/4,0)","v":{"$error":"#REF!"}},{"$f":"ROUNDUP(((FirstPartDegrees2!#REF!+FirstPartDegrees2!#REF!)/2+(FirstPartDegrees2!G69+D69)/2+(FirstPartDegrees2!L69+J69)/2+(FirstPartDegrees2!H69+#REF!)/2 )/4,0)","v":{"$error":"#REF!"}},{"$f":"ROUNDUP(((FirstPartDegrees2!E69+FirstPartDegrees2!I69)/2+(FirstPartDegrees2!#REF!+FirstPartDegrees2!#REF!)/2+(FirstPartDegrees2!N69+L69)/2+(P69+#REF!)/2)/4,0)","v":{"$error":"#REF!"}},{"$f":"(AD69+AC69+AB69)*40/12","v":{"$error":"#REF!"}}]
[null,"ملاحظات"]
[30,"",null,null,null,null,null,null,null,null,null,null,null,null,null,null,{"$f":"INDIRECT(ADDRESS(9+A71*3,30,,,\"Final Degree2\"))","v":""},{"$f":"IF($B71=\"\",\"\",IF((Q71*40/12-INT(Q71*40/12))>=0.75,INT(Q71*40/12)+1,IF((Q71*40/12-INT(Q71*40/12))<0.25,INT(Q71*40/12),INT(Q71*40/12)+0.5)))","v":""},null,null,{"$f":"IF(OR(S71=\"\",T71=\"\"),\"\",S71+T71)","v":""},{"$f":"IF(OR(R71=\"\",T71=\"\"),\"\",T71+R71+S71)","v":""},{"$f":"INDIRECT(ADDRESS(11+A71*2,21,1,,\"SeconedPartDegrees1\"))","v":""},{"$f":"IFERROR(IF(V71=\"\",\"\",IF(((V71+W71)/2-INT((V71+W71)/2))>=0.75,INT((V71+W71)/2)+1,IF(((V71+W71)/2-INT((V71+W71)/2))<0.25,INT((V71+W71)/2),INT((V71+W71)/2)+0.5))),\"\")","v":""},{"$f":"IF(X71=\"\",\"\",IF(AND(X71<50,T71>0),\"دور ثاني\",IF(T71=\"\",\"غياب وعليه دور ثاني\",\"ناجح\")))","v":""},null,null,{"$f":"ROUNDUP(((FirstPartDegrees2!#REF!+C71)/2+(FirstPartDegrees2!F71+H71)/2+(FirstPartDegrees2!#REF!+#REF!)/2+(FirstPartDegrees2!C71+#REF!)/2 )/4,0)","v":{"$error":"#REF!"}},{"$f":"ROUNDUP(((FirstPartDegrees2!#REF!+FirstPartDegrees2!#REF!)/2+(FirstPartDegrees2!G71+D71)/2+(FirstPartDegrees2!L71+J71)/2+(FirstPartDegrees2!H71+#REF!)/2 )/4,0)","v":{"$error":"#REF!"}},{"$f":"ROUNDUP(((FirstPartDegrees2!E71+FirstPartDegrees2!I71)/2+(FirstPartDegrees2!#REF!+FirstPartDegrees2!#REF!)/2+(FirstPartDegrees2!N71+L71)/2+(P71+#REF!)/2)/4,0)","v":{"$error":"#REF!"}},{"$f":"(AD71+AC71+AB71)*40/12","v":{"$error":"#REF!"}}]
[null,"ملاحظات"]
[31,"",null,null,null,null,null,null,null,null,null,null,null,null,null,null,{"$f":"INDIRECT(ADDRESS(9+A73*3,30,,,\"Final Degree2\"))","v":""},{"$f":"IF($B73=\"\",\"\",IF((Q73*40/12-INT(Q73*40/12))>=0.75,INT(Q73*40/12)+1,IF((Q73*40/12-INT(Q73*40/12))<0.25,INT(Q73*40/12),INT(Q73*40/12)+0.5)))","v":""},null,null,{"$f":"IF(OR(S73=\"\",T73=\"\"),\"\",S73+T73)","v":""},{"$f":"IF(OR(R73=\"\",T73=\"\"),\"\",T73+R73+S73)","v":""},{"$f":"INDIRECT(ADDRESS(11+A73*2,21,1,,\"SeconedPartDegrees1\"))","v":""},{"$f":"IFERROR(IF(V73=\"\",\"\",IF(((V73+W73)/2-INT((V73+W73)/2))>=0.75,INT((V73+W73)/2)+1,IF(((V73+W73)/2-INT((V73+W73)/2))<0.25,INT((V73+W73)/2),INT((V73+W73)/2)+0.5))),\"\")","v":""},{"$f":"IF(X73=\"\",\"\",IF(AND(X73<50,T73>0),\"دور ثاني\",IF(T73=\"\",\"غياب وعليه دور ثاني\",\"ناجح\")))","v":""},null,null,{"$f":"ROUNDUP(((FirstPartDegrees2!#REF!+C73)/2+(FirstPartDegrees2!F73+H73)/2+(FirstPartDegrees2!#REF!+#REF!)/2+(FirstPartDegrees2!C73+#REF!)/2 )/4,0)","v":{"$error":"#REF!"}},{"$f":"ROUNDUP(((FirstPartDegrees2!#REF!+FirstPartDegrees2!#REF!)/2+(FirstPartDegrees2!G73+D73)/2+(FirstPartDegrees2!L73+J73)/2+(FirstPartDegrees2!H73+#REF!)/2 )/4,0)","v":{"$error":"#REF!"}},{"$f":"ROUNDUP(((FirstPartDegrees2!E73+FirstPartDegrees2!I73)/2+(FirstPartDegrees2!#REF!+FirstPartDegrees2!#REF!)/2+(FirstPartDegrees2!N73+L73)/2+(P73+#REF!)/2)/4,0)","v":{"$error":"#REF!"}},{"$f":"(AD73+AC73+AB73)*40/12","v":{"$error":"#REF!"}}]
[null,"ملاحظات"]
[32,"",null,null,null,null,null,null,null,null,null,null,null,null,null,null,{"$f":"INDIRECT(ADDRESS(9+A75*3,30,,,\"Final Degree2\"))","v":""},{"$f":"IF($B75=\"\",\"\",IF((Q75*40/12-INT(Q75*40/12))>=0.75,INT(Q75*40/12)+1,IF((Q75*40/12-INT(Q75*40/12))<0.25,INT(Q75*40/12),INT(Q75*40/12)+0.5)))","v":""},null,null,{"$f":"IF(OR(S75=\"\",T75=\"\"),\"\",S75+T75)","v":""},{"$f":"IF(OR(R75=\"\",T75=\"\"),\"\",T75+R75+S75)","v":""},{"$f":"INDIRECT(ADDRESS(11+A75*2,21,1,,\"SeconedPartDegrees1\"))","v":""},{"$f":"IFERROR(IF(V75=\"\",\"\",IF(((V75+W75)/2-INT((V75+W75)/2))>=0.75,INT((V75+W75)/2)+1,IF(((V75+W75)/2-INT((V75+W75)/2))<0.25,INT((V75+W75)/2),INT((V75+W75)/2)+0.5))),\"\")","v":""},{"$f":"IF(X75=\"\",\"\",IF(AND(X75<50,T75>0),\"دور ثاني\",IF(T75=\"\",\"غياب وعليه دور ثاني\",\"ناجح\")))","v":""},null,null,{"$f":"ROUNDUP(((FirstPartDegrees2!#REF!+C75)/2+(FirstPartDegrees2!F75+H75)/2+(FirstPartDegrees2!#REF!+#REF!)/2+(FirstPartDegrees2!C75+#REF!)/2 )/4,0)","v":{"$error":"#REF!"}},{"$f":"ROUNDUP(((FirstPartDegrees2!#REF!+FirstPartDegrees2!#REF!)/2+(FirstPartDegrees2!G75+D75)/2+(FirstPartDegrees2!L75+J75)/2+(FirstPartDegrees2!H75+#REF!)/2 )/4,0)","v":{"$error":"#REF!"}},{"$f":"ROUNDUP(((FirstPartDegrees2!E75+FirstPartDegrees2!I75)/2+(FirstPartDegrees2!#REF!+FirstPartDegrees2!#REF!)/2+(FirstPartDegrees2!N75+L75)/2+(P75+#REF!)/2)/4,0)","v":{"$error":"#REF!"}},{"$f":"(AD75+AC75+AB75)*40/12","v":{"$error":"#REF!"}}]
[null,"ملاحظات"]
[33,"",null,null,null,null,null,null,null,null,null,null,null,null,null,null,{"$f":"INDIRECT(ADDRESS(9+A77*3,30,,,\"Final Degree2\"))","v":""},{"$f":"IF($B77=\"\",\"\",IF((Q77*40/12-INT(Q77*40/12))>=0.75,INT(Q77*40/12)+1,IF((Q77*40/12-INT(Q77*40/12))<0.25,INT(Q77*40/12),INT(Q77*40/12)+0.5)))","v":""},null,null,{"$f":"IF(OR(S77=\"\",T77=\"\"),\"\",S77+T77)","v":""},{"$f":"IF(OR(R77=\"\",T77=\"\"),\"\",T77+R77+S77)","v":""},{"$f":"INDIRECT(ADDRESS(11+A77*2,21,1,,\"SeconedPartDegrees1\"))","v":""},{"$f":"IFERROR(IF(V77=\"\",\"\",IF(((V77+W77)/2-INT((V77+W77)/2))>=0.75,INT((V77+W77)/2)+1,IF(((V77+W77)/2-INT((V77+W77)/2))<0.25,INT((V77+W77)/2),INT((V77+W77)/2)+0.5))),\"\")","v":""},{"$f":"IF(X77=\"\",\"\",IF(AND(X77<50,T77>0),\"دور ثاني\",IF(T77=\"\",\"غياب وعليه دور ثاني\",\"ناجح\")))","v":""},null,null,{"$f":"ROUNDUP(((FirstPartDegrees2!#REF!+C77)/2+(FirstPartDegrees2!F77+H77)/2+(FirstPartDegrees2!#REF!+#REF!)/2+(FirstPartDegrees2!C77+#REF!)/2 )/4,0)","v":{"$error":"#REF!"}},{"$f":"ROUNDUP(((FirstPartDegrees2!#REF!+FirstPartDegrees2!#REF!)/2+(FirstPartDegrees2!G77+D77)/2+(FirstPartDegrees2!L77+J77)/2+(FirstPartDegrees2!H77+#REF!)/2 )/4,0)","v":{"$error":"#REF!"}},{"$f":"ROUNDUP(((FirstPartDegrees2!E77+FirstPartDegrees2!I77)/2+(FirstPartDegrees2!#REF!+FirstPartDegrees2!#REF!)/2+(FirstPartDegrees2!N77+L77)/2+(P77+#REF!)/2)/4,0)","v":{"$error":"#REF!"}},{"$f":"(AD77+AC77+AB77)*40/12","v":{"$error":"#REF!"}}]
[null,"ملاحظات"]
[34,{"$f":"IF(INDIRECT(ADDRESS(A79,1,1,,\"اسماء المتعلمين\"))=\"\",\"\",INDIRECT(ADDRESS(A79,1,1,,\"اسماء المتعلمين\")))","v":""},null,null,null,null,null,null,null,null,null,null,null,null,null,null,{"$f":"INDIRECT(ADDRESS(9+A79*3,30,,,\"Final Degree2\"))","v":""},{"$f":"IF($B79=\"\",\"\",IF((Q79*40/12-INT(Q79*40/12))>=0.75,INT(Q79*40/12)+1,IF((Q79*40/12-INT(Q79*40/12))<0.25,INT(Q79*40/12),INT(Q79*40/12)+0.5)))","v":""},null,null,{"$f":"IF(OR(S79=\"\",T79=\"\"),\"\",S79+T79)","v":""},{"$f":"IF(OR(R79=\"\",T79=\"\"),\"\",T79+R79+S79)","v":""},{"$f":"INDIRECT(ADDRESS(11+A79*2,21,1,,\"SeconedPartDegrees1\"))","v":""},{"$f":"IFERROR(IF(V79=\"\",\"\",IF(((V79+W79)/2-INT((V79+W79)/2))>=0.75,INT((V79+W79)/2)+1,IF(((V79+W79)/2-INT((V79+W79)/2))<0.25,INT((V79+W79)/2),INT((V79+W79)/2)+0.5))),\"\")","v":""},{"$f":"IF(X79=\"\",\"\",IF(AND(X79<50,T79>0),\"دور ثاني\",IF(T79=\"\",\"غياب وعليه دور ثاني\",\"ناجح\")))","v":""},null,null,{"$f":"ROUNDUP(((FirstPartDegrees2!#REF!+C79)/2+(FirstPartDegrees2!F79+H79)/2+(FirstPartDegrees2!#REF!+#REF!)/2+(FirstPartDegrees2!C79+#REF!)/2 )/4,0)","v":{"$error":"#REF!"}},{"$f":"ROUNDUP(((FirstPartDegrees2!#REF!+FirstPartDegrees2!#REF!)/2+(FirstPartDegrees2!G79+D79)/2+(FirstPartDegrees2!L79+J79)/2+(FirstPartDegrees2!H79+#REF!)/2 )/4,0)","v":{"$error":"#REF!"}},{"$f":"ROUNDUP(((FirstPartDegrees2!E79+FirstPartDegrees2!I79)/2+(FirstPartDegrees2!#REF!+FirstPartDegrees2!#REF!)/2+(FirstPartDegrees2!N79+L79)/2+(P79+#REF!)/2)/4,0)","v":{"$error":"#REF!"}},{"$f":"(AD79+AC79+AB79)*40/12","v":{"$error":"#REF!"}}]
[null,"ملاحظات"]
[35,"",null,null,null,null,null,null,null,null,null,null,null,null,null,null,{"$f":"INDIRECT(ADDRESS(9+A81*3,30,,,\"Final Degree2\"))","v":""},{"$f":"IF($B81=\"\",\"\",IF((Q81*40/12-INT(Q81*40/12))>=0.75,INT(Q81*40/12)+1,IF((Q81*40/12-INT(Q81*40/12))<0.25,INT(Q81*40/12),INT(Q81*40/12)+0.5)))","v":""},null,null,{"$f":"IF(OR(S81=\"\",T81=\"\"),\"\",S81+T81)","v":""},{"$f":"IF(OR(R81=\"\",T81=\"\"),\"\",T81+R81+S81)","v":""},{"$f":"INDIRECT(ADDRESS(11+A81*2,21,1,,\"SeconedPartDegrees1\"))","v":""},{"$f":"IFERROR(IF(V81=\"\",\"\",IF(((V81+W81)/2-INT((V81+W81)/2))>=0.75,INT((V81+W81)/2)+1,IF(((V81+W81)/2-INT((V81+W81)/2))<0.25,INT((V81+W81)/2),INT((V81+W81)/2)+0.5))),\"\")","v":""},{"$f":"IF(X81=\"\",\"\",IF(AND(X81<50,T81>0),\"دور ثاني\",IF(T81=\"\",\"غياب وعليه دور ثاني\",\"ناجح\")))","v":""},null,null,{"$f":"ROUNDUP(((FirstPartDegrees2!#REF!+C81)/2+(FirstPartDegrees2!F81+H81)/2+(FirstPartDegrees2!#REF!+#REF!)/2+(FirstPartDegrees2!C81+#REF!)/2 )/4,0)","v":{"$error":"#REF!"}},{"$f":"ROUNDUP(((FirstPartDegrees2!#REF!+FirstPartDegrees2!#REF!)/2+(FirstPartDegrees2!G81+D81)/2+(FirstPartDegrees2!L81+J81)/2+(FirstPartDegrees2!H81+#REF!)/2 )/4,0)","v":{"$error":"#REF!"}},{"$f":"ROUNDUP(((FirstPartDegrees2!E81+FirstPartDegrees2!I81)/2+(FirstPartDegrees2!#REF!+FirstPartDegrees2!#REF!)/2+(FirstPartDegrees2!N81+L81)/2+(P81+#REF!)/2)/4,0)","v":{"$error":"#REF!"}},{"$f":"(AD81+AC81+AB81)*40/12","v":{"$error":"#REF!"}}]
[null,"ملاحظات"]
[36,"",null,null,null,null,null,null,null,null,null,null,null,null,null,null,{"$f":"INDIRECT(ADDRESS(9+A83*3,30,,,\"Final Degree2\"))","v":""},{"$f":"IF($B83=\"\",\"\",IF((Q83*40/12-INT(Q83*40/12))>=0.75,INT(Q83*40/12)+1,IF((Q83*40/12-INT(Q83*40/12))<0.25,INT(Q83*40/12),INT(Q83*40/12)+0.5)))","v":""},null,null,{"$f":"IF(OR(S83=\"\",T83=\"\"),\"\",S83+T83)","v":""},{"$f":"IF(OR(R83=\"\",T83=\"\"),\"\",T83+R83+S83)","v":""},{"$f":"INDIRECT(ADDRESS(11+A83*2,21,1,,\"SeconedPartDegrees1\"))","v":""},{"$f":"IFERROR(IF(V83=\"\",\"\",IF(((V83+W83)/2-INT((V83+W83)/2))>=0.75,INT((V83+W83)/2)+1,IF(((V83+W83)/2-INT((V83+W83)/2))<0.25,INT((V83+W83)/2),INT((V83+W83)/2)+0.5))),\"\")","v":""},{"$f":"IF(X83=\"\",\"\",IF(AND(X83<50,T83>0),\"دور ثاني\",IF(T83=\"\",\"غياب وعليه دور ثاني\",\"ناجح\")))","v":""},null,null,{"$f":"ROUNDUP(((FirstPartDegrees2!#REF!+C83)/2+(FirstPartDegrees2!F83+H83)/2+(FirstPartDegrees2!#REF!+#REF!)/2+(FirstPartDegrees2!C83+#REF!)/2 )/4,0)","v":{"$error":"#REF!"}},{"$f":"ROUNDUP(((FirstPartDegrees2!#REF!+FirstPartDegrees2!#REF!)/2+(FirstPartDegrees2!G83+D83)/2+(FirstPartDegrees2!L83+J83)/2+(FirstPartDegrees2!H83+#REF!)/2 )/4,0)","v":{"$error":"#REF!"}},{"$f":"ROUNDUP(((FirstPartDegrees2!E83+FirstPartDegrees2!I83)/2+(FirstPartDegrees2!#REF!+FirstPartDegrees2!#REF!)/2+(FirstPartDegrees2!N83+L83)/2+(P83+#REF!)/2)/4,0)","v":{"$error":"#REF!"}},{"$f":"(AD83+AC83+AB83)*40/12","v":{"$error":"#REF!"}}]
[null,"ملاحظات"]
[37,"",null,null,null,null,null,null,null,null,null,null,null,null,null,null,{"$f":"INDIRECT(ADDRESS(9+A85*3,30,,,\"Final Degree2\"))","v":""},{"$f":"IF($B85=\"\",\"\",IF((Q85*40/12-INT(Q85*40/12))>=0.75,INT(Q85*40/12)+1,IF((Q85*40/12-INT(Q85*40/12))<0.25,INT(Q85*40/12),INT(Q85*40/12)+0.5)))","v":""},null,null,{"$f":"IF(OR(S85=\"\",T85=\"\"),\"\",S85+T85)","v":""},{"$f":"IF(OR(R85=\"\",T85=\"\"),\"\",T85+R85+S85)","v":""},{"$f":"INDIRECT(ADDRESS(11+A85*2,21,1,,\"SeconedPartDegrees1\"))","v":""},{"$f":"IFERROR(IF(V85=\"\",\"\",IF(((V85+W85)/2-INT((V85+W85)/2))>=0.75,INT((V85+W85)/2)+1,IF(((V85+W85)/2-INT((V85+W85)/2))<0.25,INT((V85+W85)/2),INT((V85+W85)/2)+0.5))),\"\")","v":""},{"$f":"IF(X85=\"\",\"\",IF(AND(X85<50,T85>0),\"دور ثاني\",IF(T85=\"\",\"غياب وعليه دور ثاني\",\"ناجح\")))","v":""},null,null,{"$f":"ROUNDUP(((FirstPartDegrees2!#REF!+C85)/2+(FirstPartDegrees2!F85+H85)/2+(FirstPartDegrees2!#REF!+#REF!)/2+(FirstPartDegrees2!C85+#REF!)/2 )/4,0)","v":{"$error":"#REF!"}},{"$f":"ROUNDUP(((FirstPartDegrees2!#REF!+FirstPartDegrees2!#REF!)/2+(FirstPartDegrees2!G85+D85)/2+(FirstPartDegrees2!L85+J85)/2+(FirstPartDegrees2!H85+#REF!)/2 )/4,0)","v":{"$error":"#REF!"}},{"$f":"ROUNDUP(((FirstPartDegrees2!E85+FirstPartDegrees2!I85)/2+(FirstPartDegrees2!#REF!+FirstPartDegrees2!#REF!)/2+(FirstPartDegrees2!N85+L85)/2+(P85+#REF!)/2)/4,0)","v":{"$error":"#REF!"}},{"$f":"(AD85+AC85+AB85)*40/12","v":{"$error":"#REF!"}}]
[null,"ملاحظات"]
[38,"",null,null,null,null,null,null,null,null,null,null,null,null,null,null,{"$f":"INDIRECT(ADDRESS(9+A87*3,30,,,\"Final Degree2\"))","v":""},{"$f":"IF($B87=\"\",\"\",IF((Q87*40/12-INT(Q87*40/12))>=0.75,INT(Q87*40/12)+1,IF((Q87*40/12-INT(Q87*40/12))<0.25,INT(Q87*40/12),INT(Q87*40/12)+0.5)))","v":""},null,null,{"$f":"IF(OR(S87=\"\",T87=\"\"),\"\",S87+T87)","v":""},{"$f":"IF(OR(R87=\"\",T87=\"\"),\"\",T87+R87+S87)","v":""},{"$f":"INDIRECT(ADDRESS(11+A87*2,21,1,,\"SeconedPartDegrees1\"))","v":""},{"$f":"IFERROR(IF(V87=\"\",\"\",IF(((V87+W87)/2-INT((V87+W87)/2))>=0.75,INT((V87+W87)/2)+1,IF(((V87+W87)/2-INT((V87+W87)/2))<0.25,INT((V87+W87)/2),INT((V87+W87)/2)+0.5))),\"\")","v":""},{"$f":"IF(X87=\"\",\"\",IF(AND(X87<50,T87>0),\"دور ثاني\",IF(T87=\"\",\"غياب وعليه دور ثاني\",\"ناجح\")))","v":""},null,null,{"$f":"ROUNDUP(((FirstPartDegrees2!#REF!+C87)/2+(FirstPartDegrees2!F87+H87)/2+(FirstPartDegrees2!#REF!+#REF!)/2+(FirstPartDegrees2!C87+#REF!)/2 )/4,0)","v":{"$error":"#REF!"}},{"$f":"ROUNDUP(((FirstPartDegrees2!#REF!+FirstPartDegrees2!#REF!)/2+(FirstPartDegrees2!G87+D87)/2+(FirstPartDegrees2!L87+J87)/2+(FirstPartDegrees2!H87+#REF!)/2 )/4,0)","v":{"$error":"#REF!"}},{"$f":"ROUNDUP(((FirstPartDegrees2!E87+FirstPartDegrees2!I87)/2+(FirstPartDegrees2!#REF!+FirstPartDegrees2!#REF!)/2+(FirstPartDegrees2!N87+L87)/2+(P87+#REF!)/2)/4,0)","v":{"$error":"#REF!"}},{"$f":"(AD87+AC87+AB87)*40/12","v":{"$error":"#REF!"}}]
[null,"ملاحظات"]
[39,"",null,null,null,null,null,null,null,null,null,null,null,null,null,null,{"$f":"INDIRECT(ADDRESS(9+A89*3,30,,,\"Final Degree2\"))","v":""},{"$f":"IF($B89=\"\",\"\",IF((Q89*40/12-INT(Q89*40/12))>=0.75,INT(Q89*40/12)+1,IF((Q89*40/12-INT(Q89*40/12))<0.25,INT(Q89*40/12),INT(Q89*40/12)+0.5)))","v":""},null,null,{"$f":"IF(OR(S89=\"\",T89=\"\"),\"\",S89+T89)","v":""},{"$f":"IF(OR(R89=\"\",T89=\"\"),\"\",T89+R89+S89)","v":""},{"$f":"INDIRECT(ADDRESS(11+A89*2,21,1,,\"SeconedPartDegrees1\"))","v":""},{"$f":"IFERROR(IF(V89=\"\",\"\",IF(((V89+W89)/2-INT((V89+W89)/2))>=0.75,INT((V89+W89)/2)+1,IF(((V89+W89)/2-INT((V89+W89)/2))<0.25,INT((V89+W89)/2),INT((V89+W89)/2)+0.5))),\"\")","v":""},{"$f":"IF(X89=\"\",\"\",IF(AND(X89<50,T89>0),\"دور ثاني\",IF(T89=\"\",\"غياب وعليه دور ثاني\",\"ناجح\")))","v":""},null,null,{"$f":"ROUNDUP(((FirstPartDegrees2!#REF!+C89)/2+(FirstPartDegrees2!F89+H89)/2+(FirstPartDegrees2!#REF!+#REF!)/2+(FirstPartDegrees2!C89+#REF!)/2 )/4,0)","v":{"$error":"#REF!"}},{"$f":"ROUNDUP(((FirstPartDegrees2!#REF!+FirstPartDegrees2!#REF!)/2+(FirstPartDegrees2!G89+D89)/2+(FirstPartDegrees2!L89+J89)/2+(FirstPartDegrees2!H89+#REF!)/2 )/4,0)","v":{"$error":"#REF!"}},{"$f":"ROUNDUP(((FirstPartDegrees2!E89+FirstPartDegrees2!I89)/2+(FirstPartDegrees2!#REF!+FirstPartDegrees2!#REF!)/2+(FirstPartDegrees2!N89+L89)/2+(P89+#REF!)/2)/4,0)","v":{"$error":"#REF!"}},{"$f":"(AD89+AC89+AB89)*40/12","v":{"$error":"#REF!"}}]
[null,"ملاحظات"]
[40,"",null,null,null,null,null,null,null,null,null,null,null,null,null,null,{"$f":"INDIRECT(ADDRESS(9+A91*3,30,,,\"Final Degree2\"))","v":""},{"$f":"IF($B91=\"\",\"\",IF((Q91*40/12-INT(Q91*40/12))>=0.75,INT(Q91*40/12)+1,IF((Q91*40/12-INT(Q91*40/12))<0.25,INT(Q91*40/12),INT(Q91*40/12)+0.5)))","v":""},null,null,{"$f":"IF(OR(S91=\"\",T91=\"\"),\"\",S91+T91)","v":""},{"$f":"IF(OR(R91=\"\",T91=\"\"),\"\",T91+R91+S91)","v":""},{"$f":"INDIRECT(ADDRESS(11+A91*2,21,1,,\"SeconedPartDegrees1\"))","v":""},{"$f":"IFERROR(IF(V91=\"\",\"\",IF(((V91+W91)/2-INT((V91+W91)/2))>=0.75,INT((V91+W91)/2)+1,IF(((V91+W91)/2-INT((V91+W91)/2))<0.25,INT((V91+W91)/2),INT((V91+W91)/2)+0.5))),\"\")","v":""},{"$f":"IF(X91=\"\",\"\",IF(AND(X91<50,T91>0),\"دور ثاني\",IF(T91=\"\",\"غياب وعليه دور ثاني\",\"ناجح\")))","v":""},null,null,{"$f":"ROUNDUP(((FirstPartDegrees2!#REF!+C91)/2+(FirstPartDegrees2!F91+H91)/2+(FirstPartDegrees2!#REF!+#REF!)/2+(FirstPartDegrees2!C91+#REF!)/2 )/4,0)","v":{"$error":"#REF!"}},{"$f":"ROUNDUP(((FirstPartDegrees2!#REF!+FirstPartDegrees2!#REF!)/2+(FirstPartDegrees2!G91+D91)/2+(FirstPartDegrees2!L91+J91)/2+(FirstPartDegrees2!H91+#REF!)/2 )/4,0)","v":{"$error":"#REF!"}},{"$f":"ROUNDUP(((FirstPartDegrees2!E91+FirstPartDegrees2!I91)/2+(FirstPartDegrees2!#REF!+FirstPartDegrees2!#REF!)/2+(FirstPartDegrees2!N91+L91)/2+(P91+#REF!)/2)/4,0)","v":{"$error":"#REF!"}},{"$f":"(AD91+AC91+AB91)*40/12","v":{"$error":"#REF!"}}]
[null,"ملاحظات"]
[41,"",null,null,null,null,null,null,null,null,null,null,null,null,null,null,{"$f":"INDIRECT(ADDRESS(9+A93*3,30,,,\"Final Degree2\"))","v":""},{"$f":"IF($B93=\"\",\"\",IF((Q93*40/12-INT(Q93*40/12))>=0.75,INT(Q93*40/12)+1,IF((Q93*40/12-INT(Q93*40/12))<0.25,INT(Q93*40/12),INT(Q93*40/12)+0.5)))","v":""},null,null,{"$f":"IF(OR(S93=\"\",T93=\"\"),\"\",S93+T93)","v":""},{"$f":"IF(OR(R93=\"\",T93=\"\"),\"\",T93+R93+S93)","v":""},{"$f":"INDIRECT(ADDRESS(11+A93*2,21,1,,\"SeconedPartDegrees1\"))","v":""},{"$f":"IFERROR(IF(V93=\"\",\"\",IF(((V93+W93)/2-INT((V93+W93)/2))>=0.75,INT((V93+W93)/2)+1,IF(((V93+W93)/2-INT((V93+W93)/2))<0.25,INT((V93+W93)/2),INT((V93+W93)/2)+0.5))),\"\")","v":""},{"$f":"IF(X93=\"\",\"\",IF(AND(X93<50,T93>0),\"دور ثاني\",IF(T93=\"\",\"غياب وعليه دور ثاني\",\"ناجح\")))","v":""},null,null,{"$f":"ROUNDUP(((FirstPartDegrees2!#REF!+C93)/2+(FirstPartDegrees2!F93+H93)/2+(FirstPartDegrees2!#REF!+#REF!)/2+(FirstPartDegrees2!C93+#REF!)/2 )/4,0)","v":{"$error":"#REF!"}},{"$f":"ROUNDUP(((FirstPartDegrees2!#REF!+FirstPartDegrees2!#REF!)/2+(FirstPartDegrees2!G93+D93)/2+(FirstPartDegrees2!L93+J93)/2+(FirstPartDegrees2!H93+#REF!)/2 )/4,0)","v":{"$error":"#REF!"}},{"$f":"ROUNDUP(((FirstPartDegrees2!E93+FirstPartDegrees2!I93)/2+(FirstPartDegrees2!#REF!+FirstPartDegrees2!#REF!)/2+(FirstPartDegrees2!N93+L93)/2+(P93+#REF!)/2)/4,0)","v":{"$error":"#REF!"}},{"$f":"(AD93+AC93+AB93)*40/12","v":{"$error":"#REF!"}}]
[null,"ملاحظات"]
[42,"",null,null,null,null,null,null,null,null,null,null,null,null,null,null,{"$f":"INDIRECT(ADDRESS(9+A95*3,30,,,\"Final Degree2\"))","v":""},{"$f":"IF($B95=\"\",\"\",IF((Q95*40/12-INT(Q95*40/12))>=0.75,INT(Q95*40/12)+1,IF((Q95*40/12-INT(Q95*40/12))<0.25,INT(Q95*40/12),INT(Q95*40/12)+0.5)))","v":""},null,null,{"$f":"IF(OR(S95=\"\",T95=\"\"),\"\",S95+T95)","v":""},{"$f":"IF(OR(R95=\"\",T95=\"\"),\"\",T95+R95+S95)","v":""},{"$f":"INDIRECT(ADDRESS(11+A95*2,21,1,,\"SeconedPartDegrees1\"))","v":""},{"$f":"IFERROR(IF(V95=\"\",\"\",IF(((V95+W95)/2-INT((V95+W95)/2))>=0.75,INT((V95+W95)/2)+1,IF(((V95+W95)/2-INT((V95+W95)/2))<0.25,INT((V95+W95)/2),INT((V95+W95)/2)+0.5))),\"\")","v":""},{"$f":"IF(X95=\"\",\"\",IF(AND(X95<50,T95>0),\"دور ثاني\",IF(T95=\"\",\"غياب وعليه دور ثاني\",\"ناجح\")))","v":""},null,null,{"$f":"ROUNDUP(((FirstPartDegrees2!#REF!+C95)/2+(FirstPartDegrees2!F95+H95)/2+(FirstPartDegrees2!#REF!+#REF!)/2+(FirstPartDegrees2!C95+#REF!)/2 )/4,0)","v":{"$error":"#REF!"}},{"$f":"ROUNDUP(((FirstPartDegrees2!#REF!+FirstPartDegrees2!#REF!)/2+(FirstPartDegrees2!G95+D95)/2+(FirstPartDegrees2!L95+J95)/2+(FirstPartDegrees2!H95+#REF!)/2 )/4,0)","v":{"$error":"#REF!"}},{"$f":"ROUNDUP(((FirstPartDegrees2!E95+FirstPartDegrees2!I95)/2+(FirstPartDegrees2!#REF!+FirstPartDegrees2!#REF!)/2+(FirstPartDegrees2!N95+L95)/2+(P95+#REF!)/2)/4,0)","v":{"$error":"#REF!"}},{"$f":"(AD95+AC95+AB95)*40/12","v":{"$error":"#REF!"}}]
[null,"ملاحظات"]
[43,"",null,null,null,null,null,null,null,null,null,null,null,null,null,null,{"$f":"INDIRECT(ADDRESS(9+A97*3,30,,,\"Final Degree2\"))","v":""},{"$f":"IF($B97=\"\",\"\",IF((Q97*40/12-INT(Q97*40/12))>=0.75,INT(Q97*40/12)+1,IF((Q97*40/12-INT(Q97*40/12))<0.25,INT(Q97*40/12),INT(Q97*40/12)+0.5)))","v":""},null,null,{"$f":"IF(OR(S97=\"\",T97=\"\"),\"\",S97+T97)","v":""},{"$f":"IF(OR(R97=\"\",T97=\"\"),\"\",T97+R97+S97)","v":""},{"$f":"INDIRECT(ADDRESS(11+A97*2,21,1,,\"SeconedPartDegrees1\"))","v":""},{"$f":"IFERROR(IF(V97=\"\",\"\",IF(((V97+W97)/2-INT((V97+W97)/2))>=0.75,INT((V97+W97)/2)+1,IF(((V97+W97)/2-INT((V97+W97)/2))<0.25,INT((V97+W97)/2),INT((V97+W97)/2)+0.5))),\"\")","v":""},{"$f":"IF(X97=\"\",\"\",IF(AND(X97<50,T97>0),\"دور ثاني\",IF(T97=\"\",\"غياب وعليه دور ثاني\",\"ناجح\")))","v":""},null,null,{"$f":"ROUNDUP(((FirstPartDegrees2!#REF!+C97)/2+(FirstPartDegrees2!F97+H97)/2+(FirstPartDegrees2!#REF!+#REF!)/2+(FirstPartDegrees2!C97+#REF!)/2 )/4,0)","v":{"$error":"#REF!"}},{"$f":"ROUNDUP(((FirstPartDegrees2!#REF!+FirstPartDegrees2!#REF!)/2+(FirstPartDegrees2!G97+D97)/2+(FirstPartDegrees2!L97+J97)/2+(FirstPartDegrees2!H97+#REF!)/2 )/4,0)","v":{"$error":"#REF!"}},{"$f":"ROUNDUP(((FirstPartDegrees2!E97+FirstPartDegrees2!I97)/2+(FirstPartDegrees2!#REF!+FirstPartDegrees2!#REF!)/2+(FirstPartDegrees2!N97+L97)/2+(P97+#REF!)/2)/4,0)","v":{"$error":"#REF!"}},{"$f":"(AD97+AC97+AB97)*40/12","v":{"$error":"#REF!"}}]
[null,"ملاحظات"]
[44,"",null,null,null,null,null,null,null,null,null,null,null,null,null,null,{"$f":"INDIRECT(ADDRESS(9+A99*3,30,,,\"Final Degree2\"))","v":""},{"$f":"IF($B99=\"\",\"\",IF((Q99*40/12-INT(Q99*40/12))>=0.75,INT(Q99*40/12)+1,IF((Q99*40/12-INT(Q99*40/12))<0.25,INT(Q99*40/12),INT(Q99*40/12)+0.5)))","v":""},null,null,{"$f":"IF(OR(S99=\"\",T99=\"\"),\"\",S99+T99)","v":""},{"$f":"IF(OR(R99=\"\",T99=\"\"),\"\",T99+R99+S99)","v":""},{"$f":"INDIRECT(ADDRESS(11+A99*2,21,1,,\"SeconedPartDegrees1\"))","v":""},{"$f":"IFERROR(IF(V99=\"\",\"\",IF(((V99+W99)/2-INT((V99+W99)/2))>=0.75,INT((V99+W99)/2)+1,IF(((V99+W99)/2-INT((V99+W99)/2))<0.25,INT((V99+W99)/2),INT((V99+W99)/2)+0.5))),\"\")","v":""},{"$f":"IF(X99=\"\",\"\",IF(AND(X99<50,T99>0),\"دور ثاني\",IF(T99=\"\",\"غياب وعليه دور ثاني\",\"ناجح\")))","v":""},null,null,{"$f":"ROUNDUP(((FirstPartDegrees2!#REF!+C99)/2+(FirstPartDegrees2!F99+H99)/2+(FirstPartDegrees2!#REF!+#REF!)/2+(FirstPartDegrees2!C99+#REF!)/2 )/4,0)","v":{"$error":"#REF!"}},{"$f":"ROUNDUP(((FirstPartDegrees2!#REF!+FirstPartDegrees2!#REF!)/2+(FirstPartDegrees2!G99+D99)/2+(FirstPartDegrees2!L99+J99)/2+(FirstPartDegrees2!H99+#REF!)/2 )/4,0)","v":{"$error":"#REF!"}},{"$f":"ROUNDUP(((FirstPartDegrees2!E99+FirstPartDegrees2!I99)/2+(FirstPartDegrees2!#REF!+FirstPartDegrees2!#REF!)/2+(FirstPartDegrees2!N99+L99)/2+(P99+#REF!)/2)/4,0)","v":{"$error":"#REF!"}},{"$f":"(AD99+AC99+AB99)*40/12","v":{"$error":"#REF!"}}]
[null,"ملاحظات"]
[45,"",null,null,null,null,null,null,null,null,null,null,null,null,null,null,{"$f":"INDIRECT(ADDRESS(9+A101*3,30,,,\"Final Degree2\"))","v":""},{"$f":"IF($B101=\"\",\"\",IF((Q101*40/12-INT(Q101*40/12))>=0.75,INT(Q101*40/12)+1,IF((Q101*40/12-INT(Q101*40/12))<0.25,INT(Q101*40/12),INT(Q101*40/12)+0.5)))","v":""},null,null,{"$f":"IF(OR(S101=\"\",T101=\"\"),\"\",S101+T101)","v":""},{"$f":"IF(OR(R101=\"\",T101=\"\"),\"\",T101+R101+S101)","v":""},{"$f":"INDIRECT(ADDRESS(11+A101*2,21,1,,\"SeconedPartDegrees1\"))","v":""},{"$f":"IFERROR(IF(V101=\"\",\"\",IF(((V101+W101)/2-INT((V101+W101)/2))>=0.75,INT((V101+W101)/2)+1,IF(((V101+W101)/2-INT((V101+W101)/2))<0.25,INT((V101+W101)/2),INT((V101+W101)/2)+0.5))),\"\")","v":""},{"$f":"IF(X101=\"\",\"\",IF(AND(X101<50,T101>0),\"دور ثاني\",IF(T101=\"\",\"غياب وعليه دور ثاني\",\"ناجح\")))","v":""},null,null,{"$f":"ROUNDUP(((FirstPartDegrees2!#REF!+C101)/2+(FirstPartDegrees2!F101+H101)/2+(FirstPartDegrees2!#REF!+#REF!)/2+(FirstPartDegrees2!C101+#REF!)/2 )/4,0)","v":{"$error":"#REF!"}},{"$f":"ROUNDUP(((FirstPartDegrees2!#REF!+FirstPartDegrees2!#REF!)/2+(FirstPartDegrees2!G101+D101)/2+(FirstPartDegrees2!L101+J101)/2+(FirstPartDegrees2!H101+#REF!)/2 )/4,0)","v":{"$error":"#REF!"}},{"$f":"ROUNDUP(((FirstPartDegrees2!E101+FirstPartDegrees2!I101)/2+(FirstPartDegrees2!#REF!+FirstPartDegrees2!#REF!)/2+(FirstPartDegrees2!N101+L101)/2+(P101+#REF!)/2)/4,0)","v":{"$error":"#REF!"}},{"$f":"(AD101+AC101+AB101)*40/12","v":{"$error":"#REF!"}}]
[null,"ملاحظات"]
[46,"",null,null,null,null,null,null,null,null,null,null,null,null,null,null,{"$f":"INDIRECT(ADDRESS(9+A103*3,30,,,\"Final Degree2\"))","v":""},{"$f":"IF($B103=\"\",\"\",IF((Q103*40/12-INT(Q103*40/12))>=0.75,INT(Q103*40/12)+1,IF((Q103*40/12-INT(Q103*40/12))<0.25,INT(Q103*40/12),INT(Q103*40/12)+0.5)))","v":""},null,null,{"$f":"IF(OR(S103=\"\",T103=\"\"),\"\",S103+T103)","v":""},{"$f":"IF(OR(R103=\"\",T103=\"\"),\"\",T103+R103+S103)","v":""},{"$f":"INDIRECT(ADDRESS(11+A103*2,21,1,,\"SeconedPartDegrees1\"))","v":""},{"$f":"IFERROR(IF(V103=\"\",\"\",IF(((V103+W103)/2-INT((V103+W103)/2))>=0.75,INT((V103+W103)/2)+1,IF(((V103+W103)/2-INT((V103+W103)/2))<0.25,INT((V103+W103)/2),INT((V103+W103)/2)+0.5))),\"\")","v":""},{"$f":"IF(X103=\"\",\"\",IF(AND(X103<50,T103>0),\"دور ثاني\",IF(T103=\"\",\"غياب وعليه دور ثاني\",\"ناجح\")))","v":""},null,null,{"$f":"ROUNDUP(((FirstPartDegrees2!#REF!+C103)/2+(FirstPartDegrees2!F103+H103)/2+(FirstPartDegrees2!#REF!+#REF!)/2+(FirstPartDegrees2!C103+#REF!)/2 )/4,0)","v":{"$error":"#REF!"}},{"$f":"ROUNDUP(((FirstPartDegrees2!#REF!+FirstPartDegrees2!#REF!)/2+(FirstPartDegrees2!G103+D103)/2+(FirstPartDegrees2!L103+J103)/2+(FirstPartDegrees2!H103+#REF!)/2 )/4,0)","v":{"$error":"#REF!"}},{"$f":"ROUNDUP(((FirstPartDegrees2!E103+FirstPartDegrees2!I103)/2+(FirstPartDegrees2!#REF!+FirstPartDegrees2!#REF!)/2+(FirstPartDegrees2!N103+L103)/2+(P103+#REF!)/2)/4,0)","v":{"$error":"#REF!"}},{"$f":"(AD103+AC103+AB103)*40/12","v":{"$error":"#REF!"}}]
[null,"ملاحظات"]
[47,"",null,null,null,null,null,null,null,null,null,null,null,null,null,null,{"$f":"INDIRECT(ADDRESS(9+A105*3,30,,,\"Final Degree2\"))","v":""},{"$f":"IF($B105=\"\",\"\",IF((Q105*40/12-INT(Q105*40/12))>=0.75,INT(Q105*40/12)+1,IF((Q105*40/12-INT(Q105*40/12))<0.25,INT(Q105*40/12),INT(Q105*40/12)+0.5)))","v":""},null,null,{"$f":"IF(OR(S105=\"\",T105=\"\"),\"\",S105+T105)","v":""},{"$f":"IF(OR(R105=\"\",T105=\"\"),\"\",T105+R105+S105)","v":""},{"$f":"INDIRECT(ADDRESS(11+A105*2,21,1,,\"SeconedPartDegrees1\"))","v":""},{"$f":"IFERROR(IF(V105=\"\",\"\",IF(((V105+W105)/2-INT((V105+W105)/2))>=0.75,INT((V105+W105)/2)+1,IF(((V105+W105)/2-INT((V105+W105)/2))<0.25,INT((V105+W105)/2),INT((V105+W105)/2)+0.5))),\"\")","v":""},{"$f":"IF(X105=\"\",\"\",IF(AND(X105<50,T105>0),\"دور ثاني\",IF(T105=\"\",\"غياب وعليه دور ثاني\",\"ناجح\")))","v":""},null,null,{"$f":"ROUNDUP(((FirstPartDegrees2!#REF!+C105)/2+(FirstPartDegrees2!F105+H105)/2+(FirstPartDegrees2!#REF!+#REF!)/2+(FirstPartDegrees2!C105+#REF!)/2 )/4,0)","v":{"$error":"#REF!"}},{"$f":"ROUNDUP(((FirstPartDegrees2!#REF!+FirstPartDegrees2!#REF!)/2+(FirstPartDegrees2!G105+D105)/2+(FirstPartDegrees2!L105+J105)/2+(FirstPartDegrees2!H105+#REF!)/2 )/4,0)","v":{"$error":"#REF!"}},{"$f":"ROUNDUP(((FirstPartDegrees2!E105+FirstPartDegrees2!I105)/2+(FirstPartDegrees2!#REF!+FirstPartDegrees2!#REF!)/2+(FirstPartDegrees2!N105+L105)/2+(P105+#REF!)/2)/4,0)","v":{"$error":"#REF!"}},{"$f":"(AD105+AC105+AB105)*40/12","v":{"$error":"#REF!"}}]
[null,"ملاحظات"]
[48,"",null,null,null,null,null,null,null,null,null,null,null,null,null,null,{"$f":"INDIRECT(ADDRESS(9+A107*3,30,,,\"Final Degree2\"))","v":""},{"$f":"IF($B107=\"\",\"\",IF((Q107*40/12-INT(Q107*40/12))>=0.75,INT(Q107*40/12)+1,IF((Q107*40/12-INT(Q107*40/12))<0.25,INT(Q107*40/12),INT(Q107*40/12)+0.5)))","v":""},null,null,{"$f":"IF(OR(S107=\"\",T107=\"\"),\"\",S107+T107)","v":""},{"$f":"IF(OR(R107=\"\",T107=\"\"),\"\",T107+R107+S107)","v":""},{"$f":"INDIRECT(ADDRESS(11+A107*2,21,1,,\"SeconedPartDegrees1\"))","v":""},{"$f":"IFERROR(IF(V107=\"\",\"\",IF(((V107+W107)/2-INT((V107+W107)/2))>=0.75,INT((V107+W107)/2)+1,IF(((V107+W107)/2-INT((V107+W107)/2))<0.25,INT((V107+W107)/2),INT((V107+W107)/2)+0.5))),\"\")","v":""},{"$f":"IF(X107=\"\",\"\",IF(AND(X107<50,T107>0),\"دور ثاني\",IF(T107=\"\",\"غياب وعليه دور ثاني\",\"ناجح\")))","v":""},null,null,{"$f":"ROUNDUP(((FirstPartDegrees2!#REF!+C107)/2+(FirstPartDegrees2!F107+H107)/2+(FirstPartDegrees2!#REF!+#REF!)/2+(FirstPartDegrees2!C107+#REF!)/2 )/4,0)","v":{"$error":"#REF!"}},{"$f":"ROUNDUP(((FirstPartDegrees2!#REF!+FirstPartDegrees2!#REF!)/2+(FirstPartDegrees2!G107+D107)/2+(FirstPartDegrees2!L107+J107)/2+(FirstPartDegrees2!H107+#REF!)/2 )/4,0)","v":{"$error":"#REF!"}},{"$f":"ROUNDUP(((FirstPartDegrees2!E107+FirstPartDegrees2!I107)/2+(FirstPartDegrees2!#REF!+FirstPartDegrees2!#REF!)/2+(FirstPartDegrees2!N107+L107)/2+(P107+#REF!)/2)/4,0)","v":{"$error":"#REF!"}},{"$f":"(AD107+AC107+AB107)*40/12","v":{"$error":"#REF!"}}]
[null,"ملاحظات"]
[49,"",null,null,null,null,null,null,null,null,null,null,null,null,null,null,{"$f":"INDIRECT(ADDRESS(9+A109*3,30,,,\"Final Degree2\"))","v":""},{"$f":"IF($B109=\"\",\"\",IF((Q109*40/12-INT(Q109*40/12))>=0.75,INT(Q109*40/12)+1,IF((Q109*40/12-INT(Q109*40/12))<0.25,INT(Q109*40/12),INT(Q109*40/12)+0.5)))","v":""},null,null,{"$f":"IF(OR(S109=\"\",T109=\"\"),\"\",S109+T109)","v":""},{"$f":"IF(OR(R109=\"\",T109=\"\"),\"\",T109+R109+S109)","v":""},{"$f":"INDIRECT(ADDRESS(11+A109*2,21,1,,\"SeconedPartDegrees1\"))","v":""},{"$f":"IFERROR(IF(V109=\"\",\"\",IF(((V109+W109)/2-INT((V109+W109)/2))>=0.75,INT((V109+W109)/2)+1,IF(((V109+W109)/2-INT((V109+W109)/2))<0.25,INT((V109+W109)/2),INT((V109+W109)/2)+0.5))),\"\")","v":""},{"$f":"IF(X109=\"\",\"\",IF(AND(X109<50,T109>0),\"دور ثاني\",IF(T109=\"\",\"غياب وعليه دور ثاني\",\"ناجح\")))","v":""},null,null,{"$f":"ROUNDUP(((FirstPartDegrees2!#REF!+C109)/2+(FirstPartDegrees2!F109+H109)/2+(FirstPartDegrees2!#REF!+#REF!)/2+(FirstPartDegrees2!C109+#REF!)/2 )/4,0)","v":{"$error":"#REF!"}},{"$f":"ROUNDUP(((FirstPartDegrees2!#REF!+FirstPartDegrees2!#REF!)/2+(FirstPartDegrees2!G109+D109)/2+(FirstPartDegrees2!L109+J109)/2+(FirstPartDegrees2!H109+#REF!)/2 )/4,0)","v":{"$error":"#REF!"}},{"$f":"ROUNDUP(((FirstPartDegrees2!E109+FirstPartDegrees2!I109)/2+(FirstPartDegrees2!#REF!+FirstPartDegrees2!#REF!)/2+(FirstPartDegrees2!N109+L109)/2+(P109+#REF!)/2)/4,0)","v":{"$error":"#REF!"}},{"$f":"(AD109+AC109+AB109)*40/12","v":{"$error":"#REF!"}}]
[null,"ملاحظات"]
[50,"",null,null,null,null,null,null,null,null,null,null,null,null,null,null,{"$f":"INDIRECT(ADDRESS(9+A111*3,30,,,\"Final Degree2\"))","v":""},{"$f":"IF($B111=\"\",\"\",IF((Q111*40/12-INT(Q111*40/12))>=0.75,INT(Q111*40/12)+1,IF((Q111*40/12-INT(Q111*40/12))<0.25,INT(Q111*40/12),INT(Q111*40/12)+0.5)))","v":""},null,null,{"$f":"IF(OR(S111=\"\",T111=\"\"),\"\",S111+T111)","v":""},{"$f":"IF(OR(R111=\"\",T111=\"\"),\"\",T111+R111+S111)","v":""},{"$f":"INDIRECT(ADDRESS(11+A111*2,21,1,,\"SeconedPartDegrees1\"))","v":""},{"$f":"IFERROR(IF(V111=\"\",\"\",IF(((V111+W111)/2-INT((V111+W111)/2))>=0.75,INT((V111+W111)/2)+1,IF(((V111+W111)/2-INT((V111+W111)/2))<0.25,INT((V111+W111)/2),INT((V111+W111)/2)+0.5))),\"\")","v":""},{"$f":"IF(X111=\"\",\"\",IF(AND(X111<50,T111>0),\"دور ثاني\",IF(T111=\"\",\"غياب وعليه دور ثاني\",\"ناجح\")))","v":""},null,null,{"$f":"ROUNDUP(((FirstPartDegrees2!#REF!+C111)/2+(FirstPartDegrees2!F111+H111)/2+(FirstPartDegrees2!#REF!+#REF!)/2+(FirstPartDegrees2!C111+#REF!)/2 )/4,0)","v":{"$error":"#REF!"}},{"$f":"ROUNDUP(((FirstPartDegrees2!#REF!+FirstPartDegrees2!#REF!)/2+(FirstPartDegrees2!G111+D111)/2+(FirstPartDegrees2!L111+J111)/2+(FirstPartDegrees2!H111+#REF!)/2 )/4,0)","v":{"$error":"#REF!"}},{"$f":"ROUNDUP(((FirstPartDegrees2!E111+FirstPartDegrees2!I111)/2+(FirstPartDegrees2!#REF!+FirstPartDegrees2!#REF!)/2+(FirstPartDegrees2!N111+L111)/2+(P111+#REF!)/2)/4,0)","v":{"$error":"#REF!"}},{"$f":"(AD111+AC111+AB111)*40/12","v":{"$error":"#REF!"}}]
[null,"ملاحظات"]
[51,"",null,null,null,null,null,null,null,null,null,null,null,null,null,null,{"$f":"INDIRECT(ADDRESS(9+A113*3,30,,,\"Final Degree2\"))","v":""},{"$f":"IF($B113=\"\",\"\",IF((Q113*40/12-INT(Q113*40/12))>=0.75,INT(Q113*40/12)+1,IF((Q113*40/12-INT(Q113*40/12))<0.25,INT(Q113*40/12),INT(Q113*40/12)+0.5)))","v":""},null,null,{"$f":"IF(OR(S113=\"\",T113=\"\"),\"\",S113+T113)","v":""},{"$f":"IF(OR(R113=\"\",T113=\"\"),\"\",T113+R113+S113)","v":""},{"$f":"INDIRECT(ADDRESS(11+A113*2,21,1,,\"SeconedPartDegrees1\"))","v":""},{"$f":"IFERROR(IF(V113=\"\",\"\",IF(((V113+W113)/2-INT((V113+W113)/2))>=0.75,INT((V113+W113)/2)+1,IF(((V113+W113)/2-INT((V113+W113)/2))<0.25,INT((V113+W113)/2),INT((V113+W113)/2)+0.5))),\"\")","v":""},{"$f":"IF(X113=\"\",\"\",IF(AND(X113<50,T113>0),\"دور ثاني\",IF(T113=\"\",\"غياب وعليه دور ثاني\",\"ناجح\")))","v":""},null,null,{"$f":"ROUNDUP(((FirstPartDegrees2!#REF!+C113)/2+(FirstPartDegrees2!F113+H113)/2+(FirstPartDegrees2!#REF!+#REF!)/2+(FirstPartDegrees2!C113+#REF!)/2 )/4,0)","v":{"$error":"#REF!"}},{"$f":"ROUNDUP(((FirstPartDegrees2!#REF!+FirstPartDegrees2!#REF!)/2+(FirstPartDegrees2!G113+D113)/2+(FirstPartDegrees2!L113+J113)/2+(FirstPartDegrees2!H113+#REF!)/2 )/4,0)","v":{"$error":"#REF!"}},{"$f":"ROUNDUP(((FirstPartDegrees2!E113+FirstPartDegrees2!I113)/2+(FirstPartDegrees2!#REF!+FirstPartDegrees2!#REF!)/2+(FirstPartDegrees2!N113+L113)/2+(P113+#REF!)/2)/4,0)","v":{"$error":"#REF!"}},{"$f":"(AD113+AC113+AB113)*40/12","v":{"$error":"#REF!"}}]
[null,"ملاحظات"]
[52,"",null,null,null,null,null,null,null,null,null,null,null,null,null,null,{"$f":"INDIRECT(ADDRESS(9+A115*3,30,,,\"Final Degree2\"))","v":""},{"$f":"IF($B115=\"\",\"\",IF((Q115*40/12-INT(Q115*40/12))>=0.75,INT(Q115*40/12)+1,IF((Q115*40/12-INT(Q115*40/12))<0.25,INT(Q115*40/12),INT(Q115*40/12)+0.5)))","v":""},null,null,{"$f":"IF(OR(S115=\"\",T115=\"\"),\"\",S115+T115)","v":""},{"$f":"IF(OR(R115=\"\",T115=\"\"),\"\",T115+R115+S115)","v":""},{"$f":"INDIRECT(ADDRESS(11+A115*2,21,1,,\"SeconedPartDegrees1\"))","v":""},{"$f":"IFERROR(IF(V115=\"\",\"\",IF(((V115+W115)/2-INT((V115+W115)/2))>=0.75,INT((V115+W115)/2)+1,IF(((V115+W115)/2-INT((V115+W115)/2))<0.25,INT((V115+W115)/2),INT((V115+W115)/2)+0.5))),\"\")","v":""},{"$f":"IF(X115=\"\",\"\",IF(AND(X115<50,T115>0),\"دور ثاني\",IF(T115=\"\",\"غياب وعليه دور ثاني\",\"ناجح\")))","v":""},null,null,{"$f":"ROUNDUP(((FirstPartDegrees2!#REF!+C115)/2+(FirstPartDegrees2!F115+H115)/2+(FirstPartDegrees2!#REF!+#REF!)/2+(FirstPartDegrees2!C115+#REF!)/2 )/4,0)","v":{"$error":"#REF!"}},{"$f":"ROUNDUP(((FirstPartDegrees2!#REF!+FirstPartDegrees2!#REF!)/2+(FirstPartDegrees2!G115+D115)/2+(FirstPartDegrees2!L115+J115)/2+(FirstPartDegrees2!H115+#REF!)/2 )/4,0)","v":{"$error":"#REF!"}},{"$f":"ROUNDUP(((FirstPartDegrees2!E115+FirstPartDegrees2!I115)/2+(FirstPartDegrees2!#REF!+FirstPartDegrees2!#REF!)/2+(FirstPartDegrees2!N115+L115)/2+(P115+#REF!)/2)/4,0)","v":{"$error":"#REF!"}},{"$f":"(AD115+AC115+AB115)*40/12","v":{"$error":"#REF!"}}]
[null,"ملاحظات"]
[53,"",null,null,null,null,null,null,null,null,null,null,null,null,null,null,{"$f":"INDIRECT(ADDRESS(9+A117*3,30,,,\"Final Degree2\"))","v":""},{"$f":"IF($B117=\"\",\"\",IF((Q117*40/12-INT(Q117*40/12))>=0.75,INT(Q117*40/12)+1,IF((Q117*40/12-INT(Q117*40/12))<0.25,INT(Q117*40/12),INT(Q117*40/12)+0.5)))","v":""},null,null,{"$f":"IF(OR(S117=\"\",T117=\"\"),\"\",S117+T117)","v":""},{"$f":"IF(OR(R117=\"\",T117=\"\"),\"\",T117+R117+S117)","v":""},{"$f":"INDIRECT(ADDRESS(11+A117*2,21,1,,\"SeconedPartDegrees1\"))","v":""},{"$f":"IFERROR(IF(V117=\"\",\"\",IF(((V117+W117)/2-INT((V117+W117)/2))>=0.75,INT((V117+W117)/2)+1,IF(((V117+W117)/2-INT((V117+W117)/2))<0.25,INT((V117+W117)/2),INT((V117+W117)/2)+0.5))),\"\")","v":""},{"$f":"IF(X117=\"\",\"\",IF(AND(X117<50,T117>0),\"دور ثاني\",IF(T117=\"\",\"غياب وعليه دور ثاني\",\"ناجح\")))","v":""},null,null,{"$f":"ROUNDUP(((FirstPartDegrees2!#REF!+C117)/2+(FirstPartDegrees2!F117+H117)/2+(FirstPartDegrees2!#REF!+#REF!)/2+(FirstPartDegrees2!C117+#REF!)/2 )/4,0)","v":{"$error":"#REF!"}},{"$f":"ROUNDUP(((FirstPartDegrees2!#REF!+FirstPartDegrees2!#REF!)/2+(FirstPartDegrees2!G117+D117)/2+(FirstPartDegrees2!L117+J117)/2+(FirstPartDegrees2!H117+#REF!)/2 )/4,0)","v":{"$error":"#REF!"}},{"$f":"ROUNDUP(((FirstPartDegrees2!E117+FirstPartDegrees2!I117)/2+(FirstPartDegrees2!#REF!+FirstPartDegrees2!#REF!)/2+(FirstPartDegrees2!N117+L117)/2+(P117+#REF!)/2)/4,0)","v":{"$error":"#REF!"}},{"$f":"(AD117+AC117+AB117)*40/12","v":{"$error":"#REF!"}}]
[null,"ملاحظات"]
[54,"",null,null,null,null,null,null,null,null,null,null,null,null,null,null,{"$f":"INDIRECT(ADDRESS(9+A119*3,30,,,\"Final Degree2\"))","v":""},{"$f":"IF($B119=\"\",\"\",IF((Q119*40/12-INT(Q119*40/12))>=0.75,INT(Q119*40/12)+1,IF((Q119*40/12-INT(Q119*40/12))<0.25,INT(Q119*40/12),INT(Q119*40/12)+0.5)))","v":""},null,null,{"$f":"IF(OR(S119=\"\",T119=\"\"),\"\",S119+T119)","v":""},{"$f":"IF(OR(R119=\"\",T119=\"\"),\"\",T119+R119+S119)","v":""},{"$f":"INDIRECT(ADDRESS(11+A119*2,21,1,,\"SeconedPartDegrees1\"))","v":""},{"$f":"IFERROR(IF(V119=\"\",\"\",IF(((V119+W119)/2-INT((V119+W119)/2))>=0.75,INT((V119+W119)/2)+1,IF(((V119+W119)/2-INT((V119+W119)/2))<0.25,INT((V119+W119)/2),INT((V119+W119)/2)+0.5))),\"\")","v":""},{"$f":"IF(X119=\"\",\"\",IF(AND(X119<50,T119>0),\"دور ثاني\",IF(T119=\"\",\"غياب وعليه دور ثاني\",\"ناجح\")))","v":""},null,null,{"$f":"ROUNDUP(((FirstPartDegrees2!#REF!+C119)/2+(FirstPartDegrees2!F119+H119)/2+(FirstPartDegrees2!#REF!+#REF!)/2+(FirstPartDegrees2!C119+#REF!)/2 )/4,0)","v":{"$error":"#REF!"}},{"$f":"ROUNDUP(((FirstPartDegrees2!#REF!+FirstPartDegrees2!#REF!)/2+(FirstPartDegrees2!G119+D119)/2+(FirstPartDegrees2!L119+J119)/2+(FirstPartDegrees2!H119+#REF!)/2 )/4,0)","v":{"$error":"#REF!"}},{"$f":"ROUNDUP(((FirstPartDegrees2!E119+FirstPartDegrees2!I119)/2+(FirstPartDegrees2!#REF!+FirstPartDegrees2!#REF!)/2+(FirstPartDegrees2!N119+L119)/2+(P119+#REF!)/2)/4,0)","v":{"$error":"#REF!"}},{"$f":"(AD119+AC119+AB119)*40/12","v":{"$error":"#REF!"}}]
[null,"ملاحظات"]
[55,"",null,null,null,null,null,null,null,null,null,null,null,null,null,null,{"$f":"INDIRECT(ADDRESS(9+A121*3,30,,,\"Final Degree2\"))","v":""},{"$f":"IF($B121=\"\",\"\",IF((Q121*40/12-INT(Q121*40/12))>=0.75,INT(Q121*40/12)+1,IF((Q121*40/12-INT(Q121*40/12))<0.25,INT(Q121*40/12),INT(Q121*40/12)+0.5)))","v":""},null,null,{"$f":"IF(OR(S121=\"\",T121=\"\"),\"\",S121+T121)","v":""},{"$f":"IF(OR(R121=\"\",T121=\"\"),\"\",T121+R121+S121)","v":""},{"$f":"INDIRECT(ADDRESS(11+A121*2,21,1,,\"SeconedPartDegrees1\"))","v":""},{"$f":"IFERROR(IF(V121=\"\",\"\",IF(((V121+W121)/2-INT((V121+W121)/2))>=0.75,INT((V121+W121)/2)+1,IF(((V121+W121)/2-INT((V121+W121)/2))<0.25,INT((V121+W121)/2),INT((V121+W121)/2)+0.5))),\"\")","v":""},{"$f":"IF(X121=\"\",\"\",IF(AND(X121<50,T121>0),\"دور ثاني\",IF(T121=\"\",\"غياب وعليه دور ثاني\",\"ناجح\")))","v":""},null,null,{"$f":"ROUNDUP(((FirstPartDegrees2!#REF!+C121)/2+(FirstPartDegrees2!F121+H121)/2+(FirstPartDegrees2!#REF!+#REF!)/2+(FirstPartDegrees2!C121+#REF!)/2 )/4,0)","v":{"$error":"#REF!"}},{"$f":"ROUNDUP(((FirstPartDegrees2!#REF!+FirstPartDegrees2!#REF!)/2+(FirstPartDegrees2!G121+D121)/2+(FirstPartDegrees2!L121+J121)/2+(FirstPartDegrees2!H121+#REF!)/2 )/4,0)","v":{"$error":"#REF!"}},{"$f":"ROUNDUP(((FirstPartDegrees2!E121+FirstPartDegrees2!I121)/2+(FirstPartDegrees2!#REF!+FirstPartDegrees2!#REF!)/2+(FirstPartDegrees2!N121+L121)/2+(P121+#REF!)/2)/4,0)","v":{"$error":"#REF!"}},{"$f":"(AD121+AC121+AB121)*40/12","v":{"$error":"#REF!"}}]
[null,"ملاحظات"]
[56,"",null,null,null,null,null,null,null,null,null,null,null,null,null,null,{"$f":"INDIRECT(ADDRESS(9+A123*3,30,,,\"Final Degree2\"))","v":""},{"$f":"IF($B123=\"\",\"\",IF((Q123*40/12-INT(Q123*40/12))>=0.75,INT(Q123*40/12)+1,IF((Q123*40/12-INT(Q123*40/12))<0.25,INT(Q123*40/12),INT(Q123*40/12)+0.5)))","v":""},null,null,{"$f":"IF(OR(S123=\"\",T123=\"\"),\"\",S123+T123)","v":""},{"$f":"IF(OR(R123=\"\",T123=\"\"),\"\",T123+R123+S123)","v":""},{"$f":"INDIRECT(ADDRESS(11+A123*2,21,1,,\"SeconedPartDegrees1\"))","v":""},{"$f":"IFERROR(IF(V123=\"\",\"\",IF(((V123+W123)/2-INT((V123+W123)/2))>=0.75,INT((V123+W123)/2)+1,IF(((V123+W123)/2-INT((V123+W123)/2))<0.25,INT((V123+W123)/2),INT((V123+W123)/2)+0.5))),\"\")","v":""},{"$f":"IF(X123=\"\",\"\",IF(AND(X123<50,T123>0),\"دور ثاني\",IF(T123=\"\",\"غياب وعليه دور ثاني\",\"ناجح\")))","v":""},null,null,{"$f":"ROUNDUP(((FirstPartDegrees2!#REF!+C123)/2+(FirstPartDegrees2!F123+H123)/2+(FirstPartDegrees2!#REF!+#REF!)/2+(FirstPartDegrees2!C123+#REF!)/2 )/4,0)","v":{"$error":"#REF!"}},{"$f":"ROUNDUP(((FirstPartDegrees2!#REF!+FirstPartDegrees2!#REF!)/2+(FirstPartDegrees2!G123+D123)/2+(FirstPartDegrees2!L123+J123)/2+(FirstPartDegrees2!H123+#REF!)/2 )/4,0)","v":{"$error":"#REF!"}},{"$f":"ROUNDUP(((FirstPartDegrees2!E123+FirstPartDegrees2!I123)/2+(FirstPartDegrees2!#REF!+FirstPartDegrees2!#REF!)/2+(FirstPartDegrees2!N123+L123)/2+(P123+#REF!)/2)/4,0)","v":{"$error":"#REF!"}},{"$f":"(AD123+AC123+AB123)*40/12","v":{"$error":"#REF!"}}]
[null,"ملاحظات"]
[57,"",null,null,null,null,null,null,null,null,null,null,null,null,null,null,{"$f":"INDIRECT(ADDRESS(9+A125*3,30,,,\"Final Degree2\"))","v":""},{"$f":"IF($B125=\"\",\"\",IF((Q125*40/12-INT(Q125*40/12))>=0.75,INT(Q125*40/12)+1,IF((Q125*40/12-INT(Q125*40/12))<0.25,INT(Q125*40/12),INT(Q125*40/12)+0.5)))","v":""},null,null,{"$f":"IF(OR(S125=\"\",T125=\"\"),\"\",S125+T125)","v":""},{"$f":"IF(OR(R125=\"\",T125=\"\"),\"\",T125+R125+S125)","v":""},{"$f":"INDIRECT(ADDRESS(11+A125*2,21,1,,\"SeconedPartDegrees1\"))","v":""},{"$f":"IFERROR(IF(V125=\"\",\"\",IF(((V125+W125)/2-INT((V125+W125)/2))>=0.75,INT((V125+W125)/2)+1,IF(((V125+W125)/2-INT((V125+W125)/2))<0.25,INT((V125+W125)/2),INT((V125+W125)/2)+0.5))),\"\")","v":""},{"$f":"IF(X125=\"\",\"\",IF(AND(X125<50,T125>0),\"دور ثاني\",IF(T125=\"\",\"غياب وعليه دور ثاني\",\"ناجح\")))","v":""},null,null,{"$f":"ROUNDUP(((FirstPartDegrees2!#REF!+C125)/2+(FirstPartDegrees2!F125+H125)/2+(FirstPartDegrees2!#REF!+#REF!)/2+(FirstPartDegrees2!C125+#REF!)/2 )/4,0)","v":{"$error":"#REF!"}},{"$f":"ROUNDUP(((FirstPartDegrees2!#REF!+FirstPartDegrees2!#REF!)/2+(FirstPartDegrees2!G125+D125)/2+(FirstPartDegrees2!L125+J125)/2+(FirstPartDegrees2!H125+#REF!)/2 )/4,0)","v":{"$error":"#REF!"}},{"$f":"ROUNDUP(((FirstPartDegrees2!E125+FirstPartDegrees2!I125)/2+(FirstPartDegrees2!#REF!+FirstPartDegrees2!#REF!)/2+(FirstPartDegrees2!N125+L125)/2+(P125+#REF!)/2)/4,0)","v":{"$error":"#REF!"}},{"$f":"(AD125+AC125+AB125)*40/12","v":{"$error":"#REF!"}}]
[null,"ملاحظات"]
[58,"",null,null,null,null,null,null,null,null,null,null,null,null,null,null,{"$f":"INDIRECT(ADDRESS(9+A127*3,30,,,\"Final Degree2\"))","v":""},{"$f":"IF($B127=\"\",\"\",IF((Q127*40/12-INT(Q127*40/12))>=0.75,INT(Q127*40/12)+1,IF((Q127*40/12-INT(Q127*40/12))<0.25,INT(Q127*40/12),INT(Q127*40/12)+0.5)))","v":""},null,null,{"$f":"IF(OR(S127=\"\",T127=\"\"),\"\",S127+T127)","v":""},{"$f":"IF(OR(R127=\"\",T127=\"\"),\"\",T127+R127+S127)","v":""},{"$f":"INDIRECT(ADDRESS(11+A127*2,21,1,,\"SeconedPartDegrees1\"))","v":""},{"$f":"IFERROR(IF(V127=\"\",\"\",IF(((V127+W127)/2-INT((V127+W127)/2))>=0.75,INT((V127+W127)/2)+1,IF(((V127+W127)/2-INT((V127+W127)/2))<0.25,INT((V127+W127)/2),INT((V127+W127)/2)+0.5))),\"\")","v":""},{"$f":"IF(X127=\"\",\"\",IF(AND(X127<50,T127>0),\"دور ثاني\",IF(T127=\"\",\"غياب وعليه دور ثاني\",\"ناجح\")))","v":""},null,null,{"$f":"ROUNDUP(((FirstPartDegrees2!#REF!+C127)/2+(FirstPartDegrees2!F127+H127)/2+(FirstPartDegrees2!#REF!+#REF!)/2+(FirstPartDegrees2!C127+#REF!)/2 )/4,0)","v":{"$error":"#REF!"}},{"$f":"ROUNDUP(((FirstPartDegrees2!#REF!+FirstPartDegrees2!#REF!)/2+(FirstPartDegrees2!G127+D127)/2+(FirstPartDegrees2!L127+J127)/2+(FirstPartDegrees2!H127+#REF!)/2 )/4,0)","v":{"$error":"#REF!"}},{"$f":"ROUNDUP(((FirstPartDegrees2!E127+FirstPartDegrees2!I127)/2+(FirstPartDegrees2!#REF!+FirstPartDegrees2!#REF!)/2+(FirstPartDegrees2!N127+L127)/2+(P127+#REF!)/2)/4,0)","v":{"$error":"#REF!"}},{"$f":"(AD127+AC127+AB127)*40/12","v":{"$error":"#REF!"}}]
[null,"ملاحظات"]
[59,"",null,null,null,null,null,null,null,null,null,null,null,null,null,null,{"$f":"INDIRECT(ADDRESS(9+A129*3,30,,,\"Final Degree2\"))","v":""},{"$f":"IF($B129=\"\",\"\",IF((Q129*40/12-INT(Q129*40/12))>=0.75,INT(Q129*40/12)+1,IF((Q129*40/12-INT(Q129*40/12))<0.25,INT(Q129*40/12),INT(Q129*40/12)+0.5)))","v":""},null,null,{"$f":"IF(OR(S129=\"\",T129=\"\"),\"\",S129+T129)","v":""},{"$f":"IF(OR(R129=\"\",T129=\"\"),\"\",T129+R129+S129)","v":""},{"$f":"INDIRECT(ADDRESS(11+A129*2,21,1,,\"SeconedPartDegrees1\"))","v":""},{"$f":"IFERROR(IF(V129=\"\",\"\",IF(((V129+W129)/2-INT((V129+W129)/2))>=0.75,INT((V129+W129)/2)+1,IF(((V129+W129)/2-INT((V129+W129)/2))<0.25,INT((V129+W129)/2),INT((V129+W129)/2)+0.5))),\"\")","v":""},{"$f":"IF(X129=\"\",\"\",IF(AND(X129<50,T129>0),\"دور ثاني\",IF(T129=\"\",\"غياب وعليه دور ثاني\",\"ناجح\")))","v":""},null,null,{"$f":"ROUNDUP(((FirstPartDegrees2!#REF!+C129)/2+(FirstPartDegrees2!F129+H129)/2+(FirstPartDegrees2!#REF!+#REF!)/2+(FirstPartDegrees2!C129+#REF!)/2 )/4,0)","v":{"$error":"#REF!"}},{"$f":"ROUNDUP(((FirstPartDegrees2!#REF!+FirstPartDegrees2!#REF!)/2+(FirstPartDegrees2!G129+D129)/2+(FirstPartDegrees2!L129+J129)/2+(FirstPartDegrees2!H129+#REF!)/2 )/4,0)","v":{"$error":"#REF!"}},{"$f":"ROUNDUP(((FirstPartDegrees2!E129+FirstPartDegrees2!I129)/2+(FirstPartDegrees2!#REF!+FirstPartDegrees2!#REF!)/2+(FirstPartDegrees2!N129+L129)/2+(P129+#REF!)/2)/4,0)","v":{"$error":"#REF!"}},{"$f":"(AD129+AC129+AB129)*40/12","v":{"$error":"#REF!"}}]
[null,"ملاحظات"]
[60,"",null,null,null,null,null,null,null,null,null,null,null,null,null,null,{"$f":"INDIRECT(ADDRESS(9+A131*3,30,,,\"Final Degree2\"))","v":""},{"$f":"IF($B131=\"\",\"\",IF((Q131*40/12-INT(Q131*40/12))>=0.75,INT(Q131*40/12)+1,IF((Q131*40/12-INT(Q131*40/12))<0.25,INT(Q131*40/12),INT(Q131*40/12)+0.5)))","v":""},null,null,{"$f":"IF(OR(S131=\"\",T131=\"\"),\"\",S131+T131)","v":""},{"$f":"IF(OR(R131=\"\",T131=\"\"),\"\",T131+R131+S131)","v":""},{"$f":"INDIRECT(ADDRESS(11+A131*2,21,1,,\"SeconedPartDegrees1\"))","v":""},{"$f":"IFERROR(IF(V131=\"\",\"\",IF(((V131+W131)/2-INT((V131+W131)/2))>=0.75,INT((V131+W131)/2)+1,IF(((V131+W131)/2-INT((V131+W131)/2))<0.25,INT((V131+W131)/2),INT((V131+W131)/2)+0.5))),\"\")","v":""},{"$f":"IF(X131=\"\",\"\",IF(AND(X131<50,T131>0),\"دور ثاني\",IF(T131=\"\",\"غياب وعليه دور ثاني\",\"ناجح\")))","v":""},null,null,{"$f":"ROUNDUP(((FirstPartDegrees2!#REF!+C131)/2+(FirstPartDegrees2!F131+H131)/2+(FirstPartDegrees2!#REF!+#REF!)/2+(FirstPartDegrees2!C131+#REF!)/2 )/4,0)","v":{"$error":"#REF!"}},{"$f":"ROUNDUP(((FirstPartDegrees2!#REF!+FirstPartDegrees2!#REF!)/2+(FirstPartDegrees2!G131+D131)/2+(FirstPartDegrees2!L131+J131)/2+(FirstPartDegrees2!H131+#REF!)/2 )/4,0)","v":{"$error":"#REF!"}},{"$f":"ROUNDUP(((FirstPartDegrees2!E131+FirstPartDegrees2!I131)/2+(FirstPartDegrees2!#REF!+FirstPartDegrees2!#REF!)/2+(FirstPartDegrees2!N131+L131)/2+(P131+#REF!)/2)/4,0)","v":{"$error":"#REF!"}},{"$f":"(AD131+AC131+AB131)*40/12","v":{"$error":"#REF!"}}]
[null,"ملاحظات"]
[61,"",null,null,null,null,null,null,null,null,null,null,null,null,null,null,{"$f":"INDIRECT(ADDRESS(9+A133*3,30,,,\"Final Degree2\"))","v":""},{"$f":"IF($B133=\"\",\"\",IF((Q133*40/12-INT(Q133*40/12))>=0.75,INT(Q133*40/12)+1,IF((Q133*40/12-INT(Q133*40/12))<0.25,INT(Q133*40/12),INT(Q133*40/12)+0.5)))","v":""},null,null,{"$f":"IF(OR(S133=\"\",T133=\"\"),\"\",S133+T133)","v":""},{"$f":"IF(OR(R133=\"\",T133=\"\"),\"\",T133+R133+S133)","v":""},{"$f":"INDIRECT(ADDRESS(11+A133*2,21,1,,\"SeconedPartDegrees1\"))","v":""},{"$f":"IFERROR(IF(V133=\"\",\"\",IF(((V133+W133)/2-INT((V133+W133)/2))>=0.75,INT((V133+W133)/2)+1,IF(((V133+W133)/2-INT((V133+W133)/2))<0.25,INT((V133+W133)/2),INT((V133+W133)/2)+0.5))),\"\")","v":""},{"$f":"IF(X133=\"\",\"\",IF(AND(X133<50,T133>0),\"دور ثاني\",IF(T133=\"\",\"غياب وعليه دور ثاني\",\"ناجح\")))","v":""},null,null,{"$f":"ROUNDUP(((FirstPartDegrees2!#REF!+C133)/2+(FirstPartDegrees2!F133+H133)/2+(FirstPartDegrees2!#REF!+#REF!)/2+(FirstPartDegrees2!C133+#REF!)/2 )/4,0)","v":{"$error":"#REF!"}},{"$f":"ROUNDUP(((FirstPartDegrees2!#REF!+FirstPartDegrees2!#REF!)/2+(FirstPartDegrees2!G133+D133)/2+(FirstPartDegrees2!L133+J133)/2+(FirstPartDegrees2!H133+#REF!)/2 )/4,0)","v":{"$error":"#REF!"}},{"$f":"ROUNDUP(((FirstPartDegrees2!E133+FirstPartDegrees2!I133)/2+(FirstPartDegrees2!#REF!+FirstPartDegrees2!#REF!)/2+(FirstPartDegrees2!N133+L133)/2+(P133+#REF!)/2)/4,0)","v":{"$error":"#REF!"}},{"$f":"(AD133+AC133+AB133)*40/12","v":{"$error":"#REF!"}}]
[null,"ملاحظات"]
[62,"",null,null,null,null,null,null,null,null,null,null,null,null,null,null,{"$f":"INDIRECT(ADDRESS(9+A135*3,30,,,\"Final Degree2\"))","v":""},{"$f":"IF($B135=\"\",\"\",IF((Q135*40/12-INT(Q135*40/12))>=0.75,INT(Q135*40/12)+1,IF((Q135*40/12-INT(Q135*40/12))<0.25,INT(Q135*40/12),INT(Q135*40/12)+0.5)))","v":""},null,null,{"$f":"IF(OR(S135=\"\",T135=\"\"),\"\",S135+T135)","v":""},{"$f":"IF(OR(R135=\"\",T135=\"\"),\"\",T135+R135+S135)","v":""},{"$f":"INDIRECT(ADDRESS(11+A135*2,21,1,,\"SeconedPartDegrees1\"))","v":""},{"$f":"IFERROR(IF(V135=\"\",\"\",IF(((V135+W135)/2-INT((V135+W135)/2))>=0.75,INT((V135+W135)/2)+1,IF(((V135+W135)/2-INT((V135+W135)/2))<0.25,INT((V135+W135)/2),INT((V135+W135)/2)+0.5))),\"\")","v":""},{"$f":"IF(X135=\"\",\"\",IF(AND(X135<50,T135>0),\"دور ثاني\",IF(T135=\"\",\"غياب وعليه دور ثاني\",\"ناجح\")))","v":""},null,null,{"$f":"ROUNDUP(((FirstPartDegrees2!#REF!+C135)/2+(FirstPartDegrees2!F135+H135)/2+(FirstPartDegrees2!#REF!+#REF!)/2+(FirstPartDegrees2!C135+#REF!)/2 )/4,0)","v":{"$error":"#REF!"}},{"$f":"ROUNDUP(((FirstPartDegrees2!#REF!+FirstPartDegrees2!#REF!)/2+(FirstPartDegrees2!G135+D135)/2+(FirstPartDegrees2!L135+J135)/2+(FirstPartDegrees2!H135+#REF!)/2 )/4,0)","v":{"$error":"#REF!"}},{"$f":"ROUNDUP(((FirstPartDegrees2!E135+FirstPartDegrees2!I135)/2+(FirstPartDegrees2!#REF!+FirstPartDegrees2!#REF!)/2+(FirstPartDegrees2!N135+L135)/2+(P135+#REF!)/2)/4,0)","v":{"$error":"#REF!"}},{"$f":"(AD135+AC135+AB135)*40/12","v":{"$error":"#REF!"}}]
[null,"ملاحظات"]
[63,"",null,null,null,null,null,null,null,null,null,null,null,null,null,null,{"$f":"INDIRECT(ADDRESS(9+A137*3,30,,,\"Final Degree2\"))","v":""},{"$f":"IF($B137=\"\",\"\",IF((Q137*40/12-INT(Q137*40/12))>=0.75,INT(Q137*40/12)+1,IF((Q137*40/12-INT(Q137*40/12))<0.25,INT(Q137*40/12),INT(Q137*40/12)+0.5)))","v":""},null,null,{"$f":"IF(OR(S137=\"\",T137=\"\"),\"\",S137+T137)","v":""},{"$f":"IF(OR(R137=\"\",T137=\"\"),\"\",T137+R137+S137)","v":""},{"$f":"INDIRECT(ADDRESS(11+A137*2,21,1,,\"SeconedPartDegrees1\"))","v":""},{"$f":"IFERROR(IF(V137=\"\",\"\",IF(((V137+W137)/2-INT((V137+W137)/2))>=0.75,INT((V137+W137)/2)+1,IF(((V137+W137)/2-INT((V137+W137)/2))<0.25,INT((V137+W137)/2),INT((V137+W137)/2)+0.5))),\"\")","v":""},{"$f":"IF(X137=\"\",\"\",IF(AND(X137<50,T137>0),\"دور ثاني\",IF(T137=\"\",\"غياب وعليه دور ثاني\",\"ناجح\")))","v":""},null,null,{"$f":"ROUNDUP(((FirstPartDegrees2!#REF!+C137)/2+(FirstPartDegrees2!F137+H137)/2+(FirstPartDegrees2!#REF!+#REF!)/2+(FirstPartDegrees2!C137+#REF!)/2 )/4,0)","v":{"$error":"#REF!"}},{"$f":"ROUNDUP(((FirstPartDegrees2!#REF!+FirstPartDegrees2!#REF!)/2+(FirstPartDegrees2!G137+D137)/2+(FirstPartDegrees2!L137+J137)/2+(FirstPartDegrees2!H137+#REF!)/2 )/4,0)","v":{"$error":"#REF!"}},{"$f":"ROUNDUP(((FirstPartDegrees2!E137+FirstPartDegrees2!I137)/2+(FirstPartDegrees2!#REF!+FirstPartDegrees2!#REF!)/2+(FirstPartDegrees2!N137+L137)/2+(P137+#REF!)/2)/4,0)","v":{"$error":"#REF!"}},{"$f":"(AD137+AC137+AB137)*40/12","v":{"$error":"#REF!"}}]
[null,"ملاحظات"]
[64,"",null,null,null,null,null,null,null,null,null,null,null,null,null,null,{"$f":"INDIRECT(ADDRESS(9+A139*3,30,,,\"Final Degree2\"))","v":""},{"$f":"IF($B139=\"\",\"\",IF((Q139*40/12-INT(Q139*40/12))>=0.75,INT(Q139*40/12)+1,IF((Q139*40/12-INT(Q139*40/12))<0.25,INT(Q139*40/12),INT(Q139*40/12)+0.5)))","v":""},null,null,{"$f":"IF(OR(S139=\"\",T139=\"\"),\"\",S139+T139)","v":""},{"$f":"IF(OR(R139=\"\",T139=\"\"),\"\",T139+R139+S139)","v":""},{"$f":"INDIRECT(ADDRESS(11+A139*2,21,1,,\"SeconedPartDegrees1\"))","v":""},{"$f":"IFERROR(IF(V139=\"\",\"\",IF(((V139+W139)/2-INT((V139+W139)/2))>=0.75,INT((V139+W139)/2)+1,IF(((V139+W139)/2-INT((V139+W139)/2))<0.25,INT((V139+W139)/2),INT((V139+W139)/2)+0.5))),\"\")","v":""},{"$f":"IF(X139=\"\",\"\",IF(AND(X139<50,T139>0),\"دور ثاني\",IF(T139=\"\",\"غياب وعليه دور ثاني\",\"ناجح\")))","v":""},null,null,{"$f":"ROUNDUP(((FirstPartDegrees2!#REF!+C139)/2+(FirstPartDegrees2!F139+H139)/2+(FirstPartDegrees2!#REF!+#REF!)/2+(FirstPartDegrees2!C139+#REF!)/2 )/4,0)","v":{"$error":"#REF!"}},{"$f":"ROUNDUP(((FirstPartDegrees2!#REF!+FirstPartDegrees2!#REF!)/2+(FirstPartDegrees2!G139+D139)/2+(FirstPartDegrees2!L139+J139)/2+(FirstPartDegrees2!H139+#REF!)/2 )/4,0)","v":{"$error":"#REF!"}},{"$f":"ROUNDUP(((FirstPartDegrees2!E139+FirstPartDegrees2!I139)/2+(FirstPartDegrees2!#REF!+FirstPartDegrees2!#REF!)/2+(FirstPartDegrees2!N139+L139)/2+(P139+#REF!)/2)/4,0)","v":{"$error":"#REF!"}},{"$f":"(AD139+AC139+AB139)*40/12","v":{"$error":"#REF!"}}]
[null,"ملاحظات"]
[65,"",null,null,null,null,null,null,null,null,null,null,null,null,null,null,{"$f":"INDIRECT(ADDRESS(9+A141*3,30,,,\"Final Degree2\"))","v":""},{"$f":"IF($B141=\"\",\"\",IF((Q141*40/12-INT(Q141*40/12))>=0.75,INT(Q141*40/12)+1,IF((Q141*40/12-INT(Q141*40/12))<0.25,INT(Q141*40/12),INT(Q141*40/12)+0.5)))","v":""},null,null,{"$f":"IF(OR(S141=\"\",T141=\"\"),\"\",S141+T141)","v":""},{"$f":"IF(OR(R141=\"\",T141=\"\"),\"\",T141+R141+S141)","v":""},{"$f":"INDIRECT(ADDRESS(11+A141*2,21,1,,\"SeconedPartDegrees1\"))","v":""},{"$f":"IFERROR(IF(V141=\"\",\"\",IF(((V141+W141)/2-INT((V141+W141)/2))>=0.75,INT((V141+W141)/2)+1,IF(((V141+W141)/2-INT((V141+W141)/2))<0.25,INT((V141+W141)/2),INT((V141+W141)/2)+0.5))),\"\")","v":""},{"$f":"IF(X141=\"\",\"\",IF(AND(X141<50,T141>0),\"دور ثاني\",IF(T141=\"\",\"غياب وعليه دور ثاني\",\"ناجح\")))","v":""},null,null,{"$f":"ROUNDUP(((FirstPartDegrees2!#REF!+C141)/2+(FirstPartDegrees2!F141+H141)/2+(FirstPartDegrees2!#REF!+#REF!)/2+(FirstPartDegrees2!C141+#REF!)/2 )/4,0)","v":{"$error":"#REF!"}},{"$f":"ROUNDUP(((FirstPartDegrees2!#REF!+FirstPartDegrees2!#REF!)/2+(FirstPartDegrees2!G141+D141)/2+(FirstPartDegrees2!L141+J141)/2+(FirstPartDegrees2!H141+#REF!)/2 )/4,0)","v":{"$error":"#REF!"}},{"$f":"ROUNDUP(((FirstPartDegrees2!E141+FirstPartDegrees2!I141)/2+(FirstPartDegrees2!#REF!+FirstPartDegrees2!#REF!)/2+(FirstPartDegrees2!N141+L141)/2+(P141+#REF!)/2)/4,0)","v":{"$error":"#REF!"}},{"$f":"(AD141+AC141+AB141)*40/12","v":{"$error":"#REF!"}}]
[null,"ملاحظات"]
[66,{"$f":"IF(INDIRECT(ADDRESS(A143,1,1,,\"اسماء المتعلمين\"))=\"\",\"\",INDIRECT(ADDRESS(A143,1,1,,\"اسماء المتعلمين\")))","v":""},null,null,null,null,null,null,null,null,null,null,null,null,null,null,{"$f":"INDIRECT(ADDRESS(9+A143*3,30,,,\"Final Degree2\"))","v":""},{"$f":"IF($B143=\"\",\"\",IF((Q143*40/12-INT(Q143*40/12))>=0.75,INT(Q143*40/12)+1,IF((Q143*40/12-INT(Q143*40/12))<0.25,INT(Q143*40/12),INT(Q143*40/12)+0.5)))","v":""},null,null,{"$f":"IF(OR(S143=\"\",T143=\"\"),\"\",S143+T143)","v":""},{"$f":"IF(OR(R143=\"\",T143=\"\"),\"\",T143+R143+S143)","v":""},{"$f":"INDIRECT(ADDRESS(11+A143*2,21,1,,\"SeconedPartDegrees1\"))","v":""},{"$f":"IFERROR(IF(V143=\"\",\"\",IF(((V143+W143)/2-INT((V143+W143)/2))>=0.75,INT((V143+W143)/2)+1,IF(((V143+W143)/2-INT((V143+W143)/2))<0.25,INT((V143+W143)/2),INT((V143+W143)/2)+0.5))),\"\")","v":""},{"$f":"IF(X143=\"\",\"\",IF(AND(X143<50,T143>0),\"دور ثاني\",IF(T143=\"\",\"غياب وعليه دور ثاني\",\"ناجح\")))","v":""},null,null,{"$f":"ROUNDUP(((FirstPartDegrees2!#REF!+C143)/2+(FirstPartDegrees2!F143+H143)/2+(FirstPartDegrees2!#REF!+#REF!)/2+(FirstPartDegrees2!C143+#REF!)/2 )/4,0)","v":{"$error":"#REF!"}},{"$f":"ROUNDUP(((FirstPartDegrees2!#REF!+FirstPartDegrees2!#REF!)/2+(FirstPartDegrees2!G143+D143)/2+(FirstPartDegrees2!L143+J143)/2+(FirstPartDegrees2!H143+#REF!)/2 )/4,0)","v":{"$error":"#REF!"}},{"$f":"ROUNDUP(((FirstPartDegrees2!E143+FirstPartDegrees2!I143)/2+(FirstPartDegrees2!#REF!+FirstPartDegrees2!#REF!)/2+(FirstPartDegrees2!N143+L143)/2+(P143+#REF!)/2)/4,0)","v":{"$error":"#REF!"}},{"$f":"(AD143+AC143+AB143)*40/12","v":{"$error":"#REF!"}}]
[null,"ملاحظات"]
[67,"",null,null,null,null,null,null,null,null,null,null,null,null,null,null,{"$f":"INDIRECT(ADDRESS(9+A145*3,30,,,\"Final Degree2\"))","v":""},{"$f":"IF($B145=\"\",\"\",IF((Q145*40/12-INT(Q145*40/12))>=0.75,INT(Q145*40/12)+1,IF((Q145*40/12-INT(Q145*40/12))<0.25,INT(Q145*40/12),INT(Q145*40/12)+0.5)))","v":""},null,null,{"$f":"IF(OR(S145=\"\",T145=\"\"),\"\",S145+T145)","v":""},{"$f":"IF(OR(R145=\"\",T145=\"\"),\"\",T145+R145+S145)","v":""},{"$f":"INDIRECT(ADDRESS(11+A145*2,21,1,,\"SeconedPartDegrees1\"))","v":""},{"$f":"IFERROR(IF(V145=\"\",\"\",IF(((V145+W145)/2-INT((V145+W145)/2))>=0.75,INT((V145+W145)/2)+1,IF(((V145+W145)/2-INT((V145+W145)/2))<0.25,INT((V145+W145)/2),INT((V145+W145)/2)+0.5))),\"\")","v":""},{"$f":"IF(X145=\"\",\"\",IF(AND(X145<50,T145>0),\"دور ثاني\",IF(T145=\"\",\"غياب وعليه دور ثاني\",\"ناجح\")))","v":""},null,null,{"$f":"ROUNDUP(((FirstPartDegrees2!#REF!+C145)/2+(FirstPartDegrees2!F145+H145)/2+(FirstPartDegrees2!#REF!+#REF!)/2+(FirstPartDegrees2!C145+#REF!)/2 )/4,0)","v":{"$error":"#REF!"}},{"$f":"ROUNDUP(((FirstPartDegrees2!#REF!+FirstPartDegrees2!#REF!)/2+(FirstPartDegrees2!G145+D145)/2+(FirstPartDegrees2!L145+J145)/2+(FirstPartDegrees2!H145+#REF!)/2 )/4,0)","v":{"$error":"#REF!"}},{"$f":"ROUNDUP(((FirstPartDegrees2!E145+FirstPartDegrees2!I145)/2+(FirstPartDegrees2!#REF!+FirstPartDegrees2!#REF!)/2+(FirstPartDegrees2!N145+L145)/2+(P145+#REF!)/2)/4,0)","v":{"$error":"#REF!"}},{"$f":"(AD145+AC145+AB145)*40/12","v":{"$error":"#REF!"}}]
[null,"ملاحظات"]
[68,"",null,null,null,null,null,null,null,null,null,null,null,null,null,null,{"$f":"INDIRECT(ADDRESS(9+A147*3,30,,,\"Final Degree2\"))","v":""},{"$f":"IF($B147=\"\",\"\",IF((Q147*40/12-INT(Q147*40/12))>=0.75,INT(Q147*40/12)+1,IF((Q147*40/12-INT(Q147*40/12))<0.25,INT(Q147*40/12),INT(Q147*40/12)+0.5)))","v":""},null,null,{"$f":"IF(OR(S147=\"\",T147=\"\"),\"\",S147+T147)","v":""},{"$f":"IF(OR(R147=\"\",T147=\"\"),\"\",T147+R147+S147)","v":""},{"$f":"INDIRECT(ADDRESS(11+A147*2,21,1,,\"SeconedPartDegrees1\"))","v":""},{"$f":"IFERROR(IF(V147=\"\",\"\",IF(((V147+W147)/2-INT((V147+W147)/2))>=0.75,INT((V147+W147)/2)+1,IF(((V147+W147)/2-INT((V147+W147)/2))<0.25,INT((V147+W147)/2),INT((V147+W147)/2)+0.5))),\"\")","v":""},{"$f":"IF(X147=\"\",\"\",IF(AND(X147<50,T147>0),\"دور ثاني\",IF(T147=\"\",\"غياب وعليه دور ثاني\",\"ناجح\")))","v":""},null,null,{"$f":"ROUNDUP(((FirstPartDegrees2!#REF!+C147)/2+(FirstPartDegrees2!F147+H147)/2+(FirstPartDegrees2!#REF!+#REF!)/2+(FirstPartDegrees2!C147+#REF!)/2 )/4,0)","v":{"$error":"#REF!"}},{"$f":"ROUNDUP(((FirstPartDegrees2!#REF!+FirstPartDegrees2!#REF!)/2+(FirstPartDegrees2!G147+D147)/2+(FirstPartDegrees2!L147+J147)/2+(FirstPartDegrees2!H147+#REF!)/2 )/4,0)","v":{"$error":"#REF!"}},{"$f":"ROUNDUP(((FirstPartDegrees2!E147+FirstPartDegrees2!I147)/2+(FirstPartDegrees2!#REF!+FirstPartDegrees2!#REF!)/2+(FirstPartDegrees2!N147+L147)/2+(P147+#REF!)/2)/4,0)","v":{"$error":"#REF!"}},{"$f":"(AD147+AC147+AB147)*40/12","v":{"$error":"#REF!"}}]
[null,"ملاحظات"]
[69,"",null,null,null,null,null,null,null,null,null,null,null,null,null,null,{"$f":"INDIRECT(ADDRESS(9+A149*3,30,,,\"Final Degree2\"))","v":""},{"$f":"IF($B149=\"\",\"\",IF((Q149*40/12-INT(Q149*40/12))>=0.75,INT(Q149*40/12)+1,IF((Q149*40/12-INT(Q149*40/12))<0.25,INT(Q149*40/12),INT(Q149*40/12)+0.5)))","v":""},null,null,{"$f":"IF(OR(S149=\"\",T149=\"\"),\"\",S149+T149)","v":""},{"$f":"IF(OR(R149=\"\",T149=\"\"),\"\",T149+R149+S149)","v":""},{"$f":"INDIRECT(ADDRESS(11+A149*2,21,1,,\"SeconedPartDegrees1\"))","v":""},{"$f":"IFERROR(IF(V149=\"\",\"\",IF(((V149+W149)/2-INT((V149+W149)/2))>=0.75,INT((V149+W149)/2)+1,IF(((V149+W149)/2-INT((V149+W149)/2))<0.25,INT((V149+W149)/2),INT((V149+W149)/2)+0.5))),\"\")","v":""},{"$f":"IF(X149=\"\",\"\",IF(AND(X149<50,T149>0),\"دور ثاني\",IF(T149=\"\",\"غياب وعليه دور ثاني\",\"ناجح\")))","v":""},null,null,{"$f":"ROUNDUP(((FirstPartDegrees2!#REF!+C149)/2+(FirstPartDegrees2!F149+H149)/2+(FirstPartDegrees2!#REF!+#REF!)/2+(FirstPartDegrees2!C149+#REF!)/2 )/4,0)","v":{"$error":"#REF!"}},{"$f":"ROUNDUP(((FirstPartDegrees2!#REF!+FirstPartDegrees2!#REF!)/2+(FirstPartDegrees2!G149+D149)/2+(FirstPartDegrees2!L149+J149)/2+(FirstPartDegrees2!H149+#REF!)/2 )/4,0)","v":{"$error":"#REF!"}},{"$f":"ROUNDUP(((FirstPartDegrees2!E149+FirstPartDegrees2!I149)/2+(FirstPartDegrees2!#REF!+FirstPartDegrees2!#REF!)/2+(FirstPartDegrees2!N149+L149)/2+(P149+#REF!)/2)/4,0)","v":{"$error":"#REF!"}},{"$f":"(AD149+AC149+AB149)*40/12","v":{"$error":"#REF!"}}]
[null,"ملاحظات"]
[70,"",null,null,null,null,null,null,null,null,null,null,null,null,null,null,{"$f":"INDIRECT(ADDRESS(9+A151*3,30,,,\"Final Degree2\"))","v":""},{"$f":"IF($B151=\"\",\"\",IF((Q151*40/12-INT(Q151*40/12))>=0.75,INT(Q151*40/12)+1,IF((Q151*40/12-INT(Q151*40/12))<0.25,INT(Q151*40/12),INT(Q151*40/12)+0.5)))","v":""},null,null,{"$f":"IF(OR(S151=\"\",T151=\"\"),\"\",S151+T151)","v":""},{"$f":"IF(OR(R151=\"\",T151=\"\"),\"\",T151+R151+S151)","v":""},{"$f":"INDIRECT(ADDRESS(11+A151*2,21,1,,\"SeconedPartDegrees1\"))","v":""},{"$f":"IFERROR(IF(V151=\"\",\"\",IF(((V151+W151)/2-INT((V151+W151)/2))>=0.75,INT((V151+W151)/2)+1,IF(((V151+W151)/2-INT((V151+W151)/2))<0.25,INT((V151+W151)/2),INT((V151+W151)/2)+0.5))),\"\")","v":""},{"$f":"IF(X151=\"\",\"\",IF(AND(X151<50,T151>0),\"دور ثاني\",IF(T151=\"\",\"غياب وعليه دور ثاني\",\"ناجح\")))","v":""},null,null,{"$f":"ROUNDUP(((FirstPartDegrees2!#REF!+C151)/2+(FirstPartDegrees2!F151+H151)/2+(FirstPartDegrees2!#REF!+#REF!)/2+(FirstPartDegrees2!C151+#REF!)/2 )/4,0)","v":{"$error":"#REF!"}},{"$f":"ROUNDUP(((FirstPartDegrees2!#REF!+FirstPartDegrees2!#REF!)/2+(FirstPartDegrees2!G151+D151)/2+(FirstPartDegrees2!L151+J151)/2+(FirstPartDegrees2!H151+#REF!)/2 )/4,0)","v":{"$error":"#REF!"}},{"$f":"ROUNDUP(((FirstPartDegrees2!E151+FirstPartDegrees2!I151)/2+(FirstPartDegrees2!#REF!+FirstPartDegrees2!#REF!)/2+(FirstPartDegrees2!N151+L151)/2+(P151+#REF!)/2)/4,0)","v":{"$error":"#REF!"}},{"$f":"(AD151+AC151+AB151)*40/12","v":{"$error":"#REF!"}}]
[null,"ملاحظات"]

{"sheet":"كشف الدرجات المختصر2","index":9,"n_rows":75,"n_cols":6,"rows_kept":75,"cut":false,"hidden":false,"merged":[[5,16361,5,16362],[5,16363,5,16364],[3,4,3,5],[6,2,6,5],[5,16349,5,16350],[5,16351,5,16352],[5,16353,5,16354],[5,16355,5,16356],[5,16357,5,16358],[5,16359,5,16360],[5,16337,5,16338],[5,16339,5,16340],[5,16341,5,16342],[5,16343,5,16344],[5,16345,5,16346],[5,16347,5,16348],[5,16325,5,16326],[5,16327,5,16328],[5,16329,5,16330],[5,16331,5,16332],[5,16333,5,16334],[5,16335,5,16336],[5,16313,5,16314],[5,16315,5,16316],[5,16317,5,16318],[5,16319,5,16320],[5,16321,5,16322],[5,16323,5,16324],[5,16301,5,16302],[5,16303,5,16304],[5,16305,5,16306],[5,16307,5,16308],[5,16309,5,16310],[5,16311,5,16312],[5,16289,5,16290],[5,16291,5,16292],[5,16293,5,16294],[5,16295,5,16296],[5,16297,5,16298],[5,16299,5,16300],[5,16277,5,16278],[5,16279,5,16280],[5,16281,5,16282],[5,16283,5,16284],[5,16285,5,16286],[5,16287,5,16288],[5,16265,5,16266],[5,16267,5,16268],[5,16269,5,16270],[5,16271,5,16272],[5,16273,5,16274],[5,16275,5,16276],[5,16253,5,16254],[5,16255,5,16256],[5,16257,5,16258],[5,16259,5,16260],[5,16261,5,16262],[5,16263,5,16264],[5,16241,5,16242],[5,16243,5,16244],[5,16245,5,16246],[5,16247,5,16248],[5,16249,5,16250],[5,16251,5,16252],[5,16229,5,16230],[5,16231,5,16232],[5,16233,5,16234],[5,16235,5,16236],[5,16237,5,16238],[5,16239,5,16240],[5,16217,5,16218],[5,16219,5,16220],[5,16221,5,16222],[5,16223,5,16224],[5,16225,5,16226],[5,16227,5,16228],[5,16205,5,16206],[5,16207,5,16208],[5,16209,5,16210],[5,16211,5,16212],[5,16213,5,16214],[5,16215,5,16216],[5,16193,5,16194],[5,16195,5,16196],[5,16197,5,16198],[5,16199,5,16200],[5,16201,5,16202],[5,16203,5,16204],[5,16181,5,16182],[5,16183,5,16184],[5,16185,5,16186],[5,16187,5,16188],[5,16189,5,16190],[5,16191,5,16192],[5,16169,5,16170],[5,16171,5,16172],[5,16173,5,16174],[5,16175,5,16176],[5,16177,5,16178],[5,16179,5,16180],[5,16157,5,16158],[5,16159,5,16160],[5,16161,5,16162],[5,16163,5,16164],[5,16165,5,16166],[5,16167,5,16168],[5,16145,5,16146],[5,16147,5,16148],[5,16149,5,16150],[5,16151,5,16152],[5,16153,5,16154],[5,16155,5,16156],[5,16133,5,16134],[5,16135,5,16136],[5,16137,5,16138],[5,16139,5,16140],[5,16141,5,16142],[5,16143,5,16144],[5,16121,5,16122],[5,16123,5,16124],[5,16125,5,16126],[5,16127,5,16128],[5,16129,5,16130],[5,16131,5,16132],[5,16109,5,16110],[5,16111,5,16112],[5,16113,5,16114],[5,16115,5,16116],[5,16117,5,16118],[5,16119,5,16120],[5,16097,5,16098],[5,16099,5,16100],[5,16101,5,16102],[5,16103,5,16104],[5,16105,5,16106],[5,16107,5,16108],[5,16085,5,16086],[5,16087,5,16088],[5,16089,5,16090],[5,16091,5,16092],[5,16093,5,16094],[5,16095,5,16096],[5,16073,5,16074],[5,16075,5,16076],[5,16077,5,16078],[5,16079,5,16080],[5,16081,5,16082],[5,16083,5,16084],[5,16061,5,16062],[5,16063,5,16064],[5,16065,5,16066],[5,16067,5,16068],[5,16069,5,16070],[5,16071,5,16072],[5,16049,5,16050],[5,16051,5,16052],[5,16053,5,16054],[5,16055,5,16056],[5,16057,5,16058],[5,16059,5,16060],[5,16037,5,16038],[5,16039,5,16040],[5,16041,5,16042],[5,16043,5,16044],[5,16045,5,16046],[5,16047,5,16048],[5,16025,5,16026],[5,16027,5,16028],[5,16029,5,16030],[5,16031,5,16032],[5,16033,5,16034],[5,16035,5,16036],[5,16013,5,16014],[5,16015,5,16016],[5,16017,5,16018],[5,16019,5,16020],[5,16021,5,16022],[5,16023,5,16024],[5,16001,5,16002],[5,16003,5,16004],[5,16005,5,16006],[5,16007,5,16008],[5,16009,5,16010],[5,16011,5,16012],[5,15989,5,15990],[5,15991,5,15992],[5,15993,5,15994],[5,15995,5,15996],[5,15997,5,15998],[5,15999,5,16000],[5,15977,5,15978],[5,15979,5,15980],[5,15981,5,15982],[5,15983,5,15984],[5,15985,5,15986],[5,15987,5,15988],[5,15965,5,15966],[5,15967,5,15968],[5,15969,5,15970],[5,15971,5,15972],[5,15973,5,15974],[5,15975,5,15976],[5,15953,5,15954],[5,15955,5,15956],[5,15957,5,15958],[5,15959,5,15960],[5,15961,5,15962],[5,15963,5,15964],[5,15941,5,15942],[5,15943,5,15944],[5,15945,5,15946],[5,15947,5,15948],[5,15949,5,15950],[5,15951,5,15952],[5,15929,5,15930],[5,15931,5,15932],[5,15933,5,15934],[5,15935,5,15936],[5,15937,5,15938],[5,15939,5,15940],[5,15917,5,15918],[5,15919,5,15920],[5,15921,5,15922],[5,15923,5,15924],[5,15925,5,15926],[5,15927,5,15928],[5,15905,5,15906],[5,15907,5,15908],[5,15909,5,15910],[5,15911,5,15912],[5,15913,5,15914],[5,15915,5,15916],[5,15893,5,15894],[5,15895,5,15896],[5,15897,5,15898],[5,15899,5,15900],[5,15901,5,15902],[5,15903,5,15904],[5,15881,5,15882],[5,15883,5,15884],[5,15885,5,15886],[5,15887,5,15888],[5,15889,5,15890],[5,15891,5,15892],[5,15869,5,15870],[5,15871,5,15872],[5,15873,5,15874],[5,15875,5,15876],[5,15877,5,15878],[5,15879,5,15880],[5,15857,5,15858],[5,15859,5,15860],[5,15861,5,15862],[5,15863,5,15864],[5,15865,5,15866],[5,15867,5,15868],[5,15845,5,15846],[5,15847,5,15848],[5,15849,5,15850],[5,15851,5,15852],[5,15853,5,15854],[5,15855,5,15856],[5,15833,5,15834],[5,15835,5,15836],[5,15837,5,15838],[5,15839,5,15840],[5,15841,5,15842],[5,15843,5,15844],[5,15821,5,15822],[5,15823,5,15824],[5,15825,5,15826],[5,15827,5,15828],[5,15829,5,15830],[5,15831,5,15832],[5,15809,5,15810],[5,15811,5,15812],[5,15813,5,15814],[5,15815,5,15816],[5,15817,5,15818],[5,15819,5,15820],[5,15797,5,15798],[5,15799,5,15800],[5,15801,5,15802],[5,15803,5,15804],[5,15805,5,15806],[5,15807,5,15808],[5,15785,5,15786],[5,15787,5,15788],[5,15789,5,15790],[5,15791,5,15792],[5,15793,5,15794],[5,15795,5,15796],[5,15773,5,15774],[5,15775,5,15776],[5,15777,5,15778],[5,15779,5,15780],[5,15781,5,15782],[5,15783,5,15784],[5,15761,5,15762],[5,15763,5,15764],[5,15765,5,15766],[5,15767,5,15768],[5,15769,5,15770],[5,15771,5,15772],[5,15749,5,15750],[5,15751,5,15752],[5,15753,5,15754],[5,15755,5,15756],[5,15757,5,15758],[5,15759,5,15760],[5,15737,5,15738],[5,15739,5,15740],[5,15741,5,15742],[5,15743,5,15744],[5,15745,5,15746],[5,15747,5,15748],[5,15725,5,15726],[5,15727,5,15728],[5,15729,5,15730],[5,15731,5,15732],[5,15733,5,15734],[5,15735,5,15736],[5,15713,5,15714],[5,15715,5,15716],[5,15717,5,15718],[5,15719,5,15720],[5,15721,5,15722],[5,15723,5,15724],[5,15701,5,15702],[5,15703,5,15704],[5,15705,5,15706],[5,15707,5,15708],[5,15709,5,15710],[5,15711,5,15712],[5,15689,5,15690],[5,15691,5,15692],[5,15693,5,15694],[5,15695,5,15696],[5,15697,5,15698],[5,15699,5,15700],[5,15677,5,15678],[5,15679,5,15680],[5,15681,5,15682],[5,15683,5,15684],[5,15685,5,15686],[5,15687,5,15688],[5,15665,5,15666],[5,15667,5,15668],[5,15669,5,15670],[5,15671,5,15672],[5,15673,5,15674],[5,15675,5,15676],[5,15653,5,15654],[5,15655,5,15656],[5,15657,5,15658],[5,15659,5,15660],[5,15661,5,15662],[5,15663,5,15664],[5,15641,5,15642],[5,15643,5,15644],[5,15645,5,15646],[5,15647,5,15648],[5,15649,5,15650],[5,15651,5,15652],[5,15629,5,15630],[5,15631,5,15632],[5,15633,5,15634],[5,15635,5,15636],[5,15637,5,15638],[5,15639,5,15640],[5,15617,5,15618],[5,15619,5,15620],[5,15621,5,15622],[5,15623,5,15624],[5,15625,5,15626],[5,15627,5,15628],[5,15605,5,15606],[5,15607,5,15608],[5,15609,5,15610],[5,15611,5,15612],[5,15613,5,15614],[5,15615,5,15616],[5,15593,5,15594],[5,15595,5,15596],[5,15597,5,15598],[5,15599,5,15600],[5,15601,5,15602],[5,15603,5,15604],[5,15581,5,15582],[5,15583,5,15584],[5,15585,5,15586],[5,15587,5,15588],[5,15589,5,15590],[5,15591,5,15592],[5,15569,5,15570],[5,15571,5,15572],[5,15573,5,15574],[5,15575,5,15576],[5,15577,5,15578],[5,15579,5,15580],[5,15557,5,15558],[5,15559,5,15560],[5,15561,5,15562],[5,15563,5,15564],[5,15565,5,15566],[5,15567,5,15568],[5,15545,5,15546],[5,15547,5,15548],[5,15549,5,15550],[5,15551,5,15552],[5,15553,5,15554],[5,15555,5,15556],[5,15533,5,15534],[5,15535,5,15536],[5,15537,5,15538],[5,15539,5,15540],[5,15541,5,15542],[5,15543,5,15544],[5,15521,5,15522],[5,15523,5,15524],[5,15525,5,15526],[5,15527,5,15528],[5,15529,5,15530],[5,15531,5,15532],[5,15509,5,15510],[5,15511,5,15512],[5,15513,5,15514],[5,15515,5,15516],[5,15517,5,15518],[5,15519,5,15520],[5,15497,5,15498],[5,15499,5,15500],[5,15501,5,15502],[5,15503,5,15504],[5,15505,5,15506],[5,15507,5,15508],[5,15485,5,15486],[5,15487,5,15488],[5,15489,5,15490],[5,15491,5,15492],[5,15493,5,15494],[5,15495,5,15496],[5,15473,5,15474],[5,15475,5,15476],[5,15477,5,15478],[5,15479,5,15480],[5,15481,5,15482],[5,15483,5,15484],[5,15461,5,15462],[5,15463,5,15464],[5,15465,5,15466],[5,15467,5,15468],[5,15469,5,15470],[5,15471,5,15472],[5,15449,5,15450],[5,15451,5,15452],[5,15453,5,15454],[5,15455,5,15456],[5,15457,5,15458],[5,15459,5,15460],[5,15437,5,15438],[5,15439,5,15440],[5,15441,5,15442],[5,15443,5,15444],[5,15445,5,15446],[5,15447,5,15448],[5,15425,5,15426],[5,15427,5,15428],[5,15429,5,15430],[5,15431,5,15432],[5,15433,5,15434],[5,15435,5,15436],[5,15413,5,15414],[5,15415,5,15416],[5,15417,5,15418],[5,15419,5,15420],[5,15421,5,15422],[5,15423,5,15424],[5,15401,5,15402],[5,15403,5,15404],[5,15405,5,15406],[5,15407,5,15408],[5,15409,5,15410],[5,15411,5,15412],[5,15389,5,15390],[5,15391,5,15392],[5,15393,5,15394],[5,15395,5,15396],[5,15397,5,15398],[5,15399,5,15400],[5,15377,5,15378],[5,15379,5,15380],[5,15381,5,15382],[5,15383,5,15384],[5,15385,5,15386],[5,15387,5,15388],[5,15365,5,15366],[5,15367,5,15368],[5,15369,5,15370],[5,15371,5,15372],[5,15373,5,15374],[5,15375,5,15376],[5,15353,5,15354],[5,15355,5,15356],[5,15357,5,15358],[5,15359,5,15360],[5,15361,5,15362],[5,15363,5,15364],[5,15341,5,15342],[5,15343,5,15344],[5,15345,5,15346],[5,15347,5,15348],[5,15349,5,15350],[5,15351,5,15352],[5,15329,5,15330],[5,15331,5,15332],[5,15333,5,15334],[5,15335,5,15336],[5,15337,5,15338],[5,15339,5,15340],[5,15317,5,15318],[5,15319,5,15320],[5,15321,5,15322],[5,15323,5,15324],[5,15325,5,15326],[5,15327,5,15328],[5,15305,5,15306],[5,15307,5,15308],[5,15309,5,15310],[5,15311,5,15312],[5,15313,5,15314],[5,15315,5,15316],[5,15293,5,15294],[5,15295,5,15296],[5,15297,5,15298],[5,15299,5,15300],[5,15301,5,15302],[5,15303,5,15304],[5,15281,5,15282],[5,15283,5,15284],[5,15285,5,15286],[5,15287,5,15288],[5,15289,5,15290],[5,15291,5,15292],[5,15269,5,15270],[5,15271,5,15272],[5,15273,5,15274],[5,15275,5,15276],[5,15277,5,15278],[5,15279,5,15280],[5,15257,5,15258],[5,15259,5,15260],[5,15261,5,15262],[5,15263,5,15264],[5,15265,5,15266],[5,15267,5,15268],[5,15245,5,15246],[5,15247,5,15248],[5,15249,5,15250],[5,15251,5,15252],[5,15253,5,15254],[5,15255,5,15256],[5,15233,5,15234],[5,15235,5,15236],[5,15237,5,15238],[5,15239,5,15240],[5,15241,5,15242],[5,15243,5,15244],[5,15221,5,15222],[5,15223,5,15224],[5,15225,5,15226],[5,15227,5,15228],[5,15229,5,15230],[5,15231,5,15232],[5,15209,5,15210],[5,15211,5,15212],[5,15213,5,15214],[5,15215,5,15216],[5,15217,5,15218],[5,15219,5,15220],[5,15197,5,15198],[5,15199,5,15200],[5,15201,5,15202],[5,15203,5,15204],[5,15205,5,15206],[5,15207,5,15208],[5,15185,5,15186],[5,15187,5,15188],[5,15189,5,15190],[5,15191,5,15192],[5,15193,5,15194],[5,15195,5,15196],[5,15173,5,15174],[5,15175,5,15176],[5,15177,5,15178],[5,15179,5,15180],[5,15181,5,15182],[5,15183,5,15184],[5,15161,5,15162],[5,15163,5,15164],[5,15165,5,15166],[5,15167,5,15168],[5,15169,5,15170],[5,15171,5,15172],[5,15149,5,15150],[5,15151,5,15152],[5,15153,5,15154],[5,15155,5,15156],[5,15157,5,15158],[5,15159,5,15160],[5,15137,5,15138],[5,15139,5,15140],[5,15141,5,15142],[5,15143,5,15144],[5,15145,5,15146],[5,15147,5,15148],[5,15125,5,15126],[5,15127,5,15128],[5,15129,5,15130],[5,15131,5,15132],[5,15133,5,15134],[5,15135,5,15136],[5,15113,5,15114],[5,15115,5,15116],[5,15117,5,15118],[5,15119,5,15120],[5,15121,5,15122],[5,15123,5,15124],[5,15101,5,15102],[5,15103,5,15104],[5,15105,5,15106],[5,15107,5,15108],[5,15109,5,15110],[5,15111,5,15112],[5,15089,5,15090],[5,15091,5,15092],[5,15093,5,15094],[5,15095,5,15096],[5,15097,5,15098],[5,15099,5,15100],[5,15077,5,15078],[5,15079,5,15080],[5,15081,5,15082],[5,15083,5,15084],[5,15085,5,15086],[5,15087,5,15088],[5,15065,5,15066],[5,15067,5,15068],[5,15069,5,15070],[5,15071,5,15072],[5,15073,5,15074],[5,15075,5,15076],[5,15053,5,15054],[5,15055,5,15056],[5,15057,5,15058],[5,15059,5,15060],[5,15061,5,15062],[5,15063,5,15064],[5,15041,5,15042],[5,15043,5,15044],[5,15045,5,15046],[5,15047,5,15048],[5,15049,5,15050],[5,15051,5,15052],[5,15029,5,15030],[5,15031,5,15032],[5,15033,5,15034],[5,15035,5,15036],[5,15037,5,15038],[5,15039,5,15040],[5,15017,5,15018],[5,15019,5,15020],[5,15021,5,15022],[5,15023,5,15024],[5,15025,5,15026],[5,15027,5,15028],[5,15005,5,15006],[5,15007,5,15008],[5,15009,5,15010],[5,15011,5,15012],[5,15013,5,15014],[5,15015,5,15016],[5,14993,5,14994],[5,14995,5,14996],[5,14997,5,14998],[5,14999,5,15000],[5,15001,5,15002],[5,15003,5,15004],[5,14981,5,14982],[5,14983,5,14984],[5,14985,5,14986],[5,14987,5,14988],[5,14989,5,14990],[5,14991,5,14992],[5,14969,5,14970],[5,14971,5,14972],[5,14973,5,14974],[5,14975,5,14976],[5,14977,5,14978],[5,14979,5,14980],[5,14957,5,14958],[5,14959,5,14960],[5,14961,5,14962],[5,14963,5,14964],[5,14965,5,14966],[5,14967,5,14968],[5,14945,5,14946],[5,14947,5,14948],[5,14949,5,14950],[5,14951,5,14952],[5,14953,5,14954],[5,14955,5,14956],[5,14933,5,14934],[5,14935,5,14936],[5,14937,5,14938],[5,14939,5,14940],[5,14941,5,14942],[5,14943,5,14944],[5,14921,5,14922],[5,14923,5,14924],[5,14925,5,14926],[5,14927,5,14928],[5,14929,5,14930],[5,14931,5,14932],[5,14909,5,14910],[5,14911,5,14912],[5,14913,5,14914],[5,14915,5,14916],[5,14917,5,14918],[5,14919,5,14920],[5,14897,5,14898],[5,14899,5,14900],[5,14901,5,14902],[5,14903,5,14904],[5,14905,5,14906],[5,14907,5,14908],[5,14885,5,14886],[5,14887,5,14888],[5,14889,5,14890],[5,14891,5,14892],[5,14893,5,14894],[5,14895,5,14896],[5,14873,5,14874],[5,14875,5,14876],[5,14877,5,14878],[5,14879,5,14880],[5,14881,5,14882],[5,14883,5,14884],[5,14861,5,14862],[5,14863,5,14864],[5,14865,5,14866],[5,14867,5,14868],[5,14869,5,14870],[5,14871,5,14872],[5,14849,5,14850],[5,14851,5,14852],[5,14853,5,14854],[5,14855,5,14856],[5,14857,5,14858],[5,14859,5,14860],[5,14837,5,14838],[5,14839,5,14840],[5,14841,5,14842],[5,14843,5,14844],[5,14845,5,14846],[5,14847,5,14848],[5,14825,5,14826],[5,14827,5,14828],[5,14829,5,14830],[5,14831,5,14832],[5,14833,5,14834],[5,14835,5,14836],[5,14813,5,14814],[5,14815,5,14816],[5,14817,5,14818],[5,14819,5,14820],[5,14821,5,14822],[5,14823,5,14824],[5,14801,5,14802],[5,14803,5,14804],[5,14805,5,14806],[5,14807,5,14808],[5,14809,5,14810],[5,14811,5,14812],[5,14789,5,14790],[5,14791,5,14792],[5,14793,5,14794],[5,14795,5,14796],[5,14797,5,14798],[5,14799,5,14800],[5,14777,5,14778],[5,14779,5,14780],[5,14781,5,14782],[5,14783,5,14784],[5,14785,5,14786],[5,14787,5,14788],[5,14765,5,14766],[5,14767,5,14768],[5,14769,5,14770],[5,14771,5,14772],[5,14773,5,14774],[5,14775,5,14776],[5,14753,5,14754],[5,14755,5,14756],[5,14757,5,14758],[5,14759,5,14760],[5,14761,5,14762],[5,14763,5,14764],[5,14741,5,14742],[5,14743,5,14744],[5,14745,5,14746],[5,14747,5,14748],[5,14749,5,14750],[5,14751,5,14752],[5,14729,5,14730],[5,14731,5,14732],[5,14733,5,14734],[5,14735,5,14736],[5,14737,5,14738],[5,14739,5,14740],[5,14717,5,14718],[5,14719,5,14720],[5,14721,5,14722],[5,14723,5,14724],[5,14725,5,14726],[5,14727,5,14728],[5,14705,5,14706],[5,14707,5,14708],[5,14709,5,14710],[5,14711,5,14712],[5,14713,5,14714],[5,14715,5,14716],[5,14693,5,14694],[5,14695,5,14696],[5,14697,5,14698],[5,14699,5,14700],[5,14701,5,14702],[5,14703,5,14704],[5,14681,5,14682],[5,14683,5,14684],[5,14685,5,14686],[5,14687,5,14688],[5,14689,5,14690],[5,14691,5,14692],[5,14669,5,14670],[5,14671,5,14672],[5,14673,5,14674],[5,14675,5,14676],[5,14677,5,14678],[5,14679,5,14680],[5,14657,5,14658],[5,14659,5,14660],[5,14661,5,14662],[5,14663,5,14664],[5,14665,5,14666],[5,14667,5,14668],[5,14645,5,14646],[5,14647,5,14648],[5,14649,5,14650],[5,14651,5,14652],[5,14653,5,14654],[5,14655,5,14656],[5,14633,5,14634],[5,14635,5,14636],[5,14637,5,14638],[5,14639,5,14640],[5,14641,5,14642],[5,14643,5,14644],[5,14621,5,14622],[5,14623,5,14624],[5,14625,5,14626],[5,14627,5,14628],[5,14629,5,14630],[5,14631,5,14632],[5,14609,5,14610],[5,14611,5,14612],[5,14613,5,14614],[5,14615,5,14616],[5,14617,5,14618],[5,14619,5,14620],[5,14597,5,14598],[5,14599,5,14600],[5,14601,5,14602],[5,14603,5,14604],[5,14605,5,14606],[5,14607,5,14608],[5,14585,5,14586],[5,14587,5,14588],[5,14589,5,14590],[5,14591,5,14592],[5,14593,5,14594],[5,14595,5,14596],[5,14573,5,14574],[5,14575,5,14576],[5,14577,5,14578],[5,14579,5,14580],[5,14581,5,14582],[5,14583,5,14584],[5,14561,5,14562],[5,14563,5,14564],[5,14565,5,14566],[5,14567,5,14568],[5,14569,5,14570],[5,14571,5,14572],[5,14549,5,14550],[5,14551,5,14552],[5,14553,5,14554],[5,14555,5,14556],[5,14557,5,14558],[5,14559,5,14560],[5,14537,5,14538],[5,14539,5,14540],[5,14541,5,14542],[5,14543,5,14544],[5,14545,5,14546],[5,14547,5,14548],[5,14525,5,14526],[5,14527,5,14528],[5,14529,5,14530],[5,14531,5,14532],[5,14533,5,14534],[5,14535,5,14536],[5,14513,5,14514],[5,14515,5,14516],[5,14517,5,14518],[5,14519,5,14520],[5,14521,5,14522],[5,14523,5,14524],[5,14501,5,14502],[5,14503,5,14504],[5,14505,5,14506],[5,14507,5,14508],[5,14509,5,14510],[5,14511,5,14512],[5,14489,5,14490],[5,14491,5,14492],[5,14493,5,14494],[5,14495,5,14496],[5,14497,5,14498],[5,14499,5,14500],[5,14477,5,14478],[5,14479,5,14480],[5,14481,5,14482],[5,14483,5,14484],[5,14485,5,14486],[5,14487,5,14488],[5,14465,5,14466],[5,14467,5,14468],[5,14469,5,14470],[5,14471,5,14472],[5,14473,5,14474],[5,14475,5,14476],[5,14453,5,14454],[5,14455,5,14456],[5,14457,5,14458],[5,14459,5,14460],[5,14461,5,14462],[5,14463,5,14464],[5,14441,5,14442],[5,14443,5,14444],[5,14445,5,14446],[5,14447,5,14448],[5,14449,5,14450],[5,14451,5,14452],[5,14429,5,14430],[5,14431,5,14432],[5,14433,5,14434],[5,14435,5,14436],[5,14437,5,14438],[5,14439,5,14440],[5,14417,5,14418],[5,14419,5,14420],[5,14421,5,14422],[5,14423,5,14424],[5,14425,5,14426],[5,14427,5,14428],[5,14405,5,14406],[5,14407,5,14408],[5,14409,5,14410],[5,14411,5,14412],[5,14413,5,14414],[5,14415,5,14416],[5,14393,5,14394],[5,14395,5,14396],[5,14397,5,14398],[5,14399,5,14400],[5,14401,5,14402],[5,14403,5,14404],[5,14381,5,14382],[5,14383,5,14384],[5,14385,5,14386],[5,14387,5,14388],[5,14389,5,14390],[5,14391,5,14392],[5,14369,5,14370],[5,14371,5,14372],[5,14373,5,14374],[5,14375,5,14376],[5,14377,5,14378],[5,14379,5,14380]],"merged_total":8186,"flags":["merged_cut"]}
[]
[]
[null,"وزارة     التربية",null,null,"العام الدراسي:",{"$f":"الرئيسية!H11","v":"2018-2017"}]
[null,{"$f":"الرئيسية!H12","v":"منطقة حولي التعليمية"},null,null,{"$f":"FirstPartDegrees2!M7","v":"الفصل الدراسي الثاني"}]
[null,{"$f":"\"مدرسة \"& الرئيسية!H13","v":"مدرسة "}]
[null,"قسم الحاسوب "]
[null,null,"كشـــف درجات نهاية الفصل الدراسي الثاني "]
[null,null,"الصف : ",{"$f":"الرئيسية!H15","v":"7-1"}]
[]
[null,"م","اسم المتعلم / المتعلمة","التقييم البنائي\n40","الاختبار ف2\n60","نهاية الفصل\n 100"]
[null,{"$f":"SeconedPartDegrees2!$A13","v":1},{"$f":"SeconedPartDegrees2!$B13","v":""},{"$f":"IFERROR(SeconedPartDegrees2!$R13,\"\")","v":""},{"$f":"IFERROR(SeconedPartDegrees2!$U13,\"\")","v":""},{"$f":"IFERROR(SeconedPartDegrees2!$V13,\"\")","v":""}]
[null,{"$f":"SeconedPartDegrees2!A15","v":2},{"$f":"SeconedPartDegrees2!B15","v":""},{"$f":"IFERROR(SeconedPartDegrees2!R15,\"\")","v":""},{"$f":"IFERROR(SeconedPartDegrees2!U15,\"\")","v":""},{"$f":"IFERROR(SeconedPartDegrees2!V15,\"\")","v":""}]
[null,{"$f":"SeconedPartDegrees2!A17","v":3},{"$f":"SeconedPartDegrees2!B17","v":""},{"$f":"IFERROR(SeconedPartDegrees2!R17,\"\")","v":""},{"$f":"IFERROR(SeconedPartDegrees2!U17,\"\")","v":""},{"$f":"IFERROR(SeconedPartDegrees2!V17,\"\")","v":""}]
[null,{"$f":"SeconedPartDegrees2!A19","v":4},{"$f":"SeconedPartDegrees2!B19","v":""},{"$f":"IFERROR(SeconedPartDegrees2!R19,\"\")","v":""},{"$f":"IFERROR(SeconedPartDegrees2!U19,\"\")","v":""},{"$f":"IFERROR(SeconedPartDegrees2!V19,\"\")","v":""}]
[null,{"$f":"SeconedPartDegrees2!A21","v":5},{"$f":"SeconedPartDegrees2!B21","v":""},{"$f":"IFERROR(SeconedPartDegrees2!R21,\"\")","v":""},{"$f":"IFERROR(SeconedPartDegrees2!U21,\"\")","v":""},{"$f":"IFERROR(SeconedPartDegrees2!V21,\"\")","v":""}]
[null,{"$f":"SeconedPartDegrees2!A23","v":6},{"$f":"SeconedPartDegrees2!B23","v":""},{"$f":"IFERROR(SeconedPartDegrees2!R23,\"\")","v":""},{"$f":"IFERROR(SeconedPartDegrees2!U23,\"\")","v":""},{"$f":"IFERROR(SeconedPartDegrees2!V23,\"\")","v":""}]
[null,{"$f":"SeconedPartDegrees2!A25","v":7},{"$f":"SeconedPartDegrees2!B25","v":""},{"$f":"IFERROR(SeconedPartDegrees2!R25,\"\")","v":""},{"$f":"IFERROR(SeconedPartDegrees2!U25,\"\")","v":""},{"$f":"IFERROR(SeconedPartDegrees2!V25,\"\")","v":""}]
[null,{"$f":"SeconedPartDegrees2!A27","v":8},{"$f":"SeconedPartDegrees2!B27","v":""},{"$f":"IFERROR(SeconedPartDegrees2!R27,\"\")","v":""},{"$f":"IFERROR(SeconedPartDegrees2!U27,\"\")","v":""},{"$f":"IFERROR(SeconedPartDegrees2!V27,\"\")","v":""}]
[null,{"$f":"SeconedPartDegrees2!A29","v":9},{"$f":"SeconedPartDegrees2!B29","v":""},{"$f":"IFERROR(SeconedPartDegrees2!R29,\"\")","v":""},{"$f":"IFERROR(SeconedPartDegrees2!U29,\"\")","v":""},{"$f":"IFERROR(SeconedPartDegrees2!V29,\"\")","v":""}]
[null,{"$f":"SeconedPartDegrees2!A31","v":10},{"$f":"SeconedPartDegrees2!B31","v":""},{"$f":"IFERROR(SeconedPartDegrees2!R31,\"\")","v":""},{"$f":"IFERROR(SeconedPartDegrees2!U31,\"\")","v":""},{"$f":"IFERROR(SeconedPartDegrees2!V31,\"\")","v":""}]
[null,{"$f":"SeconedPartDegrees2!A33","v":11},{"$f":"SeconedPartDegrees2!B33","v":""},{"$f":"IFERROR(SeconedPartDegrees2!R33,\"\")","v":""},{"$f":"IFERROR(SeconedPartDegrees2!U33,\"\")","v":""},{"$f":"IFERROR(SeconedPartDegrees2!V33,\"\")","v":""}]
[null,{"$f":"SeconedPartDegrees2!A35","v":12},{"$f":"SeconedPartDegrees2!B35","v":""},{"$f":"IFERROR(SeconedPartDegrees2!R35,\"\")","v":""},{"$f":"IFERROR(SeconedPartDegrees2!U35,\"\")","v":""},{"$f":"IFERROR(SeconedPartDegrees2!V35,\"\")","v":""}]
[null,{"$f":"SeconedPartDegrees2!A37","v":13},{"$f":"SeconedPartDegrees2!B37","v":""},{"$f":"IFERROR(SeconedPartDegrees2!R37,\"\")","v":""},{"$f":"IFERROR(SeconedPartDegrees2!U37,\"\")","v":""},{"$f":"IFERROR(SeconedPartDegrees2!V37,\"\")","v":""}]
[null,{"$f":"SeconedPartDegrees2!A39","v":14},{"$f":"SeconedPartDegrees2!B39","v":""},{"$f":"IFERROR(SeconedPartDegrees2!R39,\"\")","v":""},{"$f":"IFERROR(SeconedPartDegrees2!U39,\"\")","v":""},{"$f":"IFERROR(SeconedPartDegrees2!V39,\"\")","v":""}]
[null,{"$f":"SeconedPartDegrees2!A41","v":15},{"$f":"SeconedPartDegrees2!B41","v":""},{"$f":"IFERROR(SeconedPartDegrees2!R41,\"\")","v":""},{"$f":"IFERROR(SeconedPartDegrees2!U41,\"\")","v":""},{"$f":"IFERROR(SeconedPartDegrees2!V41,\"\")","v":""}]
[null,{"$f":"SeconedPartDegrees2!A43","v":16},{"$f":"SeconedPartDegrees2!B43","v":""},{"$f":"IFERROR(SeconedPartDegrees2!R43,\"\")","v":""},{"$f":"IFERROR(SeconedPartDegrees2!U43,\"\")","v":""},{"$f":"IFERROR(SeconedPartDegrees2!V43,\"\")","v":""}]
[null,{"$f":"SeconedPartDegrees2!A45","v":17},{"$f":"SeconedPartDegrees2!B45","v":""},{"$f":"IFERROR(SeconedPartDegrees2!R45,\"\")","v":""},{"$f":"IFERROR(SeconedPartDegrees2!U45,\"\")","v":""},{"$f":"IFERROR(SeconedPartDegrees2!V45,\"\")","v":""}]
[null,{"$f":"SeconedPartDegrees2!A47","v":18},{"$f":"SeconedPartDegrees2!B47","v":""},{"$f":"IFERROR(SeconedPartDegrees2!R47,\"\")","v":""},{"$f":"IFERROR(SeconedPartDegrees2!U47,\"\")","v":""},{"$f":"IFERROR(SeconedPartDegrees2!V47,\"\")","v":""}]
[null,{"$f":"SeconedPartDegrees2!A49","v":19},{"$f":"SeconedPartDegrees2!B49","v":""},{"$f":"IFERROR(SeconedPartDegrees2!R49,\"\")","v":""},{"$f":"IFERROR(SeconedPartDegrees2!U49,\"\")","v":""},{"$f":"IFERROR(SeconedPartDegrees2!V49,\"\")","v":""}]
[null,{"$f":"SeconedPartDegrees2!A51","v":20},{"$f":"SeconedPartDegrees2!B51","v":""},{"$f":"IFERROR(SeconedPartDegrees2!R51,\"\")","v":""},{"$f":"IFERROR(SeconedPartDegrees2!U51,\"\")","v":""},{"$f":"IFERROR(SeconedPartDegrees2!V51,\"\")","v":""}]
[null,{"$f":"SeconedPartDegrees2!A53","v":21},{"$f":"SeconedPartDegrees2!B53","v":""},{"$f":"IFERROR(SeconedPartDegrees2!R53,\"\")","v":""},{"$f":"IFERROR(SeconedPartDegrees2!U53,\"\")","v":""},{"$f":"IFERROR(SeconedPartDegrees2!V53,\"\")","v":""}]
[null,{"$f":"SeconedPartDegrees2!A55","v":22},{"$f":"SeconedPartDegrees2!B55","v":""},{"$f":"IFERROR(SeconedPartDegrees2!R55,\"\")","v":""},{"$f":"IFERROR(SeconedPartDegrees2!U55,\"\")","v":""},{"$f":"IFERROR(SeconedPartDegrees2!V55,\"\")","v":""}]
[null,{"$f":"SeconedPartDegrees2!A57","v":23},{"$f":"SeconedPartDegrees2!B57","v":""},{"$f":"IFERROR(SeconedPartDegrees2!R57,\"\")","v":""},{"$f":"IFERROR(SeconedPartDegrees2!U57,\"\")","v":""},{"$f":"IFERROR(SeconedPartDegrees2!V57,\"\")","v":""}]
[null,{"$f":"SeconedPartDegrees2!A59","v":24},{"$f":"SeconedPartDegrees2!B59","v":""},{"$f":"IFERROR(SeconedPartDegrees2!R59,\"\")","v":""},{"$f":"IFERROR(SeconedPartDegrees2!U59,\"\")","v":""},{"$f":"IFERROR(SeconedPartDegrees2!V59,\"\")","v":""}]
[null,{"$f":"SeconedPartDegrees2!A61","v":25},{"$f":"SeconedPartDegrees2!B61","v":""},{"$f":"IFERROR(SeconedPartDegrees2!R61,\"\")","v":""},{"$f":"IFERROR(SeconedPartDegrees2!U61,\"\")","v":""},{"$f":"IFERROR(SeconedPartDegrees2!V61,\"\")","v":""}]
[null,{"$f":"SeconedPartDegrees2!A63","v":26},{"$f":"SeconedPartDegrees2!B63","v":""},{"$f":"IFERROR(SeconedPartDegrees2!R63,\"\")","v":""},{"$f":"IFERROR(SeconedPartDegrees2!U63,\"\")","v":""},{"$f":"IFERROR(SeconedPartDegrees2!V63,\"\")","v":""}]
[null,{"$f":"SeconedPartDegrees2!A65","v":27},{"$f":"SeconedPartDegrees2!B65","v":""},{"$f":"IFERROR(SeconedPartDegrees2!R65,\"\")","v":""},{"$f":"IFERROR(SeconedPartDegrees2!U65,\"\")","v":""},{"$f":"IFERROR(SeconedPartDegrees2!V65,\"\")","v":""}]
[null,{"$f":"SeconedPartDegrees2!A67","v":28},{"$f":"SeconedPartDegrees2!B67","v":""},{"$f":"IFERROR(SeconedPartDegrees2!R67,\"\")","v":""},{"$f":"IFERROR(SeconedPartDegrees2!U67,\"\")","v":""},{"$f":"IFERROR(SeconedPartDegrees2!V67,\"\")","v":""}]
[null,{"$f":"SeconedPartDegrees2!A69","v":29},{"$f":"SeconedPartDegrees2!B69","v":""},{"$f":"IFERROR(SeconedPartDegrees2!R69,\"\")","v":""},{"$f":"IFERROR(SeconedPartDegrees2!U69,\"\")","v":""},{"$f":"IFERROR(SeconedPartDegrees2!V69,\"\")","v":""}]
[null,{"$f":"SeconedPartDegrees2!A71","v":30},{"$f":"SeconedPartDegrees2!B71","v":""},{"$f":"IFERROR(SeconedPartDegrees2!R71,\"\")","v":""},{"$f":"IFERROR(SeconedPartDegrees2!U71,\"\")","v":""},{"$f":"IFERROR(SeconedPartDegrees2!V71,\"\")","v":""}]
[null,{"$f":"SeconedPartDegrees2!A83","v":36},{"$f":"SeconedPartDegrees2!B83","v":""},{"$f":"IFERROR(SeconedPartDegrees2!R83,\"\")","v":""},{"$f":"IFERROR(SeconedPartDegrees2!U83,\"\")","v":""},{"$f":"IFERROR(SeconedPartDegrees2!V83,\"\")","v":""}]
[null,{"$f":"SeconedPartDegrees2!A85","v":37},{"$f":"SeconedPartDegrees2!B85","v":""},{"$f":"IFERROR(SeconedPartDegrees2!R85,\"\")","v":""},{"$f":"IFERROR(SeconedPartDegrees2!U85,\"\")","v":""},{"$f":"IFERROR(SeconedPartDegrees2!V85,\"\")","v":""}]
[null,{"$f":"SeconedPartDegrees2!A87","v":38},{"$f":"SeconedPartDegrees2!B87","v":""},{"$f":"IFERROR(SeconedPartDegrees2!R87,\"\")","v":""},{"$f":"IFERROR(SeconedPartDegrees2!U87,\"\")","v":""},{"$f":"IFERROR(SeconedPartDegrees2!V87,\"\")","v":""}]
[null,{"$f":"SeconedPartDegrees2!A89","v":39},{"$f":"SeconedPartDegrees2!B89","v":""},{"$f":"IFERROR(SeconedPartDegrees2!R89,\"\")","v":""},{"$f":"IFERROR(SeconedPartDegrees2!U89,\"\")","v":""},{"$f":"IFERROR(SeconedPartDegrees2!V89,\"\")","v":""}]
[null,{"$f":"SeconedPartDegrees2!A91","v":40},{"$f":"SeconedPartDegrees2!B91","v":""},{"$f":"IFERROR(SeconedPartDegrees2!R91,\"\")","v":""},{"$f":"IFERROR(SeconedPartDegrees2!U91,\"\")","v":""},{"$f":"IFERROR(SeconedPartDegrees2!V91,\"\")","v":""}]
[null,{"$f":"SeconedPartDegrees2!A93","v":41},{"$f":"SeconedPartDegrees2!B93","v":""},{"$f":"IFERROR(SeconedPartDegrees2!R93,\"\")","v":""},{"$f":"IFERROR(SeconedPartDegrees2!U93,\"\")","v":""},{"$f":"IFERROR(SeconedPartDegrees2!V93,\"\")","v":""}]
[null,{"$f":"SeconedPartDegrees2!A95","v":42},{"$f":"SeconedPartDegrees2!B95","v":""},{"$f":"IFERROR(SeconedPartDegrees2!R95,\"\")","v":""},{"$f":"IFERROR(SeconedPartDegrees2!U95,\"\")","v":""},{"$f":"IFERROR(SeconedPartDegrees2!V95,\"\")","v":""}]
[null,{"$f":"SeconedPartDegrees2!A97","v":43},{"$f":"SeconedPartDegrees2!B97","v":""},{"$f":"IFERROR(SeconedPartDegrees2!R97,\"\")","v":""},{"$f":"IFERROR(SeconedPartDegrees2!U97,\"\")","v":""},{"$f":"IFERROR(SeconedPartDegrees2!V97,\"\")","v":""}]
[null,{"$f":"SeconedPartDegrees2!A99","v":44},{"$f":"SeconedPartDegrees2!B99","v":""},{"$f":"IFERROR(SeconedPartDegrees2!R99,\"\")","v":""},{"$f":"IFERROR(SeconedPartDegrees2!U99,\"\")","v":""},{"$f":"IFERROR(SeconedPartDegrees2!V99,\"\")","v":""}]
[null,{"$f":"SeconedPartDegrees2!A101","v":45},{"$f":"SeconedPartDegrees2!B101","v":""},{"$f":"IFERROR(SeconedPartDegrees2!R101,\"\")","v":""},{"$f":"IFERROR(SeconedPartDegrees2!U101,\"\")","v":""},{"$f":"IFERROR(SeconedPartDegrees2!V101,\"\")","v":""}]
[null,{"$f":"SeconedPartDegrees2!A103","v":46},{"$f":"SeconedPartDegrees2!B103","v":""},{"$f":"IFERROR(SeconedPartDegrees2!R103,\"\")","v":""},{"$f":"IFERROR(SeconedPartDegrees2!U103,\"\")","v":""},{"$f":"IFERROR(SeconedPartDegrees2!V103,\"\")","v":""}]
[null,{"$f":"SeconedPartDegrees2!A105","v":47},{"$f":"SeconedPartDegrees2!B105","v":""},{"$f":"IFERROR(SeconedPartDegrees2!R105,\"\")","v":""},{"$f":"IFERROR(SeconedPartDegrees2!U105,\"\")","v":""},{"$f":"IFERROR(SeconedPartDegrees2!V105,\"\")","v":""}]
[null,{"$f":"SeconedPartDegrees2!A107","v":48},{"$f":"SeconedPartDegrees2!B107","v":""},{"$f":"IFERROR(SeconedPartDegrees2!R107,\"\")","v":""},{"$f":"IFERROR(SeconedPartDegrees2!U107,\"\")","v":""},{"$f":"IFERROR(SeconedPartDegrees2!V107,\"\")","v":""}]
[null,{"$f":"SeconedPartDegrees2!A109","v":49},{"$f":"SeconedPartDegrees2!B109","v":""},{"$f":"IFERROR(SeconedPartDegrees2!R109,\"\")","v":""},{"$f":"IFERROR(SeconedPartDegrees2!U109,\"\")","v":""},{"$f":"IFERROR(SeconedPartDegrees2!V109,\"\")","v":""}]
[null,{"$f":"SeconedPartDegrees2!A111","v":50},{"$f":"SeconedPartDegrees2!B111","v":""},{"$f":"IFERROR(SeconedPartDegrees2!R111,\"\")","v":""},{"$f":"IFERROR(SeconedPartDegrees2!U111,\"\")","v":""},{"$f":"IFERROR(SeconedPartDegrees2!V111,\"\")","v":""}]
[null,{"$f":"SeconedPartDegrees2!A113","v":51},{"$f":"SeconedPartDegrees2!B113","v":""},{"$f":"IFERROR(SeconedPartDegrees2!R113,\"\")","v":""},{"$f":"IFERROR(SeconedPartDegrees2!U113,\"\")","v":""},{"$f":"IFERROR(SeconedPartDegrees2!V113,\"\")","v":""}]
[null,{"$f":"SeconedPartDegrees2!A115","v":52},{"$f":"SeconedPartDegrees2!B115","v":""},{"$f":"IFERROR(SeconedPartDegrees2!R115,\"\")","v":""},{"$f":"IFERROR(SeconedPartDegrees2!U115,\"\")","v":""},{"$f":"IFERROR(SeconedPartDegrees2!V115,\"\")","v":""}]
[null,{"$f":"SeconedPartDegrees2!A117","v":53},{"$f":"SeconedPartDegrees2!B117","v":""},{"$f":"IFERROR(SeconedPartDegrees2!R117,\"\")","v":""},{"$f":"IFERROR(SeconedPartDegrees2!U117,\"\")","v":""},{"$f":"IFERROR(SeconedPartDegrees2!V117,\"\")","v":""}]
[null,{"$f":"SeconedPartDegrees2!A119","v":54},{"$f":"SeconedPartDegrees2!B119","v":""},{"$f":"IFERROR(SeconedPartDegrees2!R119,\"\")","v":""},{"$f":"IFERROR(SeconedPartDegrees2!U119,\"\")","v":""},{"$f":"IFERROR(SeconedPartDegrees2!V119,\"\")","v":""}]
[null,{"$f":"SeconedPartDegrees2!A121","v":55},{"$f":"SeconedPartDegrees2!B121","v":""},{"$f":"IFERROR(SeconedPartDegrees2!R121,\"\")","v":""},{"$f":"IFERROR(SeconedPartDegrees2!U121,\"\")","v":""},{"$f":"IFERROR(SeconedPartDegrees2!V121,\"\")","v":""}]
[null,{"$f":"SeconedPartDegrees2!A123","v":56},{"$f":"SeconedPartDegrees2!B123","v":""},{"$f":"IFERROR(SeconedPartDegrees2!R123,\"\")","v":""},{"$f":"IFERROR(SeconedPartDegrees2!U123,\"\")","v":""},{"$f":"IFERROR(SeconedPartDegrees2!V123,\"\")","v":""}]
[null,{"$f":"SeconedPartDegrees2!A125","v":57},{"$f":"SeconedPartDegrees2!B125","v":""},{"$f":"IFERROR(SeconedPartDegrees2!R125,\"\")","v":""},{"$f":"IFERROR(SeconedPartDegrees2!U125,\"\")","v":""},{"$f":"IFERROR(SeconedPartDegrees2!V125,\"\")","v":""}]
[null,{"$f":"SeconedPartDegrees2!A127","v":58},{"$f":"SeconedPartDegrees2!B127","v":""},{"$f":"IFERROR(SeconedPartDegrees2!R127,\"\")","v":""},{"$f":"IFERROR(SeconedPartDegrees2!U127,\"\")","v":""},{"$f":"IFERROR(SeconedPartDegrees2!V127,\"\")","v":""}]
[null,{"$f":"SeconedPartDegrees2!A129","v":59},{"$f":"SeconedPartDegrees2!B129","v":""},{"$f":"IFERROR(SeconedPartDegrees2!R129,\"\")","v":""},{"$f":"IFERROR(SeconedPartDegrees2!U129,\"\")","v":""},{"$f":"IFERROR(SeconedPartDegrees2!V129,\"\")","v":""}]
[null,{"$f":"SeconedPartDegrees2!A131","v":60},{"$f":"SeconedPartDegrees2!B131","v":""},{"$f":"IFERROR(SeconedPartDegrees2!R131,\"\")","v":""},{"$f":"IFERROR(SeconedPartDegrees2!U131,\"\")","v":""},{"$f":"IFERROR(SeconedPartDegrees2!V131,\"\")","v":""}]
[null,{"$f":"SeconedPartDegrees2!A133","v":61},{"$f":"SeconedPartDegrees2!B133","v":""},{"$f":"IFERROR(SeconedPartDegrees2!R133,\"\")","v":""},{"$f":"IFERROR(SeconedPartDegrees2!U133,\"\")","v":""},{"$f":"IFERROR(SeconedPartDegrees2!V133,\"\")","v":""}]
[null,{"$f":"SeconedPartDegrees2!A135","v":62},{"$f":"SeconedPartDegrees2!B135","v":""},{"$f":"IFERROR(SeconedPartDegrees2!R135,\"\")","v":""},{"$f":"IFERROR(SeconedPartDegrees2!U135,\"\")","v":""},{"$f":"IFERROR(SeconedPartDegrees2!V135,\"\")","v":""}]
[null,{"$f":"SeconedPartDegrees2!A137","v":63},{"$f":"SeconedPartDegrees2!B137","v":""},{"$f":"IFERROR(SeconedPartDegrees2!R137,\"\")","v":""},{"$f":"IFERROR(SeconedPartDegrees2!U137,\"\")","v":""},{"$f":"IFERROR(SeconedPartDegrees2!V137,\"\")","v":""}]
[null,{"$f":"SeconedPartDegrees2!A139","v":64},{"$f":"SeconedPartDegrees2!B139","v":""},{"$f":"IFERROR(SeconedPartDegrees2!R139,\"\")","v":""},{"$f":"IFERROR(SeconedPartDegrees2!U139,\"\")","v":""},{"$f":"IFERROR(SeconedPartDegrees2!V139,\"\")","v":""}]
[null,{"$f":"SeconedPartDegrees2!A141","v":65},{"$f":"SeconedPartDegrees2!B141","v":""},{"$f":"IFERROR(SeconedPartDegrees2!R141,\"\")","v":""},{"$f":"IFERROR(SeconedPartDegrees2!U141,\"\")","v":""},{"$f":"IFERROR(SeconedPartDegrees2!V141,\"\")","v":""}]
[null,{"$f":"SeconedPartDegrees2!A143","v":66},{"$f":"SeconedPartDegrees2!B143","v":""},{"$f":"IFERROR(SeconedPartDegrees2!R143,\"\")","v":""},{"$f":"IFERROR(SeconedPartDegrees2!U143,\"\")","v":""},{"$f":"IFERROR(SeconedPartDegrees2!V143,\"\")","v":""}]
[null,{"$f":"SeconedPartDegrees2!A145","v":67},{"$f":"SeconedPartDegrees2!B145","v":""},{"$f":"IFERROR(SeconedPartDegrees2!R145,\"\")","v":""},{"$f":"IFERROR(SeconedPartDegrees2!U145,\"\")","v":""},{"$f":"IFERROR(SeconedPartDegrees2!V145,\"\")","v":""}]
[null,{"$f":"SeconedPartDegrees2!A147","v":68},{"$f":"SeconedPartDegrees2!B147","v":""},{"$f":"IFERROR(SeconedPartDegrees2!R147,\"\")","v":""},{"$f":"IFERROR(SeconedPartDegrees2!U147,\"\")","v":""},{"$f":"IFERROR(SeconedPartDegrees2!V147,\"\")","v":""}]
[null,{"$f":"SeconedPartDegrees2!A149","v":69},{"$f":"SeconedPartDegrees2!B149","v":""},{"$f":"IFERROR(SeconedPartDegrees2!R149,\"\")","v":""},{"$f":"IFERROR(SeconedPartDegrees2!U149,\"\")","v":""},{"$f":"IFERROR(SeconedPartDegrees2!V149,\"\")","v":""}]
[null,{"$f":"SeconedPartDegrees2!A151","v":70},{"$f":"SeconedPartDegrees2!B151","v":""},{"$f":"IFERROR(SeconedPartDegrees2!R151,\"\")","v":""},{"$f":"IFERROR(SeconedPartDegrees2!U151,\"\")","v":""},{"$f":"IFERROR(SeconedPartDegrees2!V151,\"\")","v":""}]

{"sheet":"Final Degree2","index":10,"n_rows":221,"n_cols":46,"rows_kept":221,"cut":false,"hidden":false,"merged":[[113,30,115,30],[113,31,115,31],[113,32,115,32],[5,35,5,37],[113,33,115,33],[113,34,115,34],[113,35,115,35],[113,36,115,36],[113,37,115,37],[115,2,115,3],[115,4,115,5],[115,6,115,7],[115,8,115,9],[115,11,115,12],[115,13,115,14],[115,15,115,16],[115,17,115,18],[115,20,115,21],[115,22,115,23],[115,24,115,25],[115,26,115,27],[110,33,112,33],[110,34,112,34],[110,35,112,35],[110,36,112,36],[110,37,112,37],[110,30,112,30],[68,37,70,37],[70,6,70,7],[44,36,46,36],[44,37,46,37],[46,6,46,7],[110,1,111,1],[110,10,112,10],[110,19,112,19],[110,28,112,28],[110,29,112,29],[112,2,112,3],[112,4,112,5],[112,6,112,7],[112,8,112,9],[112,11,112,12],[112,13,112,14],[112,15,112,16],[112,17,112,18],[112,20,112,21],[113,0,115,0],[113,1,114,1],[113,10,115,10],[113,19,115,19],[113,28,115,28],[113,29,115,29],[107,0,109,0],[107,1,108,1],[107,10,109,10],[107,19,109,19],[107,28,109,28],[107,29,109,29],[107,30,109,30],[107,31,109,31],[107,32,109,32],[110,31,112,31],[110,32,112,32],[107,33,109,33],[107,34,109,34],[107,35,109,35],[107,36,109,36],[107,37,109,37],[109,2,109,3],[109,4,109,5],[109,6,109,7],[109,8,109,9],[109,11,109,12],[109,13,109,14],[109,15,109,16],[109,17,109,18],[109,20,109,21],[109,22,109,23],[109,24,109,25],[109,26,109,27],[112,22,112,23],[112,24,112,25],[112,26,112,27],[110,0,112,0],[104,0,106,0],[104,1,105,1],[104,10,106,10],[104,19,106,19],[104,28,106,28],[104,29,106,29],[104,30,106,30],[104,31,106,31],[104,32,106,32],[104,33,106,33],[104,34,106,34],[104,35,106,35],[104,36,106,36],[104,37,106,37],[106,2,106,3],[106,4,106,5],[106,6,106,7],[106,8,106,9],[106,11,106,12],[106,13,106,14],[106,15,106,16],[106,17,106,18],[106,20,106,21],[106,22,106,23],[106,24,106,25],[106,26,106,27],[101,0,103,0],[101,1,102,1],[101,10,103,10],[101,19,103,19],[101,28,103,28],[101,29,103,29],[101,30,103,30],[101,31,103,31],[101,32,103,32],[101,33,103,33],[101,34,103,34],[101,35,103,35],[101,36,103,36],[101,37,103,37],[103,2,103,3],[103,4,103,5],[103,6,103,7],[103,8,103,9],[103,11,103,12],[103,13,103,14],[103,15,103,16],[103,17,103,18],[103,20,103,21],[103,22,103,23],[103,24,103,25],[103,26,103,27],[98,0,100,0],[98,1,99,1],[98,10,100,10],[98,19,100,19],[98,28,100,28],[98,29,100,29],[98,30,100,30],[98,31,100,31],[98,32,100,32],[98,33,100,33],[98,34,100,34],[98,35,100,35],[98,36,100,36],[98,37,100,37],[100,2,100,3],[100,4,100,5],[100,6,100,7],[100,8,100,9],[100,11,100,12],[100,13,100,14],[100,15,100,16],[100,17,100,18],[100,20,100,21],[100,22,100,23],[100,24,100,25],[100,26,100,27],[95,0,97,0],[95,1,96,1],[95,10,97,10],[95,19,97,19],[95,28,97,28],[95,29,97,29],[95,30,97,30],[95,31,97,31],[95,32,97,32],[95,33,97,33],[95,34,97,34],[95,35,97,35],[95,36,97,36],[95,37,97,37],[97,2,97,3],[97,4,97,5],[97,6,97,7],[97,8,97,9],[97,11,97,12],[97,13,97,14],[97,15,97,16],[97,17,97,18],[97,20,97,21],[97,22,97,23],[97,24,97,25],[97,26,97,27],[92,0,94,0],[92,1,93,1],[92,10,94,10],[92,19,94,19],[92,28,94,28],[92,29,94,29],[92,30,94,30],[92,31,94,31],[92,32,94,32],[92,33,94,33],[92,34,94,34],[92,35,94,35],[92,36,94,36],[92,37,94,37],[94,2,94,3],[94,4,94,5],[94,6,94,7],[94,8,94,9],[94,11,94,12],[94,13,94,14],[94,15,94,16],[94,17,94,18],[94,20,94,21],[94,22,94,23],[94,24,94,25],[94,26,94,27],[89,0,91,0],[89,1,90,1],[89,10,91,10],[89,19,91,19],[89,28,91,28],[89,29,91,29],[89,30,91,30],[89,31,91,31],[89,32,91,32],[89,33,91,33],[89,34,91,34],[89,35,91,35],[89,36,91,36],[89,37,91,37],[91,2,91,3],[91,4,91,5],[91,6,91,7],[91,8,91,9],[91,11,91,12],[91,13,91,14],[91,15,91,16],[91,17,91,18],[91,20,91,21],[91,22,91,23],[91,24,91,25],[91,26,91,27],[86,0,88,0],[86,1,87,1],[86,10,88,10],[86,19,88,19],[86,28,88,28],[86,29,88,29],[86,30,88,30],[86,31,88,31],[86,32,88,32],[86,33,88,33],[86,34,88,34],[86,35,88,35],[86,36,88,36],[86,37,88,37],[88,2,88,3],[88,4,88,5],[88,6,88,7],[88,8,88,9],[88,11,88,12],[88,13,88,14],[88,15,88,16],[88,17,88,18],[88,20,88,21],[88,22,88,23],[88,24,88,25],[88,26,88,27],[83,0,85,0],[83,1,84,1],[83,10,85,10],[83,19,85,19],[83,28,85,28],[83,29,85,29],[83,30,85,30],[83,31,85,31],[83,32,85,32],[83,33,85,33],[83,34,85,34],[83,35,85,35],[83,36,85,36],[83,37,85,37],[85,2,85,3],[85,4,85,5],[85,6,85,7],[85,8,85,9],[85,11,85,12],[85,13,85,14],[85,15,85,16],[85,17,85,18],[85,20,85,21],[85,22,85,23],[85,24,85,25],[85,26,85,27],[80,0,82,0],[80,1,81,1],[80,10,82,10],[80,19,82,19],[80,28,82,28],[80,29,82,29],[80,30,82,30],[80,31,82,31],[80,32,82,32],[80,33,82,33],[80,34,82,34],[80,35,82,35],[80,36,82,36],[80,37,82,37],[82,2,82,3],[82,4,82,5],[82,6,82,7],[82,8,82,9],[82,11,82,12],[82,13,82,14],[82,15,82,16],[82,17,82,18],[82,20,82,21],[82,22,82,23],[82,24,82,25],[82,26,82,27],[71,37,73,37],[73,2,73,3],[73,4,73,5],[73,6,73,7],[73,8,73,9],[73,11,73,12],[73,13,73,14],[73,17,73,18],[73,20,73,21],[73,22,73,23],[73,24,73,25],[73,26,73,27],[77,0,79,0],[77,1,78,1],[77,10,79,10],[77,19,79,19],[77,28,79,28],[77,29,79,29],[77,30,79,30],[77,31,79,31],[77,32,79,32],[79,2,79,3],[79,4,79,5],[79,6,79,7],[79,8,79,9],[79,11,79,12],[79,13,79,14],[79,15,79,16],[79,17,79,18],[79,20,79,21],[79,22,79,23],[79,24,79,25],[59,0,61,0],[59,1,60,1],[59,10,61,10],[59,19,61,19],[59,28,61,28],[59,29,61,29],[59,30,61,30],[59,31,61,31],[59,32,61,32],[59,33,61,33],[59,34,61,34],[59,35,61,35],[59,36,61,36],[59,37,61,37],[61,2,61,3],[61,4,61,5],[61,6,61,7],[61,8,61,9],[61,11,61,12],[61,13,61,14],[47,0,49,0],[47,1,48,1],[47,10,49,10],[47,19,49,19],[47,28,49,28],[47,29,49,29],[47,30,49,30],[47,31,49,31],[47,32,49,32],[47,33,49,33],[47,34,49,34],[47,35,49,35],[47,36,49,36],[47,37,49,37],[49,2,49,3],[49,4,49,5],[49,6,49,7],[49,8,49,9],[49,11,49,12],[49,13,49,14],[49,26,49,27],[35,0,37,0],[35,1,36,1],[35,10,37,10],[35,19,37,19],[35,28,37,28],[35,29,37,29],[35,30,37,30],[35,31,37,31],[35,32,37,32],[35,33,37,33],[35,34,37,34],[35,35,37,35],[35,36,37,36],[35,37,37,37],[37,2,37,3],[37,4,37,5],[37,6,37,7],[37,8,37,9],[37,11,37,12],[37,13,37,14],[37,15,37,16],[8,26,8,27],[8,10,10,10],[8,19,10,19],[8,28,10,28],[9,26,10,26],[5,32,5,34],[20,34,22,34],[20,35,22,35],[20,36,22,36],[20,37,22,37],[22,2,22,3],[22,4,22,5],[22,6,22,7],[22,8,22,9],[22,11,22,12],[22,13,22,14],[22,15,22,16],[22,17,22,18],[22,20,22,21],[22,22,22,23],[22,24,22,25],[22,26,22,27],[20,31,22,31],[20,32,22,32],[20,33,22,33],[17,33,19,33],[17,34,19,34],[17,35,19,35],[17,36,19,36],[17,37,19,37],[19,2,19,3],[19,4,19,5],[7,34,9,34],[7,35,9,35],[7,36,9,36],[7,37,10,37],[6,32,6,37],[7,0,10,0],[7,1,10,1],[7,29,9,29],[7,30,9,30],[7,31,9,31],[8,15,8,16],[8,24,8,25],[8,22,8,23],[9,11,10,11],[3,0,3,1],[4,0,4,1],[4,2,4,31],[5,0,5,1],[6,2,6,5],[6,16,6,17],[6,14,6,15],[7,32,9,32],[7,33,9,33],[7,2,7,10],[7,11,7,19],[7,20,7,28],[9,13,10,13],[9,15,10,15],[9,20,10,20],[9,22,10,22],[9,24,10,24],[8,20,8,21],[11,0,13,0],[8,6,8,7],[13,6,13,7],[8,2,8,3],[8,4,8,5],[8,8,8,9],[8,11,8,12],[8,13,8,14],[8,17,8,18],[13,15,13,16],[9,8,10,8],[9,17,10,17],[11,1,12,1],[9,2,10,2],[9,4,10,4],[9,6,10,6],[11,10,13,10],[11,36,13,36],[11,37,13,37],[13,2,13,3],[13,4,13,5],[13,8,13,9],[13,11,13,12],[13,13,13,14],[13,17,13,18],[13,20,13,21],[13,26,13,27],[11,30,13,30],[11,31,13,31],[11,32,13,32],[11,33,13,33],[11,34,13,34],[11,35,13,35],[11,29,13,29],[11,19,13,19],[11,28,13,28],[13,24,13,25],[13,22,13,23],[17,31,19,31],[17,32,19,32],[19,6,19,7],[19,8,19,9],[19,11,19,12],[19,13,19,14],[19,15,19,16],[19,17,19,18],[19,20,19,21],[25,24,25,25],[25,22,25,23],[14,35,16,35],[14,36,16,36],[14,37,16,37],[16,2,16,3],[16,4,16,5],[16,8,16,9],[16,11,16,12],[16,13,16,14],[16,17,16,18],[14,29,16,29],[14,30,16,30],[14,31,16,31],[14,32,16,32],[14,33,16,33],[16,20,16,21],[16,26,16,27],[16,15,16,16],[16,24,16,25],[16,22,16,23],[14,34,16,34],[14,10,16,10],[14,0,16,0],[14,1,15,1],[20,0,22,0],[20,1,21,1],[20,10,22,10],[20,19,22,19],[20,28,22,28],[20,29,22,29],[20,30,22,30],[16,6,16,7],[17,0,19,0],[17,1,18,1],[17,10,19,10],[17,19,19,19],[17,28,19,28],[17,29,19,29],[17,30,19,30],[19,22,19,23],[19,24,19,25],[19,26,19,27],[14,19,16,19],[14,28,16,28],[25,2,25,3],[25,4,25,5],[25,8,25,9],[25,11,25,12],[25,13,25,14],[23,33,25,33],[23,34,25,34],[23,35,25,35],[23,36,25,36],[23,37,25,37],[26,10,28,10],[26,19,28,19],[26,28,28,28],[26,29,28,29],[26,30,28,30],[28,20,28,21],[28,26,28,27],[28,15,28,16],[28,24,28,25],[28,22,28,23],[26,35,28,35],[26,36,28,36],[26,37,28,37],[25,17,25,18],[23,10,25,10],[23,19,25,19],[23,28,25,28],[23,29,25,29],[23,30,25,30],[23,31,25,31],[23,32,25,32],[34,22,34,23],[32,35,34,35],[32,36,34,36],[34,20,34,21],[29,0,31,0],[29,1,30,1],[29,31,31,31],[29,32,31,32],[23,0,25,0],[23,1,24,1],[26,0,28,0],[26,1,27,1],[26,31,28,31],[26,32,28,32],[31,2,31,3],[31,4,31,5],[31,6,31,7],[31,8,31,9],[31,11,31,12],[28,6,28,7],[25,6,25,7],[26,33,28,33],[26,34,28,34],[28,2,28,3],[28,4,28,5],[28,8,28,9],[28,11,28,12],[28,13,28,14],[28,17,28,18],[25,20,25,21],[25,26,25,27],[25,15,25,16],[34,11,34,12],[34,13,34,14],[34,17,34,18],[32,10,34,10],[32,19,34,19],[32,28,34,28],[29,37,31,37],[31,13,31,14],[31,15,31,16],[31,17,31,18],[31,20,31,21],[31,22,31,23],[31,24,31,25],[31,26,31,27],[29,33,31,33],[29,34,31,34],[29,35,31,35],[29,36,31,36],[29,10,31,10],[29,19,31,19],[29,28,31,28],[29,29,31,29],[29,30,31,30],[32,29,34,29],[32,30,34,30],[32,31,34,31],[32,32,34,32],[32,33,34,33],[32,34,34,34],[34,26,34,27],[34,15,34,16],[34,24,34,25],[38,31,40,31],[38,32,40,32],[38,33,40,33],[38,34,40,34],[40,2,40,3],[40,4,40,5],[40,8,40,9],[40,11,40,12],[40,13,40,14],[40,17,40,18],[40,6,40,7],[32,37,34,37],[32,0,34,0],[32,1,33,1],[37,17,37,18],[37,20,37,21],[37,22,37,23],[37,24,37,25],[37,26,37,27],[40,20,40,21],[40,26,40,27],[40,15,40,16],[40,24,40,25],[40,22,40,23],[38,0,40,0],[38,1,39,1],[38,10,40,10],[38,19,40,19],[34,6,34,7],[34,2,34,3],[34,4,34,5],[34,8,34,9],[44,28,46,28],[44,34,46,34],[46,26,46,27],[44,29,46,29],[38,35,40,35],[44,35,46,35],[38,36,40,36],[38,37,40,37],[41,10,43,10],[41,19,43,19],[41,28,43,28],[41,29,43,29],[41,30,43,30],[41,0,43,0],[41,1,42,1],[41,31,43,31],[41,32,43,32],[41,33,43,33],[41,34,43,34],[43,2,43,3],[43,4,43,5],[43,6,43,7],[43,8,43,9],[43,11,43,12],[41,35,43,35],[41,36,43,36],[41,37,43,37],[43,13,43,14],[43,15,43,16],[38,28,40,28],[38,29,40,29],[38,30,40,30],[46,2,46,3],[46,4,46,5],[46,8,46,9],[46,11,46,12],[46,13,46,14],[46,17,46,18],[46,20,46,21],[46,15,46,16],[46,24,46,25],[46,22,46,23],[43,17,43,18],[43,20,43,21],[43,22,43,23],[43,24,43,25],[43,26,43,27],[44,10,46,10],[44,19,46,19],[58,15,58,16],[58,24,58,25],[58,22,58,23],[56,35,58,35],[56,36,58,36],[56,37,58,37],[50,0,52,0],[50,1,51,1],[50,10,52,10],[50,19,52,19],[44,30,46,30],[44,31,46,31],[44,32,46,32],[44,33,46,33],[52,2,52,3],[52,4,52,5],[52,8,52,9],[52,11,52,12],[52,13,52,14],[52,17,52,18],[52,20,52,21],[52,26,52,27],[52,15,52,16],[52,24,52,25],[52,22,52,23],[44,0,46,0],[44,1,45,1],[49,15,49,16],[49,17,49,18],[49,20,49,21],[49,22,49,23],[49,24,49,25],[50,34,52,34],[50,35,52,35],[50,36,52,36],[50,37,52,37],[52,6,52,7],[53,10,55,10],[53,19,55,19],[53,28,55,28],[53,29,55,29],[53,30,55,30],[53,35,55,35],[53,36,55,36],[53,37,55,37],[50,28,52,28],[50,29,52,29],[50,30,52,30],[50,31,52,31],[50,32,52,32],[50,33,52,33],[67,20,67,21],[67,22,67,23],[67,24,67,25],[67,26,67,27],[62,34,64,34],[65,10,67,10],[65,19,67,19],[65,28,67,28],[62,10,64,10],[62,19,64,19],[56,0,58,0],[56,1,57,1],[64,24,64,25],[61,26,61,27],[53,0,55,0],[53,1,54,1],[53,31,55,31],[53,32,55,32],[53,33,55,33],[53,34,55,34],[55,2,55,3],[55,4,55,5],[55,6,55,7],[55,8,55,9],[55,11,55,12],[55,13,55,14],[55,15,55,16],[55,17,55,18],[55,20,55,21],[55,22,55,23],[55,24,55,25],[55,26,55,27],[64,2,64,3],[64,4,64,5],[64,22,64,23],[56,34,58,34],[61,15,61,16],[61,17,61,18],[61,20,61,21],[61,22,61,23],[61,24,61,25],[56,10,58,10],[56,19,58,19],[64,11,64,12],[64,13,64,14],[64,17,64,18],[64,20,64,21],[64,26,64,27],[64,15,64,16],[58,11,58,12],[58,13,58,14],[58,17,58,18],[58,20,58,21],[56,28,58,28],[56,30,58,30],[56,31,58,31],[56,32,58,32],[56,33,58,33],[56,29,58,29],[58,2,58,3],[58,4,58,5],[58,8,58,9],[58,6,58,7],[58,26,58,27],[65,29,67,29],[65,30,67,30],[62,35,64,35],[65,35,67,35],[65,36,67,36],[65,37,67,37],[62,28,64,28],[62,29,64,29],[62,30,64,30],[62,31,64,31],[62,32,64,32],[62,33,64,33],[62,36,64,36],[65,0,67,0],[65,1,66,1],[65,31,67,31],[65,32,67,32],[65,33,67,33],[67,2,67,3],[67,4,67,5],[67,6,67,7],[67,8,67,9],[67,11,67,12],[67,13,67,14],[67,15,67,16],[67,17,67,18],[62,37,64,37],[62,0,64,0],[62,1,63,1],[65,34,67,34],[64,6,64,7],[64,8,64,9],[74,37,76,37],[76,6,76,7],[77,33,79,33],[77,34,79,34],[77,35,79,35],[77,36,79,36],[77,37,79,37],[74,28,76,28],[74,29,76,29],[74,30,76,30],[74,31,76,31],[74,32,76,32],[74,33,76,33],[76,8,76,9],[76,11,76,12],[76,13,76,14],[76,17,76,18],[76,20,76,21],[76,26,76,27],[79,26,79,27],[116,0,118,0],[116,1,117,1],[116,10,118,10],[116,19,118,19],[116,28,118,28],[116,29,118,29],[116,30,118,30],[116,31,118,31],[116,32,118,32],[74,36,76,36],[76,2,76,3],[76,4,76,5],[68,10,70,10],[68,19,70,19],[68,28,70,28],[68,29,70,29],[70,2,70,3],[70,4,70,5],[70,8,70,9],[70,11,70,12],[71,0,73,0],[71,1,72,1],[71,10,73,10],[71,19,73,19],[71,28,73,28],[71,29,73,29],[71,30,73,30],[71,31,73,31],[71,32,73,32],[71,33,73,33],[71,34,73,34],[71,35,73,35],[70,13,70,14],[70,17,70,18],[70,20,70,21],[70,26,70,27],[70,15,70,16],[70,24,70,25],[70,22,70,23],[68,35,70,35],[68,36,70,36],[74,0,76,0],[74,1,75,1],[68,30,70,30],[68,31,70,31],[68,32,70,32],[68,33,70,33],[68,34,70,34],[68,0,70,0],[68,1,69,1],[73,15,73,16],[76,15,76,16],[76,24,76,25],[76,22,76,23],[74,34,76,34],[74,35,76,35],[74,10,76,10],[74,19,76,19],[71,36,73,36],[119,30,121,30],[119,31,121,31],[119,32,121,32],[116,33,118,33],[116,34,118,34],[116,35,118,35],[116,36,118,36],[116,37,118,37],[118,2,118,3],[118,4,118,5],[118,6,118,7],[118,8,118,9],[118,11,118,12],[118,13,118,14],[118,15,118,16],[118,17,118,18],[118,20,118,21],[118,22,118,23],[118,24,118,25],[118,26,118,27],[122,0,124,0],[122,1,123,1],[122,10,124,10],[122,19,124,19],[122,28,124,28],[122,29,124,29],[122,30,124,30],[122,31,124,31],[122,32,124,32],[119,33,121,33]],"merged_total":1871,"flags":["merged_cut"]}
[null,null,null,null,null,null,null,null,null,null,null,null,null,null,null,null,null,null,null,null,null,null,null,null,null,null,null,null,null,null,null,null,null,null,null,null,null,null,null,null,null,null,null,null,4,"غياب"]
[null,null,null,null,null,null,null,null,null,null,null,null,null,null,null,null,null,null,null,null,null,null,null,null,null,null,null,null,null,null,null,null,null,null,null,null,null,null,null,null,null,null,null,null,3,"عزوف عن تطبيق ورقة العمل"]
[null,null,null,null,null,null,null,null,null,null,null,null,null,null,null,null,null,null,null,null,null,null,null,null,null,null,null,null,null,null,null,null,null,null,null,null,null,null,null,null,null,null,null,null,2,"قليل المشاركة في الانشطة الصفية"]
[null,null,null,null,null,null,null,null,null,null,null,null,null,null,null,null,null,null,null,null,null,null,null,null,null,null,null,null,null,null,null,null,null,null,null,null,null,null,null,null,null,null,null,null,1,"يحتاج إلى تعزيز في السلوكيات التربوية"]
[{"$f":"الرئيسية!H12","v":"منطقة حولي التعليمية"},null,"كشــــــف درجات المتعلمين في مادة تكنولوجيا المعلومات والاتصالات",null,null,null,null,null,null,null,null,null,null,null,null,null,null,null,null,null,null,null,null,null,null,null,null,null,null,null,null,null,null,null,null,null,null,null,null,null,null,null,null,null,0,"لا يحضر ادواته ( الكتاب ، .... ) "]
[{"$f":"\"مدرسة \"&الرئيسية!H13","v":"مدرسة "},null,null,null,null,null,null,null,null,null,null,null,null,null,null,null,null,null,null,null,null,null,null,null,null,null,null,null,null,null,null,null,"العام الدراسي:",null,null,{"$f":"الرئيسية!H11","v":"2018-2017"},null,null,null,null,null,null,null,null,null,"أخرى"]
[null,{"$f":"FirstPartDegrees2!B7","v":"اسم المعلم :"},{"$f":"الرئيسية!H14","v":""},null,null,null,null,null,null,null,null,null,null,null,"الصف : ",null,{"$f":"الرئيسية!H15","v":"7-1"},null,null,null,null,null,null,null,null,null,null,null,null,null,null,null,{"$f":"FirstPartDegrees2!M7","v":"الفصل الدراسي الثاني"}]
["م","اسم المتعلم / المتعلمة","الكفاية العامة (1)",null,null,null,null,null,null,null,null,"الكفاية العامة (2)",null,null,null,null,null,null,null,null,"الكفاية العامة (3)",null,null,null,null,null,null,null,null,"معدل النقاط","درجة التقييم البنائي","درجة المشروع ف2","اختبار نهاية الفصل الثاني","مجموع الاختبار الفصل الثاني","نهاية الفصل الثاني","نهاية الفصل الاول","نهاية العام الدراسي","النتيجة"]
[null,null,"كفاية 1.1",null,"كفاية 2.1",null,"كفاية 3.1",null,"كفاية 4.1",null,"المجموع","كفاية 1.2",null,"كفاية 2.2",null,"كفاية 3.2",null,"كفاية 4.2",null,"المجموع","كفاية 1.3",null,"كفاية 2.3",null,"كفاية 3.3",null,"كفاية 4.3",null,"المجموع"]
[null,null,"التاريخ","النقاط","التاريخ","النقاط","التاريخ","النقاط","التاريح","النقاط",null,"التاريخ","النقاط","التاريخ","النقاط","التاريخ","النقاط","التاريح","النقاط",null,"التاريخ","النقاط","التاريخ","النقاط","التاريخ","النقاط","التاريح","النقاط"]
[null,null,null,4,null,4,null,4,null,4,null,null,4,null,4,null,4,null,4,null,null,4,null,4,null,4,null,4,null,12,40,20,40,60,100,100,100]
[1,{"$f":"INDIRECT(ADDRESS(A12+1,2,,,\"للطباعة\"))","v":""},{"$f":"IF($B12=\"\",\"\",للطباعة!$E$2)","v":""},{"$f":"IF($B12=\"\",\"\",للطباعة!$D$2)","v":""},{"$f":"IF($B12=\"\",\"\",للطباعة!$L$2)","v":""},{"$f":"IF($B12=\"\",\"\",للطباعة!$K$2)","v":""},{"$f":"IF($B12=\"\",\"\",للطباعة!$S$2)","v":""},{"$f":"IF($B12=\"\",\"\",للطباعة!$R$2)","v":""},{"$f":"IF($B12=\"\",\"\",للطباعة!$Z$2)","v":""},{"$f":"IF($B12=\"\",\"\",للطباعة!$Y$2)","v":""},{"$f":"IF($B12=\"\",\"\",(C14+E14+G14+I14)/4)","v":""},{"$f":"IF($B12=\"\",\"\",للطباعة!$AH$2)","v":""},{"$f":"IF($B12=\"\",\"\",للطباعة!$AG$2)","v":""},{"$f":"IF($B12=\"\",\"\",للطباعة!$AO$2)","v":""},{"$f":"IF($B12=\"\",\"\",للطباعة!$AN$2)","v":""},{"$f":"IF($B12=\"\",\"\",للطباعة!$AV$2)","v":""},{"$f":"IF($B12=\"\",\"\",للطباعة!$AU$2)","v":""},{"$f":"IF($B12=\"\",\"\",للطباعة!$BC$2)","v":""},{"$f":"IF($B12=\"\",\"\",للطباعة!$BB$2)","v":""},{"$f":"IF($B12=\"\",\"\",(L14+N14+P14+R14)/4)","v":""},{"$f":"IF($B12=\"\",\"\",للطباعة!$BK$2)","v":""},{"$f":"IF($B12=\"\",\"\",للطباعة!$BJ$2)","v":""},{"$f":"IF($B12=\"\",\"\",للطباعة!$BR$2)","v":""},{"$f":"IF($B12=\"\",\"\",للطباعة!$BQ$2)","v":""},{"$f":"IF($B12=\"\",\"\",للطباعة!$BY$2)","v":""},{"$f":"IF($B12=\"\",\"\",للطباعة!$BX$2)","v":""},{"$f":"IF($B12=\"\",\"\",للطباعة!$CF$2)","v":""},{"$f":"IF($B12=\"\",\"\",للطباعة!$CE$2)","v":""},{"$f":"IF($B12=\"\",\"\",(U14+W14+Y14+AA14)/4)","v":""},{"$f":"IF($B12=\"\",\"\",(K12+T12+AC12)*0.04)","v":""},{"$f":"IF($B12=\"\",\"\",IF((AD12*40/12-INT(AD12*40/12))>=0.75,INT(AD12*40/12)+1,IF((AD12*40/12-INT(AD12*40/12))<0.25,INT(AD12*40/12),INT(AD12*40/12)+0.5)))","v":""},{"$f":"IF($B12=\"\",\"\",INDIRECT(ADDRESS(11+A12*2,26,1,,\"SeconedPartDegrees2\")))","v":""},{"$f":"IF($B12=\"\",\"\",INDIRECT(ADDRESS(11+A12*2,27,1,,\"SeconedPartDegrees2\")))","v":""},{"$f":"IF(OR(AF12=\"\",AG12=\"\"),\"\",AF12+AG12)","v":""},{"$f":"IF(OR(AE12=\"\",AG12=\"\"),\"\",AG12+AF12+AE12)","v":""},{"$f":"IF($B12=\"\",\"\",INDIRECT(ADDRESS(11+A12*2,21,1,,\"SeconedPartDegrees1\")))","v":""},{"$f":"IFERROR(IF(AI12=\"\",\"\",IF(((AI12+AJ12)/2-INT((AI12+AJ12)/2))>=0.75,INT((AI12+AJ12)/2)+1,IF(((AI12+AJ12)/2-INT((AI12+AJ12)/2))<0.25,INT((AI12+AJ12)/2),INT((AI12+AJ12)/2)+0.5))),\"\")","v":""},{"$f":"IF($AK12=\"\",\"\",IF(AK12=\"\",\"غياب وعليه دور ثاني\",IF(AK12<50,\"دور ثاني\",\"ناجح\")))","v":""},null,null,{"$f":"ROUNDUP(((FirstPartDegrees2!#REF!+D12)/2+(FirstPartDegrees2!F13+O12)/2+(FirstPartDegrees2!#REF!+M12)/2+(FirstPartDegrees2!C13+F12)/2 )/4,0)","v":{"$error":"#REF!"}},{"$f":"ROUNDUP(((FirstPartDegrees2!#REF!+FirstPartDegrees2!#REF!)/2+(FirstPartDegrees2!G13+J12)/2+(FirstPartDegrees2!L13+S12)/2+(FirstPartDegrees2!H13+#REF!)/2 )/4,0)","v":{"$error":"#REF!"}},{"$f":"ROUNDUP(((FirstPartDegrees2!E13+FirstPartDegrees2!I13)/2+(FirstPartDegrees2!#REF!+FirstPartDegrees2!#REF!)/2+(FirstPartDegrees2!N13+V12)/2+(AB12+#REF!)/2)/4,0)","v":{"$error":"#REF!"}},{"$f":"(AQ12+AAH12+AO12)*40/12","v":{"$error":"#REF!"}}]
[null,null,{"$f":"IF($B12=\"\",\"\",للطباعة!$G$2)","v":""},{"$f":"IF($B12=\"\",\"\",للطباعة!$F$2)","v":""},{"$f":"IF($B12=\"\",\"\",للطباعة!$N$2)","v":""},{"$f":"IF($B12=\"\",\"\",للطباعة!$M$2)","v":""},{"$f":"IF($B12=\"\",\"\",للطباعة!$U$2)","v":""},{"$f":"IF($B12=\"\",\"\",للطباعة!$T$2)","v":""},{"$f":"IF($B12=\"\",\"\",للطباعة!$AB$2)","v":""},{"$f":"IF($B12=\"\",\"\",للطباعة!$AA$2)","v":""},null,{"$f":"IF($B12=\"\",\"\",للطباعة!$AJ$2)","v":""},{"$f":"IF($B12=\"\",\"\",للطباعة!$AI$2)","v":""},{"$f":"IF($B12=\"\",\"\",للطباعة!$AQ$2)","v":""},{"$f":"IF($B12=\"\",\"\",للطباعة!$AP$2)","v":""},{"$f":"IF($B12=\"\",\"\",للطباعة!$AX$2)","v":""},{"$f":"IF($B12=\"\",\"\",للطباعة!$AW$2)","v":""},{"$f":"IF($B12=\"\",\"\",للطباعة!$BE$2)","v":""},{"$f":"IF($B12=\"\",\"\",للطباعة!$BD$2)","v":""},null,{"$f":"IF($B12=\"\",\"\",للطباعة!$BM$2)","v":""},{"$f":"IF($B12=\"\",\"\",للطباعة!$BL$2)","v":""},{"$f":"IF($B12=\"\",\"\",للطباعة!$BT$2)","v":""},{"$f":"IF($B12=\"\",\"\",للطباعة!$BS$2)","v":""},{"$f":"IF($B12=\"\",\"\",للطباعة!$CA$2)","v":""},{"$f":"IF($B12=\"\",\"\",للطباعة!$BZ$2)","v":""},{"$f":"IF($B12=\"\",\"\",للطباعة!$CH$2)","v":""},{"$f":"IF($B12=\"\",\"\",للطباعة!$CG$2)","v":""}]
[null,"النقاط",{"$f":"IF($B12=\"\",\"\",(D12+D13)*100/8)","v":""},null,{"$f":"IF($B12=\"\",\"\",(F12+F13)*100/8)","v":""},null,{"$f":"IF($B12=\"\",\"\",(H12+H13)*100/8)","v":""},null,{"$f":"IF($B12=\"\",\"\",(J12+J13)*100/8)","v":""},null,null,{"$f":"IF($B12=\"\",\"\",(M12+M13)*100/8)","v":""},null,{"$f":"IF($B12=\"\",\"\",(O12+O13)*100/8)","v":""},null,{"$f":"IF($B12=\"\",\"\",(Q12+Q13)*100/8)","v":""},null,{"$f":"IF($B12=\"\",\"\",(S12+S13)*100/8)","v":""},null,null,{"$f":"IF($B12=\"\",\"\",(V12+V13)*100/8)","v":""},null,{"$f":"IF($B12=\"\",\"\",(X12+X13)*100/8)","v":""},null,{"$f":"IF($B12=\"\",\"\",(Z12+Z13)*100/8)","v":""},null,{"$f":"IF($B12=\"\",\"\",(AB12+AB13)*100/8)","v":""}]
[2,{"$f":"INDIRECT(ADDRESS(A15+1,2,,,\"للطباعة\"))","v":""},{"$f":"IF($B15=\"\",\"\",للطباعة!$E$3)","v":""},{"$f":"IF($B15=\"\",\"\",للطباعة!$D$3)","v":""},{"$f":"IF($B15=\"\",\"\",للطباعة!$L$3)","v":""},{"$f":"IF($B15=\"\",\"\",للطباعة!$K$3)","v":""},{"$f":"IF($B15=\"\",\"\",للطباعة!$S$3)","v":""},{"$f":"IF($B15=\"\",\"\",للطباعة!$R$3)","v":""},{"$f":"IF($B15=\"\",\"\",للطباعة!$Z$3)","v":""},{"$f":"IF($B15=\"\",\"\",للطباعة!$Y$3)","v":""},{"$f":"IF($B15=\"\",\"\",(C17+E17+G17+I17)/4)","v":""},{"$f":"IF($B15=\"\",\"\",للطباعة!$AH$3)","v":""},{"$f":"IF($B15=\"\",\"\",للطباعة!$AG$3)","v":""},{"$f":"IF($B15=\"\",\"\",للطباعة!$AO$3)","v":""},{"$f":"IF($B15=\"\",\"\",للطباعة!$AN$3)","v":""},{"$f":"IF($B15=\"\",\"\",للطباعة!$AV$3)","v":""},{"$f":"IF($B15=\"\",\"\",للطباعة!$AU$3)","v":""},{"$f":"IF($B15=\"\",\"\",للطباعة!$BC$3)","v":""},{"$f":"IF($B15=\"\",\"\",للطباعة!$BB$3)","v":""},{"$f":"IF($B15=\"\",\"\",(L17+N17+P17+R17)/4)","v":""},{"$f":"IF($B15=\"\",\"\",للطباعة!$BK$3)","v":""},{"$f":"IF($B15=\"\",\"\",للطباعة!$BJ$3)","v":""},{"$f":"IF($B15=\"\",\"\",للطباعة!$BR$3)","v":""},{"$f":"IF($B15=\"\",\"\",للطباعة!$BQ$3)","v":""},{"$f":"IF($B15=\"\",\"\",للطباعة!$BY$3)","v":""},{"$f":"IF($B15=\"\",\"\",للطباعة!$BX$3)","v":""},{"$f":"IF($B15=\"\",\"\",للطباعة!$CF$3)","v":""},{"$f":"IF($B15=\"\",\"\",للطباعة!$CE$3)","v":""},{"$f":"IF($B15=\"\",\"\",(U17+W17+Y17+AA17)/4)","v":""},{"$f":"IF($B15=\"\",\"\",(K15+T15+AC15)*0.04)","v":""},{"$f":"IF($B15=\"\",\"\",IF((AD15*40/12-INT(AD15*40/12))>=0.75,INT(AD15*40/12)+1,IF((AD15*40/12-INT(AD15*40/12))<0.25,INT(AD15*40/12),INT(AD12*40/12)+0.5)))","v":""},{"$f":"IF($B15=\"\",\"\",INDIRECT(ADDRESS(11+A15*2,26,1,,\"SeconedPartDegrees2\")))","v":""},{"$f":"IF($B15=\"\",\"\",INDIRECT(ADDRESS(11+A15*2,27,1,,\"SeconedPartDegrees2\")))","v":""},{"$f":"IF(OR(AF15=\"\",AG15=\"\"),\"\",AF15+AG15)","v":""},{"$f":"IF(OR(AE15=\"\",AG15=\"\"),\"\",AG15+AF15+AE15)","v":""},{"$f":"IF($B15=\"\",\"\",INDIRECT(ADDRESS(11+A15*2,21,1,,\"SeconedPartDegrees1\")))","v":""},{"$f":"IFERROR(IF(AI15=\"\",\"\",IF(((AI15+AJ15)/2-INT((AI15+AJ15)/2))>=0.75,INT((AI15+AJ15)/2)+1,IF(((AI15+AJ15)/2-INT((AI15+AJ15)/2))<0.25,INT((AI15+AJ15)/2),INT((AI15+AJ15)/2)+0.5))),\"\")","v":""},{"$f":"IF($AK15=\"\",\"\",IF(AK15=\"\",\"غياب وعليه دور ثاني\",IF(AK15<50,\"دور ثاني\",\"ناجح\")))","v":""},null,null,{"$f":"ROUNDUP(((FirstPartDegrees2!#REF!+D15)/2+(FirstPartDegrees2!F15+O15)/2+(FirstPartDegrees2!#REF!+M15)/2+(FirstPartDegrees2!C15+F15)/2 )/4,0)","v":{"$error":"#REF!"}},{"$f":"ROUNDUP(((FirstPartDegrees2!#REF!+FirstPartDegrees2!#REF!)/2+(FirstPartDegrees2!G15+J15)/2+(FirstPartDegrees2!L15+S15)/2+(FirstPartDegrees2!H15+#REF!)/2 )/4,0)","v":{"$error":"#REF!"}},{"$f":"ROUNDUP(((FirstPartDegrees2!E15+FirstPartDegrees2!I15)/2+(FirstPartDegrees2!#REF!+FirstPartDegrees2!#REF!)/2+(FirstPartDegrees2!N15+V15)/2+(AB15+#REF!)/2)/4,0)","v":{"$error":"#REF!"}},{"$f":"(AQ15+AAH15+AO15)*40/12","v":{"$error":"#REF!"}}]
[null,null,{"$f":"IF($B15=\"\",\"\",للطباعة!$G$3)","v":""},{"$f":"IF($B15=\"\",\"\",للطباعة!$F$3)","v":""},{"$f":"IF($B15=\"\",\"\",للطباعة!$N$3)","v":""},{"$f":"IF($B15=\"\",\"\",للطباعة!$M$3)","v":""},{"$f":"IF($B15=\"\",\"\",للطباعة!$U$3)","v":""},{"$f":"IF($B15=\"\",\"\",للطباعة!$T$3)","v":""},{"$f":"IF($B15=\"\",\"\",للطباعة!$AB$3)","v":""},{"$f":"IF($B15=\"\",\"\",للطباعة!$AA$3)","v":""},null,{"$f":"IF($B15=\"\",\"\",للطباعة!$AJ$3)","v":""},{"$f":"IF($B15=\"\",\"\",للطباعة!$AI$3)","v":""},{"$f":"IF($B15=\"\",\"\",للطباعة!$AQ$3)","v":""},{"$f":"IF($B15=\"\",\"\",للطباعة!$AP$3)","v":""},{"$f":"IF($B15=\"\",\"\",للطباعة!$AX$3)","v":""},{"$f":"IF($B15=\"\",\"\",للطباعة!$AW$3)","v":""},{"$f":"IF($B15=\"\",\"\",للطباعة!$BE$3)","v":""},{"$f":"IF($B15=\"\",\"\",للطباعة!$BD$3)","v":""},null,{"$f":"IF($B15=\"\",\"\",للطباعة!$BM$3)","v":""},{"$f":"IF($B15=\"\",\"\",للطباعة!$BL$3)","v":""},{"$f":"IF($B15=\"\",\"\",للطباعة!$BT$3)","v":""},{"$f":"IF($B15=\"\",\"\",للطباعة!$BS$3)","v":""},{"$f":"IF($B15=\"\",\"\",للطباعة!$CA$3)","v":""},{"$f":"IF($B15=\"\",\"\",للطباعة!$BZ$3)","v":""},{"$f":"IF($B15=\"\",\"\",للطباعة!$CH$3)","v":""},{"$f":"IF($B15=\"\",\"\",للطباعة!$CG$3)","v":""}]
[null,"النقاط",{"$f":"IF($B15=\"\",\"\",(D15+D16)*100/8)","v":""},null,{"$f":"IF($B15=\"\",\"\",(F15+F16)*100/8)","v":""},null,{"$f":"IF($B15=\"\",\"\",(H15+H16)*100/8)","v":""},null,{"$f":"IF($B15=\"\",\"\",(J15+J16)*100/8)","v":""},null,null,{"$f":"IF($B15=\"\",\"\",(M15+M16)*100/8)","v":""},null,{"$f":"IF($B15=\"\",\"\",(O15+O16)*100/8)","v":""},null,{"$f":"IF($B15=\"\",\"\",(Q15+Q16)*100/8)","v":""},null,{"$f":"IF($B15=\"\",\"\",(S15+S16)*100/8)","v":""},null,null,{"$f":"IF($B15=\"\",\"\",(V15+V16)*100/8)","v":""},null,{"$f":"IF($B15=\"\",\"\",(X15+X16)*100/8)","v":""},null,{"$f":"IF($B15=\"\",\"\",(Z15+Z16)*100/8)","v":""},null,{"$f":"IF($B15=\"\",\"\",(AB15+AB16)*100/8)","v":""}]
[3,{"$f":"INDIRECT(ADDRESS(A18+1,2,,,\"للطباعة\"))","v":""},{"$f":"IF($B18=\"\",\"\",للطباعة!$E$4)","v":""},{"$f":"IF($B18=\"\",\"\",للطباعة!$D$4)","v":""},{"$f":"IF($B18=\"\",\"\",للطباعة!$L$4)","v":""},{"$f":"IF($B18=\"\",\"\",للطباعة!$K$4)","v":""},{"$f":"IF($B18=\"\",\"\",للطباعة!$S$4)","v":""},{"$f":"IF($B18=\"\",\"\",للطباعة!$R$4)","v":""},{"$f":"IF($B18=\"\",\"\",للطباعة!$Z$4)","v":""},{"$f":"IF($B18=\"\",\"\",للطباعة!$Y$4)","v":""},{"$f":"IF($B18=\"\",\"\",(C20+E20+G20+I20)/4)","v":""},{"$f":"IF($B18=\"\",\"\",للطباعة!$AH$4)","v":""},{"$f":"IF($B18=\"\",\"\",للطباعة!$AG$4)","v":""},{"$f":"IF($B18=\"\",\"\",للطباعة!$AO$4)","v":""},{"$f":"IF($B18=\"\",\"\",للطباعة!$AN$4)","v":""},{"$f":"IF($B18=\"\",\"\",للطباعة!$AV$4)","v":""},{"$f":"IF($B18=\"\",\"\",للطباعة!$AU$4)","v":""},{"$f":"IF($B18=\"\",\"\",للطباعة!$BC$4)","v":""},{"$f":"IF($B18=\"\",\"\",للطباعة!$BB$4)","v":""},{"$f":"IF($B18=\"\",\"\",(L20+N20+P20+R20)/4)","v":""},{"$f":"IF($B18=\"\",\"\",للطباعة!$BK$4)","v":""},{"$f":"IF($B18=\"\",\"\",للطباعة!$BJ$4)","v":""},{"$f":"IF($B18=\"\",\"\",للطباعة!$BR$4)","v":""},{"$f":"IF($B18=\"\",\"\",للطباعة!$BQ$4)","v":""},{"$f":"IF($B18=\"\",\"\",للطباعة!$BY$4)","v":""},{"$f":"IF($B18=\"\",\"\",للطباعة!$BX$4)","v":""},{"$f":"IF($B18=\"\",\"\",للطباعة!$CF$4)","v":""},{"$f":"IF($B18=\"\",\"\",للطباعة!$CE$4)","v":""},{"$f":"IF($B18=\"\",\"\",(U20+W20+Y20+AA20)/4)","v":""},{"$f":"IF($B18=\"\",\"\",(K18+T18+AC18)*0.04)","v":""},{"$f":"IF($B18=\"\",\"\",IF((AD18*40/12-INT(AD18*40/12))>=0.75,INT(AD18*40/12)+1,IF((AD18*40/12-INT(AD18*40/12))<0.25,INT(AD18*40/12),INT(AD15*40/12)+0.5)))","v":""},{"$f":"IF($B18=\"\",\"\",INDIRECT(ADDRESS(11+A18*2,19,1,,\"SeconedPartDegrees2\")))","v":""},{"$f":"IF($B18=\"\",\"\",INDIRECT(ADDRESS(11+A18*2,20,1,,\"SeconedPartDegrees2\")))","v":""},{"$f":"IF(OR(AF18=\"\",AG18=\"\"),\"\",AF18+AG18)","v":""},{"$f":"IF(OR(AE18=\"\",AG18=\"\"),\"\",AG18+AF18+AE18)","v":""},{"$f":"IF($B18=\"\",\"\",INDIRECT(ADDRESS(11+A18*2,21,1,,\"SeconedPartDegrees1\")))","v":""},{"$f":"IFERROR(IF(AI18=\"\",\"\",IF(((AI18+AJ18)/2-INT((AI18+AJ18)/2))>=0.75,INT((AI18+AJ18)/2)+1,IF(((AI18+AJ18)/2-INT((AI18+AJ18)/2))<0.25,INT((AI18+AJ18)/2),INT((AI18+AJ18)/2)+0.5))),\"\")","v":""},{"$f":"IF($AK18=\"\",\"\",IF(AK18=\"\",\"غياب وعليه دور ثاني\",IF(AK18<50,\"دور ثاني\",\"ناجح\")))","v":""},null,null,{"$f":"ROUNDUP(((FirstPartDegrees2!#REF!+D18)/2+(FirstPartDegrees2!F18+O18)/2+(FirstPartDegrees2!#REF!+M18)/2+(FirstPartDegrees2!C18+F18)/2 )/4,0)","v":{"$error":"#REF!"}},{"$f":"ROUNDUP(((FirstPartDegrees2!#REF!+FirstPartDegrees2!#REF!)/2+(FirstPartDegrees2!G18+J18)/2+(FirstPartDegrees2!L18+S18)/2+(FirstPartDegrees2!H18+#REF!)/2 )/4,0)","v":{"$error":"#REF!"}},{"$f":"ROUNDUP(((FirstPartDegrees2!E18+FirstPartDegrees2!I18)/2+(FirstPartDegrees2!#REF!+FirstPartDegrees2!#REF!)/2+(FirstPartDegrees2!N18+V18)/2+(AB18+#REF!)/2)/4,0)","v":{"$error":"#REF!"}},{"$f":"(AQ18+AAH18+AO18)*40/12","v":{"$error":"#REF!"}}]
[null,null,{"$f":"IF($B18=\"\",\"\",للطباعة!$G$4)","v":""},{"$f":"IF($B18=\"\",\"\",للطباعة!$F$4)","v":""},{"$f":"IF($B18=\"\",\"\",للطباعة!$N$4)","v":""},{"$f":"IF($B18=\"\",\"\",للطباعة!$M$4)","v":""},{"$f":"IF($B18=\"\",\"\",للطباعة!$U$4)","v":""},{"$f":"IF($B18=\"\",\"\",للطباعة!$T$4)","v":""},{"$f":"IF($B18=\"\",\"\",للطباعة!$AB$4)","v":""},{"$f":"IF($B18=\"\",\"\",للطباعة!$AA$4)","v":""},null,{"$f":"IF($B18=\"\",\"\",للطباعة!$AJ$4)","v":""},{"$f":"IF($B18=\"\",\"\",للطباعة!$AI$4)","v":""},{"$f":"IF($B18=\"\",\"\",للطباعة!$AQ$4)","v":""},{"$f":"IF($B18=\"\",\"\",للطباعة!$AP$4)","v":""},{"$f":"IF($B18=\"\",\"\",للطباعة!$AX$4)","v":""},{"$f":"IF($B18=\"\",\"\",للطباعة!$AW$4)","v":""},{"$f":"IF($B18=\"\",\"\",للطباعة!$BE$4)","v":""},{"$f":"IF($B18=\"\",\"\",للطباعة!$BD$4)","v":""},null,{"$f":"IF($B18=\"\",\"\",للطباعة!$BM$4)","v":""},{"$f":"IF($B18=\"\",\"\",للطباعة!$BL$4)","v":""},{"$f":"IF($B18=\"\",\"\",للطباعة!$BT$4)","v":""},{"$f":"IF($B18=\"\",\"\",للطباعة!$BS$4)","v":""},{"$f":"IF($B18=\"\",\"\",للطباعة!$CA$4)","v":""},{"$f":"IF($B18=\"\",\"\",للطباعة!$BZ$4)","v":""},{"$f":"IF($B18=\"\",\"\",للطباعة!$CH$4)","v":""},{"$f":"IF($B18=\"\",\"\",للطباعة!$CG$4)","v":""}]
[null,"النقاط",{"$f":"IF($B18=\"\",\"\",(D18+D19)*100/8)","v":""},null,{"$f":"IF($B18=\"\",\"\",(F18+F19)*100/8)","v":""},null,{"$f":"IF($B18=\"\",\"\",(H18+H19)*100/8)","v":""},null,{"$f":"IF($B18=\"\",\"\",(J18+J19)*100/8)","v":""},null,null,{"$f":"IF($B18=\"\",\"\",(M18+M19)*100/8)","v":""},null,{"$f":"IF($B18=\"\",\"\",(O18+O19)*100/8)","v":""},null,{"$f":"IF($B18=\"\",\"\",(Q18+Q19)*100/8)","v":""},null,{"$f":"IF($B18=\"\",\"\",(S18+S19)*100/8)","v":""},null,null,{"$f":"IF($B18=\"\",\"\",(V18+V19)*100/8)","v":""},null,{"$f":"IF($B18=\"\",\"\",(X18+X19)*100/8)","v":""},null,{"$f":"IF($B18=\"\",\"\",(Z18+Z19)*100/8)","v":""},null,{"$f":"IF($B18=\"\",\"\",(AB18+AB19)*100/8)","v":""}]
[4,{"$f":"INDIRECT(ADDRESS(A21+1,2,,,\"للطباعة\"))","v":""},{"$f":"IF($B21=\"\",\"\",للطباعة!$E$5)","v":""},{"$f":"IF($B21=\"\",\"\",للطباعة!$D$5)","v":""},{"$f":"IF($B21=\"\",\"\",للطباعة!$L$5)","v":""},{"$f":"IF($B21=\"\",\"\",للطباعة!$K$5)","v":""},{"$f":"IF($B21=\"\",\"\",للطباعة!$S$5)","v":""},{"$f":"IF($B21=\"\",\"\",للطباعة!$R$5)","v":""},{"$f":"IF($B21=\"\",\"\",للطباعة!$Z$5)","v":""},{"$f":"IF($B21=\"\",\"\",للطباعة!$Y$5)","v":""},{"$f":"IF($B21=\"\",\"\",(C23+E23+G23+I23)/4)","v":""},{"$f":"IF($B21=\"\",\"\",للطباعة!$AH$5)","v":""},{"$f":"IF($B21=\"\",\"\",للطباعة!$AG$5)","v":""},{"$f":"IF($B21=\"\",\"\",للطباعة!$AO$5)","v":""},{"$f":"IF($B21=\"\",\"\",للطباعة!$AN$5)","v":""},{"$f":"IF($B21=\"\",\"\",للطباعة!$AV$5)","v":""},{"$f":"IF($B21=\"\",\"\",للطباعة!$AU$5)","v":""},{"$f":"IF($B21=\"\",\"\",للطباعة!$BC$5)","v":""},{"$f":"IF($B21=\"\",\"\",للطباعة!$BB$5)","v":""},{"$f":"IF($B21=\"\",\"\",(L23+N23+P23+R23)/4)","v":""},{"$f":"IF($B21=\"\",\"\",للطباعة!$BK$5)","v":""},{"$f":"IF($B21=\"\",\"\",للطباعة!$BJ$5)","v":""},{"$f":"IF($B21=\"\",\"\",للطباعة!$BR$5)","v":""},{"$f":"IF($B21=\"\",\"\",للطباعة!$BQ$5)","v":""},{"$f":"IF($B21=\"\",\"\",للطباعة!$BY$5)","v":""},{"$f":"IF($B21=\"\",\"\",للطباعة!$BX$5)","v":""},{"$f":"IF($B21=\"\",\"\",للطباعة!$CF$5)","v":""},{"$f":"IF($B21=\"\",\"\",للطباعة!$CE$5)","v":""},{"$f":"IF($B21=\"\",\"\",(U23+W23+Y23+AA23)/4)","v":""},{"$f":"IF($B21=\"\",\"\",(K21+T21+AC21)*0.04)","v":""},{"$f":"IF($B21=\"\",\"\",IF((AD21*40/12-INT(AD21*40/12))>=0.75,INT(AD21*40/12)+1,IF((AD21*40/12-INT(AD21*40/12))<0.25,INT(AD21*40/12),INT(AD18*40/12)+0.5)))","v":""},{"$f":"IF($B21=\"\",\"\",INDIRECT(ADDRESS(11+A21*2,19,1,,\"SeconedPartDegrees2\")))","v":""},{"$f":"IF($B21=\"\",\"\",INDIRECT(ADDRESS(11+A21*2,20,1,,\"SeconedPartDegrees2\")))","v":""},{"$f":"IF(OR(AF21=\"\",AG21=\"\"),\"\",AF21+AG21)","v":""},{"$f":"IF(OR(AE21=\"\",AG21=\"\"),\"\",AG21+AF21+AE21)","v":""},{"$f":"IF($B21=\"\",\"\",INDIRECT(ADDRESS(11+A21*2,21,1,,\"SeconedPartDegrees1\")))","v":""},{"$f":"IFERROR(IF(AI21=\"\",\"\",IF(((AI21+AJ21)/2-INT((AI21+AJ21)/2))>=0.75,INT((AI21+AJ21)/2)+1,IF(((AI21+AJ21)/2-INT((AI21+AJ21)/2))<0.25,INT((AI21+AJ21)/2),INT((AI21+AJ21)/2)+0.5))),\"\")","v":""},{"$f":"IF($AK21=\"\",\"\",IF(AK21=\"\",\"غياب وعليه دور ثاني\",IF(AK21<50,\"دور ثاني\",\"ناجح\")))","v":""},null,null,{"$f":"ROUNDUP(((FirstPartDegrees2!#REF!+D21)/2+(FirstPartDegrees2!F21+O21)/2+(FirstPartDegrees2!#REF!+M21)/2+(FirstPartDegrees2!C21+F21)/2 )/4,0)","v":{"$error":"#REF!"}},{"$f":"ROUNDUP(((FirstPartDegrees2!#REF!+FirstPartDegrees2!#REF!)/2+(FirstPartDegrees2!G21+J21)/2+(FirstPartDegrees2!L21+S21)/2+(FirstPartDegrees2!H21+#REF!)/2 )/4,0)","v":{"$error":"#REF!"}},{"$f":"ROUNDUP(((FirstPartDegrees2!E21+FirstPartDegrees2!I21)/2+(FirstPartDegrees2!#REF!+FirstPartDegrees2!#REF!)/2+(FirstPartDegrees2!N21+V21)/2+(AB21+#REF!)/2)/4,0)","v":{"$error":"#REF!"}},{"$f":"(AQ21+AAH21+AO21)*40/12","v":{"$error":"#REF!"}}]
[null,null,{"$f":"IF($B21=\"\",\"\",للطباعة!$G$5)","v":""},{"$f":"IF($B21=\"\",\"\",للطباعة!$F$5)","v":""},{"$f":"IF($B21=\"\",\"\",للطباعة!$N$5)","v":""},{"$f":"IF($B21=\"\",\"\",للطباعة!$M$5)","v":""},{"$f":"IF($B21=\"\",\"\",للطباعة!$U$5)","v":""},{"$f":"IF($B21=\"\",\"\",للطباعة!$T$5)","v":""},{"$f":"IF($B21=\"\",\"\",للطباعة!$AB$5)","v":""},{"$f":"IF($B21=\"\",\"\",للطباعة!$AA$5)","v":""},null,{"$f":"IF($B21=\"\",\"\",للطباعة!$AJ$5)","v":""},{"$f":"IF($B21=\"\",\"\",للطباعة!$AI$5)","v":""},{"$f":"IF($B21=\"\",\"\",للطباعة!$AQ$5)","v":""},{"$f":"IF($B21=\"\",\"\",للطباعة!$AP$5)","v":""},{"$f":"IF($B21=\"\",\"\",للطباعة!$AX$5)","v":""},{"$f":"IF($B21=\"\",\"\",للطباعة!$AW$5)","v":""},{"$f":"IF($B21=\"\",\"\",للطباعة!$BE$5)","v":""},{"$f":"IF($B21=\"\",\"\",للطباعة!$BD$5)","v":""},null,{"$f":"IF($B21=\"\",\"\",للطباعة!$BM$5)","v":""},{"$f":"IF($B21=\"\",\"\",للطباعة!$BL$5)","v":""},{"$f":"IF($B21=\"\",\"\",للطباعة!$BT$5)","v":""},{"$f":"IF($B21=\"\",\"\",للطباعة!$BS$5)","v":""},{"$f":"IF($B21=\"\",\"\",للطباعة!$CA$5)","v":""},{"$f":"IF($B21=\"\",\"\",للطباعة!$BZ$5)","v":""},{"$f":"IF($B21=\"\",\"\",للطباعة!$CH$5)","v":""},{"$f":"IF($B21=\"\",\"\",للطباعة!$CG$5)","v":""}]
[null,"النقاط",{"$f":"IF($B21=\"\",\"\",(D21+D22)*100/8)","v":""},null,{"$f":"IF($B21=\"\",\"\",(F21+F22)*100/8)","v":""},null,{"$f":"IF($B21=\"\",\"\",(H21+H22)*100/8)","v":""},null,{"$f":"IF($B21=\"\",\"\",(J21+J22)*100/8)","v":""},null,null,{"$f":"IF($B21=\"\",\"\",(M21+M22)*100/8)","v":""},null,{"$f":"IF($B21=\"\",\"\",(O21+O22)*100/8)","v":""},null,{"$f":"IF($B21=\"\",\"\",(Q21+Q22)*100/8)","v":""},null,{"$f":"IF($B21=\"\",\"\",(S21+S22)*100/8)","v":""},null,null,{"$f":"IF($B21=\"\",\"\",(V21+V22)*100/8)","v":""},null,{"$f":"IF($B21=\"\",\"\",(X21+X22)*100/8)","v":""},null,{"$f":"IF($B21=\"\",\"\",(Z21+Z22)*100/8)","v":""},null,{"$f":"IF($B21=\"\",\"\",(AB21+AB22)*100/8)","v":""}]
[5,{"$f":"INDIRECT(ADDRESS(A24+1,2,,,\"للطباعة\"))","v":""},{"$f":"IF($B24=\"\",\"\",للطباعة!$E$6)","v":""},{"$f":"IF($B24=\"\",\"\",للطباعة!$D$6)","v":""},{"$f":"IF($B24=\"\",\"\",للطباعة!$L$6)","v":""},{"$f":"IF($B24=\"\",\"\",للطباعة!$K$6)","v":""},{"$f":"IF($B24=\"\",\"\",للطباعة!$S$6)","v":""},{"$f":"IF($B24=\"\",\"\",للطباعة!$R$6)","v":""},{"$f":"IF($B24=\"\",\"\",للطباعة!$Z$6)","v":""},{"$f":"IF($B24=\"\",\"\",للطباعة!$Y$6)","v":""},{"$f":"IF($B24=\"\",\"\",(C26+E26+G26+I26)/4)","v":""},{"$f":"IF($B24=\"\",\"\",للطباعة!$AH$6)","v":""},{"$f":"IF($B24=\"\",\"\",للطباعة!$AG$6)","v":""},{"$f":"IF($B24=\"\",\"\",للطباعة!$AO$6)","v":""},{"$f":"IF($B24=\"\",\"\",للطباعة!$AN$6)","v":""},{"$f":"IF($B24=\"\",\"\",للطباعة!$AV$6)","v":""},{"$f":"IF($B24=\"\",\"\",للطباعة!$AU$6)","v":""},{"$f":"IF($B24=\"\",\"\",للطباعة!$BC$6)","v":""},{"$f":"IF($B24=\"\",\"\",للطباعة!$BB$6)","v":""},{"$f":"IF($B24=\"\",\"\",(L26+N26+P26+R26)/4)","v":""},{"$f":"IF($B24=\"\",\"\",للطباعة!$BK$6)","v":""},{"$f":"IF($B24=\"\",\"\",للطباعة!$BJ$6)","v":""},{"$f":"IF($B24=\"\",\"\",للطباعة!$BR$6)","v":""},{"$f":"IF($B24=\"\",\"\",للطباعة!$BQ$6)","v":""},{"$f":"IF($B24=\"\",\"\",للطباعة!$BY$6)","v":""},{"$f":"IF($B24=\"\",\"\",للطباعة!$BX$6)","v":""},{"$f":"IF($B24=\"\",\"\",للطباعة!$CF$6)","v":""},{"$f":"IF($B24=\"\",\"\",للطباعة!$CE$6)","v":""},{"$f":"IF($B24=\"\",\"\",(U26+W26+Y26+AA26)/4)","v":""},{"$f":"IF($B24=\"\",\"\",(K24+T24+AC24)*0.04)","v":""},{"$f":"IF($B24=\"\",\"\",IF((AD24*40/12-INT(AD24*40/12))>=0.75,INT(AD24*40/12)+1,IF((AD24*40/12-INT(AD24*40/12))<0.25,INT(AD24*40/12),INT(AD21*40/12)+0.5)))","v":""},{"$f":"IF($B24=\"\",\"\",INDIRECT(ADDRESS(11+A24*2,19,1,,\"SeconedPartDegrees2\")))","v":""},{"$f":"IF($B24=\"\",\"\",INDIRECT(ADDRESS(11+A24*2,20,1,,\"SeconedPartDegrees2\")))","v":""},{"$f":"IF(OR(AF24=\"\",AG24=\"\"),\"\",AF24+AG24)","v":""},{"$f":"IF(OR(AE24=\"\",AG24=\"\"),\"\",AG24+AF24+AE24)","v":""},{"$f":"IF($B24=\"\",\"\",INDIRECT(ADDRESS(11+A24*2,21,1,,\"SeconedPartDegrees1\")))","v":""},{"$f":"IFERROR(IF(AI24=\"\",\"\",IF(((AI24+AJ24)/2-INT((AI24+AJ24)/2))>=0.75,INT((AI24+AJ24)/2)+1,IF(((AI24+AJ24)/2-INT((AI24+AJ24)/2))<0.25,INT((AI24+AJ24)/2),INT((AI24+AJ24)/2)+0.5))),\"\")","v":""},{"$f":"IF($AK24=\"\",\"\",IF(AK24=\"\",\"غياب وعليه دور ثاني\",IF(AK24<50,\"دور ثاني\",\"ناجح\")))","v":""},null,null,{"$f":"ROUNDUP(((FirstPartDegrees2!#REF!+D24)/2+(FirstPartDegrees2!F24+O24)/2+(FirstPartDegrees2!#REF!+M24)/2+(FirstPartDegrees2!C24+F24)/2 )/4,0)","v":{"$error":"#REF!"}},{"$f":"ROUNDUP(((FirstPartDegrees2!#REF!+FirstPartDegrees2!#REF!)/2+(FirstPartDegrees2!G24+J24)/2+(FirstPartDegrees2!L24+S24)/2+(FirstPartDegrees2!H24+#REF!)/2 )/4,0)","v":{"$error":"#REF!"}},{"$f":"ROUNDUP(((FirstPartDegrees2!E24+FirstPartDegrees2!I24)/2+(FirstPartDegrees2!#REF!+FirstPartDegrees2!#REF!)/2+(FirstPartDegrees2!N24+V24)/2+(AB24+#REF!)/2)/4,0)","v":{"$error":"#REF!"}},{"$f":"(AQ24+AAH24+AO24)*40/12","v":{"$error":"#REF!"}}]
[null,null,{"$f":"IF($B24=\"\",\"\",للطباعة!$G$6)","v":""},{"$f":"IF($B24=\"\",\"\",للطباعة!$F$6)","v":""},{"$f":"IF($B24=\"\",\"\",للطباعة!$N$6)","v":""},{"$f":"IF($B24=\"\",\"\",للطباعة!$M$6)","v":""},{"$f":"IF($B24=\"\",\"\",للطباعة!$U$6)","v":""},{"$f":"IF($B24=\"\",\"\",للطباعة!$T$6)","v":""},{"$f":"IF($B24=\"\",\"\",للطباعة!$AB$6)","v":""},{"$f":"IF($B24=\"\",\"\",للطباعة!$AA$6)","v":""},null,{"$f":"IF($B24=\"\",\"\",للطباعة!$AJ$6)","v":""},{"$f":"IF($B24=\"\",\"\",للطباعة!$AI$6)","v":""},{"$f":"IF($B24=\"\",\"\",للطباعة!$AQ$6)","v":""},{"$f":"IF($B24=\"\",\"\",للطباعة!$AP$6)","v":""},{"$f":"IF($B24=\"\",\"\",للطباعة!$AX$6)","v":""},{"$f":"IF($B24=\"\",\"\",للطباعة!$AW$6)","v":""},{"$f":"IF($B24=\"\",\"\",للطباعة!$BE$6)","v":""},{"$f":"IF($B24=\"\",\"\",للطباعة!$BD$6)","v":""},null,{"$f":"IF($B24=\"\",\"\",للطباعة!$BM$6)","v":""},{"$f":"IF($B24=\"\",\"\",للطباعة!$BL$6)","v":""},{"$f":"IF($B24=\"\",\"\",للطباعة!$BT$6)","v":""},{"$f":"IF($B24=\"\",\"\",للطباعة!$BS$6)","v":""},{"$f":"IF($B24=\"\",\"\",للطباعة!$CA$6)","v":""},{"$f":"IF($B24=\"\",\"\",للطباعة!$BZ$6)","v":""},{"$f":"IF($B24=\"\",\"\",للطباعة!$CH$6)","v":""},{"$f":"IF($B24=\"\",\"\",للطباعة!$CG$6)","v":""}]
[null,"النقاط",{"$f":"IF($B24=\"\",\"\",(D24+D25)*100/8)","v":""},null,{"$f":"IF($B24=\"\",\"\",(F24+F25)*100/8)","v":""},null,{"$f":"IF($B24=\"\",\"\",(H24+H25)*100/8)","v":""},null,{"$f":"IF($B24=\"\",\"\",(J24+J25)*100/8)","v":""},null,null,{"$f":"IF($B24=\"\",\"\",(M24+M25)*100/8)","v":""},null,{"$f":"IF($B24=\"\",\"\",(O24+O25)*100/8)","v":""},null,{"$f":"IF($B24=\"\",\"\",(Q24+Q25)*100/8)","v":""},null,{"$f":"IF($B24=\"\",\"\",(S24+S25)*100/8)","v":""},null,null,{"$f":"IF($B24=\"\",\"\",(V24+V25)*100/8)","v":""},null,{"$f":"IF($B24=\"\",\"\",(X24+X25)*100/8)","v":""},null,{"$f":"IF($B24=\"\",\"\",(Z24+Z25)*100/8)","v":""},null,{"$f":"IF($B24=\"\",\"\",(AB24+AB25)*100/8)","v":""}]
[6,{"$f":"INDIRECT(ADDRESS(A27+1,2,,,\"للطباعة\"))","v":""},{"$f":"IF($B27=\"\",\"\",للطباعة!$E$7)","v":""},{"$f":"IF($B27=\"\",\"\",للطباعة!$D$7)","v":""},{"$f":"IF($B27=\"\",\"\",للطباعة!$L$7)","v":""},{"$f":"IF($B27=\"\",\"\",للطباعة!$K$7)","v":""},{"$f":"IF($B27=\"\",\"\",للطباعة!$S$7)","v":""},{"$f":"IF($B27=\"\",\"\",للطباعة!$R$7)","v":""},{"$f":"IF($B27=\"\",\"\",للطباعة!$Z$7)","v":""},{"$f":"IF($B27=\"\",\"\",للطباعة!$Y$7)","v":""},{"$f":"IF($B27=\"\",\"\",(C29+E29+G29+I29)/4)","v":""},{"$f":"IF($B27=\"\",\"\",للطباعة!$AH$7)","v":""},{"$f":"IF($B27=\"\",\"\",للطباعة!$AG$7)","v":""},{"$f":"IF($B27=\"\",\"\",للطباعة!$AO$7)","v":""},{"$f":"IF($B27=\"\",\"\",للطباعة!$AN$7)","v":""},{"$f":"IF($B27=\"\",\"\",للطباعة!$AV$7)","v":""},{"$f":"IF($B27=\"\",\"\",للطباعة!$AU$7)","v":""},{"$f":"IF($B27=\"\",\"\",للطباعة!$BC$7)","v":""},{"$f":"IF($B27=\"\",\"\",للطباعة!$BB$7)","v":""},{"$f":"IF($B27=\"\",\"\",(L29+N29+P29+R29)/4)","v":""},{"$f":"IF($B27=\"\",\"\",للطباعة!$BK$7)","v":""},{"$f":"IF($B27=\"\",\"\",للطباعة!$BJ$7)","v":""},{"$f":"IF($B27=\"\",\"\",للطباعة!$BR$7)","v":""},{"$f":"IF($B27=\"\",\"\",للطباعة!$BQ$7)","v":""},{"$f":"IF($B27=\"\",\"\",للطباعة!$BY$7)","v":""},{"$f":"IF($B27=\"\",\"\",للطباعة!$BX$7)","v":""},{"$f":"IF($B27=\"\",\"\",للطباعة!$CF$7)","v":""},{"$f":"IF($B27=\"\",\"\",للطباعة!$CE$7)","v":""},{"$f":"IF($B27=\"\",\"\",(U29+W29+Y29+AA29)/4)","v":""},{"$f":"IF($B27=\"\",\"\",(K27+T27+AC27)*0.04)","v":""},{"$f":"IF($B27=\"\",\"\",IF((AD27*40/12-INT(AD27*40/12))>=0.75,INT(AD27*40/12)+1,IF((AD27*40/12-INT(AD27*40/12))<0.25,INT(AD27*40/12),INT(AD24*40/12)+0.5)))","v":""},{"$f":"IF($B27=\"\",\"\",INDIRECT(ADDRESS(11+A27*2,19,1,,\"SeconedPartDegrees2\")))","v":""},{"$f":"IF($B27=\"\",\"\",INDIRECT(ADDRESS(11+A27*2,20,1,,\"SeconedPartDegrees2\")))","v":""},{"$f":"IF(OR(AF27=\"\",AG27=\"\"),\"\",AF27+AG27)","v":""},{"$f":"IF(OR(AE27=\"\",AG27=\"\"),\"\",AG27+AF27+AE27)","v":""},{"$f":"IF($B27=\"\",\"\",INDIRECT(ADDRESS(11+A27*2,21,1,,\"SeconedPartDegrees1\")))","v":""},{"$f":"IFERROR(IF(AI27=\"\",\"\",IF(((AI27+AJ27)/2-INT((AI27+AJ27)/2))>=0.75,INT((AI27+AJ27)/2)+1,IF(((AI27+AJ27)/2-INT((AI27+AJ27)/2))<0.25,INT((AI27+AJ27)/2),INT((AI27+AJ27)/2)+0.5))),\"\")","v":""},{"$f":"IF($AK27=\"\",\"\",IF(AK27=\"\",\"غياب وعليه دور ثاني\",IF(AK27<50,\"دور ثاني\",\"ناجح\")))","v":""},null,null,{"$f":"ROUNDUP(((FirstPartDegrees2!#REF!+D27)/2+(FirstPartDegrees2!F27+O27)/2+(FirstPartDegrees2!#REF!+M27)/2+(FirstPartDegrees2!C27+F27)/2 )/4,0)","v":{"$error":"#REF!"}},{"$f":"ROUNDUP(((FirstPartDegrees2!#REF!+FirstPartDegrees2!#REF!)/2+(FirstPartDegrees2!G27+J27)/2+(FirstPartDegrees2!L27+S27)/2+(FirstPartDegrees2!H27+#REF!)/2 )/4,0)","v":{"$error":"#REF!"}},{"$f":"ROUNDUP(((FirstPartDegrees2!E27+FirstPartDegrees2!I27)/2+(FirstPartDegrees2!#REF!+FirstPartDegrees2!#REF!)/2+(FirstPartDegrees2!N27+V27)/2+(AB27+#REF!)/2)/4,0)","v":{"$error":"#REF!"}},{"$f":"(AQ27+AAH27+AO27)*40/12","v":{"$error":"#REF!"}}]
[null,null,{"$f":"IF($B27=\"\",\"\",للطباعة!$G$7)","v":""},{"$f":"IF($B27=\"\",\"\",للطباعة!$F$7)","v":""},{"$f":"IF($B27=\"\",\"\",للطباعة!$N$7)","v":""},{"$f":"IF($B27=\"\",\"\",للطباعة!$M$7)","v":""},{"$f":"IF($B27=\"\",\"\",للطباعة!$U$7)","v":""},{"$f":"IF($B27=\"\",\"\",للطباعة!$T$7)","v":""},{"$f":"IF($B27=\"\",\"\",للطباعة!$AB$7)","v":""},{"$f":"IF($B27=\"\",\"\",للطباعة!$AA$7)","v":""},null,{"$f":"IF($B27=\"\",\"\",للطباعة!$AJ$7)","v":""},{"$f":"IF($B27=\"\",\"\",للطباعة!$AI$7)","v":""},{"$f":"IF($B27=\"\",\"\",للطباعة!$AQ$7)","v":""},{"$f":"IF($B27=\"\",\"\",للطباعة!$AP$7)","v":""},{"$f":"IF($B27=\"\",\"\",للطباعة!$AX$7)","v":""},{"$f":"IF($B27=\"\",\"\",للطباعة!$AW$7)","v":""},{"$f":"IF($B27=\"\",\"\",للطباعة!$BE$7)","v":""},{"$f":"IF($B27=\"\",\"\",للطباعة!$BD$7)","v":""},null,{"$f":"IF($B27=\"\",\"\",للطباعة!$BM$7)","v":""},{"$f":"IF($B27=\"\",\"\",للطباعة!$BL$7)","v":""},{"$f":"IF($B27=\"\",\"\",للطباعة!$BT$7)","v":""},{"$f":"IF($B27=\"\",\"\",للطباعة!$BS$7)","v":""},{"$f":"IF($B27=\"\",\"\",للطباعة!$CA$7)","v":""},{"$f":"IF($B27=\"\",\"\",للطباعة!$BZ$7)","v":""},{"$f":"IF($B27=\"\",\"\",للطباعة!$CH$7)","v":""},{"$f":"IF($B27=\"\",\"\",للطباعة!$CG$7)","v":""}]
[null,"النقاط",{"$f":"IF($B27=\"\",\"\",(D27+D28)*100/8)","v":""},null,{"$f":"IF($B27=\"\",\"\",(F27+F28)*100/8)","v":""},null,{"$f":"IF($B27=\"\",\"\",(H27+H28)*100/8)","v":""},null,{"$f":"IF($B27=\"\",\"\",(J27+J28)*100/8)","v":""},null,null,{"$f":"IF($B27=\"\",\"\",(M27+M28)*100/8)","v":""},null,{"$f":"IF($B27=\"\",\"\",(O27+O28)*100/8)","v":""},null,{"$f":"IF($B27=\"\",\"\",(Q27+Q28)*100/8)","v":""},null,{"$f":"IF($B27=\"\",\"\",(S27+S28)*100/8)","v":""},null,null,{"$f":"IF($B27=\"\",\"\",(V27+V28)*100/8)","v":""},null,{"$f":"IF($B27=\"\",\"\",(X27+X28)*100/8)","v":""},null,{"$f":"IF($B27=\"\",\"\",(Z27+Z28)*100/8)","v":""},null,{"$f":"IF($B27=\"\",\"\",(AB27+AB28)*100/8)","v":""}]
[7,{"$f":"INDIRECT(ADDRESS(A30+1,2,,,\"للطباعة\"))","v":""},{"$f":"IF($B30=\"\",\"\",للطباعة!$E$8)","v":""},{"$f":"IF($B30=\"\",\"\",للطباعة!$D$8)","v":""},{"$f":"IF($B30=\"\",\"\",للطباعة!$L$8)","v":""},{"$f":"IF($B30=\"\",\"\",للطباعة!$K$8)","v":""},{"$f":"IF($B30=\"\",\"\",للطباعة!$S$8)","v":""},{"$f":"IF($B30=\"\",\"\",للطباعة!$R$8)","v":""},{"$f":"IF($B30=\"\",\"\",للطباعة!$Z$8)","v":""},{"$f":"IF($B30=\"\",\"\",للطباعة!$Y$8)","v":""},{"$f":"IF($B30=\"\",\"\",(C32+E32+G32+I32)/4)","v":""},{"$f":"IF($B30=\"\",\"\",للطباعة!$AH$8)","v":""},{"$f":"IF($B30=\"\",\"\",للطباعة!$AG$8)","v":""},{"$f":"IF($B30=\"\",\"\",للطباعة!$AO$8)","v":""},{"$f":"IF($B30=\"\",\"\",للطباعة!$AN$8)","v":""},{"$f":"IF($B30=\"\",\"\",للطباعة!$AV$8)","v":""},{"$f":"IF($B30=\"\",\"\",للطباعة!$AU$8)","v":""},{"$f":"IF($B30=\"\",\"\",للطباعة!$BC$8)","v":""},{"$f":"IF($B30=\"\",\"\",للطباعة!$BB$8)","v":""},{"$f":"IF($B30=\"\",\"\",(L32+N32+P32+R32)/4)","v":""},{"$f":"IF($B30=\"\",\"\",للطباعة!$BK$8)","v":""},{"$f":"IF($B30=\"\",\"\",للطباعة!$BJ$8)","v":""},{"$f":"IF($B30=\"\",\"\",للطباعة!$BR$8)","v":""},{"$f":"IF($B30=\"\",\"\",للطباعة!$BQ$8)","v":""},{"$f":"IF($B30=\"\",\"\",للطباعة!$BY$8)","v":""},{"$f":"IF($B30=\"\",\"\",للطباعة!$BX$8)","v":""},{"$f":"IF($B30=\"\",\"\",للطباعة!$CF$8)","v":""},{"$f":"IF($B30=\"\",\"\",للطباعة!$CE$8)","v":""},{"$f":"IF($B30=\"\",\"\",(U32+W32+Y32+AA32)/4)","v":""},{"$f":"IF($B30=\"\",\"\",(K30+T30+AC30)*0.04)","v":""},{"$f":"IF($B30=\"\",\"\",IF((AD30*40/12-INT(AD30*40/12))>=0.75,INT(AD30*40/12)+1,IF((AD30*40/12-INT(AD30*40/12))<0.25,INT(AD30*40/12),INT(AD27*40/12)+0.5)))","v":""},{"$f":"IF($B30=\"\",\"\",INDIRECT(ADDRESS(11+A30*2,19,1,,\"SeconedPartDegrees2\")))","v":""},{"$f":"IF($B30=\"\",\"\",INDIRECT(ADDRESS(11+A30*2,20,1,,\"SeconedPartDegrees2\")))","v":""},{"$f":"IF(OR(AF30=\"\",AG30=\"\"),\"\",AF30+AG30)","v":""},{"$f":"IF(OR(AE30=\"\",AG30=\"\"),\"\",AG30+AF30+AE30)","v":""},{"$f":"IF($B30=\"\",\"\",INDIRECT(ADDRESS(11+A30*2,21,1,,\"SeconedPartDegrees1\")))","v":""},{"$f":"IFERROR(IF(AI30=\"\",\"\",IF(((AI30+AJ30)/2-INT((AI30+AJ30)/2))>=0.75,INT((AI30+AJ30)/2)+1,IF(((AI30+AJ30)/2-INT((AI30+AJ30)/2))<0.25,INT((AI30+AJ30)/2),INT((AI30+AJ30)/2)+0.5))),\"\")","v":""},{"$f":"IF($AK30=\"\",\"\",IF(AK30=\"\",\"غياب وعليه دور ثاني\",IF(AK30<50,\"دور ثاني\",\"ناجح\")))","v":""},null,null,{"$f":"ROUNDUP(((FirstPartDegrees2!#REF!+D30)/2+(FirstPartDegrees2!F30+O30)/2+(FirstPartDegrees2!#REF!+M30)/2+(FirstPartDegrees2!C30+F30)/2 )/4,0)","v":{"$error":"#REF!"}},{"$f":"ROUNDUP(((FirstPartDegrees2!#REF!+FirstPartDegrees2!#REF!)/2+(FirstPartDegrees2!G30+J30)/2+(FirstPartDegrees2!L30+S30)/2+(FirstPartDegrees2!H30+#REF!)/2 )/4,0)","v":{"$error":"#REF!"}},{"$f":"ROUNDUP(((FirstPartDegrees2!E30+FirstPartDegrees2!I30)/2+(FirstPartDegrees2!#REF!+FirstPartDegrees2!#REF!)/2+(FirstPartDegrees2!N30+V30)/2+(AB30+#REF!)/2)/4,0)","v":{"$error":"#REF!"}},{"$f":"(AQ30+AAH30+AO30)*40/12","v":{"$error":"#REF!"}}]
[null,null,{"$f":"IF($B30=\"\",\"\",للطباعة!$G$8)","v":""},{"$f":"IF($B30=\"\",\"\",للطباعة!$F$8)","v":""},{"$f":"IF($B30=\"\",\"\",للطباعة!$N$8)","v":""},{"$f":"IF($B30=\"\",\"\",للطباعة!$M$8)","v":""},{"$f":"IF($B30=\"\",\"\",للطباعة!$U$8)","v":""},{"$f":"IF($B30=\"\",\"\",للطباعة!$T$8)","v":""},{"$f":"IF($B30=\"\",\"\",للطباعة!$AB$8)","v":""},{"$f":"IF($B30=\"\",\"\",للطباعة!$AA$8)","v":""},null,{"$f":"IF($B30=\"\",\"\",للطباعة!$AJ$8)","v":""},{"$f":"IF($B30=\"\",\"\",للطباعة!$AI$8)","v":""},{"$f":"IF($B30=\"\",\"\",للطباعة!$AQ$8)","v":""},{"$f":"IF($B30=\"\",\"\",للطباعة!$AP$8)","v":""},{"$f":"IF($B30=\"\",\"\",للطباعة!$AX$8)","v":""},{"$f":"IF($B30=\"\",\"\",للطباعة!$AW$8)","v":""},{"$f":"IF($B30=\"\",\"\",للطباعة!$BE$8)","v":""},{"$f":"IF($B30=\"\",\"\",للطباعة!$BD$8)","v":""},null,{"$f":"IF($B30=\"\",\"\",للطباعة!$BM$8)","v":""},{"$f":"IF($B30=\"\",\"\",للطباعة!$BL$8)","v":""},{"$f":"IF($B30=\"\",\"\",للطباعة!$BT$8)","v":""},{"$f":"IF($B30=\"\",\"\",للطباعة!$BS$8)","v":""},{"$f":"IF($B30=\"\",\"\",للطباعة!$CA$8)","v":""},{"$f":"IF($B30=\"\",\"\",للطباعة!$BZ$8)","v":""},{"$f":"IF($B30=\"\",\"\",للطباعة!$CH$8)","v":""},{"$f":"IF($B30=\"\",\"\",للطباعة!$CG$8)","v":""}]
[null,"النقاط",{"$f":"IF($B30=\"\",\"\",(D30+D31)*100/8)","v":""},null,{"$f":"IF($B30=\"\",\"\",(F30+F31)*100/8)","v":""},null,{"$f":"IF($B30=\"\",\"\",(H30+H31)*100/8)","v":""},null,{"$f":"IF($B30=\"\",\"\",(J30+J31)*100/8)","v":""},null,null,{"$f":"IF($B30=\"\",\"\",(M30+M31)*100/8)","v":""},null,{"$f":"IF($B30=\"\",\"\",(O30+O31)*100/8)","v":""},null,{"$f":"IF($B30=\"\",\"\",(Q30+Q31)*100/8)","v":""},null,{"$f":"IF($B30=\"\",\"\",(S30+S31)*100/8)","v":""},null,null,{"$f":"IF($B30=\"\",\"\",(V30+V31)*100/8)","v":""},null,{"$f":"IF($B30=\"\",\"\",(X30+X31)*100/8)","v":""},null,{"$f":"IF($B30=\"\",\"\",(Z30+Z31)*100/8)","v":""},null,{"$f":"IF($B30=\"\",\"\",(AB30+AB31)*100/8)","v":""}]
[8,{"$f":"INDIRECT(ADDRESS(A33+1,2,,,\"للطباعة\"))","v":""},{"$f":"IF($B33=\"\",\"\",للطباعة!$E$9)","v":""},{"$f":"IF($B33=\"\",\"\",للطباعة!$D$9)","v":""},{"$f":"IF($B33=\"\",\"\",للطباعة!$L$9)","v":""},{"$f":"IF($B33=\"\",\"\",للطباعة!$K$9)","v":""},{"$f":"IF($B33=\"\",\"\",للطباعة!$S$9)","v":""},{"$f":"IF($B33=\"\",\"\",للطباعة!$R$9)","v":""},{"$f":"IF($B33=\"\",\"\",للطباعة!$Z$9)","v":""},{"$f":"IF($B33=\"\",\"\",للطباعة!$Y$9)","v":""},{"$f":"IF($B33=\"\",\"\",(C35+E35+G35+I35)/4)","v":""},{"$f":"IF($B33=\"\",\"\",للطباعة!$AH$9)","v":""},{"$f":"IF($B33=\"\",\"\",للطباعة!$AG$9)","v":""},{"$f":"IF($B33=\"\",\"\",للطباعة!$AO$9)","v":""},{"$f":"IF($B33=\"\",\"\",للطباعة!$AN$9)","v":""},{"$f":"IF($B33=\"\",\"\",للطباعة!$AV$9)","v":""},{"$f":"IF($B33=\"\",\"\",للطباعة!$AU$9)","v":""},{"$f":"IF($B33=\"\",\"\",للطباعة!$BC$9)","v":""},{"$f":"IF($B33=\"\",\"\",للطباعة!$BB$9)","v":""},{"$f":"IF($B33=\"\",\"\",(L35+N35+P35+R35)/4)","v":""},{"$f":"IF($B33=\"\",\"\",للطباعة!$BK$9)","v":""},{"$f":"IF($B33=\"\",\"\",للطباعة!$BJ$9)","v":""},{"$f":"IF($B33=\"\",\"\",للطباعة!$BR$9)","v":""},{"$f":"IF($B33=\"\",\"\",للطباعة!$BQ$9)","v":""},{"$f":"IF($B33=\"\",\"\",للطباعة!$BY$9)","v":""},{"$f":"IF($B33=\"\",\"\",للطباعة!$BX$9)","v":""},{"$f":"IF($B33=\"\",\"\",للطباعة!$CF$9)","v":""},{"$f":"IF($B33=\"\",\"\",للطباعة!$CE$9)","v":""},{"$f":"IF($B33=\"\",\"\",(U35+W35+Y35+AA35)/4)","v":""},{"$f":"IF($B33=\"\",\"\",(K33+T33+AC33)*0.04)","v":""},{"$f":"IF($B33=\"\",\"\",IF((AD33*40/12-INT(AD33*40/12))>=0.75,INT(AD33*40/12)+1,IF((AD33*40/12-INT(AD33*40/12))<0.25,INT(AD33*40/12),INT(AD30*40/12)+0.5)))","v":""},{"$f":"IF($B33=\"\",\"\",INDIRECT(ADDRESS(11+A33*2,19,1,,\"SeconedPartDegrees2\")))","v":""},{"$f":"IF($B33=\"\",\"\",INDIRECT(ADDRESS(11+A33*2,20,1,,\"SeconedPartDegrees2\")))","v":""},{"$f":"IF(OR(AF33=\"\",AG33=\"\"),\"\",AF33+AG33)","v":""},{"$f":"IF(OR(AE33=\"\",AG33=\"\"),\"\",AG33+AF33+AE33)","v":""},{"$f":"IF($B33=\"\",\"\",INDIRECT(ADDRESS(11+A33*2,21,1,,\"SeconedPartDegrees1\")))","v":""},{"$f":"IFERROR(IF(AI33=\"\",\"\",IF(((AI33+AJ33)/2-INT((AI33+AJ33)/2))>=0.75,INT((AI33+AJ33)/2)+1,IF(((AI33+AJ33)/2-INT((AI33+AJ33)/2))<0.25,INT((AI33+AJ33)/2),INT((AI33+AJ33)/2)+0.5))),\"\")","v":""},{"$f":"IF($AK33=\"\",\"\",IF(AK33=\"\",\"غياب وعليه دور ثاني\",IF(AK33<50,\"دور ثاني\",\"ناجح\")))","v":""},null,null,{"$f":"ROUNDUP(((FirstPartDegrees2!#REF!+D33)/2+(FirstPartDegrees2!F33+O33)/2+(FirstPartDegrees2!#REF!+M33)/2+(FirstPartDegrees2!C33+F33)/2 )/4,0)","v":{"$error":"#REF!"}},{"$f":"ROUNDUP(((FirstPartDegrees2!#REF!+FirstPartDegrees2!#REF!)/2+(FirstPartDegrees2!G33+J33)/2+(FirstPartDegrees2!L33+S33)/2+(FirstPartDegrees2!H33+#REF!)/2 )/4,0)","v":{"$error":"#REF!"}},{"$f":"ROUNDUP(((FirstPartDegrees2!E33+FirstPartDegrees2!I33)/2+(FirstPartDegrees2!#REF!+FirstPartDegrees2!#REF!)/2+(FirstPartDegrees2!N33+V33)/2+(AB33+#REF!)/2)/4,0)","v":{"$error":"#REF!"}},{"$f":"(AQ33+AAH33+AO33)*40/12","v":{"$error":"#REF!"}}]
[null,null,{"$f":"IF($B33=\"\",\"\",للطباعة!$G$9)","v":""},{"$f":"IF($B33=\"\",\"\",للطباعة!$F$9)","v":""},{"$f":"IF($B33=\"\",\"\",للطباعة!$N$9)","v":""},{"$f":"IF($B33=\"\",\"\",للطباعة!$M$9)","v":""},{"$f":"IF($B33=\"\",\"\",للطباعة!$U$9)","v":""},{"$f":"IF($B33=\"\",\"\",للطباعة!$T$9)","v":""},{"$f":"IF($B33=\"\",\"\",للطباعة!$AB$9)","v":""},{"$f":"IF($B33=\"\",\"\",للطباعة!$AA$9)","v":""},null,{"$f":"IF($B33=\"\",\"\",للطباعة!$AJ$9)","v":""},{"$f":"IF($B33=\"\",\"\",للطباعة!$AI$9)","v":""},{"$f":"IF($B33=\"\",\"\",للطباعة!$AQ$9)","v":""},{"$f":"IF($B33=\"\",\"\",للطباعة!$AP$9)","v":""},{"$f":"IF($B33=\"\",\"\",للطباعة!$AX$9)","v":""},{"$f":"IF($B33=\"\",\"\",للطباعة!$AW$9)","v":""},{"$f":"IF($B33=\"\",\"\",للطباعة!$BE$9)","v":""},{"$f":"IF($B33=\"\",\"\",للطباعة!$BD$9)","v":""},null,{"$f":"IF($B33=\"\",\"\",للطباعة!$BM$9)","v":""},{"$f":"IF($B33=\"\",\"\",للطباعة!$BL$9)","v":""},{"$f":"IF($B33=\"\",\"\",للطباعة!$BT$9)","v":""},{"$f":"IF($B33=\"\",\"\",للطباعة!$BS$9)","v":""},{"$f":"IF($B33=\"\",\"\",للطباعة!$CA$9)","v":""},{"$f":"IF($B33=\"\",\"\",للطباعة!$BZ$9)","v":""},{"$f":"IF($B33=\"\",\"\",للطباعة!$CH$9)","v":""},{"$f":"IF($B33=\"\",\"\",للطباعة!$CG$9)","v":""}]
[null,"النقاط",{"$f":"IF($B33=\"\",\"\",(D33+D34)*100/8)","v":""},null,{"$f":"IF($B33=\"\",\"\",(F33+F34)*100/8)","v":""},null,{"$f":"IF($B33=\"\",\"\",(H33+H34)*100/8)","v":""},null,{"$f":"IF($B33=\"\",\"\",(J33+J34)*100/8)","v":""},null,null,{"$f":"IF($B33=\"\",\"\",(M33+M34)*100/8)","v":""},null,{"$f":"IF($B33=\"\",\"\",(O33+O34)*100/8)","v":""},null,{"$f":"IF($B33=\"\",\"\",(Q33+Q34)*100/8)","v":""},null,{"$f":"IF($B33=\"\",\"\",(S33+S34)*100/8)","v":""},null,null,{"$f":"IF($B33=\"\",\"\",(V33+V34)*100/8)","v":""},null,{"$f":"IF($B33=\"\",\"\",(X33+X34)*100/8)","v":""},null,{"$f":"IF($B33=\"\",\"\",(Z33+Z34)*100/8)","v":""},null,{"$f":"IF($B33=\"\",\"\",(AB33+AB34)*100/8)","v":""}]
[9,{"$f":"INDIRECT(ADDRESS(A36+1,2,,,\"للطباعة\"))","v":""},{"$f":"IF($B36=\"\",\"\",للطباعة!$E$10)","v":""},{"$f":"IF($B36=\"\",\"\",للطباعة!$D$10)","v":""},{"$f":"IF($B36=\"\",\"\",للطباعة!$L$10)","v":""},{"$f":"IF($B36=\"\",\"\",للطباعة!$K$10)","v":""},{"$f":"IF($B36=\"\",\"\",للطباعة!$S$10)","v":""},{"$f":"IF($B36=\"\",\"\",للطباعة!$R$10)","v":""},{"$f":"IF($B36=\"\",\"\",للطباعة!$Z$10)","v":""},{"$f":"IF($B36=\"\",\"\",للطباعة!$Y$10)","v":""},{"$f":"IF($B36=\"\",\"\",(C38+E38+G38+I38)/4)","v":""},{"$f":"IF($B36=\"\",\"\",للطباعة!$AH$10)","v":""},{"$f":"IF($B36=\"\",\"\",للطباعة!$AG$10)","v":""},{"$f":"IF($B36=\"\",\"\",للطباعة!$AO$10)","v":""},{"$f":"IF($B36=\"\",\"\",للطباعة!$AN$10)","v":""},{"$f":"IF($B36=\"\",\"\",للطباعة!$AV$10)","v":""},{"$f":"IF($B36=\"\",\"\",للطباعة!$AU$10)","v":""},{"$f":"IF($B36=\"\",\"\",للطباعة!$BC$10)","v":""},{"$f":"IF($B36=\"\",\"\",للطباعة!$BB$10)","v":""},{"$f":"IF($B36=\"\",\"\",(L38+N38+P38+R38)/4)","v":""},{"$f":"IF($B36=\"\",\"\",للطباعة!$BK$10)","v":""},{"$f":"IF($B36=\"\",\"\",للطباعة!$BJ$10)","v":""},{"$f":"IF($B36=\"\",\"\",للطباعة!$BR$10)","v":""},{"$f":"IF($B36=\"\",\"\",للطباعة!$BQ$10)","v":""},{"$f":"IF($B36=\"\",\"\",للطباعة!$BY$10)","v":""},{"$f":"IF($B36=\"\",\"\",للطباعة!$BX$10)","v":""},{"$f":"IF($B36=\"\",\"\",للطباعة!$CF$10)","v":""},{"$f":"IF($B36=\"\",\"\",للطباعة!$CE$10)","v":""},{"$f":"IF($B36=\"\",\"\",(U38+W38+Y38+AA38)/4)","v":""},{"$f":"IF($B36=\"\",\"\",(K36+T36+AC36)*0.04)","v":""},{"$f":"IF($B36=\"\",\"\",IF((AD36*40/12-INT(AD36*40/12))>=0.75,INT(AD36*40/12)+1,IF((AD36*40/12-INT(AD36*40/12))<0.25,INT(AD36*40/12),INT(AD33*40/12)+0.5)))","v":""},{"$f":"IF($B36=\"\",\"\",INDIRECT(ADDRESS(11+A36*2,19,1,,\"SeconedPartDegrees2\")))","v":""},{"$f":"IF($B36=\"\",\"\",INDIRECT(ADDRESS(11+A36*2,20,1,,\"SeconedPartDegrees2\")))","v":""},{"$f":"IF(OR(AF36=\"\",AG36=\"\"),\"\",AF36+AG36)","v":""},{"$f":"IF(OR(AE36=\"\",AG36=\"\"),\"\",AG36+AF36+AE36)","v":""},{"$f":"IF($B36=\"\",\"\",INDIRECT(ADDRESS(11+A36*2,21,1,,\"SeconedPartDegrees1\")))","v":""},{"$f":"IFERROR(IF(AI36=\"\",\"\",IF(((AI36+AJ36)/2-INT((AI36+AJ36)/2))>=0.75,INT((AI36+AJ36)/2)+1,IF(((AI36+AJ36)/2-INT((AI36+AJ36)/2))<0.25,INT((AI36+AJ36)/2),INT((AI36+AJ36)/2)+0.5))),\"\")","v":""},{"$f":"IF($AK36=\"\",\"\",IF(AK36=\"\",\"غياب وعليه دور ثاني\",IF(AK36<50,\"دور ثاني\",\"ناجح\")))","v":""},null,null,{"$f":"ROUNDUP(((FirstPartDegrees2!#REF!+D36)/2+(FirstPartDegrees2!F36+O36)/2+(FirstPartDegrees2!#REF!+M36)/2+(FirstPartDegrees2!C36+F36)/2 )/4,0)","v":{"$error":"#REF!"}},{"$f":"ROUNDUP(((FirstPartDegrees2!#REF!+FirstPartDegrees2!#REF!)/2+(FirstPartDegrees2!G36+J36)/2+(FirstPartDegrees2!L36+S36)/2+(FirstPartDegrees2!H36+#REF!)/2 )/4,0)","v":{"$error":"#REF!"}},{"$f":"ROUNDUP(((FirstPartDegrees2!E36+FirstPartDegrees2!I36)/2+(FirstPartDegrees2!#REF!+FirstPartDegrees2!#REF!)/2+(FirstPartDegrees2!N36+V36)/2+(AB36+#REF!)/2)/4,0)","v":{"$error":"#REF!"}},{"$f":"(AQ36+AAH36+AO36)*40/12","v":{"$error":"#REF!"}}]
[null,null,{"$f":"IF($B36=\"\",\"\",للطباعة!$G$10)","v":""},{"$f":"IF($B36=\"\",\"\",للطباعة!$F$10)","v":""},{"$f":"IF($B36=\"\",\"\",للطباعة!$N$10)","v":""},{"$f":"IF($B36=\"\",\"\",للطباعة!$M$10)","v":""},{"$f":"IF($B36=\"\",\"\",للطباعة!$U$10)","v":""},{"$f":"IF($B36=\"\",\"\",للطباعة!$T$10)","v":""},{"$f":"IF($B36=\"\",\"\",للطباعة!$AB$10)","v":""},{"$f":"IF($B36=\"\",\"\",للطباعة!$AA$10)","v":""},null,{"$f":"IF($B36=\"\",\"\",للطباعة!$AJ$10)","v":""},{"$f":"IF($B36=\"\",\"\",للطباعة!$AI$10)","v":""},{"$f":"IF($B36=\"\",\"\",للطباعة!$AQ$10)","v":""},{"$f":"IF($B36=\"\",\"\",للطباعة!$AP$10)","v":""},{"$f":"IF($B36=\"\",\"\",للطباعة!$AX$10)","v":""},{"$f":"IF($B36=\"\",\"\",للطباعة!$AW$10)","v":""},{"$f":"IF($B36=\"\",\"\",للطباعة!$BE$10)","v":""},{"$f":"IF($B36=\"\",\"\",للطباعة!$BD$10)","v":""},null,{"$f":"IF($B36=\"\",\"\",للطباعة!$BM$10)","v":""},{"$f":"IF($B36=\"\",\"\",للطباعة!$BL$10)","v":""},{"$f":"IF($B36=\"\",\"\",للطباعة!$BT$10)","v":""},{"$f":"IF($B36=\"\",\"\",للطباعة!$BS$10)","v":""},{"$f":"IF($B36=\"\",\"\",للطباعة!$CA$10)","v":""},{"$f":"IF($B36=\"\",\"\",للطباعة!$BZ$10)","v":""},{"$f":"IF($B36=\"\",\"\",للطباعة!$CH$10)","v":""},{"$f":"IF($B36=\"\",\"\",للطباعة!$CG$10)","v":""}]
[null,"النقاط",{"$f":"IF($B36=\"\",\"\",(D36+D37)*100/8)","v":""},null,{"$f":"IF($B36=\"\",\"\",(F36+F37)*100/8)","v":""},null,{"$f":"IF($B36=\"\",\"\",(H36+H37)*100/8)","v":""},null,{"$f":"IF($B36=\"\",\"\",(J36+J37)*100/8)","v":""},null,null,{"$f":"IF($B36=\"\",\"\",(M36+M37)*100/8)","v":""},null,{"$f":"IF($B36=\"\",\"\",(O36+O37)*100/8)","v":""},null,{"$f":"IF($B36=\"\",\"\",(Q36+Q37)*100/8)","v":""},null,{"$f":"IF($B36=\"\",\"\",(S36+S37)*100/8)","v":""},null,null,{"$f":"IF($B36=\"\",\"\",(V36+V37)*100/8)","v":""},null,{"$f":"IF($B36=\"\",\"\",(X36+X37)*100/8)","v":""},null,{"$f":"IF($B36=\"\",\"\",(Z36+Z37)*100/8)","v":""},null,{"$f":"IF($B36=\"\",\"\",(AB36+AB37)*100/8)","v":""}]
[10,{"$f":"INDIRECT(ADDRESS(A39+1,2,,,\"للطباعة\"))","v":""},{"$f":"IF($B39=\"\",\"\",للطباعة!$E$11)","v":""},{"$f":"IF($B39=\"\",\"\",للطباعة!$D$11)","v":""},{"$f":"IF($B39=\"\",\"\",للطباعة!$L$11)","v":""},{"$f":"IF($B39=\"\",\"\",للطباعة!$K$11)","v":""},{"$f":"IF($B39=\"\",\"\",للطباعة!$S$11)","v":""},{"$f":"IF($B39=\"\",\"\",للطباعة!$R$11)","v":""},{"$f":"IF($B39=\"\",\"\",للطباعة!$Z$11)","v":""},{"$f":"IF($B39=\"\",\"\",للطباعة!$Y$11)","v":""},{"$f":"IF($B39=\"\",\"\",(C41+E41+G41+I41)/4)","v":""},{"$f":"IF($B39=\"\",\"\",للطباعة!$AH$11)","v":""},{"$f":"IF($B39=\"\",\"\",للطباعة!$AG$11)","v":""},{"$f":"IF($B39=\"\",\"\",للطباعة!$AO$11)","v":""},{"$f":"IF($B39=\"\",\"\",للطباعة!$AN$11)","v":""},{"$f":"IF($B39=\"\",\"\",للطباعة!$AV$11)","v":""},{"$f":"IF($B39=\"\",\"\",للطباعة!$AU$11)","v":""},{"$f":"IF($B39=\"\",\"\",للطباعة!$BC$11)","v":""},{"$f":"IF($B39=\"\",\"\",للطباعة!$BB$11)","v":""},{"$f":"IF($B39=\"\",\"\",(L41+N41+P41+R41)/4)","v":""},{"$f":"IF($B39=\"\",\"\",للطباعة!$BK$11)","v":""},{"$f":"IF($B39=\"\",\"\",للطباعة!$BJ$11)","v":""},{"$f":"IF($B39=\"\",\"\",للطباعة!$BR$11)","v":""},{"$f":"IF($B39=\"\",\"\",للطباعة!$BQ$11)","v":""},{"$f":"IF($B39=\"\",\"\",للطباعة!$BY$11)","v":""},{"$f":"IF($B39=\"\",\"\",للطباعة!$BX$11)","v":""},{"$f":"IF($B39=\"\",\"\",للطباعة!$CF$11)","v":""},{"$f":"IF($B39=\"\",\"\",للطباعة!$CE$11)","v":""},{"$f":"IF($B39=\"\",\"\",(U41+W41+Y41+AA41)/4)","v":""},{"$f":"IF($B39=\"\",\"\",(K39+T39+AC39)*0.04)","v":""},{"$f":"IF($B39=\"\",\"\",IF((AD39*40/12-INT(AD39*40/12))>=0.75,INT(AD39*40/12)+1,IF((AD39*40/12-INT(AD39*40/12))<0.25,INT(AD39*40/12),INT(AD36*40/12)+0.5)))","v":""},{"$f":"IF($B39=\"\",\"\",INDIRECT(ADDRESS(11+A39*2,19,1,,\"SeconedPartDegrees2\")))","v":""},{"$f":"IF($B39=\"\",\"\",INDIRECT(ADDRESS(11+A39*2,20,1,,\"SeconedPartDegrees2\")))","v":""},{"$f":"IF(OR(AF39=\"\",AG39=\"\"),\"\",AF39+AG39)","v":""},{"$f":"IF(OR(AE39=\"\",AG39=\"\"),\"\",AG39+AF39+AE39)","v":""},{"$f":"IF($B39=\"\",\"\",INDIRECT(ADDRESS(11+A39*2,21,1,,\"SeconedPartDegrees1\")))","v":""},{"$f":"IFERROR(IF(AI39=\"\",\"\",IF(((AI39+AJ39)/2-INT((AI39+AJ39)/2))>=0.75,INT((AI39+AJ39)/2)+1,IF(((AI39+AJ39)/2-INT((AI39+AJ39)/2))<0.25,INT((AI39+AJ39)/2),INT((AI39+AJ39)/2)+0.5))),\"\")","v":""},{"$f":"IF($AK39=\"\",\"\",IF(AK39=\"\",\"غياب وعليه دور ثاني\",IF(AK39<50,\"دور ثاني\",\"ناجح\")))","v":""},null,null,{"$f":"ROUNDUP(((FirstPartDegrees2!#REF!+D39)/2+(FirstPartDegrees2!F39+O39)/2+(FirstPartDegrees2!#REF!+M39)/2+(FirstPartDegrees2!C39+F39)/2 )/4,0)","v":{"$error":"#REF!"}},{"$f":"ROUNDUP(((FirstPartDegrees2!#REF!+FirstPartDegrees2!#REF!)/2+(FirstPartDegrees2!G39+J39)/2+(FirstPartDegrees2!L39+S39)/2+(FirstPartDegrees2!H39+#REF!)/2 )/4,0)","v":{"$error":"#REF!"}},{"$f":"ROUNDUP(((FirstPartDegrees2!E39+FirstPartDegrees2!I39)/2+(FirstPartDegrees2!#REF!+FirstPartDegrees2!#REF!)/2+(FirstPartDegrees2!N39+V39)/2+(AB39+#REF!)/2)/4,0)","v":{"$error":"#REF!"}},{"$f":"(AQ39+AAH39+AO39)*40/12","v":{"$error":"#REF!"}}]
[null,null,{"$f":"IF($B39=\"\",\"\",للطباعة!$G$11)","v":""},{"$f":"IF($B39=\"\",\"\",للطباعة!$F$11)","v":""},{"$f":"IF($B39=\"\",\"\",للطباعة!$N$11)","v":""},{"$f":"IF($B39=\"\",\"\",للطباعة!$M$11)","v":""},{"$f":"IF($B39=\"\",\"\",للطباعة!$U$11)","v":""},{"$f":"IF($B39=\"\",\"\",للطباعة!$T$11)","v":""},{"$f":"IF($B39=\"\",\"\",للطباعة!$AB$11)","v":""},{"$f":"IF($B39=\"\",\"\",للطباعة!$AA$11)","v":""},null,{"$f":"IF($B39=\"\",\"\",للطباعة!$AJ$11)","v":""},{"$f":"IF($B39=\"\",\"\",للطباعة!$AI$11)","v":""},{"$f":"IF($B39=\"\",\"\",للطباعة!$AQ$11)","v":""},{"$f":"IF($B39=\"\",\"\",للطباعة!$AP$11)","v":""},{"$f":"IF($B39=\"\",\"\",للطباعة!$AX$11)","v":""},{"$f":"IF($B39=\"\",\"\",للطباعة!$AW$11)","v":""},{"$f":"IF($B39=\"\",\"\",للطباعة!$BE$11)","v":""},{"$f":"IF($B39=\"\",\"\",للطباعة!$BD$11)","v":""},null,{"$f":"IF($B39=\"\",\"\",للطباعة!$BM$11)","v":""},{"$f":"IF($B39=\"\",\"\",للطباعة!$BL$11)","v":""},{"$f":"IF($B39=\"\",\"\",للطباعة!$BT$11)","v":""},{"$f":"IF($B39=\"\",\"\",للطباعة!$BS$11)","v":""},{"$f":"IF($B39=\"\",\"\",للطباعة!$CA$11)","v":""},{"$f":"IF($B39=\"\",\"\",للطباعة!$BZ$11)","v":""},{"$f":"IF($B39=\"\",\"\",للطباعة!$CH$11)","v":""},{"$f":"IF($B39=\"\",\"\",للطباعة!$CG$11)","v":""}]
[null,"النقاط",{"$f":"IF($B39=\"\",\"\",(D39+D40)*100/8)","v":""},null,{"$f":"IF($B39=\"\",\"\",(F39+F40)*100/8)","v":""},null,{"$f":"IF($B39=\"\",\"\",(H39+H40)*100/8)","v":""},null,{"$f":"IF($B39=\"\",\"\",(J39+J40)*100/8)","v":""},null,null,{"$f":"IF($B39=\"\",\"\",(M39+M40)*100/8)","v":""},null,{"$f":"IF($B39=\"\",\"\",(O39+O40)*100/8)","v":""},null,{"$f":"IF($B39=\"\",\"\",(Q39+Q40)*100/8)","v":""},null,{"$f":"IF($B39=\"\",\"\",(S39+S40)*100/8)","v":""},null,null,{"$f":"IF($B39=\"\",\"\",(V39+V40)*100/8)","v":""},null,{"$f":"IF($B39=\"\",\"\",(X39+X40)*100/8)","v":""},null,{"$f":"IF($B39=\"\",\"\",(Z39+Z40)*100/8)","v":""},null,{"$f":"IF($B39=\"\",\"\",(AB39+AB40)*100/8)","v":""}]
[11,{"$f":"INDIRECT(ADDRESS(A42+1,2,,,\"للطباعة\"))","v":""},{"$f":"IF($B42=\"\",\"\",للطباعة!$E$12)","v":""},{"$f":"IF($B42=\"\",\"\",للطباعة!$D$12)","v":""},{"$f":"IF($B42=\"\",\"\",للطباعة!$L$12)","v":""},{"$f":"IF($B42=\"\",\"\",للطباعة!$K$12)","v":""},{"$f":"IF($B42=\"\",\"\",للطباعة!$S$12)","v":""},{"$f":"IF($B42=\"\",\"\",للطباعة!$R$12)","v":""},{"$f":"IF($B42=\"\",\"\",للطباعة!$Z$12)","v":""},{"$f":"IF($B42=\"\",\"\",للطباعة!$Y$12)","v":""},{"$f":"IF($B42=\"\",\"\",(C44+E44+G44+I44)/4)","v":""},{"$f":"IF($B42=\"\",\"\",للطباعة!$AH$12)","v":""},{"$f":"IF($B42=\"\",\"\",للطباعة!$AG$12)","v":""},{"$f":"IF($B42=\"\",\"\",للطباعة!$AO$12)","v":""},{"$f":"IF($B42=\"\",\"\",للطباعة!$AN$12)","v":""},{"$f":"IF($B42=\"\",\"\",للطباعة!$AV$12)","v":""},{"$f":"IF($B42=\"\",\"\",للطباعة!$AU$12)","v":""},{"$f":"IF($B42=\"\",\"\",للطباعة!$BC$12)","v":""},{"$f":"IF($B42=\"\",\"\",للطباعة!$BB$12)","v":""},{"$f":"IF($B42=\"\",\"\",(L44+N44+P44+R44)/4)","v":""},{"$f":"IF($B42=\"\",\"\",للطباعة!$BK$12)","v":""},{"$f":"IF($B42=\"\",\"\",للطباعة!$BJ$12)","v":""},{"$f":"IF($B42=\"\",\"\",للطباعة!$BR$12)","v":""},{"$f":"IF($B42=\"\",\"\",للطباعة!$BQ$12)","v":""},{"$f":"IF($B42=\"\",\"\",للطباعة!$BY$12)","v":""},{"$f":"IF($B42=\"\",\"\",للطباعة!$BX$12)","v":""},{"$f":"IF($B42=\"\",\"\",للطباعة!$CF$12)","v":""},{"$f":"IF($B42=\"\",\"\",للطباعة!$CE$12)","v":""},{"$f":"IF($B42=\"\",\"\",(U44+W44+Y44+AA44)/4)","v":""},{"$f":"IF($B42=\"\",\"\",(K42+T42+AC42)*0.04)","v":""},{"$f":"IF($B42=\"\",\"\",IF((AD42*40/12-INT(AD42*40/12))>=0.75,INT(AD42*40/12)+1,IF((AD42*40/12-INT(AD42*40/12))<0.25,INT(AD42*40/12),INT(AD39*40/12)+0.5)))","v":""},{"$f":"IF($B42=\"\",\"\",INDIRECT(ADDRESS(11+A42*2,19,1,,\"SeconedPartDegrees2\")))","v":""},{"$f":"IF($B42=\"\",\"\",INDIRECT(ADDRESS(11+A42*2,20,1,,\"SeconedPartDegrees2\")))","v":""},{"$f":"IF(OR(AF42=\"\",AG42=\"\"),\"\",AF42+AG42)","v":""},{"$f":"IF(OR(AE42=\"\",AG42=\"\"),\"\",AG42+AF42+AE42)","v":""},{"$f":"IF($B42=\"\",\"\",INDIRECT(ADDRESS(11+A42*2,21,1,,\"SeconedPartDegrees1\")))","v":""},{"$f":"IFERROR(IF(AI42=\"\",\"\",IF(((AI42+AJ42)/2-INT((AI42+AJ42)/2))>=0.75,INT((AI42+AJ42)/2)+1,IF(((AI42+AJ42)/2-INT((AI42+AJ42)/2))<0.25,INT((AI42+AJ42)/2),INT((AI42+AJ42)/2)+0.5))),\"\")","v":""},{"$f":"IF($AK42=\"\",\"\",IF(AK42=\"\",\"غياب وعليه دور ثاني\",IF(AK42<50,\"دور ثاني\",\"ناجح\")))","v":""},null,null,{"$f":"ROUNDUP(((FirstPartDegrees2!#REF!+D42)/2+(FirstPartDegrees2!F42+O42)/2+(FirstPartDegrees2!#REF!+M42)/2+(FirstPartDegrees2!C42+F42)/2 )/4,0)","v":{"$error":"#REF!"}},{"$f":"ROUNDUP(((FirstPartDegrees2!#REF!+FirstPartDegrees2!#REF!)/2+(FirstPartDegrees2!G42+J42)/2+(FirstPartDegrees2!L42+S42)/2+(FirstPartDegrees2!H42+#REF!)/2 )/4,0)","v":{"$error":"#REF!"}},{"$f":"ROUNDUP(((FirstPartDegrees2!E42+FirstPartDegrees2!I42)/2+(FirstPartDegrees2!#REF!+FirstPartDegrees2!#REF!)/2+(FirstPartDegrees2!N42+V42)/2+(AB42+#REF!)/2)/4,0)","v":{"$error":"#REF!"}},{"$f":"(AQ42+AAH42+AO42)*40/12","v":{"$error":"#REF!"}}]
[null,null,{"$f":"IF($B42=\"\",\"\",للطباعة!$G$12)","v":""},{"$f":"IF($B42=\"\",\"\",للطباعة!$F$12)","v":""},{"$f":"IF($B42=\"\",\"\",للطباعة!$N$12)","v":""},{"$f":"IF($B42=\"\",\"\",للطباعة!$M$12)","v":""},{"$f":"IF($B42=\"\",\"\",للطباعة!$U$12)","v":""},{"$f":"IF($B42=\"\",\"\",للطباعة!$T$12)","v":""},{"$f":"IF($B42=\"\",\"\",للطباعة!$AB$12)","v":""},{"$f":"IF($B42=\"\",\"\",للطباعة!$AA$12)","v":""},null,{"$f":"IF($B42=\"\",\"\",للطباعة!$AJ$12)","v":""},{"$f":"IF($B42=\"\",\"\",للطباعة!$AI$12)","v":""},{"$f":"IF($B42=\"\",\"\",للطباعة!$AQ$12)","v":""},{"$f":"IF($B42=\"\",\"\",للطباعة!$AP$12)","v":""},{"$f":"IF($B42=\"\",\"\",للطباعة!$AX$12)","v":""},{"$f":"IF($B42=\"\",\"\",للطباعة!$AW$12)","v":""},{"$f":"IF($B42=\"\",\"\",للطباعة!$BE$12)","v":""},{"$f":"IF($B42=\"\",\"\",للطباعة!$BD$12)","v":""},null,{"$f":"IF($B42=\"\",\"\",للطباعة!$BM$12)","v":""},{"$f":"IF($B42=\"\",\"\",للطباعة!$BL$12)","v":""},{"$f":"IF($B42=\"\",\"\",للطباعة!$BT$12)","v":""},{"$f":"IF($B42=\"\",\"\",للطباعة!$BS$12)","v":""},{"$f":"IF($B42=\"\",\"\",للطباعة!$CA$12)","v":""},{"$f":"IF($B42=\"\",\"\",للطباعة!$BZ$12)","v":""},{"$f":"IF($B42=\"\",\"\",للطباعة!$CH$12)","v":""},{"$f":"IF($B42=\"\",\"\",للطباعة!$CG$12)","v":""}]
[null,"النقاط",{"$f":"IF($B42=\"\",\"\",(D42+D43)*100/8)","v":""},null,{"$f":"IF($B42=\"\",\"\",(F42+F43)*100/8)","v":""},null,{"$f":"IF($B42=\"\",\"\",(H42+H43)*100/8)","v":""},null,{"$f":"IF($B42=\"\",\"\",(J42+J43)*100/8)","v":""},null,null,{"$f":"IF($B42=\"\",\"\",(M42+M43)*100/8)","v":""},null,{"$f":"IF($B42=\"\",\"\",(O42+O43)*100/8)","v":""},null,{"$f":"IF($B42=\"\",\"\",(Q42+Q43)*100/8)","v":""},null,{"$f":"IF($B42=\"\",\"\",(S42+S43)*100/8)","v":""},null,null,{"$f":"IF($B42=\"\",\"\",(V42+V43)*100/8)","v":""},null,{"$f":"IF($B42=\"\",\"\",(X42+X43)*100/8)","v":""},null,{"$f":"IF($B42=\"\",\"\",(Z42+Z43)*100/8)","v":""},null,{"$f":"IF($B42=\"\",\"\",(AB42+AB43)*100/8)","v":""}]
[12,{"$f":"INDIRECT(ADDRESS(A45+1,2,,,\"للطباعة\"))","v":""},{"$f":"IF($B45=\"\",\"\",للطباعة!$E$13)","v":""},{"$f":"IF($B45=\"\",\"\",للطباعة!$D$13)","v":""},{"$f":"IF($B45=\"\",\"\",للطباعة!$L$13)","v":""},{"$f":"IF($B45=\"\",\"\",للطباعة!$K$13)","v":""},{"$f":"IF($B45=\"\",\"\",للطباعة!$S$13)","v":""},{"$f":"IF($B45=\"\",\"\",للطباعة!$R$13)","v":""},{"$f":"IF($B45=\"\",\"\",للطباعة!$Z$13)","v":""},{"$f":"IF($B45=\"\",\"\",للطباعة!$Y$13)","v":""},{"$f":"IF($B45=\"\",\"\",(C47+E47+G47+I47)/4)","v":""},{"$f":"IF($B45=\"\",\"\",للطباعة!$AH$13)","v":""},{"$f":"IF($B45=\"\",\"\",للطباعة!$AG$13)","v":""},{"$f":"IF($B45=\"\",\"\",للطباعة!$AO$13)","v":""},{"$f":"IF($B45=\"\",\"\",للطباعة!$AN$13)","v":""},{"$f":"IF($B45=\"\",\"\",للطباعة!$AV$13)","v":""},{"$f":"IF($B45=\"\",\"\",للطباعة!$AU$13)","v":""},{"$f":"IF($B45=\"\",\"\",للطباعة!$BC$13)","v":""},{"$f":"IF($B45=\"\",\"\",للطباعة!$BB$13)","v":""},{"$f":"IF($B45=\"\",\"\",(L47+N47+P47+R47)/4)","v":""},{"$f":"IF($B45=\"\",\"\",للطباعة!$BK$13)","v":""},{"$f":"IF($B45=\"\",\"\",للطباعة!$BJ$13)","v":""},{"$f":"IF($B45=\"\",\"\",للطباعة!$BR$13)","v":""},{"$f":"IF($B45=\"\",\"\",للطباعة!$BQ$13)","v":""},{"$f":"IF($B45=\"\",\"\",للطباعة!$BY$13)","v":""},{"$f":"IF($B45=\"\",\"\",للطباعة!$BX$13)","v":""},{"$f":"IF($B45=\"\",\"\",للطباعة!$CF$13)","v":""},{"$f":"IF($B45=\"\",\"\",للطباعة!$CE$13)","v":""},{"$f":"IF($B45=\"\",\"\",(U47+W47+Y47+AA47)/4)","v":""},{"$f":"IF($B45=\"\",\"\",(K45+T45+AC45)*0.04)","v":""},{"$f":"IF($B45=\"\",\"\",IF((AD45*40/12-INT(AD45*40/12))>=0.75,INT(AD45*40/12)+1,IF((AD45*40/12-INT(AD45*40/12))<0.25,INT(AD45*40/12),INT(AD42*40/12)+0.5)))","v":""},{"$f":"IF($B45=\"\",\"\",INDIRECT(ADDRESS(11+A45*2,19,1,,\"SeconedPartDegrees2\")))","v":""},{"$f":"IF($B45=\"\",\"\",INDIRECT(ADDRESS(11+A45*2,20,1,,\"SeconedPartDegrees2\")))","v":""},{"$f":"IF(OR(AF45=\"\",AG45=\"\"),\"\",AF45+AG45)","v":""},{"$f":"IF(OR(AE45=\"\",AG45=\"\"),\"\",AG45+AF45+AE45)","v":""},{"$f":"IF($B45=\"\",\"\",INDIRECT(ADDRESS(11+A45*2,21,1,,\"SeconedPartDegrees1\")))","v":""},{"$f":"IFERROR(IF(AI45=\"\",\"\",IF(((AI45+AJ45)/2-INT((AI45+AJ45)/2))>=0.75,INT((AI45+AJ45)/2)+1,IF(((AI45+AJ45)/2-INT((AI45+AJ45)/2))<0.25,INT((AI45+AJ45)/2),INT((AI45+AJ45)/2)+0.5))),\"\")","v":""},{"$f":"IF($AK45=\"\",\"\",IF(AK45=\"\",\"غياب وعليه دور ثاني\",IF(AK45<50,\"دور ثاني\",\"ناجح\")))","v":""},null,null,{"$f":"ROUNDUP(((FirstPartDegrees2!#REF!+D45)/2+(FirstPartDegrees2!F45+O45)/2+(FirstPartDegrees2!#REF!+M45)/2+(FirstPartDegrees2!C45+F45)/2 )/4,0)","v":{"$error":"#REF!"}},{"$f":"ROUNDUP(((FirstPartDegrees2!#REF!+FirstPartDegrees2!#REF!)/2+(FirstPartDegrees2!G45+J45)/2+(FirstPartDegrees2!L45+S45)/2+(FirstPartDegrees2!H45+#REF!)/2 )/4,0)","v":{"$error":"#REF!"}},{"$f":"ROUNDUP(((FirstPartDegrees2!E45+FirstPartDegrees2!I45)/2+(FirstPartDegrees2!#REF!+FirstPartDegrees2!#REF!)/2+(FirstPartDegrees2!N45+V45)/2+(AB45+#REF!)/2)/4,0)","v":{"$error":"#REF!"}},{"$f":"(AQ45+AAH45+AO45)*40/12","v":{"$error":"#REF!"}}]
[null,null,{"$f":"IF($B45=\"\",\"\",للطباعة!$G$13)","v":""},{"$f":"IF($B45=\"\",\"\",للطباعة!$F$13)","v":""},{"$f":"IF($B45=\"\",\"\",للطباعة!$N$13)","v":""},{"$f":"IF($B45=\"\",\"\",للطباعة!$M$13)","v":""},{"$f":"IF($B45=\"\",\"\",للطباعة!$U$13)","v":""},{"$f":"IF($B45=\"\",\"\",للطباعة!$T$13)","v":""},{"$f":"IF($B45=\"\",\"\",للطباعة!$AB$13)","v":""},{"$f":"IF($B45=\"\",\"\",للطباعة!$AA$13)","v":""},null,{"$f":"IF($B45=\"\",\"\",للطباعة!$AJ$13)","v":""},{"$f":"IF($B45=\"\",\"\",للطباعة!$AI$13)","v":""},{"$f":"IF($B45=\"\",\"\",للطباعة!$AQ$13)","v":""},{"$f":"IF($B45=\"\",\"\",للطباعة!$AP$13)","v":""},{"$f":"IF($B45=\"\",\"\",للطباعة!$AX$13)","v":""},{"$f":"IF($B45=\"\",\"\",للطباعة!$AW$13)","v":""},{"$f":"IF($B45=\"\",\"\",للطباعة!$BE$13)","v":""},{"$f":"IF($B45=\"\",\"\",للطباعة!$BD$13)","v":""},null,{"$f":"IF($B45=\"\",\"\",للطباعة!$BM$13)","v":""},{"$f":"IF($B45=\"\",\"\",للطباعة!$BL$13)","v":""},{"$f":"IF($B45=\"\",\"\",للطباعة!$BT$13)","v":""},{"$f":"IF($B45=\"\",\"\",للطباعة!$BS$13)","v":""},{"$f":"IF($B45=\"\",\"\",للطباعة!$CA$13)","v":""},{"$f":"IF($B45=\"\",\"\",للطباعة!$BZ$13)","v":""},{"$f":"IF($B45=\"\",\"\",للطباعة!$CH$13)","v":""},{"$f":"IF($B45=\"\",\"\",للطباعة!$CG$13)","v":""}]
[null,"النقاط",{"$f":"IF($B45=\"\",\"\",(D45+D46)*100/8)","v":""},null,{"$f":"IF($B45=\"\",\"\",(F45+F46)*100/8)","v":""},null,{"$f":"IF($B45=\"\",\"\",(H45+H46)*100/8)","v":""},null,{"$f":"IF($B45=\"\",\"\",(J45+J46)*100/8)","v":""},null,null,{"$f":"IF($B45=\"\",\"\",(M45+M46)*100/8)","v":""},null,{"$f":"IF($B45=\"\",\"\",(O45+O46)*100/8)","v":""},null,{"$f":"IF($B45=\"\",\"\",(Q45+Q46)*100/8)","v":""},null,{"$f":"IF($B45=\"\",\"\",(S45+S46)*100/8)","v":""},null,null,{"$f":"IF($B45=\"\",\"\",(V45+V46)*100/8)","v":""},null,{"$f":"IF($B45=\"\",\"\",(X45+X46)*100/8)","v":""},null,{"$f":"IF($B45=\"\",\"\",(Z45+Z46)*100/8)","v":""},null,{"$f":"IF($B45=\"\",\"\",(AB45+AB46)*100/8)","v":""}]
[13,{"$f":"INDIRECT(ADDRESS(A48+1,2,,,\"للطباعة\"))","v":""},{"$f":"IF($B48=\"\",\"\",للطباعة!$E$14)","v":""},{"$f":"IF($B48=\"\",\"\",للطباعة!$D$14)","v":""},{"$f":"IF($B48=\"\",\"\",للطباعة!$L$14)","v":""},{"$f":"IF($B48=\"\",\"\",للطباعة!$K$14)","v":""},{"$f":"IF($B48=\"\",\"\",للطباعة!$S$14)","v":""},{"$f":"IF($B48=\"\",\"\",للطباعة!$R$14)","v":""},{"$f":"IF($B48=\"\",\"\",للطباعة!$Z$14)","v":""},{"$f":"IF($B48=\"\",\"\",للطباعة!$Y$14)","v":""},{"$f":"IF($B48=\"\",\"\",(C50+E50+G50+I50)/4)","v":""},{"$f":"IF($B48=\"\",\"\",للطباعة!$AH$14)","v":""},{"$f":"IF($B48=\"\",\"\",للطباعة!$AG$14)","v":""},{"$f":"IF($B48=\"\",\"\",للطباعة!$AO$14)","v":""},{"$f":"IF($B48=\"\",\"\",للطباعة!$AN$14)","v":""},{"$f":"IF($B48=\"\",\"\",للطباعة!$AV$14)","v":""},{"$f":"IF($B48=\"\",\"\",للطباعة!$AU$14)","v":""},{"$f":"IF($B48=\"\",\"\",للطباعة!$BC$14)","v":""},{"$f":"IF($B48=\"\",\"\",للطباعة!$BB$14)","v":""},{"$f":"IF($B48=\"\",\"\",(L50+N50+P50+R50)/4)","v":""},{"$f":"IF($B48=\"\",\"\",للطباعة!$BK$14)","v":""},{"$f":"IF($B48=\"\",\"\",للطباعة!$BJ$14)","v":""},{"$f":"IF($B48=\"\",\"\",للطباعة!$BR$14)","v":""},{"$f":"IF($B48=\"\",\"\",للطباعة!$BQ$14)","v":""},{"$f":"IF($B48=\"\",\"\",للطباعة!$BY$14)","v":""},{"$f":"IF($B48=\"\",\"\",للطباعة!$BX$14)","v":""},{"$f":"IF($B48=\"\",\"\",للطباعة!$CF$14)","v":""},{"$f":"IF($B48=\"\",\"\",للطباعة!$CE$14)","v":""},{"$f":"IF($B48=\"\",\"\",(U50+W50+Y50+AA50)/4)","v":""},{"$f":"IF($B48=\"\",\"\",(K48+T48+AC48)*0.04)","v":""},{"$f":"IF($B48=\"\",\"\",IF((AD48*40/12-INT(AD48*40/12))>=0.75,INT(AD48*40/12)+1,IF((AD48*40/12-INT(AD48*40/12))<0.25,INT(AD48*40/12),INT(AD45*40/12)+0.5)))","v":""},{"$f":"IF($B48=\"\",\"\",INDIRECT(ADDRESS(11+A48*2,19,1,,\"SeconedPartDegrees2\")))","v":""},{"$f":"IF($B48=\"\",\"\",INDIRECT(ADDRESS(11+A48*2,20,1,,\"SeconedPartDegrees2\")))","v":""},{"$f":"IF(OR(AF48=\"\",AG48=\"\"),\"\",AF48+AG48)","v":""},{"$f":"IF(OR(AE48=\"\",AG48=\"\"),\"\",AG48+AF48+AE48)","v":""},{"$f":"IF($B48=\"\",\"\",INDIRECT(ADDRESS(11+A48*2,21,1,,\"SeconedPartDegrees1\")))","v":""},{"$f":"IFERROR(IF(AI48=\"\",\"\",IF(((AI48+AJ48)/2-INT((AI48+AJ48)/2))>=0.75,INT((AI48+AJ48)/2)+1,IF(((AI48+AJ48)/2-INT((AI48+AJ48)/2))<0.25,INT((AI48+AJ48)/2),INT((AI48+AJ48)/2)+0.5))),\"\")","v":""},{"$f":"IF($AK48=\"\",\"\",IF(AK48=\"\",\"غياب وعليه دور ثاني\",IF(AK48<50,\"دور ثاني\",\"ناجح\")))","v":""},null,null,{"$f":"ROUNDUP(((FirstPartDegrees2!#REF!+D48)/2+(FirstPartDegrees2!F48+O48)/2+(FirstPartDegrees2!#REF!+M48)/2+(FirstPartDegrees2!C48+F48)/2 )/4,0)","v":{"$error":"#REF!"}},{"$f":"ROUNDUP(((FirstPartDegrees2!#REF!+FirstPartDegrees2!#REF!)/2+(FirstPartDegrees2!G48+J48)/2+(FirstPartDegrees2!L48+S48)/2+(FirstPartDegrees2!H48+#REF!)/2 )/4,0)","v":{"$error":"#REF!"}},{"$f":"ROUNDUP(((FirstPartDegrees2!E48+FirstPartDegrees2!I48)/2+(FirstPartDegrees2!#REF!+FirstPartDegrees2!#REF!)/2+(FirstPartDegrees2!N48+V48)/2+(AB48+#REF!)/2)/4,0)","v":{"$error":"#REF!"}},{"$f":"(AQ48+AAH48+AO48)*40/12","v":{"$error":"#REF!"}}]
[null,null,{"$f":"IF($B48=\"\",\"\",للطباعة!$G$14)","v":""},{"$f":"IF($B48=\"\",\"\",للطباعة!$F$14)","v":""},{"$f":"IF($B48=\"\",\"\",للطباعة!$N$14)","v":""},{"$f":"IF($B48=\"\",\"\",للطباعة!$M$14)","v":""},{"$f":"IF($B48=\"\",\"\",للطباعة!$U$14)","v":""},{"$f":"IF($B48=\"\",\"\",للطباعة!$T$14)","v":""},{"$f":"IF($B48=\"\",\"\",للطباعة!$AB$14)","v":""},{"$f":"IF($B48=\"\",\"\",للطباعة!$AA$14)","v":""},null,{"$f":"IF($B48=\"\",\"\",للطباعة!$AJ$14)","v":""},{"$f":"IF($B48=\"\",\"\",للطباعة!$AI$14)","v":""},{"$f":"IF($B48=\"\",\"\",للطباعة!$AQ$14)","v":""},{"$f":"IF($B48=\"\",\"\",للطباعة!$AP$14)","v":""},{"$f":"IF($B48=\"\",\"\",للطباعة!$AX$14)","v":""},{"$f":"IF($B48=\"\",\"\",للطباعة!$AW$14)","v":""},{"$f":"IF($B48=\"\",\"\",للطباعة!$BE$14)","v":""},{"$f":"IF($B48=\"\",\"\",للطباعة!$BD$14)","v":""},null,{"$f":"IF($B48=\"\",\"\",للطباعة!$BM$14)","v":""},{"$f":"IF($B48=\"\",\"\",للطباعة!$BL$14)","v":""},{"$f":"IF($B48=\"\",\"\",للطباعة!$BT$14)","v":""},{"$f":"IF($B48=\"\",\"\",للطباعة!$BS$14)","v":""},{"$f":"IF($B48=\"\",\"\",للطباعة!$CA$14)","v":""},{"$f":"IF($B48=\"\",\"\",للطباعة!$BZ$14)","v":""},{"$f":"IF($B48=\"\",\"\",للطباعة!$CH$14)","v":""},{"$f":"IF($B48=\"\",\"\",للطباعة!$CG$14)","v":""}]
[null,"النقاط",{"$f":"IF($B48=\"\",\"\",(D48+D49)*100/8)","v":""},null,{"$f":"IF($B48=\"\",\"\",(F48+F49)*100/8)","v":""},null,{"$f":"IF($B48=\"\",\"\",(H48+H49)*100/8)","v":""},null,{"$f":"IF($B48=\"\",\"\",(J48+J49)*100/8)","v":""},null,null,{"$f":"IF($B48=\"\",\"\",(M48+M49)*100/8)","v":""},null,{"$f":"IF($B48=\"\",\"\",(O48+O49)*100/8)","v":""},null,{"$f":"IF($B48=\"\",\"\",(Q48+Q49)*100/8)","v":""},null,{"$f":"IF($B48=\"\",\"\",(S48+S49)*100/8)","v":""},null,null,{"$f":"IF($B48=\"\",\"\",(V48+V49)*100/8)","v":""},null,{"$f":"IF($B48=\"\",\"\",(X48+X49)*100/8)","v":""},null,{"$f":"IF($B48=\"\",\"\",(Z48+Z49)*100/8)","v":""},null,{"$f":"IF($B48=\"\",\"\",(AB48+AB49)*100/8)","v":""}]
[14,{"$f":"INDIRECT(ADDRESS(A51+1,2,,,\"للطباعة\"))","v":""},{"$f":"IF($B51=\"\",\"\",للطباعة!$E$15)","v":""},{"$f":"IF($B51=\"\",\"\",للطباعة!$D$15)","v":""},{"$f":"IF($B51=\"\",\"\",للطباعة!$L$15)","v":""},{"$f":"IF($B51=\"\",\"\",للطباعة!$K$15)","v":""},{"$f":"IF($B51=\"\",\"\",للطباعة!$S$15)","v":""},{"$f":"IF($B51=\"\",\"\",للطباعة!$R$15)","v":""},{"$f":"IF($B51=\"\",\"\",للطباعة!$Z$15)","v":""},{"$f":"IF($B51=\"\",\"\",للطباعة!$Y$15)","v":""},{"$f":"IF($B51=\"\",\"\",(C53+E53+G53+I53)/4)","v":""},{"$f":"IF($B51=\"\",\"\",للطباعة!$AH$15)","v":""},{"$f":"IF($B51=\"\",\"\",للطباعة!$AG$15)","v":""},{"$f":"IF($B51=\"\",\"\",للطباعة!$AO$15)","v":""},{"$f":"IF($B51=\"\",\"\",للطباعة!$AN$15)","v":""},{"$f":"IF($B51=\"\",\"\",للطباعة!$AV$15)","v":""},{"$f":"IF($B51=\"\",\"\",للطباعة!$AU$15)","v":""},{"$f":"IF($B51=\"\",\"\",للطباعة!$BC$15)","v":""},{"$f":"IF($B51=\"\",\"\",للطباعة!$BB$15)","v":""},{"$f":"IF($B51=\"\",\"\",(L53+N53+P53+R53)/4)","v":""},{"$f":"IF($B51=\"\",\"\",للطباعة!$BK$15)","v":""},{"$f":"IF($B51=\"\",\"\",للطباعة!$BJ$15)","v":""},{"$f":"IF($B51=\"\",\"\",للطباعة!$BR$15)","v":""},{"$f":"IF($B51=\"\",\"\",للطباعة!$BQ$15)","v":""},{"$f":"IF($B51=\"\",\"\",للطباعة!$BY$15)","v":""},{"$f":"IF($B51=\"\",\"\",للطباعة!$BX$15)","v":""},{"$f":"IF($B51=\"\",\"\",للطباعة!$CF$15)","v":""},{"$f":"IF($B51=\"\",\"\",للطباعة!$CE$15)","v":""},{"$f":"IF($B51=\"\",\"\",(U53+W53+Y53+AA53)/4)","v":""},{"$f":"IF($B51=\"\",\"\",(K51+T51+AC51)*0.04)","v":""},{"$f":"IF($B51=\"\",\"\",IF((AD51*40/12-INT(AD51*40/12))>=0.75,INT(AD51*40/12)+1,IF((AD51*40/12-INT(AD51*40/12))<0.25,INT(AD51*40/12),INT(AD48*40/12)+0.5)))","v":""},{"$f":"IF($B51=\"\",\"\",INDIRECT(ADDRESS(11+A51*2,19,1,,\"SeconedPartDegrees2\")))","v":""},{"$f":"IF($B51=\"\",\"\",INDIRECT(ADDRESS(11+A51*2,20,1,,\"SeconedPartDegrees2\")))","v":""},{"$f":"IF(OR(AF51=\"\",AG51=\"\"),\"\",AF51+AG51)","v":""},{"$f":"IF(OR(AE51=\"\",AG51=\"\"),\"\",AG51+AF51+AE51)","v":""},{"$f":"IF($B51=\"\",\"\",INDIRECT(ADDRESS(11+A51*2,21,1,,\"SeconedPartDegrees1\")))","v":""},{"$f":"IFERROR(IF(AI51=\"\",\"\",IF(((AI51+AJ51)/2-INT((AI51+AJ51)/2))>=0.75,INT((AI51+AJ51)/2)+1,IF(((AI51+AJ51)/2-INT((AI51+AJ51)/2))<0.25,INT((AI51+AJ51)/2),INT((AI51+AJ51)/2)+0.5))),\"\")","v":""},{"$f":"IF($AK51=\"\",\"\",IF(AK51=\"\",\"غياب وعليه دور ثاني\",IF(AK51<50,\"دور ثاني\",\"ناجح\")))","v":""},null,null,{"$f":"ROUNDUP(((FirstPartDegrees2!#REF!+D51)/2+(FirstPartDegrees2!F51+O51)/2+(FirstPartDegrees2!#REF!+M51)/2+(FirstPartDegrees2!C51+F51)/2 )/4,0)","v":{"$error":"#REF!"}},{"$f":"ROUNDUP(((FirstPartDegrees2!#REF!+FirstPartDegrees2!#REF!)/2+(FirstPartDegrees2!G51+J51)/2+(FirstPartDegrees2!L51+S51)/2+(FirstPartDegrees2!H51+#REF!)/2 )/4,0)","v":{"$error":"#REF!"}},{"$f":"ROUNDUP(((FirstPartDegrees2!E51+FirstPartDegrees2!I51)/2+(FirstPartDegrees2!#REF!+FirstPartDegrees2!#REF!)/2+(FirstPartDegrees2!N51+V51)/2+(AB51+#REF!)/2)/4,0)","v":{"$error":"#REF!"}},{"$f":"(AQ51+AAH51+AO51)*40/12","v":{"$error":"#REF!"}}]
[null,null,{"$f":"IF($B51=\"\",\"\",للطباعة!$G$15)","v":""},{"$f":"IF($B51=\"\",\"\",للطباعة!$F$15)","v":""},{"$f":"IF($B51=\"\",\"\",للطباعة!$N$15)","v":""},{"$f":"IF($B51=\"\",\"\",للطباعة!$M$15)","v":""},{"$f":"IF($B51=\"\",\"\",للطباعة!$U$15)","v":""},{"$f":"IF($B51=\"\",\"\",للطباعة!$T$15)","v":""},{"$f":"IF($B51=\"\",\"\",للطباعة!$AB$15)","v":""},{"$f":"IF($B51=\"\",\"\",للطباعة!$AA$15)","v":""},null,{"$f":"IF($B51=\"\",\"\",للطباعة!$AJ$15)","v":""},{"$f":"IF($B51=\"\",\"\",للطباعة!$AI$15)","v":""},{"$f":"IF($B51=\"\",\"\",للطباعة!$AQ$15)","v":""},{"$f":"IF($B51=\"\",\"\",للطباعة!$AP$15)","v":""},{"$f":"IF($B51=\"\",\"\",للطباعة!$AX$15)","v":""},{"$f":"IF($B51=\"\",\"\",للطباعة!$AW$15)","v":""},{"$f":"IF($B51=\"\",\"\",للطباعة!$BE$15)","v":""},{"$f":"IF($B51=\"\",\"\",للطباعة!$BD$15)","v":""},null,{"$f":"IF($B51=\"\",\"\",للطباعة!$BM$15)","v":""},{"$f":"IF($B51=\"\",\"\",للطباعة!$BL$15)","v":""},{"$f":"IF($B51=\"\",\"\",للطباعة!$BT$15)","v":""},{"$f":"IF($B51=\"\",\"\",للطباعة!$BS$15)","v":""},{"$f":"IF($B51=\"\",\"\",للطباعة!$CA$15)","v":""},{"$f":"IF($B51=\"\",\"\",للطباعة!$BZ$15)","v":""},{"$f":"IF($B51=\"\",\"\",للطباعة!$CH$15)","v":""},{"$f":"IF($B51=\"\",\"\",للطباعة!$CG$15)","v":""}]
[null,"النقاط",{"$f":"IF($B51=\"\",\"\",(D51+D52)*100/8)","v":""},null,{"$f":"IF($B51=\"\",\"\",(F51+F52)*100/8)","v":""},null,{"$f":"IF($B51=\"\",\"\",(H51+H52)*100/8)","v":""},null,{"$f":"IF($B51=\"\",\"\",(J51+J52)*100/8)","v":""},null,null,{"$f":"IF($B51=\"\",\"\",(M51+M52)*100/8)","v":""},null,{"$f":"IF($B51=\"\",\"\",(O51+O52)*100/8)","v":""},null,{"$f":"IF($B51=\"\",\"\",(Q51+Q52)*100/8)","v":""},null,{"$f":"IF($B51=\"\",\"\",(S51+S52)*100/8)","v":""},null,null,{"$f":"IF($B51=\"\",\"\",(V51+V52)*100/8)","v":""},null,{"$f":"IF($B51=\"\",\"\",(X51+X52)*100/8)","v":""},null,{"$f":"IF($B51=\"\",\"\",(Z51+Z52)*100/8)","v":""},null,{"$f":"IF($B51=\"\",\"\",(AB51+AB52)*100/8)","v":""}]
[15,{"$f":"INDIRECT(ADDRESS(A54+1,2,,,\"للطباعة\"))","v":""},{"$f":"IF($B54=\"\",\"\",للطباعة!$E$16)","v":""},{"$f":"IF($B54=\"\",\"\",للطباعة!$D$16)","v":""},{"$f":"IF($B54=\"\",\"\",للطباعة!$L$16)","v":""},{"$f":"IF($B54=\"\",\"\",للطباعة!$K$16)","v":""},{"$f":"IF($B54=\"\",\"\",للطباعة!$S$16)","v":""},{"$f":"IF($B54=\"\",\"\",للطباعة!$R$16)","v":""},{"$f":"IF($B54=\"\",\"\",للطباعة!$Z$16)","v":""},{"$f":"IF($B54=\"\",\"\",للطباعة!$Y$16)","v":""},{"$f":"IF($B54=\"\",\"\",(C56+E56+G56+I56)/4)","v":""},{"$f":"IF($B54=\"\",\"\",للطباعة!$AH$16)","v":""},{"$f":"IF($B54=\"\",\"\",للطباعة!$AG$16)","v":""},{"$f":"IF($B54=\"\",\"\",للطباعة!$AO$16)","v":""},{"$f":"IF($B54=\"\",\"\",للطباعة!$AN$16)","v":""},{"$f":"IF($B54=\"\",\"\",للطباعة!$AV$16)","v":""},{"$f":"IF($B54=\"\",\"\",للطباعة!$AU$16)","v":""},{"$f":"IF($B54=\"\",\"\",للطباعة!$BC$16)","v":""},{"$f":"IF($B54=\"\",\"\",للطباعة!$BB$16)","v":""},{"$f":"IF($B54=\"\",\"\",(L56+N56+P56+R56)/4)","v":""},{"$f":"IF($B54=\"\",\"\",للطباعة!$BK$16)","v":""},{"$f":"IF($B54=\"\",\"\",للطباعة!$BJ$16)","v":""},{"$f":"IF($B54=\"\",\"\",للطباعة!$BR$16)","v":""},{"$f":"IF($B54=\"\",\"\",للطباعة!$BQ$16)","v":""},{"$f":"IF($B54=\"\",\"\",للطباعة!$BY$16)","v":""},{"$f":"IF($B54=\"\",\"\",للطباعة!$BX$16)","v":""},{"$f":"IF($B54=\"\",\"\",للطباعة!$CF$16)","v":""},{"$f":"IF($B54=\"\",\"\",للطباعة!$CE$16)","v":""},{"$f":"IF($B54=\"\",\"\",(U56+W56+Y56+AA56)/4)","v":""},{"$f":"IF($B54=\"\",\"\",(K54+T54+AC54)*0.04)","v":""},{"$f":"IF($B54=\"\",\"\",IF((AD54*40/12-INT(AD54*40/12))>=0.75,INT(AD54*40/12)+1,IF((AD54*40/12-INT(AD54*40/12))<0.25,INT(AD54*40/12),INT(AD51*40/12)+0.5)))","v":""},{"$f":"IF($B54=\"\",\"\",INDIRECT(ADDRESS(11+A54*2,19,1,,\"SeconedPartDegrees2\")))","v":""},{"$f":"IF($B54=\"\",\"\",INDIRECT(ADDRESS(11+A54*2,20,1,,\"SeconedPartDegrees2\")))","v":""},{"$f":"IF(OR(AF54=\"\",AG54=\"\"),\"\",AF54+AG54)","v":""},{"$f":"IF(OR(AE54=\"\",AG54=\"\"),\"\",AG54+AF54+AE54)","v":""},{"$f":"IF($B54=\"\",\"\",INDIRECT(ADDRESS(11+A54*2,21,1,,\"SeconedPartDegrees1\")))","v":""},{"$f":"IFERROR(IF(AI54=\"\",\"\",IF(((AI54+AJ54)/2-INT((AI54+AJ54)/2))>=0.75,INT((AI54+AJ54)/2)+1,IF(((AI54+AJ54)/2-INT((AI54+AJ54)/2))<0.25,INT((AI54+AJ54)/2),INT((AI54+AJ54)/2)+0.5))),\"\")","v":""},{"$f":"IF($AK54=\"\",\"\",IF(AK54=\"\",\"غياب وعليه دور ثاني\",IF(AK54<50,\"دور ثاني\",\"ناجح\")))","v":""},null,null,{"$f":"ROUNDUP(((FirstPartDegrees2!#REF!+D54)/2+(FirstPartDegrees2!F54+O54)/2+(FirstPartDegrees2!#REF!+M54)/2+(FirstPartDegrees2!C54+F54)/2 )/4,0)","v":{"$error":"#REF!"}},{"$f":"ROUNDUP(((FirstPartDegrees2!#REF!+FirstPartDegrees2!#REF!)/2+(FirstPartDegrees2!G54+J54)/2+(FirstPartDegrees2!L54+S54)/2+(FirstPartDegrees2!H54+#REF!)/2 )/4,0)","v":{"$error":"#REF!"}},{"$f":"ROUNDUP(((FirstPartDegrees2!E54+FirstPartDegrees2!I54)/2+(FirstPartDegrees2!#REF!+FirstPartDegrees2!#REF!)/2+(FirstPartDegrees2!N54+V54)/2+(AB54+#REF!)/2)/4,0)","v":{"$error":"#REF!"}},{"$f":"(AQ54+AAH54+AO54)*40/12","v":{"$error":"#REF!"}}]
[null,null,{"$f":"IF($B54=\"\",\"\",للطباعة!$G$16)","v":""},{"$f":"IF($B54=\"\",\"\",للطباعة!$F$16)","v":""},{"$f":"IF($B54=\"\",\"\",للطباعة!$N$16)","v":""},{"$f":"IF($B54=\"\",\"\",للطباعة!$M$16)","v":""},{"$f":"IF($B54=\"\",\"\",للطباعة!$U$16)","v":""},{"$f":"IF($B54=\"\",\"\",للطباعة!$T$16)","v":""},{"$f":"IF($B54=\"\",\"\",للطباعة!$AB$16)","v":""},{"$f":"IF($B54=\"\",\"\",للطباعة!$AA$16)","v":""},null,{"$f":"IF($B54=\"\",\"\",للطباعة!$AJ$16)","v":""},{"$f":"IF($B54=\"\",\"\",للطباعة!$AI$16)","v":""},{"$f":"IF($B54=\"\",\"\",للطباعة!$AQ$16)","v":""},{"$f":"IF($B54=\"\",\"\",للطباعة!$AP$16)","v":""},{"$f":"IF($B54=\"\",\"\",للطباعة!$AX$16)","v":""},{"$f":"IF($B54=\"\",\"\",للطباعة!$AW$16)","v":""},{"$f":"IF($B54=\"\",\"\",للطباعة!$BE$16)","v":""},{"$f":"IF($B54=\"\",\"\",للطباعة!$BD$16)","v":""},null,{"$f":"IF($B54=\"\",\"\",للطباعة!$BM$16)","v":""},{"$f":"IF($B54=\"\",\"\",للطباعة!$BL$16)","v":""},{"$f":"IF($B54=\"\",\"\",للطباعة!$BT$16)","v":""},{"$f":"IF($B54=\"\",\"\",للطباعة!$BS$16)","v":""},{"$f":"IF($B54=\"\",\"\",للطباعة!$CA$16)","v":""},{"$f":"IF($B54=\"\",\"\",للطباعة!$BZ$16)","v":""},{"$f":"IF($B54=\"\",\"\",للطباعة!$CH$16)","v":""},{"$f":"IF($B54=\"\",\"\",للطباعة!$CG$16)","v":""}]
[null,"النقاط",{"$f":"IF($B54=\"\",\"\",(D54+D55)*100/8)","v":""},null,{"$f":"IF($B54=\"\",\"\",(F54+F55)*100/8)","v":""},null,{"$f":"IF($B54=\"\",\"\",(H54+H55)*100/8)","v":""},null,{"$f":"IF($B54=\"\",\"\",(J54+J55)*100/8)","v":""},null,null,{"$f":"IF($B54=\"\",\"\",(M54+M55)*100/8)","v":""},null,{"$f":"IF($B54=\"\",\"\",(O54+O55)*100/8)","v":""},null,{"$f":"IF($B54=\"\",\"\",(Q54+Q55)*100/8)","v":""},null,{"$f":"IF($B54=\"\",\"\",(S54+S55)*100/8)","v":""},null,null,{"$f":"IF($B54=\"\",\"\",(V54+V55)*100/8)","v":""},null,{"$f":"IF($B54=\"\",\"\",(X54+X55)*100/8)","v":""},null,{"$f":"IF($B54=\"\",\"\",(Z54+Z55)*100/8)","v":""},null,{"$f":"IF($B54=\"\",\"\",(AB54+AB55)*100/8)","v":""}]
[16,{"$f":"INDIRECT(ADDRESS(A57+1,2,,,\"للطباعة\"))","v":""},{"$f":"IF($B57=\"\",\"\",للطباعة!$E$17)","v":""},{"$f":"IF($B57=\"\",\"\",للطباعة!$D$17)","v":""},{"$f":"IF($B57=\"\",\"\",للطباعة!$L$17)","v":""},{"$f":"IF($B57=\"\",\"\",للطباعة!$K$17)","v":""},{"$f":"IF($B57=\"\",\"\",للطباعة!$S$17)","v":""},{"$f":"IF($B57=\"\",\"\",للطباعة!$R$17)","v":""},{"$f":"IF($B57=\"\",\"\",للطباعة!$Z$17)","v":""},{"$f":"IF($B57=\"\",\"\",للطباعة!$Y$17)","v":""},{"$f":"IF($B57=\"\",\"\",(C59+E59+G59+I59)/4)","v":""},{"$f":"IF($B57=\"\",\"\",للطباعة!$AH$17)","v":""},{"$f":"IF($B57=\"\",\"\",للطباعة!$AG$17)","v":""},{"$f":"IF($B57=\"\",\"\",للطباعة!$AO$17)","v":""},{"$f":"IF($B57=\"\",\"\",للطباعة!$AN$17)","v":""},{"$f":"IF($B57=\"\",\"\",للطباعة!$AV$17)","v":""},{"$f":"IF($B57=\"\",\"\",للطباعة!$AU$17)","v":""},{"$f":"IF($B57=\"\",\"\",للطباعة!$BC$17)","v":""},{"$f":"IF($B57=\"\",\"\",للطباعة!$BB$17)","v":""},{"$f":"IF($B57=\"\",\"\",(L59+N59+P59+R59)/4)","v":""},{"$f":"IF($B57=\"\",\"\",للطباعة!$BK$17)","v":""},{"$f":"IF($B57=\"\",\"\",للطباعة!$BJ$17)","v":""},{"$f":"IF($B57=\"\",\"\",للطباعة!$BR$17)","v":""},{"$f":"IF($B57=\"\",\"\",للطباعة!$BQ$17)","v":""},{"$f":"IF($B57=\"\",\"\",للطباعة!$BY$17)","v":""},{"$f":"IF($B57=\"\",\"\",للطباعة!$BX$17)","v":""},{"$f":"IF($B57=\"\",\"\",للطباعة!$CF$17)","v":""},{"$f":"IF($B57=\"\",\"\",للطباعة!$CE$17)","v":""},{"$f":"IF($B57=\"\",\"\",(U59+W59+Y59+AA59)/4)","v":""},{"$f":"IF($B57=\"\",\"\",(K57+T57+AC57)*0.04)","v":""},{"$f":"IF($B57=\"\",\"\",IF((AD57*40/12-INT(AD57*40/12))>=0.75,INT(AD57*40/12)+1,IF((AD57*40/12-INT(AD57*40/12))<0.25,INT(AD57*40/12),INT(AD54*40/12)+0.5)))","v":""},{"$f":"IF($B57=\"\",\"\",INDIRECT(ADDRESS(11+A57*2,19,1,,\"SeconedPartDegrees2\")))","v":""},{"$f":"IF($B57=\"\",\"\",INDIRECT(ADDRESS(11+A57*2,20,1,,\"SeconedPartDegrees2\")))","v":""},{"$f":"IF(OR(AF57=\"\",AG57=\"\"),\"\",AF57+AG57)","v":""},{"$f":"IF(OR(AE57=\"\",AG57=\"\"),\"\",AG57+AF57+AE57)","v":""},{"$f":"IF($B57=\"\",\"\",INDIRECT(ADDRESS(11+A57*2,21,1,,\"SeconedPartDegrees1\")))","v":""},{"$f":"IFERROR(IF(AI57=\"\",\"\",IF(((AI57+AJ57)/2-INT((AI57+AJ57)/2))>=0.75,INT((AI57+AJ57)/2)+1,IF(((AI57+AJ57)/2-INT((AI57+AJ57)/2))<0.25,INT((AI57+AJ57)/2),INT((AI57+AJ57)/2)+0.5))),\"\")","v":""},{"$f":"IF($AK57=\"\",\"\",IF(AK57=\"\",\"غياب وعليه دور ثاني\",IF(AK57<50,\"دور ثاني\",\"ناجح\")))","v":""},null,null,{"$f":"ROUNDUP(((FirstPartDegrees2!#REF!+D57)/2+(FirstPartDegrees2!F57+O57)/2+(FirstPartDegrees2!#REF!+M57)/2+(FirstPartDegrees2!C57+F57)/2 )/4,0)","v":{"$error":"#REF!"}},{"$f":"ROUNDUP(((FirstPartDegrees2!#REF!+FirstPartDegrees2!#REF!)/2+(FirstPartDegrees2!G57+J57)/2+(FirstPartDegrees2!L57+S57)/2+(FirstPartDegrees2!H57+#REF!)/2 )/4,0)","v":{"$error":"#REF!"}},{"$f":"ROUNDUP(((FirstPartDegrees2!E57+FirstPartDegrees2!I57)/2+(FirstPartDegrees2!#REF!+FirstPartDegrees2!#REF!)/2+(FirstPartDegrees2!N57+V57)/2+(AB57+#REF!)/2)/4,0)","v":{"$error":"#REF!"}},{"$f":"(AQ57+AAH57+AO57)*40/12","v":{"$error":"#REF!"}}]
[null,null,{"$f":"IF($B57=\"\",\"\",للطباعة!$G$17)","v":""},{"$f":"IF($B57=\"\",\"\",للطباعة!$F$17)","v":""},{"$f":"IF($B57=\"\",\"\",للطباعة!$N$17)","v":""},{"$f":"IF($B57=\"\",\"\",للطباعة!$M$17)","v":""},{"$f":"IF($B57=\"\",\"\",للطباعة!$U$17)","v":""},{"$f":"IF($B57=\"\",\"\",للطباعة!$T$17)","v":""},{"$f":"IF($B57=\"\",\"\",للطباعة!$AB$17)","v":""},{"$f":"IF($B57=\"\",\"\",للطباعة!$AA$17)","v":""},null,{"$f":"IF($B57=\"\",\"\",للطباعة!$AJ$17)","v":""},{"$f":"IF($B57=\"\",\"\",للطباعة!$AI$17)","v":""},{"$f":"IF($B57=\"\",\"\",للطباعة!$AQ$17)","v":""},{"$f":"IF($B57=\"\",\"\",للطباعة!$AP$17)","v":""},{"$f":"IF($B57=\"\",\"\",للطباعة!$AX$17)","v":""},{"$f":"IF($B57=\"\",\"\",للطباعة!$AW$17)","v":""},{"$f":"IF($B57=\"\",\"\",للطباعة!$BE$17)","v":""},{"$f":"IF($B57=\"\",\"\",للطباعة!$BD$17)","v":""},null,{"$f":"IF($B57=\"\",\"\",للطباعة!$BM$17)","v":""},{"$f":"IF($B57=\"\",\"\",للطباعة!$BL$17)","v":""},{"$f":"IF($B57=\"\",\"\",للطباعة!$BT$17)","v":""},{"$f":"IF($B57=\"\",\"\",للطباعة!$BS$17)","v":""},{"$f":"IF($B57=\"\",\"\",للطباعة!$CA$17)","v":""},{"$f":"IF($B57=\"\",\"\",للطباعة!$BZ$17)","v":""},{"$f":"IF($B57=\"\",\"\",للطباعة!$CH$17)","v":""},{"$f":"IF($B57=\"\",\"\",للطباعة!$CG$17)","v":""}]
[null,"النقاط",{"$f":"IF($B57=\"\",\"\",(D57+D58)*100/8)","v":""},null,{"$f":"IF($B57=\"\",\"\",(F57+F58)*100/8)","v":""},null,{"$f":"IF($B57=\"\",\"\",(H57+H58)*100/8)","v":""},null,{"$f":"IF($B57=\"\",\"\",(J57+J58)*100/8)","v":""},null,null,{"$f":"IF($B57=\"\",\"\",(M57+M58)*100/8)","v":""},null,{"$f":"IF($B57=\"\",\"\",(O57+O58)*100/8)","v":""},null,{"$f":"IF($B57=\"\",\"\",(Q57+Q58)*100/8)","v":""},null,{"$f":"IF($B57=\"\",\"\",(S57+S58)*100/8)","v":""},null,null,{"$f":"IF($B57=\"\",\"\",(V57+V58)*100/8)","v":""},null,{"$f":"IF($B57=\"\",\"\",(X57+X58)*100/8)","v":""},null,{"$f":"IF($B57=\"\",\"\",(Z57+Z58)*100/8)","v":""},null,{"$f":"IF($B57=\"\",\"\",(AB57+AB58)*100/8)","v":""}]
[17,{"$f":"INDIRECT(ADDRESS(A60+1,2,,,\"للطباعة\"))","v":""},{"$f":"IF($B60=\"\",\"\",للطباعة!$E$18)","v":""},{"$f":"IF($B60=\"\",\"\",للطباعة!$D$18)","v":""},{"$f":"IF($B60=\"\",\"\",للطباعة!$L$18)","v":""},{"$f":"IF($B60=\"\",\"\",للطباعة!$K$18)","v":""},{"$f":"IF($B60=\"\",\"\",للطباعة!$S$18)","v":""},{"$f":"IF($B60=\"\",\"\",للطباعة!$R$18)","v":""},{"$f":"IF($B60=\"\",\"\",للطباعة!$Z$18)","v":""},{"$f":"IF($B60=\"\",\"\",للطباعة!$Y$18)","v":""},{"$f":"IF($B60=\"\",\"\",(C62+E62+G62+I62)/4)","v":""},{"$f":"IF($B60=\"\",\"\",للطباعة!$AH$18)","v":""},{"$f":"IF($B60=\"\",\"\",للطباعة!$AG$18)","v":""},{"$f":"IF($B60=\"\",\"\",للطباعة!$AO$18)","v":""},{"$f":"IF($B60=\"\",\"\",للطباعة!$AN$18)","v":""},{"$f":"IF($B60=\"\",\"\",للطباعة!$AV$18)","v":""},{"$f":"IF($B60=\"\",\"\",للطباعة!$AU$18)","v":""},{"$f":"IF($B60=\"\",\"\",للطباعة!$BC$18)","v":""},{"$f":"IF($B60=\"\",\"\",للطباعة!$BB$18)","v":""},{"$f":"IF($B60=\"\",\"\",(L62+N62+P62+R62)/4)","v":""},{"$f":"IF($B60=\"\",\"\",للطباعة!$BK$18)","v":""},{"$f":"IF($B60=\"\",\"\",للطباعة!$BJ$18)","v":""},{"$f":"IF($B60=\"\",\"\",للطباعة!$BR$18)","v":""},{"$f":"IF($B60=\"\",\"\",للطباعة!$BQ$18)","v":""},{"$f":"IF($B60=\"\",\"\",للطباعة!$BY$18)","v":""},{"$f":"IF($B60=\"\",\"\",للطباعة!$BX$18)","v":""},{"$f":"IF($B60=\"\",\"\",للطباعة!$CF$18)","v":""},{"$f":"IF($B60=\"\",\"\",للطباعة!$CE$18)","v":""},{"$f":"IF($B60=\"\",\"\",(U62+W62+Y62+AA62)/4)","v":""},{"$f":"IF($B60=\"\",\"\",(K60+T60+AC60)*0.04)","v":""},{"$f":"IF($B60=\"\",\"\",IF((AD60*40/12-INT(AD60*40/12))>=0.75,INT(AD60*40/12)+1,IF((AD60*40/12-INT(AD60*40/12))<0.25,INT(AD60*40/12),INT(AD57*40/12)+0.5)))","v":""},{"$f":"IF($B60=\"\",\"\",INDIRECT(ADDRESS(11+A60*2,19,1,,\"SeconedPartDegrees2\")))","v":""},{"$f":"IF($B60=\"\",\"\",INDIRECT(ADDRESS(11+A60*2,20,1,,\"SeconedPartDegrees2\")))","v":""},{"$f":"IF(OR(AF60=\"\",AG60=\"\"),\"\",AF60+AG60)","v":""},{"$f":"IF(OR(AE60=\"\",AG60=\"\"),\"\",AG60+AF60+AE60)","v":""},{"$f":"IF($B60=\"\",\"\",INDIRECT(ADDRESS(11+A60*2,21,1,,\"SeconedPartDegrees1\")))","v":""},{"$f":"IFERROR(IF(AI60=\"\",\"\",IF(((AI60+AJ60)/2-INT((AI60+AJ60)/2))>=0.75,INT((AI60+AJ60)/2)+1,IF(((AI60+AJ60)/2-INT((AI60+AJ60)/2))<0.25,INT((AI60+AJ60)/2),INT((AI60+AJ60)/2)+0.5))),\"\")","v":""},{"$f":"IF($AK60=\"\",\"\",IF(AK60=\"\",\"غياب وعليه دور ثاني\",IF(AK60<50,\"دور ثاني\",\"ناجح\")))","v":""},null,null,{"$f":"ROUNDUP(((FirstPartDegrees2!#REF!+D60)/2+(FirstPartDegrees2!F60+O60)/2+(FirstPartDegrees2!#REF!+M60)/2+(FirstPartDegrees2!C60+F60)/2 )/4,0)","v":{"$error":"#REF!"}},{"$f":"ROUNDUP(((FirstPartDegrees2!#REF!+FirstPartDegrees2!#REF!)/2+(FirstPartDegrees2!G60+J60)/2+(FirstPartDegrees2!L60+S60)/2+(FirstPartDegrees2!H60+#REF!)/2 )/4,0)","v":{"$error":"#REF!"}},{"$f":"ROUNDUP(((FirstPartDegrees2!E60+FirstPartDegrees2!I60)/2+(FirstPartDegrees2!#REF!+FirstPartDegrees2!#REF!)/2+(FirstPartDegrees2!N60+V60)/2+(AB60+#REF!)/2)/4,0)","v":{"$error":"#REF!"}},{"$f":"(AQ60+AAH60+AO60)*40/12","v":{"$error":"#REF!"}}]
[null,null,{"$f":"IF($B60=\"\",\"\",للطباعة!$G$18)","v":""},{"$f":"IF($B60=\"\",\"\",للطباعة!$F$18)","v":""},{"$f":"IF($B60=\"\",\"\",للطباعة!$N$18)","v":""},{"$f":"IF($B60=\"\",\"\",للطباعة!$M$18)","v":""},{"$f":"IF($B60=\"\",\"\",للطباعة!$U$18)","v":""},{"$f":"IF($B60=\"\",\"\",للطباعة!$T$18)","v":""},{"$f":"IF($B60=\"\",\"\",للطباعة!$AB$18)","v":""},{"$f":"IF($B60=\"\",\"\",للطباعة!$AA$18)","v":""},null,{"$f":"IF($B60=\"\",\"\",للطباعة!$AJ$18)","v":""},{"$f":"IF($B60=\"\",\"\",للطباعة!$AI$18)","v":""},{"$f":"IF($B60=\"\",\"\",للطباعة!$AQ$18)","v":""},{"$f":"IF($B60=\"\",\"\",للطباعة!$AP$18)","v":""},{"$f":"IF($B60=\"\",\"\",للطباعة!$AX$18)","v":""},{"$f":"IF($B60=\"\",\"\",للطباعة!$AW$18)","v":""},{"$f":"IF($B60=\"\",\"\",للطباعة!$BE$18)","v":""},{"$f":"IF($B60=\"\",\"\",للطباعة!$BD$18)","v":""},null,{"$f":"IF($B60=\"\",\"\",للطباعة!$BM$18)","v":""},{"$f":"IF($B60=\"\",\"\",للطباعة!$BL$18)","v":""},{"$f":"IF($B60=\"\",\"\",للطباعة!$BT$18)","v":""},{"$f":"IF($B60=\"\",\"\",للطباعة!$BS$18)","v":""},{"$f":"IF($B60=\"\",\"\",للطباعة!$CA$18)","v":""},{"$f":"IF($B60=\"\",\"\",للطباعة!$BZ$18)","v":""},{"$f":"IF($B60=\"\",\"\",للطباعة!$CH$18)","v":""},{"$f":"IF($B60=\"\",\"\",للطباعة!$CG$18)","v":""}]
[null,"النقاط",{"$f":"IF($B60=\"\",\"\",(D60+D61)*100/8)","v":""},null,{"$f":"IF($B60=\"\",\"\",(F60+F61)*100/8)","v":""},null,{"$f":"IF($B60=\"\",\"\",(H60+H61)*100/8)","v":""},null,{"$f":"IF($B60=\"\",\"\",(J60+J61)*100/8)","v":""},null,null,{"$f":"IF($B60=\"\",\"\",(M60+M61)*100/8)","v":""},null,{"$f":"IF($B60=\"\",\"\",(O60+O61)*100/8)","v":""},null,{"$f":"IF($B60=\"\",\"\",(Q60+Q61)*100/8)","v":""},null,{"$f":"IF($B60=\"\",\"\",(S60+S61)*100/8)","v":""},null,null,{"$f":"IF($B60=\"\",\"\",(V60+V61)*100/8)","v":""},null,{"$f":"IF($B60=\"\",\"\",(X60+X61)*100/8)","v":""},null,{"$f":"IF($B60=\"\",\"\",(Z60+Z61)*100/8)","v":""},null,{"$f":"IF($B60=\"\",\"\",(AB60+AB61)*100/8)","v":""}]
[18,{"$f":"INDIRECT(ADDRESS(A63+1,2,,,\"للطباعة\"))","v":""},{"$f":"IF($B63=\"\",\"\",للطباعة!$E$19)","v":""},{"$f":"IF($B63=\"\",\"\",للطباعة!$D$19)","v":""},{"$f":"IF($B63=\"\",\"\",للطباعة!$L$19)","v":""},{"$f":"IF($B63=\"\",\"\",للطباعة!$K$19)","v":""},{"$f":"IF($B63=\"\",\"\",للطباعة!$S$19)","v":""},{"$f":"IF($B63=\"\",\"\",للطباعة!$R$19)","v":""},{"$f":"IF($B63=\"\",\"\",للطباعة!$Z$19)","v":""},{"$f":"IF($B63=\"\",\"\",للطباعة!$Y$19)","v":""},{"$f":"IF($B63=\"\",\"\",(C65+E65+G65+I65)/4)","v":""},{"$f":"IF($B63=\"\",\"\",للطباعة!$AH$19)","v":""},{"$f":"IF($B63=\"\",\"\",للطباعة!$AG$19)","v":""},{"$f":"IF($B63=\"\",\"\",للطباعة!$AO$19)","v":""},{"$f":"IF($B63=\"\",\"\",للطباعة!$AN$19)","v":""},{"$f":"IF($B63=\"\",\"\",للطباعة!$AV$19)","v":""},{"$f":"IF($B63=\"\",\"\",للطباعة!$AU$19)","v":""},{"$f":"IF($B63=\"\",\"\",للطباعة!$BC$19)","v":""},{"$f":"IF($B63=\"\",\"\",للطباعة!$BB$19)","v":""},{"$f":"IF($B63=\"\",\"\",(L65+N65+P65+R65)/4)","v":""},{"$f":"IF($B63=\"\",\"\",للطباعة!$BK$19)","v":""},{"$f":"IF($B63=\"\",\"\",للطباعة!$BJ$19)","v":""},{"$f":"IF($B63=\"\",\"\",للطباعة!$BR$19)","v":""},{"$f":"IF($B63=\"\",\"\",للطباعة!$BQ$19)","v":""},{"$f":"IF($B63=\"\",\"\",للطباعة!$BY$19)","v":""},{"$f":"IF($B63=\"\",\"\",للطباعة!$BX$19)","v":""},{"$f":"IF($B63=\"\",\"\",للطباعة!$CF$19)","v":""},{"$f":"IF($B63=\"\",\"\",للطباعة!$CE$19)","v":""},{"$f":"IF($B63=\"\",\"\",(U65+W65+Y65+AA65)/4)","v":""},{"$f":"IF($B63=\"\",\"\",(K63+T63+AC63)*0.04)","v":""},{"$f":"IF($B63=\"\",\"\",IF((AD63*40/12-INT(AD63*40/12))>=0.75,INT(AD63*40/12)+1,IF((AD63*40/12-INT(AD63*40/12))<0.25,INT(AD63*40/12),INT(AD60*40/12)+0.5)))","v":""},{"$f":"IF($B63=\"\",\"\",INDIRECT(ADDRESS(11+A63*2,19,1,,\"SeconedPartDegrees2\")))","v":""},{"$f":"IF($B63=\"\",\"\",INDIRECT(ADDRESS(11+A63*2,20,1,,\"SeconedPartDegrees2\")))","v":""},{"$f":"IF(OR(AF63=\"\",AG63=\"\"),\"\",AF63+AG63)","v":""},{"$f":"IF(OR(AE63=\"\",AG63=\"\"),\"\",AG63+AF63+AE63)","v":""},{"$f":"IF($B63=\"\",\"\",INDIRECT(ADDRESS(11+A63*2,21,1,,\"SeconedPartDegrees1\")))","v":""},{"$f":"IFERROR(IF(AI63=\"\",\"\",IF(((AI63+AJ63)/2-INT((AI63+AJ63)/2))>=0.75,INT((AI63+AJ63)/2)+1,IF(((AI63+AJ63)/2-INT((AI63+AJ63)/2))<0.25,INT((AI63+AJ63)/2),INT((AI63+AJ63)/2)+0.5))),\"\")","v":""},{"$f":"IF($AK63=\"\",\"\",IF(AK63=\"\",\"غياب وعليه دور ثاني\",IF(AK63<50,\"دور ثاني\",\"ناجح\")))","v":""},null,null,{"$f":"ROUNDUP(((FirstPartDegrees2!#REF!+D63)/2+(FirstPartDegrees2!F63+O63)/2+(FirstPartDegrees2!#REF!+M63)/2+(FirstPartDegrees2!C63+F63)/2 )/4,0)","v":{"$error":"#REF!"}},{"$f":"ROUNDUP(((FirstPartDegrees2!#REF!+FirstPartDegrees2!#REF!)/2+(FirstPartDegrees2!G63+J63)/2+(FirstPartDegrees2!L63+S63)/2+(FirstPartDegrees2!H63+#REF!)/2 )/4,0)","v":{"$error":"#REF!"}},{"$f":"ROUNDUP(((FirstPartDegrees2!E63+FirstPartDegrees2!I63)/2+(FirstPartDegrees2!#REF!+FirstPartDegrees2!#REF!)/2+(FirstPartDegrees2!N63+V63)/2+(AB63+#REF!)/2)/4,0)","v":{"$error":"#REF!"}},{"$f":"(AQ63+AAH63+AO63)*40/12","v":{"$error":"#REF!"}}]
[null,null,{"$f":"IF($B63=\"\",\"\",للطباعة!$G$19)","v":""},{"$f":"IF($B63=\"\",\"\",للطباعة!$F$19)","v":""},{"$f":"IF($B63=\"\",\"\",للطباعة!$N$19)","v":""},{"$f":"IF($B63=\"\",\"\",للطباعة!$M$19)","v":""},{"$f":"IF($B63=\"\",\"\",للطباعة!$U$19)","v":""},{"$f":"IF($B63=\"\",\"\",للطباعة!$T$19)","v":""},{"$f":"IF($B63=\"\",\"\",للطباعة!$AB$19)","v":""},{"$f":"IF($B63=\"\",\"\",للطباعة!$AA$19)","v":""},null,{"$f":"IF($B63=\"\",\"\",للطباعة!$AJ$19)","v":""},{"$f":"IF($B63=\"\",\"\",للطباعة!$AI$19)","v":""},{"$f":"IF($B63=\"\",\"\",للطباعة!$AQ$19)","v":""},{"$f":"IF($B63=\"\",\"\",للطباعة!$AP$19)","v":""},{"$f":"IF($B63=\"\",\"\",للطباعة!$AX$19)","v":""},{"$f":"IF($B63=\"\",\"\",للطباعة!$AW$19)","v":""},{"$f":"IF($B63=\"\",\"\",للطباعة!$BE$19)","v":""},{"$f":"IF($B63=\"\",\"\",للطباعة!$BD$19)","v":""},null,{"$f":"IF($B63=\"\",\"\",للطباعة!$BM$19)","v":""},{"$f":"IF($B63=\"\",\"\",للطباعة!$BL$19)","v":""},{"$f":"IF($B63=\"\",\"\",للطباعة!$BT$19)","v":""},{"$f":"IF($B63=\"\",\"\",للطباعة!$BS$19)","v":""},{"$f":"IF($B63=\"\",\"\",للطباعة!$CA$19)","v":""},{"$f":"IF($B63=\"\",\"\",للطباعة!$BZ$19)","v":""},{"$f":"IF($B63=\"\",\"\",للطباعة!$CH$19)","v":""},{"$f":"IF($B63=\"\",\"\",للطباعة!$CG$19)","v":""}]
[null,"النقاط",{"$f":"IF($B63=\"\",\"\",(D63+D64)*100/8)","v":""},null,{"$f":"IF($B63=\"\",\"\",(F63+F64)*100/8)","v":""},null,{"$f":"IF($B63=\"\",\"\",(H63+H64)*100/8)","v":""},null,{"$f":"IF($B63=\"\",\"\",(J63+J64)*100/8)","v":""},null,null,{"$f":"IF($B63=\"\",\"\",(M63+M64)*100/8)","v":""},null,{"$f":"IF($B63=\"\",\"\",(O63+O64)*100/8)","v":""},null,{"$f":"IF($B63=\"\",\"\",(Q63+Q64)*100/8)","v":""},null,{"$f":"IF($B63=\"\",\"\",(S63+S64)*100/8)","v":""},null,null,{"$f":"IF($B63=\"\",\"\",(V63+V64)*100/8)","v":""},null,{"$f":"IF($B63=\"\",\"\",(X63+X64)*100/8)","v":""},null,{"$f":"IF($B63=\"\",\"\",(Z63+Z64)*100/8)","v":""},null,{"$f":"IF($B63=\"\",\"\",(AB63+AB64)*100/8)","v":""}]
[19,{"$f":"INDIRECT(ADDRESS(A66+1,2,,,\"للطباعة\"))","v":""},{"$f":"IF($B66=\"\",\"\",للطباعة!$E$20)","v":""},{"$f":"IF($B66=\"\",\"\",للطباعة!$D$20)","v":""},{"$f":"IF($B66=\"\",\"\",للطباعة!$L$20)","v":""},{"$f":"IF($B66=\"\",\"\",للطباعة!$K$20)","v":""},{"$f":"IF($B66=\"\",\"\",للطباعة!$S$20)","v":""},{"$f":"IF($B66=\"\",\"\",للطباعة!$R$20)","v":""},{"$f":"IF($B66=\"\",\"\",للطباعة!$Z$20)","v":""},{"$f":"IF($B66=\"\",\"\",للطباعة!$Y$20)","v":""},{"$f":"IF($B66=\"\",\"\",(C68+E68+G68+I68)/4)","v":""},{"$f":"IF($B66=\"\",\"\",للطباعة!$AH$20)","v":""},{"$f":"IF($B66=\"\",\"\",للطباعة!$AG$20)","v":""},{"$f":"IF($B66=\"\",\"\",للطباعة!$AO$20)","v":""},{"$f":"IF($B66=\"\",\"\",للطباعة!$AN$20)","v":""},{"$f":"IF($B66=\"\",\"\",للطباعة!$AV$20)","v":""},{"$f":"IF($B66=\"\",\"\",للطباعة!$AU$20)","v":""},{"$f":"IF($B66=\"\",\"\",للطباعة!$BC$20)","v":""},{"$f":"IF($B66=\"\",\"\",للطباعة!$BB$20)","v":""},{"$f":"IF($B66=\"\",\"\",(L68+N68+P68+R68)/4)","v":""},{"$f":"IF($B66=\"\",\"\",للطباعة!$BK$20)","v":""},{"$f":"IF($B66=\"\",\"\",للطباعة!$BJ$20)","v":""},{"$f":"IF($B66=\"\",\"\",للطباعة!$BR$20)","v":""},{"$f":"IF($B66=\"\",\"\",للطباعة!$BQ$20)","v":""},{"$f":"IF($B66=\"\",\"\",للطباعة!$BY$20)","v":""},{"$f":"IF($B66=\"\",\"\",للطباعة!$BX$20)","v":""},{"$f":"IF($B66=\"\",\"\",للطباعة!$CF$20)","v":""},{"$f":"IF($B66=\"\",\"\",للطباعة!$CE$20)","v":""},{"$f":"IF($B66=\"\",\"\",(U68+W68+Y68+AA68)/4)","v":""},{"$f":"IF($B66=\"\",\"\",(K66+T66+AC66)*0.04)","v":""},{"$f":"IF($B66=\"\",\"\",IF((AD66*40/12-INT(AD66*40/12))>=0.75,INT(AD66*40/12)+1,IF((AD66*40/12-INT(AD66*40/12))<0.25,INT(AD66*40/12),INT(AD63*40/12)+0.5)))","v":""},{"$f":"IF($B66=\"\",\"\",INDIRECT(ADDRESS(11+A66*2,19,1,,\"SeconedPartDegrees2\")))","v":""},{"$f":"IF($B66=\"\",\"\",INDIRECT(ADDRESS(11+A66*2,20,1,,\"SeconedPartDegrees2\")))","v":""},{"$f":"IF(OR(AF66=\"\",AG66=\"\"),\"\",AF66+AG66)","v":""},{"$f":"IF(OR(AE66=\"\",AG66=\"\"),\"\",AG66+AF66+AE66)","v":""},{"$f":"IF($B66=\"\",\"\",INDIRECT(ADDRESS(11+A66*2,21,1,,\"SeconedPartDegrees1\")))","v":""},{"$f":"IFERROR(IF(AI66=\"\",\"\",IF(((AI66+AJ66)/2-INT((AI66+AJ66)/2))>=0.75,INT((AI66+AJ66)/2)+1,IF(((AI66+AJ66)/2-INT((AI66+AJ66)/2))<0.25,INT((AI66+AJ66)/2),INT((AI66+AJ66)/2)+0.5))),\"\")","v":""},{"$f":"IF($AK66=\"\",\"\",IF(AK66=\"\",\"غياب وعليه دور ثاني\",IF(AK66<50,\"دور ثاني\",\"ناجح\")))","v":""},null,null,{"$f":"ROUNDUP(((FirstPartDegrees2!#REF!+D66)/2+(FirstPartDegrees2!F66+O66)/2+(FirstPartDegrees2!#REF!+M66)/2+(FirstPartDegrees2!C66+F66)/2 )/4,0)","v":{"$error":"#REF!"}},{"$f":"ROUNDUP(((FirstPartDegrees2!#REF!+FirstPartDegrees2!#REF!)/2+(FirstPartDegrees2!G66+J66)/2+(FirstPartDegrees2!L66+S66)/2+(FirstPartDegrees2!H66+#REF!)/2 )/4,0)","v":{"$error":"#REF!"}},{"$f":"ROUNDUP(((FirstPartDegrees2!E66+FirstPartDegrees2!I66)/2+(FirstPartDegrees2!#REF!+FirstPartDegrees2!#REF!)/2+(FirstPartDegrees2!N66+V66)/2+(AB66+#REF!)/2)/4,0)","v":{"$error":"#REF!"}},{"$f":"(AQ66+AAH66+AO66)*40/12","v":{"$error":"#REF!"}}]
[null,null,{"$f":"IF($B66=\"\",\"\",للطباعة!$G$20)","v":""},{"$f":"IF($B66=\"\",\"\",للطباعة!$F$20)","v":""},{"$f":"IF($B66=\"\",\"\",للطباعة!$N$20)","v":""},{"$f":"IF($B66=\"\",\"\",للطباعة!$M$20)","v":""},{"$f":"IF($B66=\"\",\"\",للطباعة!$U$20)","v":""},{"$f":"IF($B66=\"\",\"\",للطباعة!$T$20)","v":""},{"$f":"IF($B66=\"\",\"\",للطباعة!$AB$20)","v":""},{"$f":"IF($B66=\"\",\"\",للطباعة!$AA$20)","v":""},null,{"$f":"IF($B66=\"\",\"\",للطباعة!$AJ$20)","v":""},{"$f":"IF($B66=\"\",\"\",للطباعة!$AI$20)","v":""},{"$f":"IF($B66=\"\",\"\",للطباعة!$AQ$20)","v":""},{"$f":"IF($B66=\"\",\"\",للطباعة!$AP$20)","v":""},{"$f":"IF($B66=\"\",\"\",للطباعة!$AX$20)","v":""},{"$f":"IF($B66=\"\",\"\",للطباعة!$AW$20)","v":""},{"$f":"IF($B66=\"\",\"\",للطباعة!$BE$20)","v":""},{"$f":"IF($B66=\"\",\"\",للطباعة!$BD$20)","v":""},null,{"$f":"IF($B66=\"\",\"\",للطباعة!$BM$20)","v":""},{"$f":"IF($B66=\"\",\"\",للطباعة!$BL$20)","v":""},{"$f":"IF($B66=\"\",\"\",للطباعة!$BT$20)","v":""},{"$f":"IF($B66=\"\",\"\",للطباعة!$BS$20)","v":""},{"$f":"IF($B66=\"\",\"\",للطباعة!$CA$20)","v":""},{"$f":"IF($B66=\"\",\"\",للطباعة!$BZ$20)","v":""},{"$f":"IF($B66=\"\",\"\",للطباعة!$CH$20)","v":""},{"$f":"IF($B66=\"\",\"\",للطباعة!$CG$20)","v":""}]
[null,"النقاط",{"$f":"IF($B66=\"\",\"\",(D66+D67)*100/8)","v":""},null,{"$f":"IF($B66=\"\",\"\",(F66+F67)*100/8)","v":""},null,{"$f":"IF($B66=\"\",\"\",(H66+H67)*100/8)","v":""},null,{"$f":"IF($B66=\"\",\"\",(J66+J67)*100/8)","v":""},null,null,{"$f":"IF($B66=\"\",\"\",(M66+M67)*100/8)","v":""},null,{"$f":"IF($B66=\"\",\"\",(O66+O67)*100/8)","v":""},null,{"$f":"IF($B66=\"\",\"\",(Q66+Q67)*100/8)","v":""},null,{"$f":"IF($B66=\"\",\"\",(S66+S67)*100/8)","v":""},null,null,{"$f":"IF($B66=\"\",\"\",(V66+V67)*100/8)","v":""},null,{"$f":"IF($B66=\"\",\"\",(X66+X67)*100/8)","v":""},null,{"$f":"IF($B66=\"\",\"\",(Z66+Z67)*100/8)","v":""},null,{"$f":"IF($B66=\"\",\"\",(AB66+AB67)*100/8)","v":""}]
[20,{"$f":"INDIRECT(ADDRESS(A69+1,2,,,\"للطباعة\"))","v":""},{"$f":"IF($B69=\"\",\"\",للطباعة!$E$21)","v":""},{"$f":"IF($B69=\"\",\"\",للطباعة!$D$21)","v":""},{"$f":"IF($B69=\"\",\"\",للطباعة!$L$21)","v":""},{"$f":"IF($B69=\"\",\"\",للطباعة!$K$21)","v":""},{"$f":"IF($B69=\"\",\"\",للطباعة!$S$21)","v":""},{"$f":"IF($B69=\"\",\"\",للطباعة!$R$21)","v":""},{"$f":"IF($B69=\"\",\"\",للطباعة!$Z$21)","v":""},{"$f":"IF($B69=\"\",\"\",للطباعة!$Y$21)","v":""},{"$f":"IF($B69=\"\",\"\",(C71+E71+G71+I71)/4)","v":""},{"$f":"IF($B69=\"\",\"\",للطباعة!$AH$21)","v":""},{"$f":"IF($B69=\"\",\"\",للطباعة!$AG$21)","v":""},{"$f":"IF($B69=\"\",\"\",للطباعة!$AO$21)","v":""},{"$f":"IF($B69=\"\",\"\",للطباعة!$AN$21)","v":""},{"$f":"IF($B69=\"\",\"\",للطباعة!$AV$21)","v":""},{"$f":"IF($B69=\"\",\"\",للطباعة!$AU$21)","v":""},{"$f":"IF($B69=\"\",\"\",للطباعة!$BC$21)","v":""},{"$f":"IF($B69=\"\",\"\",للطباعة!$BB$21)","v":""},{"$f":"IF($B69=\"\",\"\",(L71+N71+P71+R71)/4)","v":""},{"$f":"IF($B69=\"\",\"\",للطباعة!$BK$21)","v":""},{"$f":"IF($B69=\"\",\"\",للطباعة!$BJ$21)","v":""},{"$f":"IF($B69=\"\",\"\",للطباعة!$BR$21)","v":""},{"$f":"IF($B69=\"\",\"\",للطباعة!$BQ$21)","v":""},{"$f":"IF($B69=\"\",\"\",للطباعة!$BY$21)","v":""},{"$f":"IF($B69=\"\",\"\",للطباعة!$BX$21)","v":""},{"$f":"IF($B69=\"\",\"\",للطباعة!$CF$21)","v":""},{"$f":"IF($B69=\"\",\"\",للطباعة!$CE$21)","v":""},{"$f":"IF($B69=\"\",\"\",(U71+W71+Y71+AA71)/4)","v":""},{"$f":"IF($B69=\"\",\"\",(K69+T69+AC69)*0.04)","v":""},{"$f":"IF($B69=\"\",\"\",IF((AD69*40/12-INT(AD69*40/12))>=0.75,INT(AD69*40/12)+1,IF((AD69*40/12-INT(AD69*40/12))<0.25,INT(AD69*40/12),INT(AD66*40/12)+0.5)))","v":""},{"$f":"IF($B69=\"\",\"\",INDIRECT(ADDRESS(11+A69*2,19,1,,\"SeconedPartDegrees2\")))","v":""},{"$f":"IF($B69=\"\",\"\",INDIRECT(ADDRESS(11+A69*2,20,1,,\"SeconedPartDegrees2\")))","v":""},{"$f":"IF(OR(AF69=\"\",AG69=\"\"),\"\",AF69+AG69)","v":""},{"$f":"IF(OR(AE69=\"\",AG69=\"\"),\"\",AG69+AF69+AE69)","v":""},{"$f":"IF($B69=\"\",\"\",INDIRECT(ADDRESS(11+A69*2,21,1,,\"SeconedPartDegrees1\")))","v":""},{"$f":"IFERROR(IF(AI69=\"\",\"\",IF(((AI69+AJ69)/2-INT((AI69+AJ69)/2))>=0.75,INT((AI69+AJ69)/2)+1,IF(((AI69+AJ69)/2-INT((AI69+AJ69)/2))<0.25,INT((AI69+AJ69)/2),INT((AI69+AJ69)/2)+0.5))),\"\")","v":""},{"$f":"IF($AK69=\"\",\"\",IF(AK69=\"\",\"غياب وعليه دور ثاني\",IF(AK69<50,\"دور ثاني\",\"ناجح\")))","v":""},null,null,{"$f":"ROUNDUP(((FirstPartDegrees2!#REF!+D69)/2+(FirstPartDegrees2!F69+O69)/2+(FirstPartDegrees2!#REF!+M69)/2+(FirstPartDegrees2!C69+F69)/2 )/4,0)","v":{"$error":"#REF!"}},{"$f":"ROUNDUP(((FirstPartDegrees2!#REF!+FirstPartDegrees2!#REF!)/2+(FirstPartDegrees2!G69+J69)/2+(FirstPartDegrees2!L69+S69)/2+(FirstPartDegrees2!H69+#REF!)/2 )/4,0)","v":{"$error":"#REF!"}},{"$f":"ROUNDUP(((FirstPartDegrees2!E69+FirstPartDegrees2!I69)/2+(FirstPartDegrees2!#REF!+FirstPartDegrees2!#REF!)/2+(FirstPartDegrees2!N69+V69)/2+(AB69+#REF!)/2)/4,0)","v":{"$error":"#REF!"}},{"$f":"(AQ69+AAH69+AO69)*40/12","v":{"$error":"#REF!"}}]
[null,null,{"$f":"IF($B69=\"\",\"\",للطباعة!$G$21)","v":""},{"$f":"IF($B69=\"\",\"\",للطباعة!$F$21)","v":""},{"$f":"IF($B69=\"\",\"\",للطباعة!$N$21)","v":""},{"$f":"IF($B69=\"\",\"\",للطباعة!$M$21)","v":""},{"$f":"IF($B69=\"\",\"\",للطباعة!$U$21)","v":""},{"$f":"IF($B69=\"\",\"\",للطباعة!$T$21)","v":""},{"$f":"IF($B69=\"\",\"\",للطباعة!$AB$21)","v":""},{"$f":"IF($B69=\"\",\"\",للطباعة!$AA$21)","v":""},null,{"$f":"IF($B69=\"\",\"\",للطباعة!$AJ$21)","v":""},{"$f":"IF($B69=\"\",\"\",للطباعة!$AI$21)","v":""},{"$f":"IF($B69=\"\",\"\",للطباعة!$AQ$21)","v":""},{"$f":"IF($B69=\"\",\"\",للطباعة!$AP$21)","v":""},{"$f":"IF($B69=\"\",\"\",للطباعة!$AX$21)","v":""},{"$f":"IF($B69=\"\",\"\",للطباعة!$AW$21)","v":""},{"$f":"IF($B69=\"\",\"\",للطباعة!$BE$21)","v":""},{"$f":"IF($B69=\"\",\"\",للطباعة!$BD$21)","v":""},null,{"$f":"IF($B69=\"\",\"\",للطباعة!$BM$21)","v":""},{"$f":"IF($B69=\"\",\"\",للطباعة!$BL$21)","v":""},{"$f":"IF($B69=\"\",\"\",للطباعة!$BT$21)","v":""},{"$f":"IF($B69=\"\",\"\",للطباعة!$BS$21)","v":""},{"$f":"IF($B69=\"\",\"\",للطباعة!$CA$21)","v":""},{"$f":"IF($B69=\"\",\"\",للطباعة!$BZ$21)","v":""},{"$f":"IF($B69=\"\",\"\",للطباعة!$CH$21)","v":""},{"$f":"IF($B69=\"\",\"\",للطباعة!$CG$21)","v":""}]
[null,"النقاط",{"$f":"IF($B69=\"\",\"\",(D69+D70)*100/8)","v":""},null,{"$f":"IF($B69=\"\",\"\",(F69+F70)*100/8)","v":""},null,{"$f":"IF($B69=\"\",\"\",(H69+H70)*100/8)","v":""},null,{"$f":"IF($B69=\"\",\"\",(J69+J70)*100/8)","v":""},null,null,{"$f":"IF($B69=\"\",\"\",(M69+M70)*100/8)","v":""},null,{"$f":"IF($B69=\"\",\"\",(O69+O70)*100/8)","v":""},null,{"$f":"IF($B69=\"\",\"\",(Q69+Q70)*100/8)","v":""},null,{"$f":"IF($B69=\"\",\"\",(S69+S70)*100/8)","v":""},null,null,{"$f":"IF($B69=\"\",\"\",(V69+V70)*100/8)","v":""},null,{"$f":"IF($B69=\"\",\"\",(X69+X70)*100/8)","v":""},null,{"$f":"IF($B69=\"\",\"\",(Z69+Z70)*100/8)","v":""},null,{"$f":"IF($B69=\"\",\"\",(AB69+AB70)*100/8)","v":""}]
[21,{"$f":"INDIRECT(ADDRESS(A72+1,2,,,\"للطباعة\"))","v":""},{"$f":"IF($B72=\"\",\"\",للطباعة!$E$22)","v":""},{"$f":"IF($B72=\"\",\"\",للطباعة!$D$22)","v":""},{"$f":"IF($B72=\"\",\"\",للطباعة!$L$22)","v":""},{"$f":"IF($B72=\"\",\"\",للطباعة!$K$22)","v":""},{"$f":"IF($B72=\"\",\"\",للطباعة!$S$22)","v":""},{"$f":"IF($B72=\"\",\"\",للطباعة!$R$22)","v":""},{"$f":"IF($B72=\"\",\"\",للطباعة!$Z$22)","v":""},{"$f":"IF($B72=\"\",\"\",للطباعة!$Y$22)","v":""},{"$f":"IF($B72=\"\",\"\",(C74+E74+G74+I74)/4)","v":""},{"$f":"IF($B72=\"\",\"\",للطباعة!$AH$22)","v":""},{"$f":"IF($B72=\"\",\"\",للطباعة!$AG$22)","v":""},{"$f":"IF($B72=\"\",\"\",للطباعة!$AO$22)","v":""},{"$f":"IF($B72=\"\",\"\",للطباعة!$AN$22)","v":""},{"$f":"IF($B72=\"\",\"\",للطباعة!$AV$22)","v":""},{"$f":"IF($B72=\"\",\"\",للطباعة!$AU$22)","v":""},{"$f":"IF($B72=\"\",\"\",للطباعة!$BC$22)","v":""},{"$f":"IF($B72=\"\",\"\",للطباعة!$BB$22)","v":""},{"$f":"IF($B72=\"\",\"\",(L74+N74+P74+R74)/4)","v":""},{"$f":"IF($B72=\"\",\"\",للطباعة!$BK$22)","v":""},{"$f":"IF($B72=\"\",\"\",للطباعة!$BJ$22)","v":""},{"$f":"IF($B72=\"\",\"\",للطباعة!$BR$22)","v":""},{"$f":"IF($B72=\"\",\"\",للطباعة!$BQ$22)","v":""},{"$f":"IF($B72=\"\",\"\",للطباعة!$BY$22)","v":""},{"$f":"IF($B72=\"\",\"\",للطباعة!$BX$22)","v":""},{"$f":"IF($B72=\"\",\"\",للطباعة!$CF$22)","v":""},{"$f":"IF($B72=\"\",\"\",للطباعة!$CE$22)","v":""},{"$f":"IF($B72=\"\",\"\",(U74+W74+Y74+AA74)/4)","v":""},{"$f":"IF($B72=\"\",\"\",(K72+T72+AC72)*0.04)","v":""},{"$f":"IF($B72=\"\",\"\",IF((AD72*40/12-INT(AD72*40/12))>=0.75,INT(AD72*40/12)+1,IF((AD72*40/12-INT(AD72*40/12))<0.25,INT(AD72*40/12),INT(AD69*40/12)+0.5)))","v":""},{"$f":"IF($B72=\"\",\"\",INDIRECT(ADDRESS(11+A72*2,19,1,,\"SeconedPartDegrees2\")))","v":""},{"$f":"IF($B72=\"\",\"\",INDIRECT(ADDRESS(11+A72*2,20,1,,\"SeconedPartDegrees2\")))","v":""},{"$f":"IF(OR(AF72=\"\",AG72=\"\"),\"\",AF72+AG72)","v":""},{"$f":"IF(OR(AE72=\"\",AG72=\"\"),\"\",AG72+AF72+AE72)","v":""},{"$f":"IF($B72=\"\",\"\",INDIRECT(ADDRESS(11+A72*2,21,1,,\"SeconedPartDegrees1\")))","v":""},{"$f":"IFERROR(IF(AI72=\"\",\"\",IF(((AI72+AJ72)/2-INT((AI72+AJ72)/2))>=0.75,INT((AI72+AJ72)/2)+1,IF(((AI72+AJ72)/2-INT((AI72+AJ72)/2))<0.25,INT((AI72+AJ72)/2),INT((AI72+AJ72)/2)+0.5))),\"\")","v":""},{"$f":"IF($AK72=\"\",\"\",IF(AK72=\"\",\"غياب وعليه دور ثاني\",IF(AK72<50,\"دور ثاني\",\"ناجح\")))","v":""},null,null,{"$f":"ROUNDUP(((FirstPartDegrees2!#REF!+D72)/2+(FirstPartDegrees2!F72+O72)/2+(FirstPartDegrees2!#REF!+M72)/2+(FirstPartDegrees2!C72+F72)/2 )/4,0)","v":{"$error":"#REF!"}},{"$f":"ROUNDUP(((FirstPartDegrees2!#REF!+FirstPartDegrees2!#REF!)/2+(FirstPartDegrees2!G72+J72)/2+(FirstPartDegrees2!L72+S72)/2+(FirstPartDegrees2!H72+#REF!)/2 )/4,0)","v":{"$error":"#REF!"}},{"$f":"ROUNDUP(((FirstPartDegrees2!E72+FirstPartDegrees2!I72)/2+(FirstPartDegrees2!#REF!+FirstPartDegrees2!#REF!)/2+(FirstPartDegrees2!N72+V72)/2+(AB72+#REF!)/2)/4,0)","v":{"$error":"#REF!"}},{"$f":"(AQ72+AAH72+AO72)*40/12","v":{"$error":"#REF!"}}]
[null,null,{"$f":"IF($B72=\"\",\"\",للطباعة!$G$22)","v":""},{"$f":"IF($B72=\"\",\"\",للطباعة!$F$22)","v":""},{"$f":"IF($B72=\"\",\"\",للطباعة!$N$22)","v":""},{"$f":"IF($B72=\"\",\"\",للطباعة!$M$22)","v":""},{"$f":"IF($B72=\"\",\"\",للطباعة!$U$22)","v":""},{"$f":"IF($B72=\"\",\"\",للطباعة!$T$22)","v":""},{"$f":"IF($B72=\"\",\"\",للطباعة!$AB$22)","v":""},{"$f":"IF($B72=\"\",\"\",للطباعة!$AA$22)","v":""},null,{"$f":"IF($B72=\"\",\"\",للطباعة!$AJ$22)","v":""},{"$f":"IF($B72=\"\",\"\",للطباعة!$AI$22)","v":""},{"$f":"IF($B72=\"\",\"\",للطباعة!$AQ$22)","v":""},{"$f":"IF($B72=\"\",\"\",للطباعة!$AP$22)","v":""},{"$f":"IF($B72=\"\",\"\",للطباعة!$AX$22)","v":""},{"$f":"IF($B72=\"\",\"\",للطباعة!$AW$22)","v":""},{"$f":"IF($B72=\"\",\"\",للطباعة!$BE$22)","v":""},{"$f":"IF($B72=\"\",\"\",للطباعة!$BD$22)","v":""},null,{"$f":"IF($B72=\"\",\"\",للطباعة!$BM$22)","v":""},{"$f":"IF($B72=\"\",\"\",للطباعة!$BL$22)","v":""},{"$f":"IF($B72=\"\",\"\",للطباعة!$BT$22)","v":""},{"$f":"IF($B72=\"\",\"\",للطباعة!$BS$22)","v":""},{"$f":"IF($B72=\"\",\"\",للطباعة!$CA$22)","v":""},{"$f":"IF($B72=\"\",\"\",للطباعة!$BZ$22)","v":""},{"$f":"IF($B72=\"\",\"\",للطباعة!$CH$22)","v":""},{"$f":"IF($B72=\"\",\"\",للطباعة!$CG$22)","v":""}]
[null,"النقاط",{"$f":"IF($B72=\"\",\"\",(D72+D73)*100/8)","v":""},null,{"$f":"IF($B72=\"\",\"\",(F72+F73)*100/8)","v":""},null,{"$f":"IF($B72=\"\",\"\",(H72+H73)*100/8)","v":""},null,{"$f":"IF($B72=\"\",\"\",(J72+J73)*100/8)","v":""},null,null,{"$f":"IF($B72=\"\",\"\",(M72+M73)*100/8)","v":""},null,{"$f":"IF($B72=\"\",\"\",(O72+O73)*100/8)","v":""},null,{"$f":"IF($B72=\"\",\"\",(Q72+Q73)*100/8)","v":""},null,{"$f":"IF($B72=\"\",\"\",(S72+S73)*100/8)","v":""},null,null,{"$f":"IF($B72=\"\",\"\",(V72+V73)*100/8)","v":""},null,{"$f":"IF($B72=\"\",\"\",(X72+X73)*100/8)","v":""},null,{"$f":"IF($B72=\"\",\"\",(Z72+Z73)*100/8)","v":""},null,{"$f":"IF($B72=\"\",\"\",(AB72+AB73)*100/8)","v":""}]
[22,{"$f":"INDIRECT(ADDRESS(A75+1,2,,,\"للطباعة\"))","v":""},{"$f":"IF($B75=\"\",\"\",للطباعة!$E$23)","v":""},{"$f":"IF($B75=\"\",\"\",للطباعة!$D$23)","v":""},{"$f":"IF($B75=\"\",\"\",للطباعة!$L$23)","v":""},{"$f":"IF($B75=\"\",\"\",للطباعة!$K$23)","v":""},{"$f":"IF($B75=\"\",\"\",للطباعة!$S$23)","v":""},{"$f":"IF($B75=\"\",\"\",للطباعة!$R$23)","v":""},{"$f":"IF($B75=\"\",\"\",للطباعة!$Z$23)","v":""},{"$f":"IF($B75=\"\",\"\",للطباعة!$Y$23)","v":""},{"$f":"IF($B75=\"\",\"\",(C77+E77+G77+I77)/4)","v":""},{"$f":"IF($B75=\"\",\"\",للطباعة!$AH$23)","v":""},{"$f":"IF($B75=\"\",\"\",للطباعة!$AG$23)","v":""},{"$f":"IF($B75=\"\",\"\",للطباعة!$AO$23)","v":""},{"$f":"IF($B75=\"\",\"\",للطباعة!$AN$23)","v":""},{"$f":"IF($B75=\"\",\"\",للطباعة!$AV$23)","v":""},{"$f":"IF($B75=\"\",\"\",للطباعة!$AU$23)","v":""},{"$f":"IF($B75=\"\",\"\",للطباعة!$BC$23)","v":""},{"$f":"IF($B75=\"\",\"\",للطباعة!$BB$23)","v":""},{"$f":"IF($B75=\"\",\"\",(L77+N77+P77+R77)/4)","v":""},{"$f":"IF($B75=\"\",\"\",للطباعة!$BK$23)","v":""},{"$f":"IF($B75=\"\",\"\",للطباعة!$BJ$23)","v":""},{"$f":"IF($B75=\"\",\"\",للطباعة!$BR$23)","v":""},{"$f":"IF($B75=\"\",\"\",للطباعة!$BQ$23)","v":""},{"$f":"IF($B75=\"\",\"\",للطباعة!$BY$23)","v":""},{"$f":"IF($B75=\"\",\"\",للطباعة!$BX$23)","v":""},{"$f":"IF($B75=\"\",\"\",للطباعة!$CF$23)","v":""},{"$f":"IF($B75=\"\",\"\",للطباعة!$CE$23)","v":""},{"$f":"IF($B75=\"\",\"\",(U77+W77+Y77+AA77)/4)","v":""},{"$f":"IF($B75=\"\",\"\",(K75+T75+AC75)*0.04)","v":""},{"$f":"IF($B75=\"\",\"\",IF((AD75*40/12-INT(AD75*40/12))>=0.75,INT(AD75*40/12)+1,IF((AD75*40/12-INT(AD75*40/12))<0.25,INT(AD75*40/12),INT(AD72*40/12)+0.5)))","v":""},{"$f":"IF($B75=\"\",\"\",INDIRECT(ADDRESS(11+A75*2,19,1,,\"SeconedPartDegrees2\")))","v":""},{"$f":"IF($B75=\"\",\"\",INDIRECT(ADDRESS(11+A75*2,20,1,,\"SeconedPartDegrees2\")))","v":""},{"$f":"IF(OR(AF75=\"\",AG75=\"\"),\"\",AF75+AG75)","v":""},{"$f":"IF(OR(AE75=\"\",AG75=\"\"),\"\",AG75+AF75+AE75)","v":""},{"$f":"IF($B75=\"\",\"\",INDIRECT(ADDRESS(11+A75*2,21,1,,\"SeconedPartDegrees1\")))","v":""},{"$f":"IFERROR(IF(AI75=\"\",\"\",IF(((AI75+AJ75)/2-INT((AI75+AJ75)/2))>=0.75,INT((AI75+AJ75)/2)+1,IF(((AI75+AJ75)/2-INT((AI75+AJ75)/2))<0.25,INT((AI75+AJ75)/2),INT((AI75+AJ75)/2)+0.5))),\"\")","v":""},{"$f":"IF($AK75=\"\",\"\",IF(AK75=\"\",\"غياب وعليه دور ثاني\",IF(AK75<50,\"دور ثاني\",\"ناجح\")))","v":""},null,null,{"$f":"ROUNDUP(((FirstPartDegrees2!#REF!+D75)/2+(FirstPartDegrees2!F85+O75)/2+(FirstPartDegrees2!#REF!+M75)/2+(FirstPartDegrees2!C85+F75)/2 )/4,0)","v":{"$error":"#REF!"}},{"$f":"ROUNDUP(((FirstPartDegrees2!#REF!+FirstPartDegrees2!#REF!)/2+(FirstPartDegrees2!G85+J75)/2+(FirstPartDegrees2!L85+S75)/2+(FirstPartDegrees2!H85+#REF!)/2 )/4,0)","v":{"$error":"#REF!"}},{"$f":"ROUNDUP(((FirstPartDegrees2!E85+FirstPartDegrees2!I85)/2+(FirstPartDegrees2!#REF!+FirstPartDegrees2!#REF!)/2+(FirstPartDegrees2!N85+V75)/2+(AB75+#REF!)/2)/4,0)","v":{"$error":"#REF!"}},{"$f":"(AQ75+AAH75+AO75)*40/12","v":{"$error":"#REF!"}}]
[null,null,{"$f":"IF($B75=\"\",\"\",للطباعة!$G$23)","v":""},{"$f":"IF($B75=\"\",\"\",للطباعة!$F$23)","v":""},{"$f":"IF($B75=\"\",\"\",للطباعة!$N$23)","v":""},{"$f":"IF($B75=\"\",\"\",للطباعة!$M$23)","v":""},{"$f":"IF($B75=\"\",\"\",للطباعة!$U$23)","v":""},{"$f":"IF($B75=\"\",\"\",للطباعة!$T$23)","v":""},{"$f":"IF($B75=\"\",\"\",للطباعة!$AB$23)","v":""},{"$f":"IF($B75=\"\",\"\",للطباعة!$AA$23)","v":""},null,{"$f":"IF($B75=\"\",\"\",للطباعة!$AJ$23)","v":""},{"$f":"IF($B75=\"\",\"\",للطباعة!$AI$23)","v":""},{"$f":"IF($B75=\"\",\"\",للطباعة!$AQ$23)","v":""},{"$f":"IF($B75=\"\",\"\",للطباعة!$AP$23)","v":""},{"$f":"IF($B75=\"\",\"\",للطباعة!$AX$23)","v":""},{"$f":"IF($B75=\"\",\"\",للطباعة!$AW$23)","v":""},{"$f":"IF($B75=\"\",\"\",للطباعة!$BE$23)","v":""},{"$f":"IF($B75=\"\",\"\",للطباعة!$BD$23)","v":""},null,{"$f":"IF($B75=\"\",\"\",للطباعة!$BM$23)","v":""},{"$f":"IF($B75=\"\",\"\",للطباعة!$BL$23)","v":""},{"$f":"IF($B75=\"\",\"\",للطباعة!$BT$23)","v":""},{"$f":"IF($B75=\"\",\"\",للطباعة!$BS$23)","v":""},{"$f":"IF($B75=\"\",\"\",للطباعة!$CA$23)","v":""},{"$f":"IF($B75=\"\",\"\",للطباعة!$BZ$23)","v":""},{"$f":"IF($B75=\"\",\"\",للطباعة!$CH$23)","v":""},{"$f":"IF($B75=\"\",\"\",للطباعة!$CG$23)","v":""}]
[null,"النقاط",{"$f":"IF($B75=\"\",\"\",(D75+D76)*100/8)","v":""},null,{"$f":"IF($B75=\"\",\"\",(F75+F76)*100/8)","v":""},null,{"$f":"IF($B75=\"\",\"\",(H75+H76)*100/8)","v":""},null,{"$f":"IF($B75=\"\",\"\",(J75+J76)*100/8)","v":""},null,null,{"$f":"IF($B75=\"\",\"\",(M75+M76)*100/8)","v":""},null,{"$f":"IF($B75=\"\",\"\",(O75+O76)*100/8)","v":""},null,{"$f":"IF($B75=\"\",\"\",(Q75+Q76)*100/8)","v":""},null,{"$f":"IF($B75=\"\",\"\",(S75+S76)*100/8)","v":""},null,null,{"$f":"IF($B75=\"\",\"\",(V75+V76)*100/8)","v":""},null,{"$f":"IF($B75=\"\",\"\",(X75+X76)*100/8)","v":""},null,{"$f":"IF($B75=\"\",\"\",(Z75+Z76)*100/8)","v":""},null,{"$f":"IF($B75=\"\",\"\",(AB75+AB76)*100/8)","v":""}]
[23,{"$f":"INDIRECT(ADDRESS(A78+1,2,,,\"للطباعة\"))","v":""},{"$f":"IF($B78=\"\",\"\",للطباعة!$E$24)","v":""},{"$f":"IF($B78=\"\",\"\",للطباعة!$D$24)","v":""},{"$f":"IF($B78=\"\",\"\",للطباعة!$L$24)","v":""},{"$f":"IF($B78=\"\",\"\",للطباعة!$K$24)","v":""},{"$f":"IF($B78=\"\",\"\",للطباعة!$S$24)","v":""},{"$f":"IF($B78=\"\",\"\",للطباعة!$R$24)","v":""},{"$f":"IF($B78=\"\",\"\",للطباعة!$Z$24)","v":""},{"$f":"IF($B78=\"\",\"\",للطباعة!$Y$24)","v":""},{"$f":"IF($B78=\"\",\"\",(C80+E80+G80+I80)/4)","v":""},{"$f":"IF($B78=\"\",\"\",للطباعة!$AH$24)","v":""},{"$f":"IF($B78=\"\",\"\",للطباعة!$AG$24)","v":""},{"$f":"IF($B78=\"\",\"\",للطباعة!$AO$24)","v":""},{"$f":"IF($B78=\"\",\"\",للطباعة!$AN$24)","v":""},{"$f":"IF($B78=\"\",\"\",للطباعة!$AV$24)","v":""},{"$f":"IF($B78=\"\",\"\",للطباعة!$AU$24)","v":""},{"$f":"IF($B78=\"\",\"\",للطباعة!$BC$24)","v":""},{"$f":"IF($B78=\"\",\"\",للطباعة!$BB$24)","v":""},{"$f":"IF($B78=\"\",\"\",(L80+N80+P80+R80)/4)","v":""},{"$f":"IF($B78=\"\",\"\",للطباعة!$BK$24)","v":""},{"$f":"IF($B78=\"\",\"\",للطباعة!$BJ$24)","v":""},{"$f":"IF($B78=\"\",\"\",للطباعة!$BR$24)","v":""},{"$f":"IF($B78=\"\",\"\",للطباعة!$BQ$24)","v":""},{"$f":"IF($B78=\"\",\"\",للطباعة!$BY$24)","v":""},{"$f":"IF($B78=\"\",\"\",للطباعة!$BX$24)","v":""},{"$f":"IF($B78=\"\",\"\",للطباعة!$CF$24)","v":""},{"$f":"IF($B78=\"\",\"\",للطباعة!$CE$24)","v":""},{"$f":"IF($B78=\"\",\"\",(U80+W80+Y80+AA80)/4)","v":""},{"$f":"IF($B78=\"\",\"\",(K78+T78+AC78)*0.04)","v":""},{"$f":"IF($B78=\"\",\"\",IF((AD78*40/12-INT(AD78*40/12))>=0.75,INT(AD78*40/12)+1,IF((AD78*40/12-INT(AD78*40/12))<0.25,INT(AD78*40/12),INT(AD75*40/12)+0.5)))","v":""},{"$f":"IF($B78=\"\",\"\",INDIRECT(ADDRESS(11+A78*2,19,1,,\"SeconedPartDegrees2\")))","v":""},{"$f":"IF($B78=\"\",\"\",INDIRECT(ADDRESS(11+A78*2,20,1,,\"SeconedPartDegrees2\")))","v":""},{"$f":"IF(OR(AF78=\"\",AG78=\"\"),\"\",AF78+AG78)","v":""},{"$f":"IF(OR(AE78=\"\",AG78=\"\"),\"\",AG78+AF78+AE78)","v":""},{"$f":"IF($B78=\"\",\"\",INDIRECT(ADDRESS(11+A78*2,21,1,,\"SeconedPartDegrees1\")))","v":""},{"$f":"IFERROR(IF(AI78=\"\",\"\",IF(((AI78+AJ78)/2-INT((AI78+AJ78)/2))>=0.75,INT((AI78+AJ78)/2)+1,IF(((AI78+AJ78)/2-INT((AI78+AJ78)/2))<0.25,INT((AI78+AJ78)/2),INT((AI78+AJ78)/2)+0.5))),\"\")","v":""},{"$f":"IF($AK78=\"\",\"\",IF(AK78=\"\",\"غياب وعليه دور ثاني\",IF(AK78<50,\"دور ثاني\",\"ناجح\")))","v":""},null,null,{"$f":"ROUNDUP(((FirstPartDegrees2!#REF!+D78)/2+(FirstPartDegrees2!F88+O78)/2+(FirstPartDegrees2!#REF!+M78)/2+(FirstPartDegrees2!C88+F78)/2 )/4,0)","v":{"$error":"#REF!"}},{"$f":"ROUNDUP(((FirstPartDegrees2!#REF!+FirstPartDegrees2!#REF!)/2+(FirstPartDegrees2!G88+J78)/2+(FirstPartDegrees2!L88+S78)/2+(FirstPartDegrees2!H88+#REF!)/2 )/4,0)","v":{"$error":"#REF!"}},{"$f":"ROUNDUP(((FirstPartDegrees2!E88+FirstPartDegrees2!I88)/2+(FirstPartDegrees2!#REF!+FirstPartDegrees2!#REF!)/2+(FirstPartDegrees2!N88+V78)/2+(AB78+#REF!)/2)/4,0)","v":{"$error":"#REF!"}},{"$f":"(AQ78+AAH78+AO78)*40/12","v":{"$error":"#REF!"}}]
[null,null,{"$f":"IF($B78=\"\",\"\",للطباعة!$G$24)","v":""},{"$f":"IF($B78=\"\",\"\",للطباعة!$F$24)","v":""},{"$f":"IF($B78=\"\",\"\",للطباعة!$N$24)","v":""},{"$f":"IF($B78=\"\",\"\",للطباعة!$M$24)","v":""},{"$f":"IF($B78=\"\",\"\",للطباعة!$U$24)","v":""},{"$f":"IF($B78=\"\",\"\",للطباعة!$T$24)","v":""},{"$f":"IF($B78=\"\",\"\",للطباعة!$AB$24)","v":""},{"$f":"IF($B78=\"\",\"\",للطباعة!$AA$24)","v":""},null,{"$f":"IF($B78=\"\",\"\",للطباعة!$AJ$24)","v":""},{"$f":"IF($B78=\"\",\"\",للطباعة!$AI$24)","v":""},{"$f":"IF($B78=\"\",\"\",للطباعة!$AQ$24)","v":""},{"$f":"IF($B78=\"\",\"\",للطباعة!$AP$24)","v":""},{"$f":"IF($B78=\"\",\"\",للطباعة!$AX$24)","v":""},{"$f":"IF($B78=\"\",\"\",للطباعة!$AW$24)","v":""},{"$f":"IF($B78=\"\",\"\",للطباعة!$BE$24)","v":""},{"$f":"IF($B78=\"\",\"\",للطباعة!$BD$24)","v":""},null,{"$f":"IF($B78=\"\",\"\",للطباعة!$BM$24)","v":""},{"$f":"IF($B78=\"\",\"\",للطباعة!$BL$24)","v":""},{"$f":"IF($B78=\"\",\"\",للطباعة!$BT$24)","v":""},{"$f":"IF($B78=\"\",\"\",للطباعة!$BS$24)","v":""},{"$f":"IF($B78=\"\",\"\",للطباعة!$CA$24)","v":""},{"$f":"IF($B78=\"\",\"\",للطباعة!$BZ$24)","v":""},{"$f":"IF($B78=\"\",\"\",للطباعة!$CH$24)","v":""},{"$f":"IF($B78=\"\",\"\",للطباعة!$CG$24)","v":""}]
[null,"النقاط",{"$f":"IF($B78=\"\",\"\",(D78+D79)*100/8)","v":""},null,{"$f":"IF($B78=\"\",\"\",(F78+F79)*100/8)","v":""},null,{"$f":"IF($B78=\"\",\"\",(H78+H79)*100/8)","v":""},null,{"$f":"IF($B78=\"\",\"\",(J78+J79)*100/8)","v":""},null,null,{"$f":"IF($B78=\"\",\"\",(M78+M79)*100/8)","v":""},null,{"$f":"IF($B78=\"\",\"\",(O78+O79)*100/8)","v":""},null,{"$f":"IF($B78=\"\",\"\",(Q78+Q79)*100/8)","v":""},null,{"$f":"IF($B78=\"\",\"\",(S78+S79)*100/8)","v":""},null,null,{"$f":"IF($B78=\"\",\"\",(V78+V79)*100/8)","v":""},null,{"$f":"IF($B78=\"\",\"\",(X78+X79)*100/8)","v":""},null,{"$f":"IF($B78=\"\",\"\",(Z78+Z79)*100/8)","v":""},null,{"$f":"IF($B78=\"\",\"\",(AB78+AB79)*100/8)","v":""}]
[24,{"$f":"INDIRECT(ADDRESS(A81+1,2,,,\"للطباعة\"))","v":""},{"$f":"IF($B81=\"\",\"\",للطباعة!$E$25)","v":""},{"$f":"IF($B81=\"\",\"\",للطباعة!$D$25)","v":""},{"$f":"IF($B81=\"\",\"\",للطباعة!$L$25)","v":""},{"$f":"IF($B81=\"\",\"\",للطباعة!$K$25)","v":""},{"$f":"IF($B81=\"\",\"\",للطباعة!$S$25)","v":""},{"$f":"IF($B81=\"\",\"\",للطباعة!$R$25)","v":""},{"$f":"IF($B81=\"\",\"\",للطباعة!$Z$25)","v":""},{"$f":"IF($B81=\"\",\"\",للطباعة!$Y$25)","v":""},{"$f":"IF($B81=\"\",\"\",(C83+E83+G83+I83)/4)","v":""},{"$f":"IF($B81=\"\",\"\",للطباعة!$AH$25)","v":""},{"$f":"IF($B81=\"\",\"\",للطباعة!$AG$25)","v":""},{"$f":"IF($B81=\"\",\"\",للطباعة!$AO$25)","v":""},{"$f":"IF($B81=\"\",\"\",للطباعة!$AN$25)","v":""},{"$f":"IF($B81=\"\",\"\",للطباعة!$AV$25)","v":""},{"$f":"IF($B81=\"\",\"\",للطباعة!$AU$25)","v":""},{"$f":"IF($B81=\"\",\"\",للطباعة!$BC$25)","v":""},{"$f":"IF($B81=\"\",\"\",للطباعة!$BB$25)","v":""},{"$f":"IF($B81=\"\",\"\",(L83+N83+P83+R83)/4)","v":""},{"$f":"IF($B81=\"\",\"\",للطباعة!$BK$25)","v":""},{"$f":"IF($B81=\"\",\"\",للطباعة!$BJ$25)","v":""},{"$f":"IF($B81=\"\",\"\",للطباعة!$BR$25)","v":""},{"$f":"IF($B81=\"\",\"\",للطباعة!$BQ$25)","v":""},{"$f":"IF($B81=\"\",\"\",للطباعة!$BY$25)","v":""},{"$f":"IF($B81=\"\",\"\",للطباعة!$BX$25)","v":""},{"$f":"IF($B81=\"\",\"\",للطباعة!$CF$25)","v":""},{"$f":"IF($B81=\"\",\"\",للطباعة!$CE$25)","v":""},{"$f":"IF($B81=\"\",\"\",(U83+W83+Y83+AA83)/4)","v":""},{"$f":"IF($B81=\"\",\"\",(K81+T81+AC81)*0.04)","v":""},{"$f":"IF($B81=\"\",\"\",IF((AD81*40/12-INT(AD81*40/12))>=0.75,INT(AD81*40/12)+1,IF((AD81*40/12-INT(AD81*40/12))<0.25,INT(AD81*40/12),INT(AD78*40/12)+0.5)))","v":""},{"$f":"IF($B81=\"\",\"\",INDIRECT(ADDRESS(11+A81*2,19,1,,\"SeconedPartDegrees2\")))","v":""},{"$f":"IF($B81=\"\",\"\",INDIRECT(ADDRESS(11+A81*2,20,1,,\"SeconedPartDegrees2\")))","v":""},{"$f":"IF(OR(AF81=\"\",AG81=\"\"),\"\",AF81+AG81)","v":""},{"$f":"IF(OR(AE81=\"\",AG81=\"\"),\"\",AG81+AF81+AE81)","v":""},{"$f":"IF($B81=\"\",\"\",INDIRECT(ADDRESS(11+A81*2,21,1,,\"SeconedPartDegrees1\")))","v":""},{"$f":"IFERROR(IF(AI81=\"\",\"\",IF(((AI81+AJ81)/2-INT((AI81+AJ81)/2))>=0.75,INT((AI81+AJ81)/2)+1,IF(((AI81+AJ81)/2-INT((AI81+AJ81)/2))<0.25,INT((AI81+AJ81)/2),INT((AI81+AJ81)/2)+0.5))),\"\")","v":""},{"$f":"IF($AK81=\"\",\"\",IF(AK81=\"\",\"غياب وعليه دور ثاني\",IF(AK81<50,\"دور ثاني\",\"ناجح\")))","v":""},null,null,{"$f":"ROUNDUP(((FirstPartDegrees2!#REF!+D81)/2+(FirstPartDegrees2!F91+O81)/2+(FirstPartDegrees2!#REF!+M81)/2+(FirstPartDegrees2!C91+F81)/2 )/4,0)","v":{"$error":"#REF!"}},{"$f":"ROUNDUP(((FirstPartDegrees2!#REF!+FirstPartDegrees2!#REF!)/2+(FirstPartDegrees2!G91+J81)/2+(FirstPartDegrees2!L91+S81)/2+(FirstPartDegrees2!H91+#REF!)/2 )/4,0)","v":{"$error":"#REF!"}},{"$f":"ROUNDUP(((FirstPartDegrees2!E91+FirstPartDegrees2!I91)/2+(FirstPartDegrees2!#REF!+FirstPartDegrees2!#REF!)/2+(FirstPartDegrees2!N91+V81)/2+(AB81+#REF!)/2)/4,0)","v":{"$error":"#REF!"}},{"$f":"(AQ81+AAH81+AO81)*40/12","v":{"$error":"#REF!"}}]
[null,null,{"$f":"IF($B81=\"\",\"\",للطباعة!$G$25)","v":""},{"$f":"IF($B81=\"\",\"\",للطباعة!$F$25)","v":""},{"$f":"IF($B81=\"\",\"\",للطباعة!$N$25)","v":""},{"$f":"IF($B81=\"\",\"\",للطباعة!$M$25)","v":""},{"$f":"IF($B81=\"\",\"\",للطباعة!$U$25)","v":""},{"$f":"IF($B81=\"\",\"\",للطباعة!$T$25)","v":""},{"$f":"IF($B81=\"\",\"\",للطباعة!$AB$25)","v":""},{"$f":"IF($B81=\"\",\"\",للطباعة!$AA$25)","v":""},null,{"$f":"IF($B81=\"\",\"\",للطباعة!$AJ$25)","v":""},{"$f":"IF($B81=\"\",\"\",للطباعة!$AI$25)","v":""},{"$f":"IF($B81=\"\",\"\",للطباعة!$AQ$25)","v":""},{"$f":"IF($B81=\"\",\"\",للطباعة!$AP$25)","v":""},{"$f":"IF($B81=\"\",\"\",للطباعة!$AX$25)","v":""},{"$f":"IF($B81=\"\",\"\",للطباعة!$AW$25)","v":""},{"$f":"IF($B81=\"\",\"\",للطباعة!$BE$25)","v":""},{"$f":"IF($B81=\"\",\"\",للطباعة!$BD$25)","v":""},null,{"$f":"IF($B81=\"\",\"\",للطباعة!$BM$25)","v":""},{"$f":"IF($B81=\"\",\"\",للطباعة!$BL$25)","v":""},{"$f":"IF($B81=\"\",\"\",للطباعة!$BT$25)","v":""},{"$f":"IF($B81=\"\",\"\",للطباعة!$BS$25)","v":""},{"$f":"IF($B81=\"\",\"\",للطباعة!$CA$25)","v":""},{"$f":"IF($B81=\"\",\"\",للطباعة!$BZ$25)","v":""},{"$f":"IF($B81=\"\",\"\",للطباعة!$CH$25)","v":""},{"$f":"IF($B81=\"\",\"\",للطباعة!$CG$25)","v":""}]
[null,"النقاط",{"$f":"IF($B81=\"\",\"\",(D81+D82)*100/8)","v":""},null,{"$f":"IF($B81=\"\",\"\",(F81+F82)*100/8)","v":""},null,{"$f":"IF($B81=\"\",\"\",(H81+H82)*100/8)","v":""},null,{"$f":"IF($B81=\"\",\"\",(J81+J82)*100/8)","v":""},null,null,{"$f":"IF($B81=\"\",\"\",(M81+M82)*100/8)","v":""},null,{"$f":"IF($B81=\"\",\"\",(O81+O82)*100/8)","v":""},null,{"$f":"IF($B81=\"\",\"\",(Q81+Q82)*100/8)","v":""},null,{"$f":"IF($B81=\"\",\"\",(S81+S82)*100/8)","v":""},null,null,{"$f":"IF($B81=\"\",\"\",(V81+V82)*100/8)","v":""},null,{"$f":"IF($B81=\"\",\"\",(X81+X82)*100/8)","v":""},null,{"$f":"IF($B81=\"\",\"\",(Z81+Z82)*100/8)","v":""},null,{"$f":"IF($B81=\"\",\"\",(AB81+AB82)*100/8)","v":""}]
[25,{"$f":"INDIRECT(ADDRESS(A84+1,2,,,\"للطباعة\"))","v":""},{"$f":"IF($B84=\"\",\"\",للطباعة!$E$26)","v":""},{"$f":"IF($B84=\"\",\"\",للطباعة!$D$26)","v":""},{"$f":"IF($B84=\"\",\"\",للطباعة!$L$26)","v":""},{"$f":"IF($B84=\"\",\"\",للطباعة!$K$26)","v":""},{"$f":"IF($B84=\"\",\"\",للطباعة!$S$26)","v":""},{"$f":"IF($B84=\"\",\"\",للطباعة!$R$26)","v":""},{"$f":"IF($B84=\"\",\"\",للطباعة!$Z$26)","v":""},{"$f":"IF($B84=\"\",\"\",للطباعة!$Y$26)","v":""},{"$f":"IF($B84=\"\",\"\",(C86+E86+G86+I86)/4)","v":""},{"$f":"IF($B84=\"\",\"\",للطباعة!$AH$26)","v":""},{"$f":"IF($B84=\"\",\"\",للطباعة!$AG$26)","v":""},{"$f":"IF($B84=\"\",\"\",للطباعة!$AO$26)","v":""},{"$f":"IF($B84=\"\",\"\",للطباعة!$AN$26)","v":""},{"$f":"IF($B84=\"\",\"\",للطباعة!$AV$26)","v":""},{"$f":"IF($B84=\"\",\"\",للطباعة!$AU$26)","v":""},{"$f":"IF($B84=\"\",\"\",للطباعة!$BC$26)","v":""},{"$f":"IF($B84=\"\",\"\",للطباعة!$BB$26)","v":""},{"$f":"IF($B84=\"\",\"\",(L86+N86+P86+R86)/4)","v":""},{"$f":"IF($B84=\"\",\"\",للطباعة!$BK$26)","v":""},{"$f":"IF($B84=\"\",\"\",للطباعة!$BJ$26)","v":""},{"$f":"IF($B84=\"\",\"\",للطباعة!$BR$26)","v":""},{"$f":"IF($B84=\"\",\"\",للطباعة!$BQ$26)","v":""},{"$f":"IF($B84=\"\",\"\",للطباعة!$BY$26)","v":""},{"$f":"IF($B84=\"\",\"\",للطباعة!$BX$26)","v":""},{"$f":"IF($B84=\"\",\"\",للطباعة!$CF$26)","v":""},{"$f":"IF($B84=\"\",\"\",للطباعة!$CE$26)","v":""},{"$f":"IF($B84=\"\",\"\",(U86+W86+Y86+AA86)/4)","v":""},{"$f":"IF($B84=\"\",\"\",(K84+T84+AC84)*0.04)","v":""},{"$f":"IF($B84=\"\",\"\",IF((AD84*40/12-INT(AD84*40/12))>=0.75,INT(AD84*40/12)+1,IF((AD84*40/12-INT(AD84*40/12))<0.25,INT(AD84*40/12),INT(AD81*40/12)+0.5)))","v":""},{"$f":"IF($B84=\"\",\"\",INDIRECT(ADDRESS(11+A84*2,19,1,,\"SeconedPartDegrees2\")))","v":""},{"$f":"IF($B84=\"\",\"\",INDIRECT(ADDRESS(11+A84*2,20,1,,\"SeconedPartDegrees2\")))","v":""},{"$f":"IF(OR(AF84=\"\",AG84=\"\"),\"\",AF84+AG84)","v":""},{"$f":"IF(OR(AE84=\"\",AG84=\"\"),\"\",AG84+AF84+AE84)","v":""},{"$f":"IF($B84=\"\",\"\",INDIRECT(ADDRESS(11+A84*2,21,1,,\"SeconedPartDegrees1\")))","v":""},{"$f":"IFERROR(IF(AI84=\"\",\"\",IF(((AI84+AJ84)/2-INT((AI84+AJ84)/2))>=0.75,INT((AI84+AJ84)/2)+1,IF(((AI84+AJ84)/2-INT((AI84+AJ84)/2))<0.25,INT((AI84+AJ84)/2),INT((AI84+AJ84)/2)+0.5))),\"\")","v":""},{"$f":"IF($AK84=\"\",\"\",IF(AK84=\"\",\"غياب وعليه دور ثاني\",IF(AK84<50,\"دور ثاني\",\"ناجح\")))","v":""},null,null,{"$f":"ROUNDUP(((FirstPartDegrees2!#REF!+D84)/2+(FirstPartDegrees2!F94+O84)/2+(FirstPartDegrees2!#REF!+M84)/2+(FirstPartDegrees2!C94+F84)/2 )/4,0)","v":{"$error":"#REF!"}},{"$f":"ROUNDUP(((FirstPartDegrees2!#REF!+FirstPartDegrees2!#REF!)/2+(FirstPartDegrees2!G94+J84)/2+(FirstPartDegrees2!L94+S84)/2+(FirstPartDegrees2!H94+#REF!)/2 )/4,0)","v":{"$error":"#REF!"}},{"$f":"ROUNDUP(((FirstPartDegrees2!E94+FirstPartDegrees2!I94)/2+(FirstPartDegrees2!#REF!+FirstPartDegrees2!#REF!)/2+(FirstPartDegrees2!N94+V84)/2+(AB84+#REF!)/2)/4,0)","v":{"$error":"#REF!"}},{"$f":"(AQ84+AAH84+AO84)*40/12","v":{"$error":"#REF!"}}]
[null,null,{"$f":"IF($B84=\"\",\"\",للطباعة!$G$26)","v":""},{"$f":"IF($B84=\"\",\"\",للطباعة!$F$26)","v":""},{"$f":"IF($B84=\"\",\"\",للطباعة!$N$26)","v":""},{"$f":"IF($B84=\"\",\"\",للطباعة!$M$26)","v":""},{"$f":"IF($B84=\"\",\"\",للطباعة!$U$26)","v":""},{"$f":"IF($B84=\"\",\"\",للطباعة!$T$26)","v":""},{"$f":"IF($B84=\"\",\"\",للطباعة!$AB$26)","v":""},{"$f":"IF($B84=\"\",\"\",للطباعة!$AA$26)","v":""},null,{"$f":"IF($B84=\"\",\"\",للطباعة!$AJ$26)","v":""},{"$f":"IF($B84=\"\",\"\",للطباعة!$AI$26)","v":""},{"$f":"IF($B84=\"\",\"\",للطباعة!$AQ$26)","v":""},{"$f":"IF($B84=\"\",\"\",للطباعة!$AP$26)","v":""},{"$f":"IF($B84=\"\",\"\",للطباعة!$AX$26)","v":""},{"$f":"IF($B84=\"\",\"\",للطباعة!$AW$26)","v":""},{"$f":"IF($B84=\"\",\"\",للطباعة!$BE$26)","v":""},{"$f":"IF($B84=\"\",\"\",للطباعة!$BD$26)","v":""},null,{"$f":"IF($B84=\"\",\"\",للطباعة!$BM$26)","v":""},{"$f":"IF($B84=\"\",\"\",للطباعة!$BL$26)","v":""},{"$f":"IF($B84=\"\",\"\",للطباعة!$BT$26)","v":""},{"$f":"IF($B84=\"\",\"\",للطباعة!$BS$26)","v":""},{"$f":"IF($B84=\"\",\"\",للطباعة!$CA$26)","v":""},{"$f":"IF($B84=\"\",\"\",للطباعة!$BZ$26)","v":""},{"$f":"IF($B84=\"\",\"\",للطباعة!$CH$26)","v":""},{"$f":"IF($B84=\"\",\"\",للطباعة!$CG$26)","v":""}]
[null,"النقاط",{"$f":"IF($B84=\"\",\"\",(D84+D85)*100/8)","v":""},null,{"$f":"IF($B84=\"\",\"\",(F84+F85)*100/8)","v":""},null,{"$f":"IF($B84=\"\",\"\",(H84+H85)*100/8)","v":""},null,{"$f":"IF($B84=\"\",\"\",(J84+J85)*100/8)","v":""},null,null,{"$f":"IF($B84=\"\",\"\",(M84+M85)*100/8)","v":""},null,{"$f":"IF($B84=\"\",\"\",(O84+O85)*100/8)","v":""},null,{"$f":"IF($B84=\"\",\"\",(Q84+Q85)*100/8)","v":""},null,{"$f":"IF($B84=\"\",\"\",(S84+S85)*100/8)","v":""},null,null,{"$f":"IF($B84=\"\",\"\",(V84+V85)*100/8)","v":""},null,{"$f":"IF($B84=\"\",\"\",(X84+X85)*100/8)","v":""},null,{"$f":"IF($B84=\"\",\"\",(Z84+Z85)*100/8)","v":""},null,{"$f":"IF($B84=\"\",\"\",(AB84+AB85)*100/8)","v":""}]
[26,{"$f":"INDIRECT(ADDRESS(A87+1,2,,,\"للطباعة\"))","v":""},{"$f":"IF($B87=\"\",\"\",للطباعة!$E$27)","v":""},{"$f":"IF($B87=\"\",\"\",للطباعة!$D$27)","v":""},{"$f":"IF($B87=\"\",\"\",للطباعة!$L$27)","v":""},{"$f":"IF($B87=\"\",\"\",للطباعة!$K$27)","v":""},{"$f":"IF($B87=\"\",\"\",للطباعة!$S$27)","v":""},{"$f":"IF($B87=\"\",\"\",للطباعة!$R$27)","v":""},{"$f":"IF($B87=\"\",\"\",للطباعة!$Z$27)","v":""},{"$f":"IF($B87=\"\",\"\",للطباعة!$Y$27)","v":""},{"$f":"IF($B87=\"\",\"\",(C89+E89+G89+I89)/4)","v":""},{"$f":"IF($B87=\"\",\"\",للطباعة!$AH$27)","v":""},{"$f":"IF($B87=\"\",\"\",للطباعة!$AG$27)","v":""},{"$f":"IF($B87=\"\",\"\",للطباعة!$AO$27)","v":""},{"$f":"IF($B87=\"\",\"\",للطباعة!$AN$27)","v":""},{"$f":"IF($B87=\"\",\"\",للطباعة!$AV$27)","v":""},{"$f":"IF($B87=\"\",\"\",للطباعة!$AU$27)","v":""},{"$f":"IF($B87=\"\",\"\",للطباعة!$BC$27)","v":""},{"$f":"IF($B87=\"\",\"\",للطباعة!$BB$27)","v":""},{"$f":"IF($B87=\"\",\"\",(L89+N89+P89+R89)/4)","v":""},{"$f":"IF($B87=\"\",\"\",للطباعة!$BK$27)","v":""},{"$f":"IF($B87=\"\",\"\",للطباعة!$BJ$27)","v":""},{"$f":"IF($B87=\"\",\"\",للطباعة!$BR$27)","v":""},{"$f":"IF($B87=\"\",\"\",للطباعة!$BQ$27)","v":""},{"$f":"IF($B87=\"\",\"\",للطباعة!$BY$27)","v":""},{"$f":"IF($B87=\"\",\"\",للطباعة!$BX$27)","v":""},{"$f":"IF($B87=\"\",\"\",للطباعة!$CF$27)","v":""},{"$f":"IF($B87=\"\",\"\",للطباعة!$CE$27)","v":""},{"$f":"IF($B87=\"\",\"\",(U89+W89+Y89+AA89)/4)","v":""},{"$f":"IF($B87=\"\",\"\",(K87+T87+AC87)*0.04)","v":""},{"$f":"IF($B87=\"\",\"\",IF((AD87*40/12-INT(AD87*40/12))>=0.75,INT(AD87*40/12)+1,IF((AD87*40/12-INT(AD87*40/12))<0.25,INT(AD87*40/12),INT(AD84*40/12)+0.5)))","v":""},{"$f":"IF($B87=\"\",\"\",INDIRECT(ADDRESS(11+A87*2,19,1,,\"SeconedPartDegrees2\")))","v":""},{"$f":"IF($B87=\"\",\"\",INDIRECT(ADDRESS(11+A87*2,20,1,,\"SeconedPartDegrees2\")))","v":""},{"$f":"IF(OR(AF87=\"\",AG87=\"\"),\"\",AF87+AG87)","v":""},{"$f":"IF(OR(AE87=\"\",AG87=\"\"),\"\",AG87+AF87+AE87)","v":""},{"$f":"IF($B87=\"\",\"\",INDIRECT(ADDRESS(11+A87*2,21,1,,\"SeconedPartDegrees1\")))","v":""},{"$f":"IFERROR(IF(AI87=\"\",\"\",IF(((AI87+AJ87)/2-INT((AI87+AJ87)/2))>=0.75,INT((AI87+AJ87)/2)+1,IF(((AI87+AJ87)/2-INT((AI87+AJ87)/2))<0.25,INT((AI87+AJ87)/2),INT((AI87+AJ87)/2)+0.5))),\"\")","v":""},{"$f":"IF($AK87=\"\",\"\",IF(AK87=\"\",\"غياب وعليه دور ثاني\",IF(AK87<50,\"دور ثاني\",\"ناجح\")))","v":""},null,null,{"$f":"ROUNDUP(((FirstPartDegrees2!#REF!+D87)/2+(FirstPartDegrees2!F97+O87)/2+(FirstPartDegrees2!#REF!+M87)/2+(FirstPartDegrees2!C97+F87)/2 )/4,0)","v":{"$error":"#REF!"}},{"$f":"ROUNDUP(((FirstPartDegrees2!#REF!+FirstPartDegrees2!#REF!)/2+(FirstPartDegrees2!G97+J87)/2+(FirstPartDegrees2!L97+S87)/2+(FirstPartDegrees2!H97+#REF!)/2 )/4,0)","v":{"$error":"#REF!"}},{"$f":"ROUNDUP(((FirstPartDegrees2!E97+FirstPartDegrees2!I97)/2+(FirstPartDegrees2!#REF!+FirstPartDegrees2!#REF!)/2+(FirstPartDegrees2!N97+V87)/2+(AB87+#REF!)/2)/4,0)","v":{"$error":"#REF!"}},{"$f":"(AQ87+AAH87+AO87)*40/12","v":{"$error":"#REF!"}}]
[null,null,{"$f":"IF($B87=\"\",\"\",للطباعة!$G$27)","v":""},{"$f":"IF($B87=\"\",\"\",للطباعة!$F$27)","v":""},{"$f":"IF($B87=\"\",\"\",للطباعة!$N$27)","v":""},{"$f":"IF($B87=\"\",\"\",للطباعة!$M$27)","v":""},{"$f":"IF($B87=\"\",\"\",للطباعة!$U$27)","v":""},{"$f":"IF($B87=\"\",\"\",للطباعة!$T$27)","v":""},{"$f":"IF($B87=\"\",\"\",للطباعة!$AB$27)","v":""},{"$f":"IF($B87=\"\",\"\",للطباعة!$AA$27)","v":""},null,{"$f":"IF($B87=\"\",\"\",للطباعة!$AJ$27)","v":""},{"$f":"IF($B87=\"\",\"\",للطباعة!$AI$27)","v":""},{"$f":"IF($B87=\"\",\"\",للطباعة!$AQ$27)","v":""},{"$f":"IF($B87=\"\",\"\",للطباعة!$AP$27)","v":""},{"$f":"IF($B87=\"\",\"\",للطباعة!$AX$27)","v":""},{"$f":"IF($B87=\"\",\"\",للطباعة!$AW$27)","v":""},{"$f":"IF($B87=\"\",\"\",للطباعة!$BE$27)","v":""},{"$f":"IF($B87=\"\",\"\",للطباعة!$BD$27)","v":""},null,{"$f":"IF($B87=\"\",\"\",للطباعة!$BM$27)","v":""},{"$f":"IF($B87=\"\",\"\",للطباعة!$BL$27)","v":""},{"$f":"IF($B87=\"\",\"\",للطباعة!$BT$27)","v":""},{"$f":"IF($B87=\"\",\"\",للطباعة!$BS$27)","v":""},{"$f":"IF($B87=\"\",\"\",للطباعة!$CA$27)","v":""},{"$f":"IF($B87=\"\",\"\",للطباعة!$BZ$27)","v":""},{"$f":"IF($B87=\"\",\"\",للطباعة!$CH$27)","v":""},{"$f":"IF($B87=\"\",\"\",للطباعة!$CG$27)","v":""}]
[null,"النقاط",{"$f":"IF($B87=\"\",\"\",(D87+D88)*100/8)","v":""},null,{"$f":"IF($B87=\"\",\"\",(F87+F88)*100/8)","v":""},null,{"$f":"IF($B87=\"\",\"\",(H87+H88)*100/8)","v":""},null,{"$f":"IF($B87=\"\",\"\",(J87+J88)*100/8)","v":""},null,null,{"$f":"IF($B87=\"\",\"\",(M87+M88)*100/8)","v":""},null,{"$f":"IF($B87=\"\",\"\",(O87+O88)*100/8)","v":""},null,{"$f":"IF($B87=\"\",\"\",(Q87+Q88)*100/8)","v":""},null,{"$f":"IF($B87=\"\",\"\",(S87+S88)*100/8)","v":""},null,null,{"$f":"IF($B87=\"\",\"\",(V87+V88)*100/8)","v":""},null,{"$f":"IF($B87=\"\",\"\",(X87+X88)*100/8)","v":""},null,{"$f":"IF($B87=\"\",\"\",(Z87+Z88)*100/8)","v":""},null,{"$f":"IF($B87=\"\",\"\",(AB87+AB88)*100/8)","v":""}]
[27,{"$f":"INDIRECT(ADDRESS(A90+1,2,,,\"للطباعة\"))","v":""},{"$f":"IF($B90=\"\",\"\",للطباعة!$E$28)","v":""},{"$f":"IF($B90=\"\",\"\",للطباعة!$D$28)","v":""},{"$f":"IF($B90=\"\",\"\",للطباعة!$L$28)","v":""},{"$f":"IF($B90=\"\",\"\",للطباعة!$K$28)","v":""},{"$f":"IF($B90=\"\",\"\",للطباعة!$S$28)","v":""},{"$f":"IF($B90=\"\",\"\",للطباعة!$R$28)","v":""},{"$f":"IF($B90=\"\",\"\",للطباعة!$Z$28)","v":""},{"$f":"IF($B90=\"\",\"\",للطباعة!$Y$28)","v":""},{"$f":"IF($B90=\"\",\"\",(C92+E92+G92+I92)/4)","v":""},{"$f":"IF($B90=\"\",\"\",للطباعة!$AH$28)","v":""},{"$f":"IF($B90=\"\",\"\",للطباعة!$AG$28)","v":""},{"$f":"IF($B90=\"\",\"\",للطباعة!$AO$28)","v":""},{"$f":"IF($B90=\"\",\"\",للطباعة!$AN$28)","v":""},{"$f":"IF($B90=\"\",\"\",للطباعة!$AV$28)","v":""},{"$f":"IF($B90=\"\",\"\",للطباعة!$AU$28)","v":""},{"$f":"IF($B90=\"\",\"\",للطباعة!$BC$28)","v":""},{"$f":"IF($B90=\"\",\"\",للطباعة!$BB$28)","v":""},{"$f":"IF($B90=\"\",\"\",(L92+N92+P92+R92)/4)","v":""},{"$f":"IF($B90=\"\",\"\",للطباعة!$BK$28)","v":""},{"$f":"IF($B90=\"\",\"\",للطباعة!$BJ$28)","v":""},{"$f":"IF($B90=\"\",\"\",للطباعة!$BR$28)","v":""},{"$f":"IF($B90=\"\",\"\",للطباعة!$BQ$28)","v":""},{"$f":"IF($B90=\"\",\"\",للطباعة!$BY$28)","v":""},{"$f":"IF($B90=\"\",\"\",للطباعة!$BX$28)","v":""},{"$f":"IF($B90=\"\",\"\",للطباعة!$CF$28)","v":""},{"$f":"IF($B90=\"\",\"\",للطباعة!$CE$28)","v":""},{"$f":"IF($B90=\"\",\"\",(U92+W92+Y92+AA92)/4)","v":""},{"$f":"IF($B90=\"\",\"\",(K90+T90+AC90)*0.04)","v":""},{"$f":"IF($B90=\"\",\"\",IF((AD90*40/12-INT(AD90*40/12))>=0.75,INT(AD90*40/12)+1,IF((AD90*40/12-INT(AD90*40/12))<0.25,INT(AD90*40/12),INT(AD87*40/12)+0.5)))","v":""},{"$f":"IF($B90=\"\",\"\",INDIRECT(ADDRESS(11+A90*2,19,1,,\"SeconedPartDegrees2\")))","v":""},{"$f":"IF($B90=\"\",\"\",INDIRECT(ADDRESS(11+A90*2,20,1,,\"SeconedPartDegrees2\")))","v":""},{"$f":"IF(OR(AF90=\"\",AG90=\"\"),\"\",AF90+AG90)","v":""},{"$f":"IF(OR(AE90=\"\",AG90=\"\"),\"\",AG90+AF90+AE90)","v":""},{"$f":"IF($B90=\"\",\"\",INDIRECT(ADDRESS(11+A90*2,21,1,,\"SeconedPartDegrees1\")))","v":""},{"$f":"IFERROR(IF(AI90=\"\",\"\",IF(((AI90+AJ90)/2-INT((AI90+AJ90)/2))>=0.75,INT((AI90+AJ90)/2)+1,IF(((AI90+AJ90)/2-INT((AI90+AJ90)/2))<0.25,INT((AI90+AJ90)/2),INT((AI90+AJ90)/2)+0.5))),\"\")","v":""},{"$f":"IF($AK90=\"\",\"\",IF(AK90=\"\",\"غياب وعليه دور ثاني\",IF(AK90<50,\"دور ثاني\",\"ناجح\")))","v":""},null,null,{"$f":"ROUNDUP(((FirstPartDegrees2!#REF!+D90)/2+(FirstPartDegrees2!F100+O90)/2+(FirstPartDegrees2!#REF!+M90)/2+(FirstPartDegrees2!C100+F90)/2 )/4,0)","v":{"$error":"#REF!"}},{"$f":"ROUNDUP(((FirstPartDegrees2!#REF!+FirstPartDegrees2!#REF!)/2+(FirstPartDegrees2!G100+J90)/2+(FirstPartDegrees2!L100+S90)/2+(FirstPartDegrees2!H100+#REF!)/2 )/4,0)","v":{"$error":"#REF!"}},{"$f":"ROUNDUP(((FirstPartDegrees2!E100+FirstPartDegrees2!I100)/2+(FirstPartDegrees2!#REF!+FirstPartDegrees2!#REF!)/2+(FirstPartDegrees2!N100+V90)/2+(AB90+#REF!)/2)/4,0)","v":{"$error":"#REF!"}},{"$f":"(AQ90+AAH90+AO90)*40/12","v":{"$error":"#REF!"}}]
[null,null,{"$f":"IF($B90=\"\",\"\",للطباعة!$G$28)","v":""},{"$f":"IF($B90=\"\",\"\",للطباعة!$F$28)","v":""},{"$f":"IF($B90=\"\",\"\",للطباعة!$N$28)","v":""},{"$f":"IF($B90=\"\",\"\",للطباعة!$M$28)","v":""},{"$f":"IF($B90=\"\",\"\",للطباعة!$U$28)","v":""},{"$f":"IF($B90=\"\",\"\",للطباعة!$T$28)","v":""},{"$f":"IF($B90=\"\",\"\",للطباعة!$AB$28)","v":""},{"$f":"IF($B90=\"\",\"\",للطباعة!$AA$28)","v":""},null,{"$f":"IF($B90=\"\",\"\",للطباعة!$AJ$28)","v":""},{"$f":"IF($B90=\"\",\"\",للطباعة!$AI$28)","v":""},{"$f":"IF($B90=\"\",\"\",للطباعة!$AQ$28)","v":""},{"$f":"IF($B90=\"\",\"\",للطباعة!$AP$28)","v":""},{"$f":"IF($B90=\"\",\"\",للطباعة!$AX$28)","v":""},{"$f":"IF($B90=\"\",\"\",للطباعة!$AW$28)","v":""},{"$f":"IF($B90=\"\",\"\",للطباعة!$BE$28)","v":""},{"$f":"IF($B90=\"\",\"\",للطباعة!$BD$28)","v":""},null,{"$f":"IF($B90=\"\",\"\",للطباعة!$BM$28)","v":""},{"$f":"IF($B90=\"\",\"\",للطباعة!$BL$28)","v":""},{"$f":"IF($B90=\"\",\"\",للطباعة!$BT$28)","v":""},{"$f":"IF($B90=\"\",\"\",للطباعة!$BS$28)","v":""},{"$f":"IF($B90=\"\",\"\",للطباعة!$CA$28)","v":""},{"$f":"IF($B90=\"\",\"\",للطباعة!$BZ$28)","v":""},{"$f":"IF($B90=\"\",\"\",للطباعة!$CH$28)","v":""},{"$f":"IF($B90=\"\",\"\",للطباعة!$CG$28)","v":""}]
[null,"النقاط",{"$f":"IF($B90=\"\",\"\",(D90+D91)*100/8)","v":""},null,{"$f":"IF($B90=\"\",\"\",(F90+F91)*100/8)","v":""},null,{"$f":"IF($B90=\"\",\"\",(H90+H91)*100/8)","v":""},null,{"$f":"IF($B90=\"\",\"\",(J90+J91)*100/8)","v":""},null,null,{"$f":"IF($B90=\"\",\"\",(M90+M91)*100/8)","v":""},null,{"$f":"IF($B90=\"\",\"\",(O90+O91)*100/8)","v":""},null,{"$f":"IF($B90=\"\",\"\",(Q90+Q91)*100/8)","v":""},null,{"$f":"IF($B90=\"\",\"\",(S90+S91)*100/8)","v":""},null,null,{"$f":"IF($B90=\"\",\"\",(V90+V91)*100/8)","v":""},null,{"$f":"IF($B90=\"\",\"\",(X90+X91)*100/8)","v":""},null,{"$f":"IF($B90=\"\",\"\",(Z90+Z91)*100/8)","v":""},null,{"$f":"IF($B90=\"\",\"\",(AB90+AB91)*100/8)","v":""}]
[28,{"$f":"INDIRECT(ADDRESS(A93+1,2,,,\"للطباعة\"))","v":""},{"$f":"IF($B93=\"\",\"\",للطباعة!$E$29)","v":""},{"$f":"IF($B93=\"\",\"\",للطباعة!$D$29)","v":""},{"$f":"IF($B93=\"\",\"\",للطباعة!$L$29)","v":""},{"$f":"IF($B93=\"\",\"\",للطباعة!$K$29)","v":""},{"$f":"IF($B93=\"\",\"\",للطباعة!$S$29)","v":""},{"$f":"IF($B93=\"\",\"\",للطباعة!$R$29)","v":""},{"$f":"IF($B93=\"\",\"\",للطباعة!$Z$29)","v":""},{"$f":"IF($B93=\"\",\"\",للطباعة!$Y$29)","v":""},{"$f":"IF($B93=\"\",\"\",(C95+E95+G95+I95)/4)","v":""},{"$f":"IF($B93=\"\",\"\",للطباعة!$AH$29)","v":""},{"$f":"IF($B93=\"\",\"\",للطباعة!$AG$29)","v":""},{"$f":"IF($B93=\"\",\"\",للطباعة!$AO$29)","v":""},{"$f":"IF($B93=\"\",\"\",للطباعة!$AN$29)","v":""},{"$f":"IF($B93=\"\",\"\",للطباعة!$AV$29)","v":""},{"$f":"IF($B93=\"\",\"\",للطباعة!$AU$29)","v":""},{"$f":"IF($B93=\"\",\"\",للطباعة!$BC$29)","v":""},{"$f":"IF($B93=\"\",\"\",للطباعة!$BB$29)","v":""},{"$f":"IF($B93=\"\",\"\",(L95+N95+P95+R95)/4)","v":""},{"$f":"IF($B93=\"\",\"\",للطباعة!$BK$29)","v":""},{"$f":"IF($B93=\"\",\"\",للطباعة!$BJ$29)","v":""},{"$f":"IF($B93=\"\",\"\",للطباعة!$BR$29)","v":""},{"$f":"IF($B93=\"\",\"\",للطباعة!$BQ$29)","v":""},{"$f":"IF($B93=\"\",\"\",للطباعة!$BY$29)","v":""},{"$f":"IF($B93=\"\",\"\",للطباعة!$BX$29)","v":""},{"$f":"IF($B93=\"\",\"\",للطباعة!$CF$29)","v":""},{"$f":"IF($B93=\"\",\"\",للطباعة!$CE$29)","v":""},{"$f":"IF($B93=\"\",\"\",(U95+W95+Y95+AA95)/4)","v":""},{"$f":"IF($B93=\"\",\"\",(K93+T93+AC93)*0.04)","v":""},{"$f":"IF($B93=\"\",\"\",IF((AD93*40/12-INT(AD93*40/12))>=0.75,INT(AD93*40/12)+1,IF((AD93*40/12-INT(AD93*40/12))<0.25,INT(AD93*40/12),INT(AD90*40/12)+0.5)))","v":""},{"$f":"IF($B93=\"\",\"\",INDIRECT(ADDRESS(11+A93*2,19,1,,\"SeconedPartDegrees2\")))","v":""},{"$f":"IF($B93=\"\",\"\",INDIRECT(ADDRESS(11+A93*2,20,1,,\"SeconedPartDegrees2\")))","v":""},{"$f":"IF(OR(AF93=\"\",AG93=\"\"),\"\",AF93+AG93)","v":""},{"$f":"IF(OR(AE93=\"\",AG93=\"\"),\"\",AG93+AF93+AE93)","v":""},{"$f":"IF($B93=\"\",\"\",INDIRECT(ADDRESS(11+A93*2,21,1,,\"SeconedPartDegrees1\")))","v":""},{"$f":"IFERROR(IF(AI93=\"\",\"\",IF(((AI93+AJ93)/2-INT((AI93+AJ93)/2))>=0.75,INT((AI93+AJ93)/2)+1,IF(((AI93+AJ93)/2-INT((AI93+AJ93)/2))<0.25,INT((AI93+AJ93)/2),INT((AI93+AJ93)/2)+0.5))),\"\")","v":""},{"$f":"IF($AK93=\"\",\"\",IF(AK93=\"\",\"غياب وعليه دور ثاني\",IF(AK93<50,\"دور ثاني\",\"ناجح\")))","v":""},null,null,{"$f":"ROUNDUP(((FirstPartDegrees2!#REF!+D93)/2+(FirstPartDegrees2!F103+O93)/2+(FirstPartDegrees2!#REF!+M93)/2+(FirstPartDegrees2!C103+F93)/2 )/4,0)","v":{"$error":"#REF!"}},{"$f":"ROUNDUP(((FirstPartDegrees2!#REF!+FirstPartDegrees2!#REF!)/2+(FirstPartDegrees2!G103+J93)/2+(FirstPartDegrees2!L103+S93)/2+(FirstPartDegrees2!H103+#REF!)/2 )/4,0)","v":{"$error":"#REF!"}},{"$f":"ROUNDUP(((FirstPartDegrees2!E103+FirstPartDegrees2!I103)/2+(FirstPartDegrees2!#REF!+FirstPartDegrees2!#REF!)/2+(FirstPartDegrees2!N103+V93)/2+(AB93+#REF!)/2)/4,0)","v":{"$error":"#REF!"}},{"$f":"(AQ93+AAH93+AO93)*40/12","v":{"$error":"#REF!"}}]
[null,null,{"$f":"IF($B93=\"\",\"\",للطباعة!$G$29)","v":""},{"$f":"IF($B93=\"\",\"\",للطباعة!$F$29)","v":""},{"$f":"IF($B93=\"\",\"\",للطباعة!$N$29)","v":""},{"$f":"IF($B93=\"\",\"\",للطباعة!$M$29)","v":""},{"$f":"IF($B93=\"\",\"\",للطباعة!$U$29)","v":""},{"$f":"IF($B93=\"\",\"\",للطباعة!$T$29)","v":""},{"$f":"IF($B93=\"\",\"\",للطباعة!$AB$29)","v":""},{"$f":"IF($B93=\"\",\"\",للطباعة!$AA$29)","v":""},null,{"$f":"IF($B93=\"\",\"\",للطباعة!$AJ$29)","v":""},{"$f":"IF($B93=\"\",\"\",للطباعة!$AI$29)","v":""},{"$f":"IF($B93=\"\",\"\",للطباعة!$AQ$29)","v":""},{"$f":"IF($B93=\"\",\"\",للطباعة!$AP$29)","v":""},{"$f":"IF($B93=\"\",\"\",للطباعة!$AX$29)","v":""},{"$f":"IF($B93=\"\",\"\",للطباعة!$AW$29)","v":""},{"$f":"IF($B93=\"\",\"\",للطباعة!$BE$29)","v":""},{"$f":"IF($B93=\"\",\"\",للطباعة!$BD$29)","v":""},null,{"$f":"IF($B93=\"\",\"\",للطباعة!$BM$29)","v":""},{"$f":"IF($B93=\"\",\"\",للطباعة!$BL$29)","v":""},{"$f":"IF($B93=\"\",\"\",للطباعة!$BT$29)","v":""},{"$f":"IF($B93=\"\",\"\",للطباعة!$BS$29)","v":""},{"$f":"IF($B93=\"\",\"\",للطباعة!$CA$29)","v":""},{"$f":"IF($B93=\"\",\"\",للطباعة!$BZ$29)","v":""},{"$f":"IF($B93=\"\",\"\",للطباعة!$CH$29)","v":""},{"$f":"IF($B93=\"\",\"\",للطباعة!$CG$29)","v":""}]
[null,"النقاط",{"$f":"IF($B93=\"\",\"\",(D93+D94)*100/8)","v":""},null,{"$f":"IF($B93=\"\",\"\",(F93+F94)*100/8)","v":""},null,{"$f":"IF($B93=\"\",\"\",(H93+H94)*100/8)","v":""},null,{"$f":"IF($B93=\"\",\"\",(J93+J94)*100/8)","v":""},null,null,{"$f":"IF($B93=\"\",\"\",(M93+M94)*100/8)","v":""},null,{"$f":"IF($B93=\"\",\"\",(O93+O94)*100/8)","v":""},null,{"$f":"IF($B93=\"\",\"\",(Q93+Q94)*100/8)","v":""},null,{"$f":"IF($B93=\"\",\"\",(S93+S94)*100/8)","v":""},null,null,{"$f":"IF($B93=\"\",\"\",(V93+V94)*100/8)","v":""},null,{"$f":"IF($B93=\"\",\"\",(X93+X94)*100/8)","v":""},null,{"$f":"IF($B93=\"\",\"\",(Z93+Z94)*100/8)","v":""},null,{"$f":"IF($B93=\"\",\"\",(AB93+AB94)*100/8)","v":""}]
[29,{"$f":"INDIRECT(ADDRESS(A96+1,2,,,\"للطباعة\"))","v":""},{"$f":"IF($B96=\"\",\"\",للطباعة!$E$30)","v":""},{"$f":"IF($B96=\"\",\"\",للطباعة!$D$30)","v":""},{"$f":"IF($B96=\"\",\"\",للطباعة!$L$30)","v":""},{"$f":"IF($B96=\"\",\"\",للطباعة!$K$30)","v":""},{"$f":"IF($B96=\"\",\"\",للطباعة!$S$30)","v":""},{"$f":"IF($B96=\"\",\"\",للطباعة!$R$30)","v":""},{"$f":"IF($B96=\"\",\"\",للطباعة!$Z$30)","v":""},{"$f":"IF($B96=\"\",\"\",للطباعة!$Y$30)","v":""},{"$f":"IF($B96=\"\",\"\",(C98+E98+G98+I98)/4)","v":""},{"$f":"IF($B96=\"\",\"\",للطباعة!$AH$30)","v":""},{"$f":"IF($B96=\"\",\"\",للطباعة!$AG$30)","v":""},{"$f":"IF($B96=\"\",\"\",للطباعة!$AO$30)","v":""},{"$f":"IF($B96=\"\",\"\",للطباعة!$AN$30)","v":""},{"$f":"IF($B96=\"\",\"\",للطباعة!$AV$30)","v":""},{"$f":"IF($B96=\"\",\"\",للطباعة!$AU$30)","v":""},{"$f":"IF($B96=\"\",\"\",للطباعة!$BC$30)","v":""},{"$f":"IF($B96=\"\",\"\",للطباعة!$BB$30)","v":""},{"$f":"IF($B96=\"\",\"\",(L98+N98+P98+R98)/4)","v":""},{"$f":"IF($B96=\"\",\"\",للطباعة!$BK$30)","v":""},{"$f":"IF($B96=\"\",\"\",للطباعة!$BJ$30)","v":""},{"$f":"IF($B96=\"\",\"\",للطباعة!$BR$30)","v":""},{"$f":"IF($B96=\"\",\"\",للطباعة!$BQ$30)","v":""},{"$f":"IF($B96=\"\",\"\",للطباعة!$BY$30)","v":""},{"$f":"IF($B96=\"\",\"\",للطباعة!$BX$30)","v":""},{"$f":"IF($B96=\"\",\"\",للطباعة!$CF$30)","v":""},{"$f":"IF($B96=\"\",\"\",للطباعة!$CE$30)","v":""},{"$f":"IF($B96=\"\",\"\",(U98+W98+Y98+AA98)/4)","v":""},{"$f":"IF($B96=\"\",\"\",(K96+T96+AC96)*0.04)","v":""},{"$f":"IF($B96=\"\",\"\",IF((AD96*40/12-INT(AD96*40/12))>=0.75,INT(AD96*40/12)+1,IF((AD96*40/12-INT(AD96*40/12))<0.25,INT(AD96*40/12),INT(AD93*40/12)+0.5)))","v":""},{"$f":"IF($B96=\"\",\"\",INDIRECT(ADDRESS(11+A96*2,19,1,,\"SeconedPartDegrees2\")))","v":""},{"$f":"IF($B96=\"\",\"\",INDIRECT(ADDRESS(11+A96*2,20,1,,\"SeconedPartDegrees2\")))","v":""},{"$f":"IF(OR(AF96=\"\",AG96=\"\"),\"\",AF96+AG96)","v":""},{"$f":"IF(OR(AE96=\"\",AG96=\"\"),\"\",AG96+AF96+AE96)","v":""},{"$f":"IF($B96=\"\",\"\",INDIRECT(ADDRESS(11+A96*2,21,1,,\"SeconedPartDegrees1\")))","v":""},{"$f":"IFERROR(IF(AI96=\"\",\"\",IF(((AI96+AJ96)/2-INT((AI96+AJ96)/2))>=0.75,INT((AI96+AJ96)/2)+1,IF(((AI96+AJ96)/2-INT((AI96+AJ96)/2))<0.25,INT((AI96+AJ96)/2),INT((AI96+AJ96)/2)+0.5))),\"\")","v":""},{"$f":"IF($AK96=\"\",\"\",IF(AK96=\"\",\"غياب وعليه دور ثاني\",IF(AK96<50,\"دور ثاني\",\"ناجح\")))","v":""},null,null,{"$f":"ROUNDUP(((FirstPartDegrees2!#REF!+D96)/2+(FirstPartDegrees2!F106+O96)/2+(FirstPartDegrees2!#REF!+M96)/2+(FirstPartDegrees2!C106+F96)/2 )/4,0)","v":{"$error":"#REF!"}},{"$f":"ROUNDUP(((FirstPartDegrees2!#REF!+FirstPartDegrees2!#REF!)/2+(FirstPartDegrees2!G106+J96)/2+(FirstPartDegrees2!L106+S96)/2+(FirstPartDegrees2!H106+#REF!)/2 )/4,0)","v":{"$error":"#REF!"}},{"$f":"ROUNDUP(((FirstPartDegrees2!E106+FirstPartDegrees2!I106)/2+(FirstPartDegrees2!#REF!+FirstPartDegrees2!#REF!)/2+(FirstPartDegrees2!N106+V96)/2+(AB96+#REF!)/2)/4,0)","v":{"$error":"#REF!"}},{"$f":"(AQ96+AAH96+AO96)*40/12","v":{"$error":"#REF!"}}]
[null,null,{"$f":"IF($B96=\"\",\"\",للطباعة!$G$30)","v":""},{"$f":"IF($B96=\"\",\"\",للطباعة!$F$30)","v":""},{"$f":"IF($B96=\"\",\"\",للطباعة!$N$30)","v":""},{"$f":"IF($B96=\"\",\"\",للطباعة!$M$30)","v":""},{"$f":"IF($B96=\"\",\"\",للطباعة!$U$30)","v":""},{"$f":"IF($B96=\"\",\"\",للطباعة!$T$30)","v":""},{"$f":"IF($B96=\"\",\"\",للطباعة!$AB$30)","v":""},{"$f":"IF($B96=\"\",\"\",للطباعة!$AA$30)","v":""},null,{"$f":"IF($B96=\"\",\"\",للطباعة!$AJ$30)","v":""},{"$f":"IF($B96=\"\",\"\",للطباعة!$AI$30)","v":""},{"$f":"IF($B96=\"\",\"\",للطباعة!$AQ$30)","v":""},{"$f":"IF($B96=\"\",\"\",للطباعة!$AP$30)","v":""},{"$f":"IF($B96=\"\",\"\",للطباعة!$AX$30)","v":""},{"$f":"IF($B96=\"\",\"\",للطباعة!$AW$30)","v":""},{"$f":"IF($B96=\"\",\"\",للطباعة!$BE$30)","v":""},{"$f":"IF($B96=\"\",\"\",للطباعة!$BD$30)","v":""},null,{"$f":"IF($B96=\"\",\"\",للطباعة!$BM$30)","v":""},{"$f":"IF($B96=\"\",\"\",للطباعة!$BL$30)","v":""},{"$f":"IF($B96=\"\",\"\",للطباعة!$BT$30)","v":""},{"$f":"IF($B96=\"\",\"\",للطباعة!$BS$30)","v":""},{"$f":"IF($B96=\"\",\"\",للطباعة!$CA$30)","v":""},{"$f":"IF($B96=\"\",\"\",للطباعة!$BZ$30)","v":""},{"$f":"IF($B96=\"\",\"\",للطباعة!$CH$30)","v":""},{"$f":"IF($B96=\"\",\"\",للطباعة!$CG$30)","v":""}]
[null,"النقاط",{"$f":"IF($B96=\"\",\"\",(D96+D97)*100/8)","v":""},null,{"$f":"IF($B96=\"\",\"\",(F96+F97)*100/8)","v":""},null,{"$f":"IF($B96=\"\",\"\",(H96+H97)*100/8)","v":""},null,{"$f":"IF($B96=\"\",\"\",(J96+J97)*100/8)","v":""},null,null,{"$f":"IF($B96=\"\",\"\",(M96+M97)*100/8)","v":""},null,{"$f":"IF($B96=\"\",\"\",(O96+O97)*100/8)","v":""},null,{"$f":"IF($B96=\"\",\"\",(Q96+Q97)*100/8)","v":""},null,{"$f":"IF($B96=\"\",\"\",(S96+S97)*100/8)","v":""},null,null,{"$f":"IF($B96=\"\",\"\",(V96+V97)*100/8)","v":""},null,{"$f":"IF($B96=\"\",\"\",(X96+X97)*100/8)","v":""},null,{"$f":"IF($B96=\"\",\"\",(Z96+Z97)*100/8)","v":""},null,{"$f":"IF($B96=\"\",\"\",(AB96+AB97)*100/8)","v":""}]
[30,{"$f":"INDIRECT(ADDRESS(A99+1,2,,,\"للطباعة\"))","v":""},{"$f":"IF($B99=\"\",\"\",للطباعة!$E$31)","v":""},{"$f":"IF($B99=\"\",\"\",للطباعة!$D$31)","v":""},{"$f":"IF($B99=\"\",\"\",للطباعة!$L$31)","v":""},{"$f":"IF($B99=\"\",\"\",للطباعة!$K$31)","v":""},{"$f":"IF($B99=\"\",\"\",للطباعة!$S$31)","v":""},{"$f":"IF($B99=\"\",\"\",للطباعة!$R$31)","v":""},{"$f":"IF($B99=\"\",\"\",للطباعة!$Z$31)","v":""},{"$f":"IF($B99=\"\",\"\",للطباعة!$Y$31)","v":""},{"$f":"IF($B99=\"\",\"\",(C101+E101+G101+I101)/4)","v":""},{"$f":"IF($B99=\"\",\"\",للطباعة!$AH$31)","v":""},{"$f":"IF($B99=\"\",\"\",للطباعة!$AG$31)","v":""},{"$f":"IF($B99=\"\",\"\",للطباعة!$AO$31)","v":""},{"$f":"IF($B99=\"\",\"\",للطباعة!$AN$31)","v":""},{"$f":"IF($B99=\"\",\"\",للطباعة!$AV$31)","v":""},{"$f":"IF($B99=\"\",\"\",للطباعة!$AU$31)","v":""},{"$f":"IF($B99=\"\",\"\",للطباعة!$BC$31)","v":""},{"$f":"IF($B99=\"\",\"\",للطباعة!$BB$31)","v":""},{"$f":"IF($B99=\"\",\"\",(L101+N101+P101+R101)/4)","v":""},{"$f":"IF($B99=\"\",\"\",للطباعة!$BK$31)","v":""},{"$f":"IF($B99=\"\",\"\",للطباعة!$BJ$31)","v":""},{"$f":"IF($B99=\"\",\"\",للطباعة!$BR$31)","v":""},{"$f":"IF($B99=\"\",\"\",للطباعة!$BQ$31)","v":""},{"$f":"IF($B99=\"\",\"\",للطباعة!$BY$31)","v":""},{"$f":"IF($B99=\"\",\"\",للطباعة!$BX$31)","v":""},{"$f":"IF($B99=\"\",\"\",للطباعة!$CF$31)","v":""},{"$f":"IF($B99=\"\",\"\",للطباعة!$CE$31)","v":""},{"$f":"IF($B99=\"\",\"\",(U101+W101+Y101+AA101)/4)","v":""},{"$f":"IF($B99=\"\",\"\",(K99+T99+AC99)*0.04)","v":""},{"$f":"IF($B99=\"\",\"\",IF((AD99*40/12-INT(AD99*40/12))>=0.75,INT(AD99*40/12)+1,IF((AD99*40/12-INT(AD99*40/12))<0.25,INT(AD99*40/12),INT(AD96*40/12)+0.5)))","v":""},{"$f":"IF($B99=\"\",\"\",INDIRECT(ADDRESS(11+A99*2,19,1,,\"SeconedPartDegrees2\")))","v":""},{"$f":"IF($B99=\"\",\"\",INDIRECT(ADDRESS(11+A99*2,20,1,,\"SeconedPartDegrees2\")))","v":""},{"$f":"IF(OR(AF99=\"\",AG99=\"\"),\"\",AF99+AG99)","v":""},{"$f":"IF(OR(AE99=\"\",AG99=\"\"),\"\",AG99+AF99+AE99)","v":""},{"$f":"IF($B99=\"\",\"\",INDIRECT(ADDRESS(11+A99*2,21,1,,\"SeconedPartDegrees1\")))","v":""},{"$f":"IFERROR(IF(AI99=\"\",\"\",IF(((AI99+AJ99)/2-INT((AI99+AJ99)/2))>=0.75,INT((AI99+AJ99)/2)+1,IF(((AI99+AJ99)/2-INT((AI99+AJ99)/2))<0.25,INT((AI99+AJ99)/2),INT((AI99+AJ99)/2)+0.5))),\"\")","v":""},{"$f":"IF($AK99=\"\",\"\",IF(AK99=\"\",\"غياب وعليه دور ثاني\",IF(AK99<50,\"دور ثاني\",\"ناجح\")))","v":""},null,null,{"$f":"ROUNDUP(((FirstPartDegrees2!#REF!+D99)/2+(FirstPartDegrees2!F109+O99)/2+(FirstPartDegrees2!#REF!+M99)/2+(FirstPartDegrees2!C109+F99)/2 )/4,0)","v":{"$error":"#REF!"}},{"$f":"ROUNDUP(((FirstPartDegrees2!#REF!+FirstPartDegrees2!#REF!)/2+(FirstPartDegrees2!G109+J99)/2+(FirstPartDegrees2!L109+S99)/2+(FirstPartDegrees2!H109+#REF!)/2 )/4,0)","v":{"$error":"#REF!"}},{"$f":"ROUNDUP(((FirstPartDegrees2!E109+FirstPartDegrees2!I109)/2+(FirstPartDegrees2!#REF!+FirstPartDegrees2!#REF!)/2+(FirstPartDegrees2!N109+V99)/2+(AB99+#REF!)/2)/4,0)","v":{"$error":"#REF!"}},{"$f":"(AQ99+AAH99+AO99)*40/12","v":{"$error":"#REF!"}}]
[null,null,{"$f":"IF($B99=\"\",\"\",للطباعة!$G$31)","v":""},{"$f":"IF($B99=\"\",\"\",للطباعة!$F$31)","v":""},{"$f":"IF($B99=\"\",\"\",للطباعة!$N$31)","v":""},{"$f":"IF($B99=\"\",\"\",للطباعة!$M$31)","v":""},{"$f":"IF($B99=\"\",\"\",للطباعة!$U$31)","v":""},{"$f":"IF($B99=\"\",\"\",للطباعة!$T$31)","v":""},{"$f":"IF($B99=\"\",\"\",للطباعة!$AB$31)","v":""},{"$f":"IF($B99=\"\",\"\",للطباعة!$AA$31)","v":""},null,{"$f":"IF($B99=\"\",\"\",للطباعة!$AJ$31)","v":""},{"$f":"IF($B99=\"\",\"\",للطباعة!$AI$31)","v":""},{"$f":"IF($B99=\"\",\"\",للطباعة!$AQ$31)","v":""},{"$f":"IF($B99=\"\",\"\",للطباعة!$AP$31)","v":""},{"$f":"IF($B99=\"\",\"\",للطباعة!$AX$31)","v":""},{"$f":"IF($B99=\"\",\"\",للطباعة!$AW$31)","v":""},{"$f":"IF($B99=\"\",\"\",للطباعة!$BE$31)","v":""},{"$f":"IF($B99=\"\",\"\",للطباعة!$BD$31)","v":""},null,{"$f":"IF($B99=\"\",\"\",للطباعة!$BM$31)","v":""},{"$f":"IF($B99=\"\",\"\",للطباعة!$BL$31)","v":""},{"$f":"IF($B99=\"\",\"\",للطباعة!$BT$31)","v":""},{"$f":"IF($B99=\"\",\"\",للطباعة!$BS$31)","v":""},{"$f":"IF($B99=\"\",\"\",للطباعة!$CA$31)","v":""},{"$f":"IF($B99=\"\",\"\",للطباعة!$BZ$31)","v":""},{"$f":"IF($B99=\"\",\"\",للطباعة!$CH$31)","v":""},{"$f":"IF($B99=\"\",\"\",للطباعة!$CG$31)","v":""}]
[null,"النقاط",{"$f":"IF($B99=\"\",\"\",(D99+D100)*100/8)","v":""},null,{"$f":"IF($B99=\"\",\"\",(F99+F100)*100/8)","v":""},null,{"$f":"IF($B99=\"\",\"\",(H99+H100)*100/8)","v":""},null,{"$f":"IF($B99=\"\",\"\",(J99+J100)*100/8)","v":""},null,null,{"$f":"IF($B99=\"\",\"\",(M99+M100)*100/8)","v":""},null,{"$f":"IF($B99=\"\",\"\",(O99+O100)*100/8)","v":""},null,{"$f":"IF($B99=\"\",\"\",(Q99+Q100)*100/8)","v":""},null,{"$f":"IF($B99=\"\",\"\",(S99+S100)*100/8)","v":""},null,null,{"$f":"IF($B99=\"\",\"\",(V99+V100)*100/8)","v":""},null,{"$f":"IF($B99=\"\",\"\",(X99+X100)*100/8)","v":""},null,{"$f":"IF($B99=\"\",\"\",(Z99+Z100)*100/8)","v":""},null,{"$f":"IF($B99=\"\",\"\",(AB99+AB100)*100/8)","v":""}]
[31,{"$f":"INDIRECT(ADDRESS(A102+1,2,,,\"للطباعة\"))","v":""},{"$f":"IF($B102=\"\",\"\",للطباعة!$E$32)","v":""},{"$f":"IF($B102=\"\",\"\",للطباعة!$D$32)","v":""},{"$f":"IF($B102=\"\",\"\",للطباعة!$L$32)","v":""},{"$f":"IF($B102=\"\",\"\",للطباعة!$K$32)","v":""},{"$f":"IF($B102=\"\",\"\",للطباعة!$S$32)","v":""},{"$f":"IF($B102=\"\",\"\",للطباعة!$R$32)","v":""},{"$f":"IF($B102=\"\",\"\",للطباعة!$Z$32)","v":""},{"$f":"IF($B102=\"\",\"\",للطباعة!$Y$32)","v":""},{"$f":"IF($B102=\"\",\"\",(C104+E104+G104+I104)/4)","v":""},{"$f":"IF($B102=\"\",\"\",للطباعة!$AH$32)","v":""},{"$f":"IF($B102=\"\",\"\",للطباعة!$AG$32)","v":""},{"$f":"IF($B102=\"\",\"\",للطباعة!$AO$32)","v":""},{"$f":"IF($B102=\"\",\"\",للطباعة!$AN$32)","v":""},{"$f":"IF($B102=\"\",\"\",للطباعة!$AV$32)","v":""},{"$f":"IF($B102=\"\",\"\",للطباعة!$AU$32)","v":""},{"$f":"IF($B102=\"\",\"\",للطباعة!$BC$32)","v":""},{"$f":"IF($B102=\"\",\"\",للطباعة!$BB$32)","v":""},{"$f":"IF($B102=\"\",\"\",(L104+N104+P104+R104)/4)","v":""},{"$f":"IF($B102=\"\",\"\",للطباعة!$BK$32)","v":""},{"$f":"IF($B102=\"\",\"\",للطباعة!$BJ$32)","v":""},{"$f":"IF($B102=\"\",\"\",للطباعة!$BR$32)","v":""},{"$f":"IF($B102=\"\",\"\",للطباعة!$BQ$32)","v":""},{"$f":"IF($B102=\"\",\"\",للطباعة!$BY$32)","v":""},{"$f":"IF($B102=\"\",\"\",للطباعة!$BX$32)","v":""},{"$f":"IF($B102=\"\",\"\",للطباعة!$CF$32)","v":""},{"$f":"IF($B102=\"\",\"\",للطباعة!$CE$32)","v":""},{"$f":"IF($B102=\"\",\"\",(U104+W104+Y104+AA104)/4)","v":""},{"$f":"IF($B102=\"\",\"\",(K102+T102+AC102)*0.04)","v":""},{"$f":"IF($B102=\"\",\"\",IF((AD102*40/12-INT(AD102*40/12))>=0.75,INT(AD102*40/12)+1,IF((AD102*40/12-INT(AD102*40/12))<0.25,INT(AD102*40/12),INT(AD99*40/12)+0.5)))","v":""},{"$f":"IF($B102=\"\",\"\",INDIRECT(ADDRESS(11+A102*2,19,1,,\"SeconedPartDegrees2\")))","v":""},{"$f":"IF($B102=\"\",\"\",INDIRECT(ADDRESS(11+A102*2,20,1,,\"SeconedPartDegrees2\")))","v":""},{"$f":"IF(OR(AF102=\"\",AG102=\"\"),\"\",AF102+AG102)","v":""},{"$f":"IF(OR(AE102=\"\",AG102=\"\"),\"\",AG102+AF102+AE102)","v":""},{"$f":"IF($B102=\"\",\"\",INDIRECT(ADDRESS(11+A102*2,21,1,,\"SeconedPartDegrees1\")))","v":""},{"$f":"IFERROR(IF(AI102=\"\",\"\",IF(((AI102+AJ102)/2-INT((AI102+AJ102)/2))>=0.75,INT((AI102+AJ102)/2)+1,IF(((AI102+AJ102)/2-INT((AI102+AJ102)/2))<0.25,INT((AI102+AJ102)/2),INT((AI102+AJ102)/2)+0.5))),\"\")","v":""},{"$f":"IF($AK102=\"\",\"\",IF(AK102=\"\",\"غياب وعليه دور ثاني\",IF(AK102<50,\"دور ثاني\",\"ناجح\")))","v":""},null,null,{"$f":"ROUNDUP(((FirstPartDegrees2!#REF!+D102)/2+(FirstPartDegrees2!F112+O102)/2+(FirstPartDegrees2!#REF!+M102)/2+(FirstPartDegrees2!C112+F102)/2 )/4,0)","v":{"$error":"#REF!"}},{"$f":"ROUNDUP(((FirstPartDegrees2!#REF!+FirstPartDegrees2!#REF!)/2+(FirstPartDegrees2!G112+J102)/2+(FirstPartDegrees2!L112+S102)/2+(FirstPartDegrees2!H112+#REF!)/2 )/4,0)","v":{"$error":"#REF!"}},{"$f":"ROUNDUP(((FirstPartDegrees2!E112+FirstPartDegrees2!I112)/2+(FirstPartDegrees2!#REF!+FirstPartDegrees2!#REF!)/2+(FirstPartDegrees2!N112+V102)/2+(AB102+#REF!)/2)/4,0)","v":{"$error":"#REF!"}},{"$f":"(AQ102+AAH102+AO102)*40/12","v":{"$error":"#REF!"}}]
[null,null,{"$f":"IF($B102=\"\",\"\",للطباعة!$G$32)","v":""},{"$f":"IF($B102=\"\",\"\",للطباعة!$F$32)","v":""},{"$f":"IF($B102=\"\",\"\",للطباعة!$N$32)","v":""},{"$f":"IF($B102=\"\",\"\",للطباعة!$M$32)","v":""},{"$f":"IF($B102=\"\",\"\",للطباعة!$U$32)","v":""},{"$f":"IF($B102=\"\",\"\",للطباعة!$T$32)","v":""},{"$f":"IF($B102=\"\",\"\",للطباعة!$AB$32)","v":""},{"$f":"IF($B102=\"\",\"\",للطباعة!$AA$32)","v":""},null,{"$f":"IF($B102=\"\",\"\",للطباعة!$AJ$32)","v":""},{"$f":"IF($B102=\"\",\"\",للطباعة!$AI$32)","v":""},{"$f":"IF($B102=\"\",\"\",للطباعة!$AQ$32)","v":""},{"$f":"IF($B102=\"\",\"\",للطباعة!$AP$32)","v":""},{"$f":"IF($B102=\"\",\"\",للطباعة!$AX$32)","v":""},{"$f":"IF($B102=\"\",\"\",للطباعة!$AW$32)","v":""},{"$f":"IF($B102=\"\",\"\",للطباعة!$BE$32)","v":""},{"$f":"IF($B102=\"\",\"\",للطباعة!$BD$32)","v":""},null,{"$f":"IF($B102=\"\",\"\",للطباعة!$BM$32)","v":""},{"$f":"IF($B102=\"\",\"\",للطباعة!$BL$32)","v":""},{"$f":"IF($B102=\"\",\"\",للطباعة!$BT$32)","v":""},{"$f":"IF($B102=\"\",\"\",للطباعة!$BS$32)","v":""},{"$f":"IF($B102=\"\",\"\",للطباعة!$CA$32)","v":""},{"$f":"IF($B102=\"\",\"\",للطباعة!$BZ$32)","v":""},{"$f":"IF($B102=\"\",\"\",للطباعة!$CH$32)","v":""},{"$f":"IF($B102=\"\",\"\",للطباعة!$CG$32)","v":""}]
[null,"النقاط",{"$f":"IF($B102=\"\",\"\",(D102+D103)*100/8)","v":""},null,{"$f":"IF($B102=\"\",\"\",(F102+F103)*100/8)","v":""},null,{"$f":"IF($B102=\"\",\"\",(H102+H103)*100/8)","v":""},null,{"$f":"IF($B102=\"\",\"\",(J102+J103)*100/8)","v":""},null,null,{"$f":"IF($B102=\"\",\"\",(M102+M103)*100/8)","v":""},null,{"$f":"IF($B102=\"\",\"\",(O102+O103)*100/8)","v":""},null,{"$f":"IF($B102=\"\",\"\",(Q102+Q103)*100/8)","v":""},null,{"$f":"IF($B102=\"\",\"\",(S102+S103)*100/8)","v":""},null,null,{"$f":"IF($B102=\"\",\"\",(V102+V103)*100/8)","v":""},null,{"$f":"IF($B102=\"\",\"\",(X102+X103)*100/8)","v":""},null,{"$f":"IF($B102=\"\",\"\",(Z102+Z103)*100/8)","v":""},null,{"$f":"IF($B102=\"\",\"\",(AB102+AB103)*100/8)","v":""}]
[32,{"$f":"INDIRECT(ADDRESS(A105+1,2,,,\"للطباعة\"))","v":""},{"$f":"IF($B105=\"\",\"\",للطباعة!$E$33)","v":""},{"$f":"IF($B105=\"\",\"\",للطباعة!$D$33)","v":""},{"$f":"IF($B105=\"\",\"\",للطباعة!$L$33)","v":""},{"$f":"IF($B105=\"\",\"\",للطباعة!$K$33)","v":""},{"$f":"IF($B105=\"\",\"\",للطباعة!$S$33)","v":""},{"$f":"IF($B105=\"\",\"\",للطباعة!$R$33)","v":""},{"$f":"IF($B105=\"\",\"\",للطباعة!$Z$33)","v":""},{"$f":"IF($B105=\"\",\"\",للطباعة!$Y$33)","v":""},{"$f":"IF($B105=\"\",\"\",(C107+E107+G107+I107)/4)","v":""},{"$f":"IF($B105=\"\",\"\",للطباعة!$AH$33)","v":""},{"$f":"IF($B105=\"\",\"\",للطباعة!$AG$33)","v":""},{"$f":"IF($B105=\"\",\"\",للطباعة!$AO$33)","v":""},{"$f":"IF($B105=\"\",\"\",للطباعة!$AN$33)","v":""},{"$f":"IF($B105=\"\",\"\",للطباعة!$AV$33)","v":""},{"$f":"IF($B105=\"\",\"\",للطباعة!$AU$33)","v":""},{"$f":"IF($B105=\"\",\"\",للطباعة!$BC$33)","v":""},{"$f":"IF($B105=\"\",\"\",للطباعة!$BB$33)","v":""},{"$f":"IF($B105=\"\",\"\",(L107+N107+P107+R107)/4)","v":""},{"$f":"IF($B105=\"\",\"\",للطباعة!$BK$33)","v":""},{"$f":"IF($B105=\"\",\"\",للطباعة!$BJ$33)","v":""},{"$f":"IF($B105=\"\",\"\",للطباعة!$BR$33)","v":""},{"$f":"IF($B105=\"\",\"\",للطباعة!$BQ$33)","v":""},{"$f":"IF($B105=\"\",\"\",للطباعة!$BY$33)","v":""},{"$f":"IF($B105=\"\",\"\",للطباعة!$BX$33)","v":""},{"$f":"IF($B105=\"\",\"\",للطباعة!$CF$33)","v":""},{"$f":"IF($B105=\"\",\"\",للطباعة!$CE$33)","v":""},{"$f":"IF($B105=\"\",\"\",(U107+W107+Y107+AA107)/4)","v":""},{"$f":"IF($B105=\"\",\"\",(K105+T105+AC105)*0.04)","v":""},{"$f":"IF($B105=\"\",\"\",IF((AD105*40/12-INT(AD105*40/12))>=0.75,INT(AD105*40/12)+1,IF((AD105*40/12-INT(AD105*40/12))<0.25,INT(AD105*40/12),INT(AD102*40/12)+0.5)))","v":""},{"$f":"IF($B105=\"\",\"\",INDIRECT(ADDRESS(11+A105*2,19,1,,\"SeconedPartDegrees2\")))","v":""},{"$f":"IF($B105=\"\",\"\",INDIRECT(ADDRESS(11+A105*2,20,1,,\"SeconedPartDegrees2\")))","v":""},{"$f":"IF(OR(AF105=\"\",AG105=\"\"),\"\",AF105+AG105)","v":""},{"$f":"IF(OR(AE105=\"\",AG105=\"\"),\"\",AG105+AF105+AE105)","v":""},{"$f":"IF($B105=\"\",\"\",INDIRECT(ADDRESS(11+A105*2,21,1,,\"SeconedPartDegrees1\")))","v":""},{"$f":"IFERROR(IF(AI105=\"\",\"\",IF(((AI105+AJ105)/2-INT((AI105+AJ105)/2))>=0.75,INT((AI105+AJ105)/2)+1,IF(((AI105+AJ105)/2-INT((AI105+AJ105)/2))<0.25,INT((AI105+AJ105)/2),INT((AI105+AJ105)/2)+0.5))),\"\")","v":""},{"$f":"IF($AK105=\"\",\"\",IF(AK105=\"\",\"غياب وعليه دور ثاني\",IF(AK105<50,\"دور ثاني\",\"ناجح\")))","v":""},null,null,{"$f":"ROUNDUP(((FirstPartDegrees2!#REF!+D105)/2+(FirstPartDegrees2!F115+O105)/2+(FirstPartDegrees2!#REF!+M105)/2+(FirstPartDegrees2!C115+F105)/2 )/4,0)","v":{"$error":"#REF!"}},{"$f":"ROUNDUP(((FirstPartDegrees2!#REF!+FirstPartDegrees2!#REF!)/2+(FirstPartDegrees2!G115+J105)/2+(FirstPartDegrees2!L115+S105)/2+(FirstPartDegrees2!H115+#REF!)/2 )/4,0)","v":{"$error":"#REF!"}},{"$f":"ROUNDUP(((FirstPartDegrees2!E115+FirstPartDegrees2!I115)/2+(FirstPartDegrees2!#REF!+FirstPartDegrees2!#REF!)/2+(FirstPartDegrees2!N115+V105)/2+(AB105+#REF!)/2)/4,0)","v":{"$error":"#REF!"}},{"$f":"(AQ105+AAH105+AO105)*40/12","v":{"$error":"#REF!"}}]
[null,null,{"$f":"IF($B105=\"\",\"\",للطباعة!$G$33)","v":""},{"$f":"IF($B105=\"\",\"\",للطباعة!$F$33)","v":""},{"$f":"IF($B105=\"\",\"\",للطباعة!$N$33)","v":""},{"$f":"IF($B105=\"\",\"\",للطباعة!$M$33)","v":""},{"$f":"IF($B105=\"\",\"\",للطباعة!$U$33)","v":""},{"$f":"IF($B105=\"\",\"\",للطباعة!$T$33)","v":""},{"$f":"IF($B105=\"\",\"\",للطباعة!$AB$33)","v":""},{"$f":"IF($B105=\"\",\"\",للطباعة!$AA$33)","v":""},null,{"$f":"IF($B105=\"\",\"\",للطباعة!$AJ$33)","v":""},{"$f":"IF($B105=\"\",\"\",للطباعة!$AI$33)","v":""},{"$f":"IF($B105=\"\",\"\",للطباعة!$AQ$33)","v":""},{"$f":"IF($B105=\"\",\"\",للطباعة!$AP$33)","v":""},{"$f":"IF($B105=\"\",\"\",للطباعة!$AX$33)","v":""},{"$f":"IF($B105=\"\",\"\",للطباعة!$AW$33)","v":""},{"$f":"IF($B105=\"\",\"\",للطباعة!$BE$33)","v":""},{"$f":"IF($B105=\"\",\"\",للطباعة!$BD$33)","v":""},null,{"$f":"IF($B105=\"\",\"\",للطباعة!$BM$33)","v":""},{"$f":"IF($B105=\"\",\"\",للطباعة!$BL$33)","v":""},{"$f":"IF($B105=\"\",\"\",للطباعة!$BT$33)","v":""},{"$f":"IF($B105=\"\",\"\",للطباعة!$BS$33)","v":""},{"$f":"IF($B105=\"\",\"\",للطباعة!$CA$33)","v":""},{"$f":"IF($B105=\"\",\"\",للطباعة!$BZ$33)","v":""},{"$f":"IF($B105=\"\",\"\",للطباعة!$CH$33)","v":""},{"$f":"IF($B105=\"\",\"\",للطباعة!$CG$33)","v":""}]
[null,"النقاط",{"$f":"IF($B105=\"\",\"\",(D105+D106)*100/8)","v":""},null,{"$f":"IF($B105=\"\",\"\",(F105+F106)*100/8)","v":""},null,{"$f":"IF($B105=\"\",\"\",(H105+H106)*100/8)","v":""},null,{"$f":"IF($B105=\"\",\"\",(J105+J106)*100/8)","v":""},null,null,{"$f":"IF($B105=\"\",\"\",(M105+M106)*100/8)","v":""},null,{"$f":"IF($B105=\"\",\"\",(O105+O106)*100/8)","v":""},null,{"$f":"IF($B105=\"\",\"\",(Q105+Q106)*100/8)","v":""},null,{"$f":"IF($B105=\"\",\"\",(S105+S106)*100/8)","v":""},null,null,{"$f":"IF($B105=\"\",\"\",(V105+V106)*100/8)","v":""},null,{"$f":"IF($B105=\"\",\"\",(X105+X106)*100/8)","v":""},null,{"$f":"IF($B105=\"\",\"\",(Z105+Z106)*100/8)","v":""},null,{"$f":"IF($B105=\"\",\"\",(AB105+AB106)*100/8)","v":""}]
[33,{"$f":"INDIRECT(ADDRESS(A108+1,2,,,\"للطباعة\"))","v":""},{"$f":"IF($B108=\"\",\"\",للطباعة!$E$34)","v":""},{"$f":"IF($B108=\"\",\"\",للطباعة!$D$34)","v":""},{"$f":"IF($B108=\"\",\"\",للطباعة!$L$34)","v":""},{"$f":"IF($B108=\"\",\"\",للطباعة!$K$34)","v":""},{"$f":"IF($B108=\"\",\"\",للطباعة!$S$34)","v":""},{"$f":"IF($B108=\"\",\"\",للطباعة!$R$34)","v":""},{"$f":"IF($B108=\"\",\"\",للطباعة!$Z$34)","v":""},{"$f":"IF($B108=\"\",\"\",للطباعة!$Y$34)","v":""},{"$f":"IF($B108=\"\",\"\",(C110+E110+G110+I110)/4)","v":""},{"$f":"IF($B108=\"\",\"\",للطباعة!$AH$34)","v":""},{"$f":"IF($B108=\"\",\"\",للطباعة!$AG$34)","v":""},{"$f":"IF($B108=\"\",\"\",للطباعة!$AO$34)","v":""},{"$f":"IF($B108=\"\",\"\",للطباعة!$AN$34)","v":""},{"$f":"IF($B108=\"\",\"\",للطباعة!$AV$34)","v":""},{"$f":"IF($B108=\"\",\"\",للطباعة!$AU$34)","v":""},{"$f":"IF($B108=\"\",\"\",للطباعة!$BC$34)","v":""},{"$f":"IF($B108=\"\",\"\",للطباعة!$BB$34)","v":""},{"$f":"IF($B108=\"\",\"\",(L110+N110+P110+R110)/4)","v":""},{"$f":"IF($B108=\"\",\"\",للطباعة!$BK$34)","v":""},{"$f":"IF($B108=\"\",\"\",للطباعة!$BJ$34)","v":""},{"$f":"IF($B108=\"\",\"\",للطباعة!$BR$34)","v":""},{"$f":"IF($B108=\"\",\"\",للطباعة!$BQ$34)","v":""},{"$f":"IF($B108=\"\",\"\",للطباعة!$BY$34)","v":""},{"$f":"IF($B108=\"\",\"\",للطباعة!$BX$34)","v":""},{"$f":"IF($B108=\"\",\"\",للطباعة!$CF$34)","v":""},{"$f":"IF($B108=\"\",\"\",للطباعة!$CE$34)","v":""},{"$f":"IF($B108=\"\",\"\",(U110+W110+Y110+AA110)/4)","v":""},{"$f":"IF($B108=\"\",\"\",(K108+T108+AC108)*0.04)","v":""},{"$f":"IF($B108=\"\",\"\",IF((AD108*40/12-INT(AD108*40/12))>=0.75,INT(AD108*40/12)+1,IF((AD108*40/12-INT(AD108*40/12))<0.25,INT(AD108*40/12),INT(AD105*40/12)+0.5)))","v":""},{"$f":"IF($B108=\"\",\"\",INDIRECT(ADDRESS(11+A108*2,19,1,,\"SeconedPartDegrees2\")))","v":""},{"$f":"IF($B108=\"\",\"\",INDIRECT(ADDRESS(11+A108*2,20,1,,\"SeconedPartDegrees2\")))","v":""},{"$f":"IF(OR(AF108=\"\",AG108=\"\"),\"\",AF108+AG108)","v":""},{"$f":"IF(OR(AE108=\"\",AG108=\"\"),\"\",AG108+AF108+AE108)","v":""},{"$f":"IF($B108=\"\",\"\",INDIRECT(ADDRESS(11+A108*2,21,1,,\"SeconedPartDegrees1\")))","v":""},{"$f":"IFERROR(IF(AI108=\"\",\"\",IF(((AI108+AJ108)/2-INT((AI108+AJ108)/2))>=0.75,INT((AI108+AJ108)/2)+1,IF(((AI108+AJ108)/2-INT((AI108+AJ108)/2))<0.25,INT((AI108+AJ108)/2),INT((AI108+AJ108)/2)+0.5))),\"\")","v":""},{"$f":"IF($AK108=\"\",\"\",IF(AK108=\"\",\"غياب وعليه دور ثاني\",IF(AK108<50,\"دور ثاني\",\"ناجح\")))","v":""},null,null,{"$f":"ROUNDUP(((FirstPartDegrees2!#REF!+D108)/2+(FirstPartDegrees2!F118+O108)/2+(FirstPartDegrees2!#REF!+M108)/2+(FirstPartDegrees2!C118+F108)/2 )/4,0)","v":{"$error":"#REF!"}},{"$f":"ROUNDUP(((FirstPartDegrees2!#REF!+FirstPartDegrees2!#REF!)/2+(FirstPartDegrees2!G118+J108)/2+(FirstPartDegrees2!L118+S108)/2+(FirstPartDegrees2!H118+#REF!)/2 )/4,0)","v":{"$error":"#REF!"}},{"$f":"ROUNDUP(((FirstPartDegrees2!E118+FirstPartDegrees2!I118)/2+(FirstPartDegrees2!#REF!+FirstPartDegrees2!#REF!)/2+(FirstPartDegrees2!N118+V108)/2+(AB108+#REF!)/2)/4,0)","v":{"$error":"#REF!"}},{"$f":"(AQ108+AAH108+AO108)*40/12","v":{"$error":"#REF!"}}]
[null,null,{"$f":"IF($B108=\"\",\"\",للطباعة!$G$34)","v":""},{"$f":"IF($B108=\"\",\"\",للطباعة!$F$34)","v":""},{"$f":"IF($B108=\"\",\"\",للطباعة!$N$34)","v":""},{"$f":"IF($B108=\"\",\"\",للطباعة!$M$34)","v":""},{"$f":"IF($B108=\"\",\"\",للطباعة!$U$34)","v":""},{"$f":"IF($B108=\"\",\"\",للطباعة!$T$34)","v":""},{"$f":"IF($B108=\"\",\"\",للطباعة!$AB$34)","v":""},{"$f":"IF($B108=\"\",\"\",للطباعة!$AA$34)","v":""},null,{"$f":"IF($B108=\"\",\"\",للطباعة!$AJ$34)","v":""},{"$f":"IF($B108=\"\",\"\",للطباعة!$AI$34)","v":""},{"$f":"IF($B108=\"\",\"\",للطباعة!$AQ$34)","v":""},{"$f":"IF($B108=\"\",\"\",للطباعة!$AP$34)","v":""},{"$f":"IF($B108=\"\",\"\",للطباعة!$AX$34)","v":""},{"$f":"IF($B108=\"\",\"\",للطباعة!$AW$34)","v":""},{"$f":"IF($B108=\"\",\"\",للطباعة!$BE$34)","v":""},{"$f":"IF($B108=\"\",\"\",للطباعة!$BD$34)","v":""},null,{"$f":"IF($B108=\"\",\"\",للطباعة!$BM$34)","v":""},{"$f":"IF($B108=\"\",\"\",للطباعة!$BL$34)","v":""},{"$f":"IF($B108=\"\",\"\",للطباعة!$BT$34)","v":""},{"$f":"IF($B108=\"\",\"\",للطباعة!$BS$34)","v":""},{"$f":"IF($B108=\"\",\"\",للطباعة!$CA$34)","v":""},{"$f":"IF($B108=\"\",\"\",للطباعة!$BZ$34)","v":""},{"$f":"IF($B108=\"\",\"\",للطباعة!$CH$34)","v":""},{"$f":"IF($B108=\"\",\"\",للطباعة!$CG$34)","v":""}]
[null,"النقاط",{"$f":"IF($B108=\"\",\"\",(D108+D109)*100/8)","v":""},null,{"$f":"IF($B108=\"\",\"\",(F108+F109)*100/8)","v":""},null,{"$f":"IF($B108=\"\",\"\",(H108+H109)*100/8)","v":""},null,{"$f":"IF($B108=\"\",\"\",(J108+J109)*100/8)","v":""},null,null,{"$f":"IF($B108=\"\",\"\",(M108+M109)*100/8)","v":""},null,{"$f":"IF($B108=\"\",\"\",(O108+O109)*100/8)","v":""},null,{"$f":"IF($B108=\"\",\"\",(Q108+Q109)*100/8)","v":""},null,{"$f":"IF($B108=\"\",\"\",(S108+S109)*100/8)","v":""},null,null,{"$f":"IF($B108=\"\",\"\",(V108+V109)*100/8)","v":""},null,{"$f":"IF($B108=\"\",\"\",(X108+X109)*100/8)","v":""},null,{"$f":"IF($B108=\"\",\"\",(Z108+Z109)*100/8)","v":""},null,{"$f":"IF($B108=\"\",\"\",(AB108+AB109)*100/8)","v":""}]
[34,{"$f":"INDIRECT(ADDRESS(A111+1,2,,,\"للطباعة\"))","v":""},{"$f":"IF($B111=\"\",\"\",للطباعة!$E$35)","v":""},{"$f":"IF($B111=\"\",\"\",للطباعة!$D$35)","v":""},{"$f":"IF($B111=\"\",\"\",للطباعة!$L$35)","v":""},{"$f":"IF($B111=\"\",\"\",للطباعة!$K$35)","v":""},{"$f":"IF($B111=\"\",\"\",للطباعة!$S$35)","v":""},{"$f":"IF($B111=\"\",\"\",للطباعة!$R$35)","v":""},{"$f":"IF($B111=\"\",\"\",للطباعة!$Z$35)","v":""},{"$f":"IF($B111=\"\",\"\",للطباعة!$Y$35)","v":""},{"$f":"IF($B111=\"\",\"\",(C113+E113+G113+I113)/4)","v":""},{"$f":"IF($B111=\"\",\"\",للطباعة!$AH$35)","v":""},{"$f":"IF($B111=\"\",\"\",للطباعة!$AG$35)","v":""},{"$f":"IF($B111=\"\",\"\",للطباعة!$AO$35)","v":""},{"$f":"IF($B111=\"\",\"\",للطباعة!$AN$35)","v":""},{"$f":"IF($B111=\"\",\"\",للطباعة!$AV$35)","v":""},{"$f":"IF($B111=\"\",\"\",للطباعة!$AU$35)","v":""},{"$f":"IF($B111=\"\",\"\",للطباعة!$BC$35)","v":""},{"$f":"IF($B111=\"\",\"\",للطباعة!$BB$35)","v":""},{"$f":"IF($B111=\"\",\"\",(L113+N113+P113+R113)/4)","v":""},{"$f":"IF($B111=\"\",\"\",للطباعة!$BK$35)","v":""},{"$f":"IF($B111=\"\",\"\",للطباعة!$BJ$35)","v":""},{"$f":"IF($B111=\"\",\"\",للطباعة!$BR$35)","v":""},{"$f":"IF($B111=\"\",\"\",للطباعة!$BQ$35)","v":""},{"$f":"IF($B111=\"\",\"\",للطباعة!$BY$35)","v":""},{"$f":"IF($B111=\"\",\"\",للطباعة!$BX$35)","v":""},{"$f":"IF($B111=\"\",\"\",للطباعة!$CF$35)","v":""},{"$f":"IF($B111=\"\",\"\",للطباعة!$CE$35)","v":""},{"$f":"IF($B111=\"\",\"\",(U113+W113+Y113+AA113)/4)","v":""},{"$f":"IF($B111=\"\",\"\",(K111+T111+AC111)*0.04)","v":""},{"$f":"IF($B111=\"\",\"\",IF((AD111*40/12-INT(AD111*40/12))>=0.75,INT(AD111*40/12)+1,IF((AD111*40/12-INT(AD111*40/12))<0.25,INT(AD111*40/12),INT(AD108*40/12)+0.5)))","v":""},{"$f":"IF($B111=\"\",\"\",INDIRECT(ADDRESS(11+A111*2,19,1,,\"SeconedPartDegrees2\")))","v":""},{"$f":"IF($B111=\"\",\"\",INDIRECT(ADDRESS(11+A111*2,20,1,,\"SeconedPartDegrees2\")))","v":""},{"$f":"IF(OR(AF111=\"\",AG111=\"\"),\"\",AF111+AG111)","v":""},{"$f":"IF(OR(AE111=\"\",AG111=\"\"),\"\",AG111+AF111+AE111)","v":""},{"$f":"IF($B111=\"\",\"\",INDIRECT(ADDRESS(11+A111*2,21,1,,\"SeconedPartDegrees1\")))","v":""},{"$f":"IFERROR(IF(AI111=\"\",\"\",IF(((AI111+AJ111)/2-INT((AI111+AJ111)/2))>=0.75,INT((AI111+AJ111)/2)+1,IF(((AI111+AJ111)/2-INT((AI111+AJ111)/2))<0.25,INT((AI111+AJ111)/2),INT((AI111+AJ111)/2)+0.5))),\"\")","v":""},{"$f":"IF($AK111=\"\",\"\",IF(AK111=\"\",\"غياب وعليه دور ثاني\",IF(AK111<50,\"دور ثاني\",\"ناجح\")))","v":""},null,null,{"$f":"ROUNDUP(((FirstPartDegrees2!#REF!+D111)/2+(FirstPartDegrees2!F121+O111)/2+(FirstPartDegrees2!#REF!+M111)/2+(FirstPartDegrees2!C121+F111)/2 )/4,0)","v":{"$error":"#REF!"}},{"$f":"ROUNDUP(((FirstPartDegrees2!#REF!+FirstPartDegrees2!#REF!)/2+(FirstPartDegrees2!G121+J111)/2+(FirstPartDegrees2!L121+S111)/2+(FirstPartDegrees2!H121+#REF!)/2 )/4,0)","v":{"$error":"#REF!"}},{"$f":"ROUNDUP(((FirstPartDegrees2!E121+FirstPartDegrees2!I121)/2+(FirstPartDegrees2!#REF!+FirstPartDegrees2!#REF!)/2+(FirstPartDegrees2!N121+V111)/2+(AB111+#REF!)/2)/4,0)","v":{"$error":"#REF!"}},{"$f":"(AQ111+AAH111+AO111)*40/12","v":{"$error":"#REF!"}}]
[null,null,{"$f":"IF($B111=\"\",\"\",للطباعة!$G$35)","v":""},{"$f":"IF($B111=\"\",\"\",للطباعة!$F$35)","v":""},{"$f":"IF($B111=\"\",\"\",للطباعة!$N$35)","v":""},{"$f":"IF($B111=\"\",\"\",للطباعة!$M$35)","v":""},{"$f":"IF($B111=\"\",\"\",للطباعة!$U$35)","v":""},{"$f":"IF($B111=\"\",\"\",للطباعة!$T$35)","v":""},{"$f":"IF($B111=\"\",\"\",للطباعة!$AB$35)","v":""},{"$f":"IF($B111=\"\",\"\",للطباعة!$AA$35)","v":""},null,{"$f":"IF($B111=\"\",\"\",للطباعة!$AJ$35)","v":""},{"$f":"IF($B111=\"\",\"\",للطباعة!$AI$35)","v":""},{"$f":"IF($B111=\"\",\"\",للطباعة!$AQ$35)","v":""},{"$f":"IF($B111=\"\",\"\",للطباعة!$AP$35)","v":""},{"$f":"IF($B111=\"\",\"\",للطباعة!$AX$35)","v":""},{"$f":"IF($B111=\"\",\"\",للطباعة!$AW$35)","v":""},{"$f":"IF($B111=\"\",\"\",للطباعة!$BE$35)","v":""},{"$f":"IF($B111=\"\",\"\",للطباعة!$BD$35)","v":""},null,{"$f":"IF($B111=\"\",\"\",للطباعة!$BM$35)","v":""},{"$f":"IF($B111=\"\",\"\",للطباعة!$BL$35)","v":""},{"$f":"IF($B111=\"\",\"\",للطباعة!$BT$35)","v":""},{"$f":"IF($B111=\"\",\"\",للطباعة!$BS$35)","v":""},{"$f":"IF($B111=\"\",\"\",للطباعة!$CA$35)","v":""},{"$f":"IF($B111=\"\",\"\",للطباعة!$BZ$35)","v":""},{"$f":"IF($B111=\"\",\"\",للطباعة!$CH$35)","v":""},{"$f":"IF($B111=\"\",\"\",للطباعة!$CG$35)","v":""}]
[null,"النقاط",{"$f":"IF($B111=\"\",\"\",(D111+D112)*100/8)","v":""},null,{"$f":"IF($B111=\"\",\"\",(F111+F112)*100/8)","v":""},null,{"$f":"IF($B111=\"\",\"\",(H111+H112)*100/8)","v":""},null,{"$f":"IF($B111=\"\",\"\",(J111+J112)*100/8)","v":""},null,null,{"$f":"IF($B111=\"\",\"\",(M111+M112)*100/8)","v":""},null,{"$f":"IF($B111=\"\",\"\",(O111+O112)*100/8)","v":""},null,{"$f":"IF($B111=\"\",\"\",(Q111+Q112)*100/8)","v":""},null,{"$f":"IF($B111=\"\",\"\",(S111+S112)*100/8)","v":""},null,null,{"$f":"IF($B111=\"\",\"\",(V111+V112)*100/8)","v":""},null,{"$f":"IF($B111=\"\",\"\",(X111+X112)*100/8)","v":""},null,{"$f":"IF($B111=\"\",\"\",(Z111+Z112)*100/8)","v":""},null,{"$f":"IF($B111=\"\",\"\",(AB111+AB112)*100/8)","v":""}]
[35,{"$f":"INDIRECT(ADDRESS(A114+1,2,,,\"للطباعة\"))","v":""},{"$f":"IF($B114=\"\",\"\",للطباعة!$E$36)","v":""},{"$f":"IF($B114=\"\",\"\",للطباعة!$D$36)","v":""},{"$f":"IF($B114=\"\",\"\",للطباعة!$L$36)","v":""},{"$f":"IF($B114=\"\",\"\",للطباعة!$K$36)","v":""},{"$f":"IF($B114=\"\",\"\",للطباعة!$S$36)","v":""},{"$f":"IF($B114=\"\",\"\",للطباعة!$R$36)","v":""},{"$f":"IF($B114=\"\",\"\",للطباعة!$Z$36)","v":""},{"$f":"IF($B114=\"\",\"\",للطباعة!$Y$36)","v":""},{"$f":"IF($B114=\"\",\"\",(C116+E116+G116+I116)/4)","v":""},{"$f":"IF($B114=\"\",\"\",للطباعة!$AH$36)","v":""},{"$f":"IF($B114=\"\",\"\",للطباعة!$AG$36)","v":""},{"$f":"IF($B114=\"\",\"\",للطباعة!$AO$36)","v":""},{"$f":"IF($B114=\"\",\"\",للطباعة!$AN$36)","v":""},{"$f":"IF($B114=\"\",\"\",للطباعة!$AV$36)","v":""},{"$f":"IF($B114=\"\",\"\",للطباعة!$AU$36)","v":""},{"$f":"IF($B114=\"\",\"\",للطباعة!$BC$36)","v":""},{"$f":"IF($B114=\"\",\"\",للطباعة!$BB$36)","v":""},{"$f":"IF($B114=\"\",\"\",(L116+N116+P116+R116)/4)","v":""},{"$f":"IF($B114=\"\",\"\",للطباعة!$BK$36)","v":""},{"$f":"IF($B114=\"\",\"\",للطباعة!$BJ$36)","v":""},{"$f":"IF($B114=\"\",\"\",للطباعة!$BR$36)","v":""},{"$f":"IF($B114=\"\",\"\",للطباعة!$BQ$36)","v":""},{"$f":"IF($B114=\"\",\"\",للطباعة!$BY$36)","v":""},{"$f":"IF($B114=\"\",\"\",للطباعة!$BX$36)","v":""},{"$f":"IF($B114=\"\",\"\",للطباعة!$CF$36)","v":""},{"$f":"IF($B114=\"\",\"\",للطباعة!$CE$36)","v":""},{"$f":"IF($B114=\"\",\"\",(U116+W116+Y116+AA116)/4)","v":""},{"$f":"IF($B114=\"\",\"\",(K114+T114+AC114)*0.04)","v":""},{"$f":"IF($B114=\"\",\"\",IF((AD114*40/12-INT(AD114*40/12))>=0.75,INT(AD114*40/12)+1,IF((AD114*40/12-INT(AD114*40/12))<0.25,INT(AD114*40/12),INT(AD111*40/12)+0.5)))","v":""},{"$f":"IF($B114=\"\",\"\",INDIRECT(ADDRESS(11+A114*2,19,1,,\"SeconedPartDegrees2\")))","v":""},{"$f":"IF($B114=\"\",\"\",INDIRECT(ADDRESS(11+A114*2,20,1,,\"SeconedPartDegrees2\")))","v":""},{"$f":"IF(OR(AF114=\"\",AG114=\"\"),\"\",AF114+AG114)","v":""},{"$f":"IF(OR(AE114=\"\",AG114=\"\"),\"\",AG114+AF114+AE114)","v":""},{"$f":"IF($B114=\"\",\"\",INDIRECT(ADDRESS(11+A114*2,21,1,,\"SeconedPartDegrees1\")))","v":""},{"$f":"IFERROR(IF(AI114=\"\",\"\",IF(((AI114+AJ114)/2-INT((AI114+AJ114)/2))>=0.75,INT((AI114+AJ114)/2)+1,IF(((AI114+AJ114)/2-INT((AI114+AJ114)/2))<0.25,INT((AI114+AJ114)/2),INT((AI114+AJ114)/2)+0.5))),\"\")","v":""},{"$f":"IF($AK114=\"\",\"\",IF(AK114=\"\",\"غياب وعليه دور ثاني\",IF(AK114<50,\"دور ثاني\",\"ناجح\")))","v":""},null,null,{"$f":"ROUNDUP(((FirstPartDegrees2!#REF!+D114)/2+(FirstPartDegrees2!F124+O114)/2+(FirstPartDegrees2!#REF!+M114)/2+(FirstPartDegrees2!C124+F114)/2 )/4,0)","v":{"$error":"#REF!"}},{"$f":"ROUNDUP(((FirstPartDegrees2!#REF!+FirstPartDegrees2!#REF!)/2+(FirstPartDegrees2!G124+J114)/2+(FirstPartDegrees2!L124+S114)/2+(FirstPartDegrees2!H124+#REF!)/2 )/4,0)","v":{"$error":"#REF!"}},{"$f":"ROUNDUP(((FirstPartDegrees2!E124+FirstPartDegrees2!I124)/2+(FirstPartDegrees2!#REF!+FirstPartDegrees2!#REF!)/2+(FirstPartDegrees2!N124+V114)/2+(AB114+#REF!)/2)/4,0)","v":{"$error":"#REF!"}},{"$f":"(AQ114+AAH114+AO114)*40/12","v":{"$error":"#REF!"}}]
[null,null,{"$f":"IF($B114=\"\",\"\",للطباعة!$G$36)","v":""},{"$f":"IF($B114=\"\",\"\",للطباعة!$F$36)","v":""},{"$f":"IF($B114=\"\",\"\",للطباعة!$N$36)","v":""},{"$f":"IF($B114=\"\",\"\",للطباعة!$M$36)","v":""},{"$f":"IF($B114=\"\",\"\",للطباعة!$U$36)","v":""},{"$f":"IF($B114=\"\",\"\",للطباعة!$T$36)","v":""},{"$f":"IF($B114=\"\",\"\",للطباعة!$AB$36)","v":""},{"$f":"IF($B114=\"\",\"\",للطباعة!$AA$36)","v":""},null,{"$f":"IF($B114=\"\",\"\",للطباعة!$AJ$36)","v":""},{"$f":"IF($B114=\"\",\"\",للطباعة!$AI$36)","v":""},{"$f":"IF($B114=\"\",\"\",للطباعة!$AQ$36)","v":""},{"$f":"IF($B114=\"\",\"\",للطباعة!$AP$36)","v":""},{"$f":"IF($B114=\"\",\"\",للطباعة!$AX$36)","v":""},{"$f":"IF($B114=\"\",\"\",للطباعة!$AW$36)","v":""},{"$f":"IF($B114=\"\",\"\",للطباعة!$BE$36)","v":""},{"$f":"IF($B114=\"\",\"\",للطباعة!$BD$36)","v":""},null,{"$f":"IF($B114=\"\",\"\",للطباعة!$BM$36)","v":""},{"$f":"IF($B114=\"\",\"\",للطباعة!$BL$36)","v":""},{"$f":"IF($B114=\"\",\"\",للطباعة!$BT$36)","v":""},{"$f":"IF($B114=\"\",\"\",للطباعة!$BS$36)","v":""},{"$f":"IF($B114=\"\",\"\",للطباعة!$CA$36)","v":""},{"$f":"IF($B114=\"\",\"\",للطباعة!$BZ$36)","v":""},{"$f":"IF($B114=\"\",\"\",للطباعة!$CH$36)","v":""},{"$f":"IF($B114=\"\",\"\",للطباعة!$CG$36)","v":""}]
[null,"النقاط",{"$f":"IF($B114=\"\",\"\",(D114+D115)*100/8)","v":""},null,{"$f":"IF($B114=\"\",\"\",(F114+F115)*100/8)","v":""},null,{"$f":"IF($B114=\"\",\"\",(H114+H115)*100/8)","v":""},null,{"$f":"IF($B114=\"\",\"\",(J114+J115)*100/8)","v":""},null,null,{"$f":"IF($B114=\"\",\"\",(M114+M115)*100/8)","v":""},null,{"$f":"IF($B114=\"\",\"\",(O114+O115)*100/8)","v":""},null,{"$f":"IF($B114=\"\",\"\",(Q114+Q115)*100/8)","v":""},null,{"$f":"IF($B114=\"\",\"\",(S114+S115)*100/8)","v":""},null,null,{"$f":"IF($B114=\"\",\"\",(V114+V115)*100/8)","v":""},null,{"$f":"IF($B114=\"\",\"\",(X114+X115)*100/8)","v":""},null,{"$f":"IF($B114=\"\",\"\",(Z114+Z115)*100/8)","v":""},null,{"$f":"IF($B114=\"\",\"\",(AB114+AB115)*100/8)","v":""}]
[36,{"$f":"INDIRECT(ADDRESS(A117+1,2,,,\"للطباعة\"))","v":""},{"$f":"IF($B117=\"\",\"\",للطباعة!$E$37)","v":""},{"$f":"IF($B117=\"\",\"\",للطباعة!$D$37)","v":""},{"$f":"IF($B117=\"\",\"\",للطباعة!$L$37)","v":""},{"$f":"IF($B117=\"\",\"\",للطباعة!$K$37)","v":""},{"$f":"IF($B117=\"\",\"\",للطباعة!$S$37)","v":""},{"$f":"IF($B117=\"\",\"\",للطباعة!$R$37)","v":""},{"$f":"IF($B117=\"\",\"\",للطباعة!$Z$37)","v":""},{"$f":"IF($B117=\"\",\"\",للطباعة!$Y$37)","v":""},{"$f":"IF($B117=\"\",\"\",(C119+E119+G119+I119)/4)","v":""},{"$f":"IF($B117=\"\",\"\",للطباعة!$AH$37)","v":""},{"$f":"IF($B117=\"\",\"\",للطباعة!$AG$37)","v":""},{"$f":"IF($B117=\"\",\"\",للطباعة!$AO$37)","v":""},{"$f":"IF($B117=\"\",\"\",للطباعة!$AN$37)","v":""},{"$f":"IF($B117=\"\",\"\",للطباعة!$AV$37)","v":""},{"$f":"IF($B117=\"\",\"\",للطباعة!$AU$37)","v":""},{"$f":"IF($B117=\"\",\"\",للطباعة!$BC$37)","v":""},{"$f":"IF($B117=\"\",\"\",للطباعة!$BB$37)","v":""},{"$f":"IF($B117=\"\",\"\",(L119+N119+P119+R119)/4)","v":""},{"$f":"IF($B117=\"\",\"\",للطباعة!$BK$37)","v":""},{"$f":"IF($B117=\"\",\"\",للطباعة!$BJ$37)","v":""},{"$f":"IF($B117=\"\",\"\",للطباعة!$BR$37)","v":""},{"$f":"IF($B117=\"\",\"\",للطباعة!$BQ$37)","v":""},{"$f":"IF($B117=\"\",\"\",للطباعة!$BY$37)","v":""},{"$f":"IF($B117=\"\",\"\",للطباعة!$BX$37)","v":""},{"$f":"IF($B117=\"\",\"\",للطباعة!$CF$37)","v":""},{"$f":"IF($B117=\"\",\"\",للطباعة!$CE$37)","v":""},{"$f":"IF($B117=\"\",\"\",(U119+W119+Y119+AA119)/4)","v":""},{"$f":"IF($B117=\"\",\"\",(K117+T117+AC117)*0.04)","v":""},{"$f":"IF($B117=\"\",\"\",IF((AD117*40/12-INT(AD117*40/12))>=0.75,INT(AD117*40/12)+1,IF((AD117*40/12-INT(AD117*40/12))<0.25,INT(AD117*40/12),INT(AD114*40/12)+0.5)))","v":""},{"$f":"IF($B117=\"\",\"\",INDIRECT(ADDRESS(11+A117*2,19,1,,\"SeconedPartDegrees2\")))","v":""},{"$f":"IF($B117=\"\",\"\",INDIRECT(ADDRESS(11+A117*2,20,1,,\"SeconedPartDegrees2\")))","v":""},{"$f":"IF(OR(AF117=\"\",AG117=\"\"),\"\",AF117+AG117)","v":""},{"$f":"IF(OR(AE117=\"\",AG117=\"\"),\"\",AG117+AF117+AE117)","v":""},{"$f":"IF($B117=\"\",\"\",INDIRECT(ADDRESS(11+A117*2,21,1,,\"SeconedPartDegrees1\")))","v":""},{"$f":"IFERROR(IF(AI117=\"\",\"\",IF(((AI117+AJ117)/2-INT((AI117+AJ117)/2))>=0.75,INT((AI117+AJ117)/2)+1,IF(((AI117+AJ117)/2-INT((AI117+AJ117)/2))<0.25,INT((AI117+AJ117)/2),INT((AI117+AJ117)/2)+0.5))),\"\")","v":""},{"$f":"IF($AK117=\"\",\"\",IF(AK117=\"\",\"غياب وعليه دور ثاني\",IF(AK117<50,\"دور ثاني\",\"ناجح\")))","v":""},null,null,{"$f":"ROUNDUP(((FirstPartDegrees2!#REF!+D117)/2+(FirstPartDegrees2!F127+O117)/2+(FirstPartDegrees2!#REF!+M117)/2+(FirstPartDegrees2!C127+F117)/2 )/4,0)","v":{"$error":"#REF!"}},{"$f":"ROUNDUP(((FirstPartDegrees2!#REF!+FirstPartDegrees2!#REF!)/2+(FirstPartDegrees2!G127+J117)/2+(FirstPartDegrees2!L127+S117)/2+(FirstPartDegrees2!H127+#REF!)/2 )/4,0)","v":{"$error":"#REF!"}},{"$f":"ROUNDUP(((FirstPartDegrees2!E127+FirstPartDegrees2!I127)/2+(FirstPartDegrees2!#REF!+FirstPartDegrees2!#REF!)/2+(FirstPartDegrees2!N127+V117)/2+(AB117+#REF!)/2)/4,0)","v":{"$error":"#REF!"}},{"$f":"(AQ117+AAH117+AO117)*40/12","v":{"$error":"#REF!"}}]
[null,null,{"$f":"IF($B117=\"\",\"\",للطباعة!$G$37)","v":""},{"$f":"IF($B117=\"\",\"\",للطباعة!$F$37)","v":""},{"$f":"IF($B117=\"\",\"\",للطباعة!$N$37)","v":""},{"$f":"IF($B117=\"\",\"\",للطباعة!$M$37)","v":""},{"$f":"IF($B117=\"\",\"\",للطباعة!$U$37)","v":""},{"$f":"IF($B117=\"\",\"\",للطباعة!$T$37)","v":""},{"$f":"IF($B117=\"\",\"\",للطباعة!$AB$37)","v":""},{"$f":"IF($B117=\"\",\"\",للطباعة!$AA$37)","v":""},null,{"$f":"IF($B117=\"\",\"\",للطباعة!$AJ$37)","v":""},{"$f":"IF($B117=\"\",\"\",للطباعة!$AI$37)","v":""},{"$f":"IF($B117=\"\",\"\",للطباعة!$AQ$37)","v":""},{"$f":"IF($B117=\"\",\"\",للطباعة!$AP$37)","v":""},{"$f":"IF($B117=\"\",\"\",للطباعة!$AX$37)","v":""},{"$f":"IF($B117=\"\",\"\",للطباعة!$AW$37)","v":""},{"$f":"IF($B117=\"\",\"\",للطباعة!$BE$37)","v":""},{"$f":"IF($B117=\"\",\"\",للطباعة!$BD$37)","v":""},null,{"$f":"IF($B117=\"\",\"\",للطباعة!$BM$37)","v":""},{"$f":"IF($B117=\"\",\"\",للطباعة!$BL$37)","v":""},{"$f":"IF($B117=\"\",\"\",للطباعة!$BT$37)","v":""},{"$f":"IF($B117=\"\",\"\",للطباعة!$BS$37)","v":""},{"$f":"IF($B117=\"\",\"\",للطباعة!$CA$37)","v":""},{"$f":"IF($B117=\"\",\"\",للطباعة!$BZ$37)","v":""},{"$f":"IF($B117=\"\",\"\",للطباعة!$CH$37)","v":""},{"$f":"IF($B117=\"\",\"\",للطباعة!$CG$37)","v":""}]
[null,"النقاط",{"$f":"IF($B117=\"\",\"\",(D117+D118)*100/8)","v":""},null,{"$f":"IF($B117=\"\",\"\",(F117+F118)*100/8)","v":""},null,{"$f":"IF($B117=\"\",\"\",(H117+H118)*100/8)","v":""},null,{"$f":"IF($B117=\"\",\"\",(J117+J118)*100/8)","v":""},null,null,{"$f":"IF($B117=\"\",\"\",(M117+M118)*100/8)","v":""},null,{"$f":"IF($B117=\"\",\"\",(O117+O118)*100/8)","v":""},null,{"$f":"IF($B117=\"\",\"\",(Q117+Q118)*100/8)","v":""},null,{"$f":"IF($B117=\"\",\"\",(S117+S118)*100/8)","v":""},null,null,{"$f":"IF($B117=\"\",\"\",(V117+V118)*100/8)","v":""},null,{"$f":"IF($B117=\"\",\"\",(X117+X118)*100/8)","v":""},null,{"$f":"IF($B117=\"\",\"\",(Z117+Z118)*100/8)","v":""},null,{"$f":"IF($B117=\"\",\"\",(AB117+AB118)*100/8)","v":""}]
[37,{"$f":"INDIRECT(ADDRESS(A120+1,2,,,\"للطباعة\"))","v":""},{"$f":"IF($B120=\"\",\"\",للطباعة!$E$38)","v":""},{"$f":"IF($B120=\"\",\"\",للطباعة!$D$38)","v":""},{"$f":"IF($B120=\"\",\"\",للطباعة!$L$38)","v":""},{"$f":"IF($B120=\"\",\"\",للطباعة!$K$38)","v":""},{"$f":"IF($B120=\"\",\"\",للطباعة!$S$38)","v":""},{"$f":"IF($B120=\"\",\"\",للطباعة!$R$38)","v":""},{"$f":"IF($B120=\"\",\"\",للطباعة!$Z$38)","v":""},{"$f":"IF($B120=\"\",\"\",للطباعة!$Y$38)","v":""},{"$f":"IF($B120=\"\",\"\",(C122+E122+G122+I122)/4)","v":""},{"$f":"IF($B120=\"\",\"\",للطباعة!$AH$38)","v":""},{"$f":"IF($B120=\"\",\"\",للطباعة!$AG$38)","v":""},{"$f":"IF($B120=\"\",\"\",للطباعة!$AO$38)","v":""},{"$f":"IF($B120=\"\",\"\",للطباعة!$AN$38)","v":""},{"$f":"IF($B120=\"\",\"\",للطباعة!$AV$38)","v":""},{"$f":"IF($B120=\"\",\"\",للطباعة!$AU$38)","v":""},{"$f":"IF($B120=\"\",\"\",للطباعة!$BC$38)","v":""},{"$f":"IF($B120=\"\",\"\",للطباعة!$BB$38)","v":""},{"$f":"IF($B120=\"\",\"\",(L122+N122+P122+R122)/4)","v":""},{"$f":"IF($B120=\"\",\"\",للطباعة!$BK$38)","v":""},{"$f":"IF($B120=\"\",\"\",للطباعة!$BJ$38)","v":""},{"$f":"IF($B120=\"\",\"\",للطباعة!$BR$38)","v":""},{"$f":"IF($B120=\"\",\"\",للطباعة!$BQ$38)","v":""},{"$f":"IF($B120=\"\",\"\",للطباعة!$BY$38)","v":""},{"$f":"IF($B120=\"\",\"\",للطباعة!$BX$38)","v":""},{"$f":"IF($B120=\"\",\"\",للطباعة!$CF$38)","v":""},{"$f":"IF($B120=\"\",\"\",للطباعة!$CE$38)","v":""},{"$f":"IF($B120=\"\",\"\",(U122+W122+Y122+AA122)/4)","v":""},{"$f":"IF($B120=\"\",\"\",(K120+T120+AC120)*0.04)","v":""},{"$f":"IF($B120=\"\",\"\",IF((AD120*40/12-INT(AD120*40/12))>=0.75,INT(AD120*40/12)+1,IF((AD120*40/12-INT(AD120*40/12))<0.25,INT(AD120*40/12),INT(AD117*40/12)+0.5)))","v":""},{"$f":"IF($B120=\"\",\"\",INDIRECT(ADDRESS(11+A120*2,19,1,,\"SeconedPartDegrees2\")))","v":""},{"$f":"IF($B120=\"\",\"\",INDIRECT(ADDRESS(11+A120*2,20,1,,\"SeconedPartDegrees2\")))","v":""},{"$f":"IF(OR(AF120=\"\",AG120=\"\"),\"\",AF120+AG120)","v":""},{"$f":"IF(OR(AE120=\"\",AG120=\"\"),\"\",AG120+AF120+AE120)","v":""},{"$f":"IF($B120=\"\",\"\",INDIRECT(ADDRESS(11+A120*2,21,1,,\"SeconedPartDegrees1\")))","v":""},{"$f":"IFERROR(IF(AI120=\"\",\"\",IF(((AI120+AJ120)/2-INT((AI120+AJ120)/2))>=0.75,INT((AI120+AJ120)/2)+1,IF(((AI120+AJ120)/2-INT((AI120+AJ120)/2))<0.25,INT((AI120+AJ120)/2),INT((AI120+AJ120)/2)+0.5))),\"\")","v":""},{"$f":"IF($AK120=\"\",\"\",IF(AK120=\"\",\"غياب وعليه دور ثاني\",IF(AK120<50,\"دور ثاني\",\"ناجح\")))","v":""},null,null,{"$f":"ROUNDUP(((FirstPartDegrees2!#REF!+D120)/2+(FirstPartDegrees2!F130+O120)/2+(FirstPartDegrees2!#REF!+M120)/2+(FirstPartDegrees2!C130+F120)/2 )/4,0)","v":{"$error":"#REF!"}},{"$f":"ROUNDUP(((FirstPartDegrees2!#REF!+FirstPartDegrees2!#REF!)/2+(FirstPartDegrees2!G130+J120)/2+(FirstPartDegrees2!L130+S120)/2+(FirstPartDegrees2!H130+#REF!)/2 )/4,0)","v":{"$error":"#REF!"}},{"$f":"ROUNDUP(((FirstPartDegrees2!E130+FirstPartDegrees2!I130)/2+(FirstPartDegrees2!#REF!+FirstPartDegrees2!#REF!)/2+(FirstPartDegrees2!N130+V120)/2+(AB120+#REF!)/2)/4,0)","v":{"$error":"#REF!"}},{"$f":"(AQ120+AAH120+AO120)*40/12","v":{"$error":"#REF!"}}]
[null,null,{"$f":"IF($B120=\"\",\"\",للطباعة!$G$38)","v":""},{"$f":"IF($B120=\"\",\"\",للطباعة!$F$38)","v":""},{"$f":"IF($B120=\"\",\"\",للطباعة!$N$38)","v":""},{"$f":"IF($B120=\"\",\"\",للطباعة!$M$38)","v":""},{"$f":"IF($B120=\"\",\"\",للطباعة!$U$38)","v":""},{"$f":"IF($B120=\"\",\"\",للطباعة!$T$38)","v":""},{"$f":"IF($B120=\"\",\"\",للطباعة!$AB$38)","v":""},{"$f":"IF($B120=\"\",\"\",للطباعة!$AA$38)","v":""},null,{"$f":"IF($B120=\"\",\"\",للطباعة!$AJ$38)","v":""},{"$f":"IF($B120=\"\",\"\",للطباعة!$AI$38)","v":""},{"$f":"IF($B120=\"\",\"\",للطباعة!$AQ$38)","v":""},{"$f":"IF($B120=\"\",\"\",للطباعة!$AP$38)","v":""},{"$f":"IF($B120=\"\",\"\",للطباعة!$AX$38)","v":""},{"$f":"IF($B120=\"\",\"\",للطباعة!$AW$38)","v":""},{"$f":"IF($B120=\"\",\"\",للطباعة!$BE$38)","v":""},{"$f":"IF($B120=\"\",\"\",للطباعة!$BD$38)","v":""},null,{"$f":"IF($B120=\"\",\"\",للطباعة!$BM$38)","v":""},{"$f":"IF($B120=\"\",\"\",للطباعة!$BL$38)","v":""},{"$f":"IF($B120=\"\",\"\",للطباعة!$BT$38)","v":""},{"$f":"IF($B120=\"\",\"\",للطباعة!$BS$38)","v":""},{"$f":"IF($B120=\"\",\"\",للطباعة!$CA$38)","v":""},{"$f":"IF($B120=\"\",\"\",للطباعة!$BZ$38)","v":""},{"$f":"IF($B120=\"\",\"\",للطباعة!$CH$38)","v":""},{"$f":"IF($B120=\"\",\"\",للطباعة!$CG$38)","v":""}]
[null,"النقاط",{"$f":"IF($B120=\"\",\"\",(D120+D121)*100/8)","v":""},null,{"$f":"IF($B120=\"\",\"\",(F120+F121)*100/8)","v":""},null,{"$f":"IF($B120=\"\",\"\",(H120+H121)*100/8)","v":""},null,{"$f":"IF($B120=\"\",\"\",(J120+J121)*100/8)","v":""},null,null,{"$f":"IF($B120=\"\",\"\",(M120+M121)*100/8)","v":""},null,{"$f":"IF($B120=\"\",\"\",(O120+O121)*100/8)","v":""},null,{"$f":"IF($B120=\"\",\"\",(Q120+Q121)*100/8)","v":""},null,{"$f":"IF($B120=\"\",\"\",(S120+S121)*100/8)","v":""},null,null,{"$f":"IF($B120=\"\",\"\",(V120+V121)*100/8)","v":""},null,{"$f":"IF($B120=\"\",\"\",(X120+X121)*100/8)","v":""},null,{"$f":"IF($B120=\"\",\"\",(Z120+Z121)*100/8)","v":""},null,{"$f":"IF($B120=\"\",\"\",(AB120+AB121)*100/8)","v":""}]
[38,{"$f":"INDIRECT(ADDRESS(A123+1,2,,,\"للطباعة\"))","v":""},{"$f":"IF($B123=\"\",\"\",للطباعة!$E$39)","v":""},{"$f":"IF($B123=\"\",\"\",للطباعة!$D$39)","v":""},{"$f":"IF($B123=\"\",\"\",للطباعة!$L$39)","v":""},{"$f":"IF($B123=\"\",\"\",للطباعة!$K$39)","v":""},{"$f":"IF($B123=\"\",\"\",للطباعة!$S$39)","v":""},{"$f":"IF($B123=\"\",\"\",للطباعة!$R$39)","v":""},{"$f":"IF($B123=\"\",\"\",للطباعة!$Z$39)","v":""},{"$f":"IF($B123=\"\",\"\",للطباعة!$Y$39)","v":""},{"$f":"IF($B123=\"\",\"\",(C125+E125+G125+I125)/4)","v":""},{"$f":"IF($B123=\"\",\"\",للطباعة!$AH$39)","v":""},{"$f":"IF($B123=\"\",\"\",للطباعة!$AG$39)","v":""},{"$f":"IF($B123=\"\",\"\",للطباعة!$AO$39)","v":""},{"$f":"IF($B123=\"\",\"\",للطباعة!$AN$39)","v":""},{"$f":"IF($B123=\"\",\"\",للطباعة!$AV$39)","v":""},{"$f":"IF($B123=\"\",\"\",للطباعة!$AU$39)","v":""},{"$f":"IF($B123=\"\",\"\",للطباعة!$BC$39)","v":""},{"$f":"IF($B123=\"\",\"\",للطباعة!$BB$39)","v":""},{"$f":"IF($B123=\"\",\"\",(L125+N125+P125+R125)/4)","v":""},{"$f":"IF($B123=\"\",\"\",للطباعة!$BK$39)","v":""},{"$f":"IF($B123=\"\",\"\",للطباعة!$BJ$39)","v":""},{"$f":"IF($B123=\"\",\"\",للطباعة!$BR$39)","v":""},{"$f":"IF($B123=\"\",\"\",للطباعة!$BQ$39)","v":""},{"$f":"IF($B123=\"\",\"\",للطباعة!$BY$39)","v":""},{"$f":"IF($B123=\"\",\"\",للطباعة!$BX$39)","v":""},{"$f":"IF($B123=\"\",\"\",للطباعة!$CF$39)","v":""},{"$f":"IF($B123=\"\",\"\",للطباعة!$CE$39)","v":""},{"$f":"IF($B123=\"\",\"\",(U125+W125+Y125+AA125)/4)","v":""},{"$f":"IF($B123=\"\",\"\",(K123+T123+AC123)*0.04)","v":""},{"$f":"IF($B123=\"\",\"\",IF((AD123*40/12-INT(AD123*40/12))>=0.75,INT(AD123*40/12)+1,IF((AD123*40/12-INT(AD123*40/12))<0.25,INT(AD123*40/12),INT(AD120*40/12)+0.5)))","v":""},{"$f":"IF($B123=\"\",\"\",INDIRECT(ADDRESS(11+A123*2,19,1,,\"SeconedPartDegrees2\")))","v":""},{"$f":"IF($B123=\"\",\"\",INDIRECT(ADDRESS(11+A123*2,20,1,,\"SeconedPartDegrees2\")))","v":""},{"$f":"IF(OR(AF123=\"\",AG123=\"\"),\"\",AF123+AG123)","v":""},{"$f":"IF(OR(AE123=\"\",AG123=\"\"),\"\",AG123+AF123+AE123)","v":""},{"$f":"IF($B123=\"\",\"\",INDIRECT(ADDRESS(11+A123*2,21,1,,\"SeconedPartDegrees1\")))","v":""},{"$f":"IFERROR(IF(AI123=\"\",\"\",IF(((AI123+AJ123)/2-INT((AI123+AJ123)/2))>=0.75,INT((AI123+AJ123)/2)+1,IF(((AI123+AJ123)/2-INT((AI123+AJ123)/2))<0.25,INT((AI123+AJ123)/2),INT((AI123+AJ123)/2)+0.5))),\"\")","v":""},{"$f":"IF($AK123=\"\",\"\",IF(AK123=\"\",\"غياب وعليه دور ثاني\",IF(AK123<50,\"دور ثاني\",\"ناجح\")))","v":""},null,null,{"$f":"ROUNDUP(((FirstPartDegrees2!#REF!+D123)/2+(FirstPartDegrees2!F133+O123)/2+(FirstPartDegrees2!#REF!+M123)/2+(FirstPartDegrees2!C133+F123)/2 )/4,0)","v":{"$error":"#REF!"}},{"$f":"ROUNDUP(((FirstPartDegrees2!#REF!+FirstPartDegrees2!#REF!)/2+(FirstPartDegrees2!G133+J123)/2+(FirstPartDegrees2!L133+S123)/2+(FirstPartDegrees2!H133+#REF!)/2 )/4,0)","v":{"$error":"#REF!"}},{"$f":"ROUNDUP(((FirstPartDegrees2!E133+FirstPartDegrees2!I133)/2+(FirstPartDegrees2!#REF!+FirstPartDegrees2!#REF!)/2+(FirstPartDegrees2!N133+V123)/2+(AB123+#REF!)/2)/4,0)","v":{"$error":"#REF!"}},{"$f":"(AQ123+AAH123+AO123)*40/12","v":{"$error":"#REF!"}}]
[null,null,{"$f":"IF($B123=\"\",\"\",للطباعة!$G$39)","v":""},{"$f":"IF($B123=\"\",\"\",للطباعة!$F$39)","v":""},{"$f":"IF($B123=\"\",\"\",للطباعة!$N$39)","v":""},{"$f":"IF($B123=\"\",\"\",للطباعة!$M$39)","v":""},{"$f":"IF($B123=\"\",\"\",للطباعة!$U$39)","v":""},{"$f":"IF($B123=\"\",\"\",للطباعة!$T$39)","v":""},{"$f":"IF($B123=\"\",\"\",للطباعة!$AB$39)","v":""},{"$f":"IF($B123=\"\",\"\",للطباعة!$AA$39)","v":""},null,{"$f":"IF($B123=\"\",\"\",للطباعة!$AJ$39)","v":""},{"$f":"IF($B123=\"\",\"\",للطباعة!$AI$39)","v":""},{"$f":"IF($B123=\"\",\"\",للطباعة!$AQ$39)","v":""},{"$f":"IF($B123=\"\",\"\",للطباعة!$AP$39)","v":""},{"$f":"IF($B123=\"\",\"\",للطباعة!$AX$39)","v":""},{"$f":"IF($B123=\"\",\"\",للطباعة!$AW$39)","v":""},{"$f":"IF($B123=\"\",\"\",للطباعة!$BE$39)","v":""},{"$f":"IF($B123=\"\",\"\",للطباعة!$BD$39)","v":""},null,{"$f":"IF($B123=\"\",\"\",للطباعة!$BM$39)","v":""},{"$f":"IF($B123=\"\",\"\",للطباعة!$BL$39)","v":""},{"$f":"IF($B123=\"\",\"\",للطباعة!$BT$39)","v":""},{"$f":"IF($B123=\"\",\"\",للطباعة!$BS$39)","v":""},{"$f":"IF($B123=\"\",\"\",للطباعة!$CA$39)","v":""},{"$f":"IF($B123=\"\",\"\",للطباعة!$BZ$39)","v":""},{"$f":"IF($B123=\"\",\"\",للطباعة!$CH$39)","v":""},{"$f":"IF($B123=\"\",\"\",للطباعة!$CG$39)","v":""}]
[null,"النقاط",{"$f":"IF($B123=\"\",\"\",(D123+D124)*100/8)","v":""},null,{"$f":"IF($B123=\"\",\"\",(F123+F124)*100/8)","v":""},null,{"$f":"IF($B123=\"\",\"\",(H123+H124)*100/8)","v":""},null,{"$f":"IF($B123=\"\",\"\",(J123+J124)*100/8)","v":""},null,null,{"$f":"IF($B123=\"\",\"\",(M123+M124)*100/8)","v":""},null,{"$f":"IF($B123=\"\",\"\",(O123+O124)*100/8)","v":""},null,{"$f":"IF($B123=\"\",\"\",(Q123+Q124)*100/8)","v":""},null,{"$f":"IF($B123=\"\",\"\",(S123+S124)*100/8)","v":""},null,null,{"$f":"IF($B123=\"\",\"\",(V123+V124)*100/8)","v":""},null,{"$f":"IF($B123=\"\",\"\",(X123+X124)*100/8)","v":""},null,{"$f":"IF($B123=\"\",\"\",(Z123+Z124)*100/8)","v":""},null,{"$f":"IF($B123=\"\",\"\",(AB123+AB124)*100/8)","v":""}]
[39,{"$f":"INDIRECT(ADDRESS(A126+1,2,,,\"للطباعة\"))","v":""},{"$f":"IF($B126=\"\",\"\",للطباعة!$E$40)","v":""},{"$f":"IF($B126=\"\",\"\",للطباعة!$D$40)","v":""},{"$f":"IF($B126=\"\",\"\",للطباعة!$L$40)","v":""},{"$f":"IF($B126=\"\",\"\",للطباعة!$K$40)","v":""},{"$f":"IF($B126=\"\",\"\",للطباعة!$S$40)","v":""},{"$f":"IF($B126=\"\",\"\",للطباعة!$R$40)","v":""},{"$f":"IF($B126=\"\",\"\",للطباعة!$Z$40)","v":""},{"$f":"IF($B126=\"\",\"\",للطباعة!$Y$40)","v":""},{"$f":"IF($B126=\"\",\"\",(C128+E128+G128+I128)/4)","v":""},{"$f":"IF($B126=\"\",\"\",للطباعة!$AH$40)","v":""},{"$f":"IF($B126=\"\",\"\",للطباعة!$AG$40)","v":""},{"$f":"IF($B126=\"\",\"\",للطباعة!$AO$40)","v":""},{"$f":"IF($B126=\"\",\"\",للطباعة!$AN$40)","v":""},{"$f":"IF($B126=\"\",\"\",للطباعة!$AV$40)","v":""},{"$f":"IF($B126=\"\",\"\",للطباعة!$AU$40)","v":""},{"$f":"IF($B126=\"\",\"\",للطباعة!$BC$40)","v":""},{"$f":"IF($B126=\"\",\"\",للطباعة!$BB$40)","v":""},{"$f":"IF($B126=\"\",\"\",(L128+N128+P128+R128)/4)","v":""},{"$f":"IF($B126=\"\",\"\",للطباعة!$BK$40)","v":""},{"$f":"IF($B126=\"\",\"\",للطباعة!$BJ$40)","v":""},{"$f":"IF($B126=\"\",\"\",للطباعة!$BR$40)","v":""},{"$f":"IF($B126=\"\",\"\",للطباعة!$BQ$40)","v":""},{"$f":"IF($B126=\"\",\"\",للطباعة!$BY$40)","v":""},{"$f":"IF($B126=\"\",\"\",للطباعة!$BX$40)","v":""},{"$f":"IF($B126=\"\",\"\",للطباعة!$CF$40)","v":""},{"$f":"IF($B126=\"\",\"\",للطباعة!$CE$40)","v":""},{"$f":"IF($B126=\"\",\"\",(U128+W128+Y128+AA128)/4)","v":""},{"$f":"IF($B126=\"\",\"\",(K126+T126+AC126)*0.04)","v":""},{"$f":"IF($B126=\"\",\"\",IF((AD126*40/12-INT(AD126*40/12))>=0.75,INT(AD126*40/12)+1,IF((AD126*40/12-INT(AD126*40/12))<0.25,INT(AD126*40/12),INT(AD123*40/12)+0.5)))","v":""},{"$f":"IF($B126=\"\",\"\",INDIRECT(ADDRESS(11+A126*2,19,1,,\"SeconedPartDegrees2\")))","v":""},{"$f":"IF($B126=\"\",\"\",INDIRECT(ADDRESS(11+A126*2,20,1,,\"SeconedPartDegrees2\")))","v":""},{"$f":"IF(OR(AF126=\"\",AG126=\"\"),\"\",AF126+AG126)","v":""},{"$f":"IF(OR(AE126=\"\",AG126=\"\"),\"\",AG126+AF126+AE126)","v":""},{"$f":"IF($B126=\"\",\"\",INDIRECT(ADDRESS(11+A126*2,21,1,,\"SeconedPartDegrees1\")))","v":""},{"$f":"IFERROR(IF(AI126=\"\",\"\",IF(((AI126+AJ126)/2-INT((AI126+AJ126)/2))>=0.75,INT((AI126+AJ126)/2)+1,IF(((AI126+AJ126)/2-INT((AI126+AJ126)/2))<0.25,INT((AI126+AJ126)/2),INT((AI126+AJ126)/2)+0.5))),\"\")","v":""},{"$f":"IF($AK126=\"\",\"\",IF(AK126=\"\",\"غياب وعليه دور ثاني\",IF(AK126<50,\"دور ثاني\",\"ناجح\")))","v":""},null,null,{"$f":"ROUNDUP(((FirstPartDegrees2!#REF!+D126)/2+(FirstPartDegrees2!F136+O126)/2+(FirstPartDegrees2!#REF!+M126)/2+(FirstPartDegrees2!C136+F126)/2 )/4,0)","v":{"$error":"#REF!"}},{"$f":"ROUNDUP(((FirstPartDegrees2!#REF!+FirstPartDegrees2!#REF!)/2+(FirstPartDegrees2!G136+J126)/2+(FirstPartDegrees2!L136+S126)/2+(FirstPartDegrees2!H136+#REF!)/2 )/4,0)","v":{"$error":"#REF!"}},{"$f":"ROUNDUP(((FirstPartDegrees2!E136+FirstPartDegrees2!I136)/2+(FirstPartDegrees2!#REF!+FirstPartDegrees2!#REF!)/2+(FirstPartDegrees2!N136+V126)/2+(AB126+#REF!)/2)/4,0)","v":{"$error":"#REF!"}},{"$f":"(AQ126+AAH126+AO126)*40/12","v":{"$error":"#REF!"}}]
[null,null,{"$f":"IF($B126=\"\",\"\",للطباعة!$G$40)","v":""},{"$f":"IF($B126=\"\",\"\",للطباعة!$F$40)","v":""},{"$f":"IF($B126=\"\",\"\",للطباعة!$N$40)","v":""},{"$f":"IF($B126=\"\",\"\",للطباعة!$M$40)","v":""},{"$f":"IF($B126=\"\",\"\",للطباعة!$U$40)","v":""},{"$f":"IF($B126=\"\",\"\",للطباعة!$T$40)","v":""},{"$f":"IF($B126=\"\",\"\",للطباعة!$AB$40)","v":""},{"$f":"IF($B126=\"\",\"\",للطباعة!$AA$40)","v":""},null,{"$f":"IF($B126=\"\",\"\",للطباعة!$AJ$40)","v":""},{"$f":"IF($B126=\"\",\"\",للطباعة!$AI$40)","v":""},{"$f":"IF($B126=\"\",\"\",للطباعة!$AQ$40)","v":""},{"$f":"IF($B126=\"\",\"\",للطباعة!$AP$40)","v":""},{"$f":"IF($B126=\"\",\"\",للطباعة!$AX$40)","v":""},{"$f":"IF($B126=\"\",\"\",للطباعة!$AW$40)","v":""},{"$f":"IF($B126=\"\",\"\",للطباعة!$BE$40)","v":""},{"$f":"IF($B126=\"\",\"\",للطباعة!$BD$40)","v":""},null,{"$f":"IF($B126=\"\",\"\",للطباعة!$BM$40)","v":""},{"$f":"IF($B126=\"\",\"\",للطباعة!$BL$40)","v":""},{"$f":"IF($B126=\"\",\"\",للطباعة!$BT$40)","v":""},{"$f":"IF($B126=\"\",\"\",للطباعة!$BS$40)","v":""},{"$f":"IF($B126=\"\",\"\",للطباعة!$CA$40)","v":""},{"$f":"IF($B126=\"\",\"\",للطباعة!$BZ$40)","v":""},{"$f":"IF($B126=\"\",\"\",للطباعة!$CH$40)","v":""},{"$f":"IF($B126=\"\",\"\",للطباعة!$CG$40)","v":""}]
[null,"النقاط",{"$f":"IF($B126=\"\",\"\",(D126+D127)*100/8)","v":""},null,{"$f":"IF($B126=\"\",\"\",(F126+F127)*100/8)","v":""},null,{"$f":"IF($B126=\"\",\"\",(H126+H127)*100/8)","v":""},null,{"$f":"IF($B126=\"\",\"\",(J126+J127)*100/8)","v":""},null,null,{"$f":"IF($B126=\"\",\"\",(M126+M127)*100/8)","v":""},null,{"$f":"IF($B126=\"\",\"\",(O126+O127)*100/8)","v":""},null,{"$f":"IF($B126=\"\",\"\",(Q126+Q127)*100/8)","v":""},null,{"$f":"IF($B126=\"\",\"\",(S126+S127)*100/8)","v":""},null,null,{"$f":"IF($B126=\"\",\"\",(V126+V127)*100/8)","v":""},null,{"$f":"IF($B126=\"\",\"\",(X126+X127)*100/8)","v":""},null,{"$f":"IF($B126=\"\",\"\",(Z126+Z127)*100/8)","v":""},null,{"$f":"IF($B126=\"\",\"\",(AB126+AB127)*100/8)","v":""}]
[40,{"$f":"INDIRECT(ADDRESS(A129+1,2,,,\"للطباعة\"))","v":""},{"$f":"IF($B129=\"\",\"\",للطباعة!$E$41)","v":""},{"$f":"IF($B129=\"\",\"\",للطباعة!$D$41)","v":""},{"$f":"IF($B129=\"\",\"\",للطباعة!$L$41)","v":""},{"$f":"IF($B129=\"\",\"\",للطباعة!$K$41)","v":""},{"$f":"IF($B129=\"\",\"\",للطباعة!$S$41)","v":""},{"$f":"IF($B129=\"\",\"\",للطباعة!$R$41)","v":""},{"$f":"IF($B129=\"\",\"\",للطباعة!$Z$41)","v":""},{"$f":"IF($B129=\"\",\"\",للطباعة!$Y$41)","v":""},{"$f":"IF($B129=\"\",\"\",(C131+E131+G131+I131)/4)","v":""},{"$f":"IF($B129=\"\",\"\",للطباعة!$AH$41)","v":""},{"$f":"IF($B129=\"\",\"\",للطباعة!$AG$41)","v":""},{"$f":"IF($B129=\"\",\"\",للطباعة!$AO$41)","v":""},{"$f":"IF($B129=\"\",\"\",للطباعة!$AN$41)","v":""},{"$f":"IF($B129=\"\",\"\",للطباعة!$AV$41)","v":""},{"$f":"IF($B129=\"\",\"\",للطباعة!$AU$41)","v":""},{"$f":"IF($B129=\"\",\"\",للطباعة!$BC$41)","v":""},{"$f":"IF($B129=\"\",\"\",للطباعة!$BB$41)","v":""},{"$f":"IF($B129=\"\",\"\",(L131+N131+P131+R131)/4)","v":""},{"$f":"IF($B129=\"\",\"\",للطباعة!$BK$41)","v":""},{"$f":"IF($B129=\"\",\"\",للطباعة!$BJ$41)","v":""},{"$f":"IF($B129=\"\",\"\",للطباعة!$BR$41)","v":""},{"$f":"IF($B129=\"\",\"\",للطباعة!$BQ$41)","v":""},{"$f":"IF($B129=\"\",\"\",للطباعة!$BY$41)","v":""},{"$f":"IF($B129=\"\",\"\",للطباعة!$BX$41)","v":""},{"$f":"IF($B129=\"\",\"\",للطباعة!$CF$41)","v":""},{"$f":"IF($B129=\"\",\"\",للطباعة!$CE$41)","v":""},{"$f":"IF($B129=\"\",\"\",(U131+W131+Y131+AA131)/4)","v":""},{"$f":"IF($B129=\"\",\"\",(K129+T129+AC129)*0.04)","v":""},{"$f":"IF($B129=\"\",\"\",IF((AD129*40/12-INT(AD129*40/12))>=0.75,INT(AD129*40/12)+1,IF((AD129*40/12-INT(AD129*40/12))<0.25,INT(AD129*40/12),INT(AD126*40/12)+0.5)))","v":""},{"$f":"IF($B129=\"\",\"\",INDIRECT(ADDRESS(11+A129*2,19,1,,\"SeconedPartDegrees2\")))","v":""},{"$f":"IF($B129=\"\",\"\",INDIRECT(ADDRESS(11+A129*2,20,1,,\"SeconedPartDegrees2\")))","v":""},{"$f":"IF(OR(AF129=\"\",AG129=\"\"),\"\",AF129+AG129)","v":""},{"$f":"IF(OR(AE129=\"\",AG129=\"\"),\"\",AG129+AF129+AE129)","v":""},{"$f":"IF($B129=\"\",\"\",INDIRECT(ADDRESS(11+A129*2,21,1,,\"SeconedPartDegrees1\")))","v":""},{"$f":"IFERROR(IF(AI129=\"\",\"\",IF(((AI129+AJ129)/2-INT((AI129+AJ129)/2))>=0.75,INT((AI129+AJ129)/2)+1,IF(((AI129+AJ129)/2-INT((AI129+AJ129)/2))<0.25,INT((AI129+AJ129)/2),INT((AI129+AJ129)/2)+0.5))),\"\")","v":""},{"$f":"IF($AK129=\"\",\"\",IF(AK129=\"\",\"غياب وعليه دور ثاني\",IF(AK129<50,\"دور ثاني\",\"ناجح\")))","v":""},null,null,{"$f":"ROUNDUP(((FirstPartDegrees2!#REF!+D129)/2+(FirstPartDegrees2!F139+O129)/2+(FirstPartDegrees2!#REF!+M129)/2+(FirstPartDegrees2!C139+F129)/2 )/4,0)","v":{"$error":"#REF!"}},{"$f":"ROUNDUP(((FirstPartDegrees2!#REF!+FirstPartDegrees2!#REF!)/2+(FirstPartDegrees2!G139+J129)/2+(FirstPartDegrees2!L139+S129)/2+(FirstPartDegrees2!H139+#REF!)/2 )/4,0)","v":{"$error":"#REF!"}},{"$f":"ROUNDUP(((FirstPartDegrees2!E139+FirstPartDegrees2!I139)/2+(FirstPartDegrees2!#REF!+FirstPartDegrees2!#REF!)/2+(FirstPartDegrees2!N139+V129)/2+(AB129+#REF!)/2)/4,0)","v":{"$error":"#REF!"}},{"$f":"(AQ129+AAH129+AO129)*40/12","v":{"$error":"#REF!"}}]
[null,null,{"$f":"IF($B129=\"\",\"\",للطباعة!$G$41)","v":""},{"$f":"IF($B129=\"\",\"\",للطباعة!$F$41)","v":""},{"$f":"IF($B129=\"\",\"\",للطباعة!$N$41)","v":""},{"$f":"IF($B129=\"\",\"\",للطباعة!$M$41)","v":""},{"$f":"IF($B129=\"\",\"\",للطباعة!$U$41)","v":""},{"$f":"IF($B129=\"\",\"\",للطباعة!$T$41)","v":""},{"$f":"IF($B129=\"\",\"\",للطباعة!$AB$41)","v":""},{"$f":"IF($B129=\"\",\"\",للطباعة!$AA$41)","v":""},null,{"$f":"IF($B129=\"\",\"\",للطباعة!$AJ$41)","v":""},{"$f":"IF($B129=\"\",\"\",للطباعة!$AI$41)","v":""},{"$f":"IF($B129=\"\",\"\",للطباعة!$AQ$41)","v":""},{"$f":"IF($B129=\"\",\"\",للطباعة!$AP$41)","v":""},{"$f":"IF($B129=\"\",\"\",للطباعة!$AX$41)","v":""},{"$f":"IF($B129=\"\",\"\",للطباعة!$AW$41)","v":""},{"$f":"IF($B129=\"\",\"\",للطباعة!$BE$41)","v":""},{"$f":"IF($B129=\"\",\"\",للطباعة!$BD$41)","v":""},null,{"$f":"IF($B129=\"\",\"\",للطباعة!$BM$41)","v":""},{"$f":"IF($B129=\"\",\"\",للطباعة!$BL$41)","v":""},{"$f":"IF($B129=\"\",\"\",للطباعة!$BT$41)","v":""},{"$f":"IF($B129=\"\",\"\",للطباعة!$BS$41)","v":""},{"$f":"IF($B129=\"\",\"\",للطباعة!$CA$41)","v":""},{"$f":"IF($B129=\"\",\"\",للطباعة!$BZ$41)","v":""},{"$f":"IF($B129=\"\",\"\",للطباعة!$CH$41)","v":""},{"$f":"IF($B129=\"\",\"\",للطباعة!$CG$41)","v":""}]
[null,"النقاط",{"$f":"IF($B129=\"\",\"\",(D129+D130)*100/8)","v":""},null,{"$f":"IF($B129=\"\",\"\",(F129+F130)*100/8)","v":""},null,{"$f":"IF($B129=\"\",\"\",(H129+H130)*100/8)","v":""},null,{"$f":"IF($B129=\"\",\"\",(J129+J130)*100/8)","v":""},null,null,{"$f":"IF($B129=\"\",\"\",(M129+M130)*100/8)","v":""},null,{"$f":"IF($B129=\"\",\"\",(O129+O130)*100/8)","v":""},null,{"$f":"IF($B129=\"\",\"\",(Q129+Q130)*100/8)","v":""},null,{"$f":"IF($B129=\"\",\"\",(S129+S130)*100/8)","v":""},null,null,{"$f":"IF($B129=\"\",\"\",(V129+V130)*100/8)","v":""},null,{"$f":"IF($B129=\"\",\"\",(X129+X130)*100/8)","v":""},null,{"$f":"IF($B129=\"\",\"\",(Z129+Z130)*100/8)","v":""},null,{"$f":"IF($B129=\"\",\"\",(AB129+AB130)*100/8)","v":""}]
[41,{"$f":"INDIRECT(ADDRESS(A132+1,2,,,\"للطباعة\"))","v":""},{"$f":"IF($B132=\"\",\"\",للطباعة!$E$42)","v":""},{"$f":"IF($B132=\"\",\"\",للطباعة!$D$42)","v":""},{"$f":"IF($B132=\"\",\"\",للطباعة!$L$42)","v":""},{"$f":"IF($B132=\"\",\"\",للطباعة!$K$42)","v":""},{"$f":"IF($B132=\"\",\"\",للطباعة!$S$42)","v":""},{"$f":"IF($B132=\"\",\"\",للطباعة!$R$42)","v":""},{"$f":"IF($B132=\"\",\"\",للطباعة!$Z$42)","v":""},{"$f":"IF($B132=\"\",\"\",للطباعة!$Y$42)","v":""},{"$f":"IF($B132=\"\",\"\",(C134+E134+G134+I134)/4)","v":""},{"$f":"IF($B132=\"\",\"\",للطباعة!$AH$42)","v":""},{"$f":"IF($B132=\"\",\"\",للطباعة!$AG$42)","v":""},{"$f":"IF($B132=\"\",\"\",للطباعة!$AO$42)","v":""},{"$f":"IF($B132=\"\",\"\",للطباعة!$AN$42)","v":""},{"$f":"IF($B132=\"\",\"\",للطباعة!$AV$42)","v":""},{"$f":"IF($B132=\"\",\"\",للطباعة!$AU$42)","v":""},{"$f":"IF($B132=\"\",\"\",للطباعة!$BC$42)","v":""},{"$f":"IF($B132=\"\",\"\",للطباعة!$BB$42)","v":""},{"$f":"IF($B132=\"\",\"\",(L134+N134+P134+R134)/4)","v":""},{"$f":"IF($B132=\"\",\"\",للطباعة!$BK$42)","v":""},{"$f":"IF($B132=\"\",\"\",للطباعة!$BJ$42)","v":""},{"$f":"IF($B132=\"\",\"\",للطباعة!$BR$42)","v":""},{"$f":"IF($B132=\"\",\"\",للطباعة!$BQ$42)","v":""},{"$f":"IF($B132=\"\",\"\",للطباعة!$BY$42)","v":""},{"$f":"IF($B132=\"\",\"\",للطباعة!$BX$42)","v":""},{"$f":"IF($B132=\"\",\"\",للطباعة!$CF$42)","v":""},{"$f":"IF($B132=\"\",\"\",للطباعة!$CE$42)","v":""},{"$f":"IF($B132=\"\",\"\",(U134+W134+Y134+AA134)/4)","v":""},{"$f":"IF($B132=\"\",\"\",(K132+T132+AC132)*0.04)","v":""},{"$f":"IF($B132=\"\",\"\",IF((AD132*40/12-INT(AD132*40/12))>=0.75,INT(AD132*40/12)+1,IF((AD132*40/12-INT(AD132*40/12))<0.25,INT(AD132*40/12),INT(AD129*40/12)+0.5)))","v":""},{"$f":"IF($B132=\"\",\"\",INDIRECT(ADDRESS(11+A132*2,19,1,,\"SeconedPartDegrees2\")))","v":""},{"$f":"IF($B132=\"\",\"\",INDIRECT(ADDRESS(11+A132*2,20,1,,\"SeconedPartDegrees2\")))","v":""},{"$f":"IF(OR(AF132=\"\",AG132=\"\"),\"\",AF132+AG132)","v":""},{"$f":"IF(OR(AE132=\"\",AG132=\"\"),\"\",AG132+AF132+AE132)","v":""},{"$f":"IF($B132=\"\",\"\",INDIRECT(ADDRESS(11+A132*2,21,1,,\"SeconedPartDegrees1\")))","v":""},{"$f":"IFERROR(IF(AI132=\"\",\"\",IF(((AI132+AJ132)/2-INT((AI132+AJ132)/2))>=0.75,INT((AI132+AJ132)/2)+1,IF(((AI132+AJ132)/2-INT((AI132+AJ132)/2))<0.25,INT((AI132+AJ132)/2),INT((AI132+AJ132)/2)+0.5))),\"\")","v":""},{"$f":"IF($AK132=\"\",\"\",IF(AK132=\"\",\"غياب وعليه دور ثاني\",IF(AK132<50,\"دور ثاني\",\"ناجح\")))","v":""},null,null,{"$f":"ROUNDUP(((FirstPartDegrees2!#REF!+D132)/2+(FirstPartDegrees2!F132+O132)/2+(FirstPartDegrees2!#REF!+M132)/2+(FirstPartDegrees2!C132+F132)/2 )/4,0)","v":{"$error":"#REF!"}},{"$f":"ROUNDUP(((FirstPartDegrees2!#REF!+FirstPartDegrees2!#REF!)/2+(FirstPartDegrees2!G132+J132)/2+(FirstPartDegrees2!L132+S132)/2+(FirstPartDegrees2!H132+#REF!)/2 )/4,0)","v":{"$error":"#REF!"}},{"$f":"ROUNDUP(((FirstPartDegrees2!E132+FirstPartDegrees2!I132)/2+(FirstPartDegrees2!#REF!+FirstPartDegrees2!#REF!)/2+(FirstPartDegrees2!N132+V132)/2+(AB132+#REF!)/2)/4,0)","v":{"$error":"#REF!"}},{"$f":"(AQ132+AAH132+AO132)*40/12","v":{"$error":"#REF!"}}]
[null,null,{"$f":"IF($B132=\"\",\"\",للطباعة!$G$42)","v":""},{"$f":"IF($B132=\"\",\"\",للطباعة!$F$42)","v":""},{"$f":"IF($B132=\"\",\"\",للطباعة!$N$42)","v":""},{"$f":"IF($B132=\"\",\"\",للطباعة!$M$42)","v":""},{"$f":"IF($B132=\"\",\"\",للطباعة!$U$42)","v":""},{"$f":"IF($B132=\"\",\"\",للطباعة!$T$42)","v":""},{"$f":"IF($B132=\"\",\"\",للطباعة!$AB$42)","v":""},{"$f":"IF($B132=\"\",\"\",للطباعة!$AA$42)","v":""},null,{"$f":"IF($B132=\"\",\"\",للطباعة!$AJ$42)","v":""},{"$f":"IF($B132=\"\",\"\",للطباعة!$AI$42)","v":""},{"$f":"IF($B132=\"\",\"\",للطباعة!$AQ$42)","v":""},{"$f":"IF($B132=\"\",\"\",للطباعة!$AP$42)","v":""},{"$f":"IF($B132=\"\",\"\",للطباعة!$AX$42)","v":""},{"$f":"IF($B132=\"\",\"\",للطباعة!$AW$42)","v":""},{"$f":"IF($B132=\"\",\"\",للطباعة!$BE$42)","v":""},{"$f":"IF($B132=\"\",\"\",للطباعة!$BD$42)","v":""},null,{"$f":"IF($B132=\"\",\"\",للطباعة!$BM$42)","v":""},{"$f":"IF($B132=\"\",\"\",للطباعة!$BL$42)","v":""},{"$f":"IF($B132=\"\",\"\",للطباعة!$BT$42)","v":""},{"$f":"IF($B132=\"\",\"\",للطباعة!$BS$42)","v":""},{"$f":"IF($B132=\"\",\"\",للطباعة!$CA$42)","v":""},{"$f":"IF($B132=\"\",\"\",للطباعة!$BZ$42)","v":""},{"$f":"IF($B132=\"\",\"\",للطباعة!$CH$42)","v":""},{"$f":"IF($B132=\"\",\"\",للطباعة!$CG$42)","v":""}]
[null,"النقاط",{"$f":"IF($B132=\"\",\"\",(D132+D133)*100/8)","v":""},null,{"$f":"IF($B132=\"\",\"\",(F132+F133)*100/8)","v":""},null,{"$f":"IF($B132=\"\",\"\",(H132+H133)*100/8)","v":""},null,{"$f":"IF($B132=\"\",\"\",(J132+J133)*100/8)","v":""},null,null,{"$f":"IF($B132=\"\",\"\",(M132+M133)*100/8)","v":""},null,{"$f":"IF($B132=\"\",\"\",(O132+O133)*100/8)","v":""},null,{"$f":"IF($B132=\"\",\"\",(Q132+Q133)*100/8)","v":""},null,{"$f":"IF($B132=\"\",\"\",(S132+S133)*100/8)","v":""},null,null,{"$f":"IF($B132=\"\",\"\",(V132+V133)*100/8)","v":""},null,{"$f":"IF($B132=\"\",\"\",(X132+X133)*100/8)","v":""},null,{"$f":"IF($B132=\"\",\"\",(Z132+Z133)*100/8)","v":""},null,{"$f":"IF($B132=\"\",\"\",(AB132+AB133)*100/8)","v":""}]
[42,{"$f":"INDIRECT(ADDRESS(A135+1,2,,,\"للطباعة\"))","v":""},{"$f":"IF($B135=\"\",\"\",للطباعة!$E$43)","v":""},{"$f":"IF($B135=\"\",\"\",للطباعة!$D$43)","v":""},{"$f":"IF($B135=\"\",\"\",للطباعة!$L$43)","v":""},{"$f":"IF($B135=\"\",\"\",للطباعة!$K$43)","v":""},{"$f":"IF($B135=\"\",\"\",للطباعة!$S$43)","v":""},{"$f":"IF($B135=\"\",\"\",للطباعة!$R$43)","v":""},{"$f":"IF($B135=\"\",\"\",للطباعة!$Z$43)","v":""},{"$f":"IF($B135=\"\",\"\",للطباعة!$Y$43)","v":""},{"$f":"IF($B135=\"\",\"\",(C137+E137+G137+I137)/4)","v":""},{"$f":"IF($B135=\"\",\"\",للطباعة!$AH$43)","v":""},{"$f":"IF($B135=\"\",\"\",للطباعة!$AG$43)","v":""},{"$f":"IF($B135=\"\",\"\",للطباعة!$AO$43)","v":""},{"$f":"IF($B135=\"\",\"\",للطباعة!$AN$43)","v":""},{"$f":"IF($B135=\"\",\"\",للطباعة!$AV$43)","v":""},{"$f":"IF($B135=\"\",\"\",للطباعة!$AU$43)","v":""},{"$f":"IF($B135=\"\",\"\",للطباعة!$BC$43)","v":""},{"$f":"IF($B135=\"\",\"\",للطباعة!$BB$43)","v":""},{"$f":"IF($B135=\"\",\"\",(L137+N137+P137+R137)/4)","v":""},{"$f":"IF($B135=\"\",\"\",للطباعة!$BK$43)","v":""},{"$f":"IF($B135=\"\",\"\",للطباعة!$BJ$43)","v":""},{"$f":"IF($B135=\"\",\"\",للطباعة!$BR$43)","v":""},{"$f":"IF($B135=\"\",\"\",للطباعة!$BQ$43)","v":""},{"$f":"IF($B135=\"\",\"\",للطباعة!$BY$43)","v":""},{"$f":"IF($B135=\"\",\"\",للطباعة!$BX$43)","v":""},{"$f":"IF($B135=\"\",\"\",للطباعة!$CF$43)","v":""},{"$f":"IF($B135=\"\",\"\",للطباعة!$CE$43)","v":""},{"$f":"IF($B135=\"\",\"\",(U137+W137+Y137+AA137)/4)","v":""},{"$f":"IF($B135=\"\",\"\",(K135+T135+AC135)*0.04)","v":""},{"$f":"IF($B135=\"\",\"\",IF((AD135*40/12-INT(AD135*40/12))>=0.75,INT(AD135*40/12)+1,IF((AD135*40/12-INT(AD135*40/12))<0.25,INT(AD135*40/12),INT(AD132*40/12)+0.5)))","v":""},{"$f":"IF($B135=\"\",\"\",INDIRECT(ADDRESS(11+A135*2,19,1,,\"SeconedPartDegrees2\")))","v":""},{"$f":"IF($B135=\"\",\"\",INDIRECT(ADDRESS(11+A135*2,20,1,,\"SeconedPartDegrees2\")))","v":""},{"$f":"IF(OR(AF135=\"\",AG135=\"\"),\"\",AF135+AG135)","v":""},{"$f":"IF(OR(AE135=\"\",AG135=\"\"),\"\",AG135+AF135+AE135)","v":""},{"$f":"IF($B135=\"\",\"\",INDIRECT(ADDRESS(11+A135*2,21,1,,\"SeconedPartDegrees1\")))","v":""},{"$f":"IFERROR(IF(AI135=\"\",\"\",IF(((AI135+AJ135)/2-INT((AI135+AJ135)/2))>=0.75,INT((AI135+AJ135)/2)+1,IF(((AI135+AJ135)/2-INT((AI135+AJ135)/2))<0.25,INT((AI135+AJ135)/2),INT((AI135+AJ135)/2)+0.5))),\"\")","v":""},{"$f":"IF($AK135=\"\",\"\",IF(AK135=\"\",\"غياب وعليه دور ثاني\",IF(AK135<50,\"دور ثاني\",\"ناجح\")))","v":""},null,null,{"$f":"ROUNDUP(((FirstPartDegrees2!#REF!+D135)/2+(FirstPartDegrees2!F135+O135)/2+(FirstPartDegrees2!#REF!+M135)/2+(FirstPartDegrees2!C135+F135)/2 )/4,0)","v":{"$error":"#REF!"}},{"$f":"ROUNDUP(((FirstPartDegrees2!#REF!+FirstPartDegrees2!#REF!)/2+(FirstPartDegrees2!G135+J135)/2+(FirstPartDegrees2!L135+S135)/2+(FirstPartDegrees2!H135+#REF!)/2 )/4,0)","v":{"$error":"#REF!"}},{"$f":"ROUNDUP(((FirstPartDegrees2!E135+FirstPartDegrees2!I135)/2+(FirstPartDegrees2!#REF!+FirstPartDegrees2!#REF!)/2+(FirstPartDegrees2!N135+V135)/2+(AB135+#REF!)/2)/4,0)","v":{"$error":"#REF!"}},{"$f":"(AQ135+AAH135+AO135)*40/12","v":{"$error":"#REF!"}}]
[null,null,{"$f":"IF($B135=\"\",\"\",للطباعة!$G$43)","v":""},{"$f":"IF($B135=\"\",\"\",للطباعة!$F$43)","v":""},{"$f":"IF($B135=\"\",\"\",للطباعة!$N$43)","v":""},{"$f":"IF($B135=\"\",\"\",للطباعة!$M$43)","v":""},{"$f":"IF($B135=\"\",\"\",للطباعة!$U$43)","v":""},{"$f":"IF($B135=\"\",\"\",للطباعة!$T$43)","v":""},{"$f":"IF($B135=\"\",\"\",للطباعة!$AB$43)","v":""},{"$f":"IF($B135=\"\",\"\",للطباعة!$AA$43)","v":""},null,{"$f":"IF($B135=\"\",\"\",للطباعة!$AJ$43)","v":""},{"$f":"IF($B135=\"\",\"\",للطباعة!$AI$43)","v":""},{"$f":"IF($B135=\"\",\"\",للطباعة!$AQ$43)","v":""},{"$f":"IF($B135=\"\",\"\",للطباعة!$AP$43)","v":""},{"$f":"IF($B135=\"\",\"\",للطباعة!$AX$43)","v":""},{"$f":"IF($B135=\"\",\"\",للطباعة!$AW$43)","v":""},{"$f":"IF($B135=\"\",\"\",للطباعة!$BE$43)","v":""},{"$f":"IF($B135=\"\",\"\",للطباعة!$BD$43)","v":""},null,{"$f":"IF($B135=\"\",\"\",للطباعة!$BM$43)","v":""},{"$f":"IF($B135=\"\",\"\",للطباعة!$BL$43)","v":""},{"$f":"IF($B135=\"\",\"\",للطباعة!$BT$43)","v":""},{"$f":"IF($B135=\"\",\"\",للطباعة!$BS$43)","v":""},{"$f":"IF($B135=\"\",\"\",للطباعة!$CA$43)","v":""},{"$f":"IF($B135=\"\",\"\",للطباعة!$BZ$43)","v":""},{"$f":"IF($B135=\"\",\"\",للطباعة!$CH$43)","v":""},{"$f":"IF($B135=\"\",\"\",للطباعة!$CG$43)","v":""}]
[null,"النقاط",{"$f":"IF($B135=\"\",\"\",(D135+D136)*100/8)","v":""},null,{"$f":"IF($B135=\"\",\"\",(F135+F136)*100/8)","v":""},null,{"$f":"IF($B135=\"\",\"\",(H135+H136)*100/8)","v":""},null,{"$f":"IF($B135=\"\",\"\",(J135+J136)*100/8)","v":""},null,null,{"$f":"IF($B135=\"\",\"\",(M135+M136)*100/8)","v":""},null,{"$f":"IF($B135=\"\",\"\",(O135+O136)*100/8)","v":""},null,{"$f":"IF($B135=\"\",\"\",(Q135+Q136)*100/8)","v":""},null,{"$f":"IF($B135=\"\",\"\",(S135+S136)*100/8)","v":""},null,null,{"$f":"IF($B135=\"\",\"\",(V135+V136)*100/8)","v":""},null,{"$f":"IF($B135=\"\",\"\",(X135+X136)*100/8)","v":""},null,{"$f":"IF($B135=\"\",\"\",(Z135+Z136)*100/8)","v":""},null,{"$f":"IF($B135=\"\",\"\",(AB135+AB136)*100/8)","v":""}]
[43,{"$f":"INDIRECT(ADDRESS(A138+1,2,,,\"للطباعة\"))","v":""},{"$f":"IF($B138=\"\",\"\",للطباعة!$E$44)","v":""},{"$f":"IF($B138=\"\",\"\",للطباعة!$D$44)","v":""},{"$f":"IF($B138=\"\",\"\",للطباعة!$L$44)","v":""},{"$f":"IF($B138=\"\",\"\",للطباعة!$K$44)","v":""},{"$f":"IF($B138=\"\",\"\",للطباعة!$S$44)","v":""},{"$f":"IF($B138=\"\",\"\",للطباعة!$R$44)","v":""},{"$f":"IF($B138=\"\",\"\",للطباعة!$Z$44)","v":""},{"$f":"IF($B138=\"\",\"\",للطباعة!$Y$44)","v":""},{"$f":"IF($B138=\"\",\"\",(C140+E140+G140+I140)/4)","v":""},{"$f":"IF($B138=\"\",\"\",للطباعة!$AH$44)","v":""},{"$f":"IF($B138=\"\",\"\",للطباعة!$AG$44)","v":""},{"$f":"IF($B138=\"\",\"\",للطباعة!$AO$44)","v":""},{"$f":"IF($B138=\"\",\"\",للطباعة!$AN$44)","v":""},{"$f":"IF($B138=\"\",\"\",للطباعة!$AV$44)","v":""},{"$f":"IF($B138=\"\",\"\",للطباعة!$AU$44)","v":""},{"$f":"IF($B138=\"\",\"\",للطباعة!$BC$44)","v":""},{"$f":"IF($B138=\"\",\"\",للطباعة!$BB$44)","v":""},{"$f":"IF($B138=\"\",\"\",(L140+N140+P140+R140)/4)","v":""},{"$f":"IF($B138=\"\",\"\",للطباعة!$BK$44)","v":""},{"$f":"IF($B138=\"\",\"\",للطباعة!$BJ$44)","v":""},{"$f":"IF($B138=\"\",\"\",للطباعة!$BR$44)","v":""},{"$f":"IF($B138=\"\",\"\",للطباعة!$BQ$44)","v":""},{"$f":"IF($B138=\"\",\"\",للطباعة!$BY$44)","v":""},{"$f":"IF($B138=\"\",\"\",للطباعة!$BX$44)","v":""},{"$f":"IF($B138=\"\",\"\",للطباعة!$CF$44)","v":""},{"$f":"IF($B138=\"\",\"\",للطباعة!$CE$44)","v":""},{"$f":"IF($B138=\"\",\"\",(U140+W140+Y140+AA140)/4)","v":""},{"$f":"IF($B138=\"\",\"\",(K138+T138+AC138)*0.04)","v":""},{"$f":"IF($B138=\"\",\"\",IF((AD138*40/12-INT(AD138*40/12))>=0.75,INT(AD138*40/12)+1,IF((AD138*40/12-INT(AD138*40/12))<0.25,INT(AD138*40/12),INT(AD135*40/12)+0.5)))","v":""},{"$f":"IF($B138=\"\",\"\",INDIRECT(ADDRESS(11+A138*2,19,1,,\"SeconedPartDegrees2\")))","v":""},{"$f":"IF($B138=\"\",\"\",INDIRECT(ADDRESS(11+A138*2,20,1,,\"SeconedPartDegrees2\")))","v":""},{"$f":"IF(OR(AF138=\"\",AG138=\"\"),\"\",AF138+AG138)","v":""},{"$f":"IF(OR(AE138=\"\",AG138=\"\"),\"\",AG138+AF138+AE138)","v":""},{"$f":"IF($B138=\"\",\"\",INDIRECT(ADDRESS(11+A138*2,21,1,,\"SeconedPartDegrees1\")))","v":""},{"$f":"IFERROR(IF(AI138=\"\",\"\",IF(((AI138+AJ138)/2-INT((AI138+AJ138)/2))>=0.75,INT((AI138+AJ138)/2)+1,IF(((AI138+AJ138)/2-INT((AI138+AJ138)/2))<0.25,INT((AI138+AJ138)/2),INT((AI138+AJ138)/2)+0.5))),\"\")","v":""},{"$f":"IF($AK138=\"\",\"\",IF(AK138=\"\",\"غياب وعليه دور ثاني\",IF(AK138<50,\"دور ثاني\",\"ناجح\")))","v":""},null,null,{"$f":"ROUNDUP(((FirstPartDegrees2!#REF!+D138)/2+(FirstPartDegrees2!F138+O138)/2+(FirstPartDegrees2!#REF!+M138)/2+(FirstPartDegrees2!C138+F138)/2 )/4,0)","v":{"$error":"#REF!"}},{"$f":"ROUNDUP(((FirstPartDegrees2!#REF!+FirstPartDegrees2!#REF!)/2+(FirstPartDegrees2!G138+J138)/2+(FirstPartDegrees2!L138+S138)/2+(FirstPartDegrees2!H138+#REF!)/2 )/4,0)","v":{"$error":"#REF!"}},{"$f":"ROUNDUP(((FirstPartDegrees2!E138+FirstPartDegrees2!I138)/2+(FirstPartDegrees2!#REF!+FirstPartDegrees2!#REF!)/2+(FirstPartDegrees2!N138+V138)/2+(AB138+#REF!)/2)/4,0)","v":{"$error":"#REF!"}},{"$f":"(AQ138+AAH138+AO138)*40/12","v":{"$error":"#REF!"}}]
[null,null,{"$f":"IF($B138=\"\",\"\",للطباعة!$G$44)","v":""},{"$f":"IF($B138=\"\",\"\",للطباعة!$F$44)","v":""},{"$f":"IF($B138=\"\",\"\",للطباعة!$N$44)","v":""},{"$f":"IF($B138=\"\",\"\",للطباعة!$M$44)","v":""},{"$f":"IF($B138=\"\",\"\",للطباعة!$U$44)","v":""},{"$f":"IF($B138=\"\",\"\",للطباعة!$T$44)","v":""},{"$f":"IF($B138=\"\",\"\",للطباعة!$AB$44)","v":""},{"$f":"IF($B138=\"\",\"\",للطباعة!$AA$44)","v":""},null,{"$f":"IF($B138=\"\",\"\",للطباعة!$AJ$44)","v":""},{"$f":"IF($B138=\"\",\"\",للطباعة!$AI$44)","v":""},{"$f":"IF($B138=\"\",\"\",للطباعة!$AQ$44)","v":""},{"$f":"IF($B138=\"\",\"\",للطباعة!$AP$44)","v":""},{"$f":"IF($B138=\"\",\"\",للطباعة!$AX$44)","v":""},{"$f":"IF($B138=\"\",\"\",للطباعة!$AW$44)","v":""},{"$f":"IF($B138=\"\",\"\",للطباعة!$BE$44)","v":""},{"$f":"IF($B138=\"\",\"\",للطباعة!$BD$44)","v":""},null,{"$f":"IF($B138=\"\",\"\",للطباعة!$BM$44)","v":""},{"$f":"IF($B138=\"\",\"\",للطباعة!$BL$44)","v":""},{"$f":"IF($B138=\"\",\"\",للطباعة!$BT$44)","v":""},{"$f":"IF($B138=\"\",\"\",للطباعة!$BS$44)","v":""},{"$f":"IF($B138=\"\",\"\",للطباعة!$CA$44)","v":""},{"$f":"IF($B138=\"\",\"\",للطباعة!$BZ$44)","v":""},{"$f":"IF($B138=\"\",\"\",للطباعة!$CH$44)","v":""},{"$f":"IF($B138=\"\",\"\",للطباعة!$CG$44)","v":""}]
[null,"النقاط",{"$f":"IF($B138=\"\",\"\",(D138+D139)*100/8)","v":""},null,{"$f":"IF($B138=\"\",\"\",(F138+F139)*100/8)","v":""},null,{"$f":"IF($B138=\"\",\"\",(H138+H139)*100/8)","v":""},null,{"$f":"IF($B138=\"\",\"\",(J138+J139)*100/8)","v":""},null,null,{"$f":"IF($B138=\"\",\"\",(M138+M139)*100/8)","v":""},null,{"$f":"IF($B138=\"\",\"\",(O138+O139)*100/8)","v":""},null,{"$f":"IF($B138=\"\",\"\",(Q138+Q139)*100/8)","v":""},null,{"$f":"IF($B138=\"\",\"\",(S138+S139)*100/8)","v":""},null,null,{"$f":"IF($B138=\"\",\"\",(V138+V139)*100/8)","v":""},null,{"$f":"IF($B138=\"\",\"\",(X138+X139)*100/8)","v":""},null,{"$f":"IF($B138=\"\",\"\",(Z138+Z139)*100/8)","v":""},null,{"$f":"IF($B138=\"\",\"\",(AB138+AB139)*100/8)","v":""}]
[44,{"$f":"INDIRECT(ADDRESS(A141+1,2,,,\"للطباعة\"))","v":""},{"$f":"IF($B141=\"\",\"\",للطباعة!$E$45)","v":""},{"$f":"IF($B141=\"\",\"\",للطباعة!$D$45)","v":""},{"$f":"IF($B141=\"\",\"\",للطباعة!$L$45)","v":""},{"$f":"IF($B141=\"\",\"\",للطباعة!$K$45)","v":""},{"$f":"IF($B141=\"\",\"\",للطباعة!$S$45)","v":""},{"$f":"IF($B141=\"\",\"\",للطباعة!$R$45)","v":""},{"$f":"IF($B141=\"\",\"\",للطباعة!$Z$45)","v":""},{"$f":"IF($B141=\"\",\"\",للطباعة!$Y$45)","v":""},{"$f":"IF($B141=\"\",\"\",(C143+E143+G143+I143)/4)","v":""},{"$f":"IF($B141=\"\",\"\",للطباعة!$AH$45)","v":""},{"$f":"IF($B141=\"\",\"\",للطباعة!$AG$45)","v":""},{"$f":"IF($B141=\"\",\"\",للطباعة!$AO$45)","v":""},{"$f":"IF($B141=\"\",\"\",للطباعة!$AN$45)","v":""},{"$f":"IF($B141=\"\",\"\",للطباعة!$AV$45)","v":""},{"$f":"IF($B141=\"\",\"\",للطباعة!$AU$45)","v":""},{"$f":"IF($B141=\"\",\"\",للطباعة!$BC$45)","v":""},{"$f":"IF($B141=\"\",\"\",للطباعة!$BB$45)","v":""},{"$f":"IF($B141=\"\",\"\",(L143+N143+P143+R143)/4)","v":""},{"$f":"IF($B141=\"\",\"\",للطباعة!$BK$45)","v":""},{"$f":"IF($B141=\"\",\"\",للطباعة!$BJ$45)","v":""},{"$f":"IF($B141=\"\",\"\",للطباعة!$BR$45)","v":""},{"$f":"IF($B141=\"\",\"\",للطباعة!$BQ$45)","v":""},{"$f":"IF($B141=\"\",\"\",للطباعة!$BY$45)","v":""},{"$f":"IF($B141=\"\",\"\",للطباعة!$BX$45)","v":""},{"$f":"IF($B141=\"\",\"\",للطباعة!$CF$45)","v":""},{"$f":"IF($B141=\"\",\"\",للطباعة!$CE$45)","v":""},{"$f":"IF($B141=\"\",\"\",(U143+W143+Y143+AA143)/4)","v":""},{"$f":"IF($B141=\"\",\"\",(K141+T141+AC141)*0.04)","v":""},{"$f":"IF($B141=\"\",\"\",IF((AD141*40/12-INT(AD141*40/12))>=0.75,INT(AD141*40/12)+1,IF((AD141*40/12-INT(AD141*40/12))<0.25,INT(AD141*40/12),INT(AD138*40/12)+0.5)))","v":""},{"$f":"IF($B141=\"\",\"\",INDIRECT(ADDRESS(11+A141*2,19,1,,\"SeconedPartDegrees2\")))","v":""},{"$f":"IF($B141=\"\",\"\",INDIRECT(ADDRESS(11+A141*2,20,1,,\"SeconedPartDegrees2\")))","v":""},{"$f":"IF(OR(AF141=\"\",AG141=\"\"),\"\",AF141+AG141)","v":""},{"$f":"IF(OR(AE141=\"\",AG141=\"\"),\"\",AG141+AF141+AE141)","v":""},{"$f":"IF($B141=\"\",\"\",INDIRECT(ADDRESS(11+A141*2,21,1,,\"SeconedPartDegrees1\")))","v":""},{"$f":"IFERROR(IF(AI141=\"\",\"\",IF(((AI141+AJ141)/2-INT((AI141+AJ141)/2))>=0.75,INT((AI141+AJ141)/2)+1,IF(((AI141+AJ141)/2-INT((AI141+AJ141)/2))<0.25,INT((AI141+AJ141)/2),INT((AI141+AJ141)/2)+0.5))),\"\")","v":""},{"$f":"IF($AK141=\"\",\"\",IF(AK141=\"\",\"غياب وعليه دور ثاني\",IF(AK141<50,\"دور ثاني\",\"ناجح\")))","v":""},null,null,{"$f":"ROUNDUP(((FirstPartDegrees2!#REF!+D141)/2+(FirstPartDegrees2!F141+O141)/2+(FirstPartDegrees2!#REF!+M141)/2+(FirstPartDegrees2!C141+F141)/2 )/4,0)","v":{"$error":"#REF!"}},{"$f":"ROUNDUP(((FirstPartDegrees2!#REF!+FirstPartDegrees2!#REF!)/2+(FirstPartDegrees2!G141+J141)/2+(FirstPartDegrees2!L141+S141)/2+(FirstPartDegrees2!H141+#REF!)/2 )/4,0)","v":{"$error":"#REF!"}},{"$f":"ROUNDUP(((FirstPartDegrees2!E141+FirstPartDegrees2!I141)/2+(FirstPartDegrees2!#REF!+FirstPartDegrees2!#REF!)/2+(FirstPartDegrees2!N141+V141)/2+(AB141+#REF!)/2)/4,0)","v":{"$error":"#REF!"}},{"$f":"(AQ141+AAH141+AO141)*40/12","v":{"$error":"#REF!"}}]
[null,null,{"$f":"IF($B141=\"\",\"\",للطباعة!$G$45)","v":""},{"$f":"IF($B141=\"\",\"\",للطباعة!$F$45)","v":""},{"$f":"IF($B141=\"\",\"\",للطباعة!$N$45)","v":""},{"$f":"IF($B141=\"\",\"\",للطباعة!$M$45)","v":""},{"$f":"IF($B141=\"\",\"\",للطباعة!$U$45)","v":""},{"$f":"IF($B141=\"\",\"\",للطباعة!$T$45)","v":""},{"$f":"IF($B141=\"\",\"\",للطباعة!$AB$45)","v":""},{"$f":"IF($B141=\"\",\"\",للطباعة!$AA$45)","v":""},null,{"$f":"IF($B141=\"\",\"\",للطباعة!$AJ$45)","v":""},{"$f":"IF($B141=\"\",\"\",للطباعة!$AI$45)","v":""},{"$f":"IF($B141=\"\",\"\",للطباعة!$AQ$45)","v":""},{"$f":"IF($B141=\"\",\"\",للطباعة!$AP$45)","v":""},{"$f":"IF($B141=\"\",\"\",للطباعة!$AX$45)","v":""},{"$f":"IF($B141=\"\",\"\",للطباعة!$AW$45)","v":""},{"$f":"IF($B141=\"\",\"\",للطباعة!$BE$45)","v":""},{"$f":"IF($B141=\"\",\"\",للطباعة!$BD$45)","v":""},null,{"$f":"IF($B141=\"\",\"\",للطباعة!$BM$45)","v":""},{"$f":"IF($B141=\"\",\"\",للطباعة!$BL$45)","v":""},{"$f":"IF($B141=\"\",\"\",للطباعة!$BT$45)","v":""},{"$f":"IF($B141=\"\",\"\",للطباعة!$BS$45)","v":""},{"$f":"IF($B141=\"\",\"\",للطباعة!$CA$45)","v":""},{"$f":"IF($B141=\"\",\"\",للطباعة!$BZ$45)","v":""},{"$f":"IF($B141=\"\",\"\",للطباعة!$CH$45)","v":""},{"$f":"IF($B141=\"\",\"\",للطباعة!$CG$45)","v":""}]
[null,"النقاط",{"$f":"IF($B141=\"\",\"\",(D141+D142)*100/8)","v":""},null,{"$f":"IF($B141=\"\",\"\",(F141+F142)*100/8)","v":""},null,{"$f":"IF($B141=\"\",\"\",(H141+H142)*100/8)","v":""},null,{"$f":"IF($B141=\"\",\"\",(J141+J142)*100/8)","v":""},null,null,{"$f":"IF($B141=\"\",\"\",(M141+M142)*100/8)","v":""},null,{"$f":"IF($B141=\"\",\"\",(O141+O142)*100/8)","v":""},null,{"$f":"IF($B141=\"\",\"\",(Q141+Q142)*100/8)","v":""},null,{"$f":"IF($B141=\"\",\"\",(S141+S142)*100/8)","v":""},null,null,{"$f":"IF($B141=\"\",\"\",(V141+V142)*100/8)","v":""},null,{"$f":"IF($B141=\"\",\"\",(X141+X142)*100/8)","v":""},null,{"$f":"IF($B141=\"\",\"\",(Z141+Z142)*100/8)","v":""},null,{"$f":"IF($B141=\"\",\"\",(AB141+AB142)*100/8)","v":""}]
[45,{"$f":"INDIRECT(ADDRESS(A144+1,2,,,\"للطباعة\"))","v":""},{"$f":"IF($B144=\"\",\"\",للطباعة!$E$46)","v":""},{"$f":"IF($B144=\"\",\"\",للطباعة!$D$46)","v":""},{"$f":"IF($B144=\"\",\"\",للطباعة!$L$46)","v":""},{"$f":"IF($B144=\"\",\"\",للطباعة!$K$46)","v":""},{"$f":"IF($B144=\"\",\"\",للطباعة!$S$46)","v":""},{"$f":"IF($B144=\"\",\"\",للطباعة!$R$46)","v":""},{"$f":"IF($B144=\"\",\"\",للطباعة!$Z$46)","v":""},{"$f":"IF($B144=\"\",\"\",للطباعة!$Y$46)","v":""},{"$f":"IF($B144=\"\",\"\",(C146+E146+G146+I146)/4)","v":""},{"$f":"IF($B144=\"\",\"\",للطباعة!$AH$46)","v":""},{"$f":"IF($B144=\"\",\"\",للطباعة!$AG$46)","v":""},{"$f":"IF($B144=\"\",\"\",للطباعة!$AO$46)","v":""},{"$f":"IF($B144=\"\",\"\",للطباعة!$AN$46)","v":""},{"$f":"IF($B144=\"\",\"\",للطباعة!$AV$46)","v":""},{"$f":"IF($B144=\"\",\"\",للطباعة!$AU$46)","v":""},{"$f":"IF($B144=\"\",\"\",للطباعة!$BC$46)","v":""},{"$f":"IF($B144=\"\",\"\",للطباعة!$BB$46)","v":""},{"$f":"IF($B144=\"\",\"\",(L146+N146+P146+R146)/4)","v":""},{"$f":"IF($B144=\"\",\"\",للطباعة!$BK$46)","v":""},{"$f":"IF($B144=\"\",\"\",للطباعة!$BJ$46)","v":""},{"$f":"IF($B144=\"\",\"\",للطباعة!$BR$46)","v":""},{"$f":"IF($B144=\"\",\"\",للطباعة!$BQ$46)","v":""},{"$f":"IF($B144=\"\",\"\",للطباعة!$BY$46)","v":""},{"$f":"IF($B144=\"\",\"\",للطباعة!$BX$46)","v":""},{"$f":"IF($B144=\"\",\"\",للطباعة!$CF$46)","v":""},{"$f":"IF($B144=\"\",\"\",للطباعة!$CE$46)","v":""},{"$f":"IF($B144=\"\",\"\",(U146+W146+Y146+AA146)/4)","v":""},{"$f":"IF($B144=\"\",\"\",(K144+T144+AC144)*0.04)","v":""},{"$f":"IF($B144=\"\",\"\",IF((AD144*40/12-INT(AD144*40/12))>=0.75,INT(AD144*40/12)+1,IF((AD144*40/12-INT(AD144*40/12))<0.25,INT(AD144*40/12),INT(AD141*40/12)+0.5)))","v":""},{"$f":"IF($B144=\"\",\"\",INDIRECT(ADDRESS(11+A144*2,19,1,,\"SeconedPartDegrees2\")))","v":""},{"$f":"IF($B144=\"\",\"\",INDIRECT(ADDRESS(11+A144*2,20,1,,\"SeconedPartDegrees2\")))","v":""},{"$f":"IF(OR(AF144=\"\",AG144=\"\"),\"\",AF144+AG144)","v":""},{"$f":"IF(OR(AE144=\"\",AG144=\"\"),\"\",AG144+AF144+AE144)","v":""},{"$f":"IF($B144=\"\",\"\",INDIRECT(ADDRESS(11+A144*2,21,1,,\"SeconedPartDegrees1\")))","v":""},{"$f":"IFERROR(IF(AI144=\"\",\"\",IF(((AI144+AJ144)/2-INT((AI144+AJ144)/2))>=0.75,INT((AI144+AJ144)/2)+1,IF(((AI144+AJ144)/2-INT((AI144+AJ144)/2))<0.25,INT((AI144+AJ144)/2),INT((AI144+AJ144)/2)+0.5))),\"\")","v":""},{"$f":"IF($AK144=\"\",\"\",IF(AK144=\"\",\"غياب وعليه دور ثاني\",IF(AK144<50,\"دور ثاني\",\"ناجح\")))","v":""},null,null,{"$f":"ROUNDUP(((FirstPartDegrees2!#REF!+D144)/2+(FirstPartDegrees2!F144+O144)/2+(FirstPartDegrees2!#REF!+M144)/2+(FirstPartDegrees2!C144+F144)/2 )/4,0)","v":{"$error":"#REF!"}},{"$f":"ROUNDUP(((FirstPartDegrees2!#REF!+FirstPartDegrees2!#REF!)/2+(FirstPartDegrees2!G144+J144)/2+(FirstPartDegrees2!L144+S144)/2+(FirstPartDegrees2!H144+#REF!)/2 )/4,0)","v":{"$error":"#REF!"}},{"$f":"ROUNDUP(((FirstPartDegrees2!E144+FirstPartDegrees2!I144)/2+(FirstPartDegrees2!#REF!+FirstPartDegrees2!#REF!)/2+(FirstPartDegrees2!N144+V144)/2+(AB144+#REF!)/2)/4,0)","v":{"$error":"#REF!"}},{"$f":"(AQ144+AAH144+AO144)*40/12","v":{"$error":"#REF!"}}]
[null,null,{"$f":"IF($B144=\"\",\"\",للطباعة!$G$46)","v":""},{"$f":"IF($B144=\"\",\"\",للطباعة!$F$46)","v":""},{"$f":"IF($B144=\"\",\"\",للطباعة!$N$46)","v":""},{"$f":"IF($B144=\"\",\"\",للطباعة!$M$46)","v":""},{"$f":"IF($B144=\"\",\"\",للطباعة!$U$46)","v":""},{"$f":"IF($B144=\"\",\"\",للطباعة!$T$46)","v":""},{"$f":"IF($B144=\"\",\"\",للطباعة!$AB$46)","v":""},{"$f":"IF($B144=\"\",\"\",للطباعة!$AA$46)","v":""},null,{"$f":"IF($B144=\"\",\"\",للطباعة!$AJ$46)","v":""},{"$f":"IF($B144=\"\",\"\",للطباعة!$AI$46)","v":""},{"$f":"IF($B144=\"\",\"\",للطباعة!$AQ$46)","v":""},{"$f":"IF($B144=\"\",\"\",للطباعة!$AP$46)","v":""},{"$f":"IF($B144=\"\",\"\",للطباعة!$AX$46)","v":""},{"$f":"IF($B144=\"\",\"\",للطباعة!$AW$46)","v":""},{"$f":"IF($B144=\"\",\"\",للطباعة!$BE$46)","v":""},{"$f":"IF($B144=\"\",\"\",للطباعة!$BD$46)","v":""},null,{"$f":"IF($B144=\"\",\"\",للطباعة!$BM$46)","v":""},{"$f":"IF($B144=\"\",\"\",للطباعة!$BL$46)","v":""},{"$f":"IF($B144=\"\",\"\",للطباعة!$BT$46)","v":""},{"$f":"IF($B144=\"\",\"\",للطباعة!$BS$46)","v":""},{"$f":"IF($B144=\"\",\"\",للطباعة!$CA$46)","v":""},{"$f":"IF($B144=\"\",\"\",للطباعة!$BZ$46)","v":""},{"$f":"IF($B144=\"\",\"\",للطباعة!$CH$46)","v":""},{"$f":"IF($B144=\"\",\"\",للطباعة!$CG$46)","v":""}]
[null,"النقاط",{"$f":"IF($B144=\"\",\"\",(D144+D145)*100/8)","v":""},null,{"$f":"IF($B144=\"\",\"\",(F144+F145)*100/8)","v":""},null,{"$f":"IF($B144=\"\",\"\",(H144+H145)*100/8)","v":""},null,{"$f":"IF($B144=\"\",\"\",(J144+J145)*100/8)","v":""},null,null,{"$f":"IF($B144=\"\",\"\",(M144+M145)*100/8)","v":""},null,{"$f":"IF($B144=\"\",\"\",(O144+O145)*100/8)","v":""},null,{"$f":"IF($B144=\"\",\"\",(Q144+Q145)*100/8)","v":""},null,{"$f":"IF($B144=\"\",\"\",(S144+S145)*100/8)","v":""},null,null,{"$f":"IF($B144=\"\",\"\",(V144+V145)*100/8)","v":""},null,{"$f":"IF($B144=\"\",\"\",(X144+X145)*100/8)","v":""},null,{"$f":"IF($B144=\"\",\"\",(Z144+Z145)*100/8)","v":""},null,{"$f":"IF($B144=\"\",\"\",(AB144+AB145)*100/8)","v":""}]
[46,{"$f":"INDIRECT(ADDRESS(A147+1,2,,,\"للطباعة\"))","v":""},{"$f":"IF($B147=\"\",\"\",للطباعة!$E$47)","v":""},{"$f":"IF($B147=\"\",\"\",للطباعة!$D$47)","v":""},{"$f":"IF($B147=\"\",\"\",للطباعة!$L$47)","v":""},{"$f":"IF($B147=\"\",\"\",للطباعة!$K$47)","v":""},{"$f":"IF($B147=\"\",\"\",للطباعة!$S$47)","v":""},{"$f":"IF($B147=\"\",\"\",للطباعة!$R$47)","v":""},{"$f":"IF($B147=\"\",\"\",للطباعة!$Z$47)","v":""},{"$f":"IF($B147=\"\",\"\",للطباعة!$Y$47)","v":""},{"$f":"IF($B147=\"\",\"\",(C149+E149+G149+I149)/4)","v":""},{"$f":"IF($B147=\"\",\"\",للطباعة!$AH$47)","v":""},{"$f":"IF($B147=\"\",\"\",للطباعة!$AG$47)","v":""},{"$f":"IF($B147=\"\",\"\",للطباعة!$AO$47)","v":""},{"$f":"IF($B147=\"\",\"\",للطباعة!$AN$47)","v":""},{"$f":"IF($B147=\"\",\"\",للطباعة!$AV$47)","v":""},{"$f":"IF($B147=\"\",\"\",للطباعة!$AU$47)","v":""},{"$f":"IF($B147=\"\",\"\",للطباعة!$BC$47)","v":""},{"$f":"IF($B147=\"\",\"\",للطباعة!$BB$47)","v":""},{"$f":"IF($B147=\"\",\"\",(L149+N149+P149+R149)/4)","v":""},{"$f":"IF($B147=\"\",\"\",للطباعة!$BK$47)","v":""},{"$f":"IF($B147=\"\",\"\",للطباعة!$BJ$47)","v":""},{"$f":"IF($B147=\"\",\"\",للطباعة!$BR$47)","v":""},{"$f":"IF($B147=\"\",\"\",للطباعة!$BQ$47)","v":""},{"$f":"IF($B147=\"\",\"\",للطباعة!$BY$47)","v":""},{"$f":"IF($B147=\"\",\"\",للطباعة!$BX$47)","v":""},{"$f":"IF($B147=\"\",\"\",للطباعة!$CF$47)","v":""},{"$f":"IF($B147=\"\",\"\",للطباعة!$CE$47)","v":""},{"$f":"IF($B147=\"\",\"\",(U149+W149+Y149+AA149)/4)","v":""},{"$f":"IF($B147=\"\",\"\",(K147+T147+AC147)*0.04)","v":""},{"$f":"IF($B147=\"\",\"\",IF((AD147*40/12-INT(AD147*40/12))>=0.75,INT(AD147*40/12)+1,IF((AD147*40/12-INT(AD147*40/12))<0.25,INT(AD147*40/12),INT(AD144*40/12)+0.5)))","v":""},{"$f":"IF($B147=\"\",\"\",INDIRECT(ADDRESS(11+A147*2,19,1,,\"SeconedPartDegrees2\")))","v":""},{"$f":"IF($B147=\"\",\"\",INDIRECT(ADDRESS(11+A147*2,20,1,,\"SeconedPartDegrees2\")))","v":""},{"$f":"IF(OR(AF147=\"\",AG147=\"\"),\"\",AF147+AG147)","v":""},{"$f":"IF(OR(AE147=\"\",AG147=\"\"),\"\",AG147+AF147+AE147)","v":""},{"$f":"IF($B147=\"\",\"\",INDIRECT(ADDRESS(11+A147*2,21,1,,\"SeconedPartDegrees1\")))","v":""},{"$f":"IFERROR(IF(AI147=\"\",\"\",IF(((AI147+AJ147)/2-INT((AI147+AJ147)/2))>=0.75,INT((AI147+AJ147)/2)+1,IF(((AI147+AJ147)/2-INT((AI147+AJ147)/2))<0.25,INT((AI147+AJ147)/2),INT((AI147+AJ147)/2)+0.5))),\"\")","v":""},{"$f":"IF($AK147=\"\",\"\",IF(AK147=\"\",\"غياب وعليه دور ثاني\",IF(AK147<50,\"دور ثاني\",\"ناجح\")))","v":""},null,null,{"$f":"ROUNDUP(((FirstPartDegrees2!#REF!+D147)/2+(FirstPartDegrees2!F147+O147)/2+(FirstPartDegrees2!#REF!+M147)/2+(FirstPartDegrees2!C147+F147)/2 )/4,0)","v":{"$error":"#REF!"}},{"$f":"ROUNDUP(((FirstPartDegrees2!#REF!+FirstPartDegrees2!#REF!)/2+(FirstPartDegrees2!G147+J147)/2+(FirstPartDegrees2!L147+S147)/2+(FirstPartDegrees2!H147+#REF!)/2 )/4,0)","v":{"$error":"#REF!"}},{"$f":"ROUNDUP(((FirstPartDegrees2!E147+FirstPartDegrees2!I147)/2+(FirstPartDegrees2!#REF!+FirstPartDegrees2!#REF!)/2+(FirstPartDegrees2!N147+V147)/2+(AB147+#REF!)/2)/4,0)","v":{"$error":"#REF!"}},{"$f":"(AQ147+AAH147+AO147)*40/12","v":{"$error":"#REF!"}}]
[null,null,{"$f":"IF($B147=\"\",\"\",للطباعة!$G$47)","v":""},{"$f":"IF($B147=\"\",\"\",للطباعة!$F$47)","v":""},{"$f":"IF($B147=\"\",\"\",للطباعة!$N$47)","v":""},{"$f":"IF($B147=\"\",\"\",للطباعة!$M$47)","v":""},{"$f":"IF($B147=\"\",\"\",للطباعة!$U$47)","v":""},{"$f":"IF($B147=\"\",\"\",للطباعة!$T$47)","v":""},{"$f":"IF($B147=\"\",\"\",للطباعة!$AB$47)","v":""},{"$f":"IF($B147=\"\",\"\",للطباعة!$AA$47)","v":""},null,{"$f":"IF($B147=\"\",\"\",للطباعة!$AJ$47)","v":""},{"$f":"IF($B147=\"\",\"\",للطباعة!$AI$47)","v":""},{"$f":"IF($B147=\"\",\"\",للطباعة!$AQ$47)","v":""},{"$f":"IF($B147=\"\",\"\",للطباعة!$AP$47)","v":""},{"$f":"IF($B147=\"\",\"\",للطباعة!$AX$47)","v":""},{"$f":"IF($B147=\"\",\"\",للطباعة!$AW$47)","v":""},{"$f":"IF($B147=\"\",\"\",للطباعة!$BE$47)","v":""},{"$f":"IF($B147=\"\",\"\",للطباعة!$BD$47)","v":""},null,{"$f":"IF($B147=\"\",\"\",للطباعة!$BM$47)","v":""},{"$f":"IF($B147=\"\",\"\",للطباعة!$BL$47)","v":""},{"$f":"IF($B147=\"\",\"\",للطباعة!$BT$47)","v":""},{"$f":"IF($B147=\"\",\"\",للطباعة!$BS$47)","v":""},{"$f":"IF($B147=\"\",\"\",للطباعة!$CA$47)","v":""},{"$f":"IF($B147=\"\",\"\",للطباعة!$BZ$47)","v":""},{"$f":"IF($B147=\"\",\"\",للطباعة!$CH$47)","v":""},{"$f":"IF($B147=\"\",\"\",للطباعة!$CG$47)","v":""}]
[null,"النقاط",{"$f":"IF($B147=\"\",\"\",(D147+D148)*100/8)","v":""},null,{"$f":"IF($B147=\"\",\"\",(F147+F148)*100/8)","v":""},null,{"$f":"IF($B147=\"\",\"\",(H147+H148)*100/8)","v":""},null,{"$f":"IF($B147=\"\",\"\",(J147+J148)*100/8)","v":""},null,null,{"$f":"IF($B147=\"\",\"\",(M147+M148)*100/8)","v":""},null,{"$f":"IF($B147=\"\",\"\",(O147+O148)*100/8)","v":""},null,{"$f":"IF($B147=\"\",\"\",(Q147+Q148)*100/8)","v":""},null,{"$f":"IF($B147=\"\",\"\",(S147+S148)*100/8)","v":""},null,null,{"$f":"IF($B147=\"\",\"\",(V147+V148)*100/8)","v":""},null,{"$f":"IF($B147=\"\",\"\",(X147+X148)*100/8)","v":""},null,{"$f":"IF($B147=\"\",\"\",(Z147+Z148)*100/8)","v":""},null,{"$f":"IF($B147=\"\",\"\",(AB147+AB148)*100/8)","v":""}]
[47,{"$f":"INDIRECT(ADDRESS(A150+1,2,,,\"للطباعة\"))","v":""},{"$f":"IF($B150=\"\",\"\",للطباعة!$E$48)","v":""},{"$f":"IF($B150=\"\",\"\",للطباعة!$D$48)","v":""},{"$f":"IF($B150=\"\",\"\",للطباعة!$L$48)","v":""},{"$f":"IF($B150=\"\",\"\",للطباعة!$K$48)","v":""},{"$f":"IF($B150=\"\",\"\",للطباعة!$S$48)","v":""},{"$f":"IF($B150=\"\",\"\",للطباعة!$R$48)","v":""},{"$f":"IF($B150=\"\",\"\",للطباعة!$Z$48)","v":""},{"$f":"IF($B150=\"\",\"\",للطباعة!$Y$48)","v":""},{"$f":"IF($B150=\"\",\"\",(C152+E152+G152+I152)/4)","v":""},{"$f":"IF($B150=\"\",\"\",للطباعة!$AH$48)","v":""},{"$f":"IF($B150=\"\",\"\",للطباعة!$AG$48)","v":""},{"$f":"IF($B150=\"\",\"\",للطباعة!$AO$48)","v":""},{"$f":"IF($B150=\"\",\"\",للطباعة!$AN$48)","v":""},{"$f":"IF($B150=\"\",\"\",للطباعة!$AV$48)","v":""},{"$f":"IF($B150=\"\",\"\",للطباعة!$AU$48)","v":""},{"$f":"IF($B150=\"\",\"\",للطباعة!$BC$48)","v":""},{"$f":"IF($B150=\"\",\"\",للطباعة!$BB$48)","v":""},{"$f":"IF($B150=\"\",\"\",(L152+N152+P152+R152)/4)","v":""},{"$f":"IF($B150=\"\",\"\",للطباعة!$BK$48)","v":""},{"$f":"IF($B150=\"\",\"\",للطباعة!$BJ$48)","v":""},{"$f":"IF($B150=\"\",\"\",للطباعة!$BR$48)","v":""},{"$f":"IF($B150=\"\",\"\",للطباعة!$BQ$48)","v":""},{"$f":"IF($B150=\"\",\"\",للطباعة!$BY$48)","v":""},{"$f":"IF($B150=\"\",\"\",للطباعة!$BX$48)","v":""},{"$f":"IF($B150=\"\",\"\",للطباعة!$CF$48)","v":""},{"$f":"IF($B150=\"\",\"\",للطباعة!$CE$48)","v":""},{"$f":"IF($B150=\"\",\"\",(U152+W152+Y152+AA152)/4)","v":""},{"$f":"IF($B150=\"\",\"\",(K150+T150+AC150)*0.04)","v":""},{"$f":"IF($B150=\"\",\"\",IF((AD150*40/12-INT(AD150*40/12))>=0.75,INT(AD150*40/12)+1,IF((AD150*40/12-INT(AD150*40/12))<0.25,INT(AD150*40/12),INT(AD147*40/12)+0.5)))","v":""},{"$f":"IF($B150=\"\",\"\",INDIRECT(ADDRESS(11+A150*2,19,1,,\"SeconedPartDegrees2\")))","v":""},{"$f":"IF($B150=\"\",\"\",INDIRECT(ADDRESS(11+A150*2,20,1,,\"SeconedPartDegrees2\")))","v":""},{"$f":"IF(OR(AF150=\"\",AG150=\"\"),\"\",AF150+AG150)","v":""},{"$f":"IF(OR(AE150=\"\",AG150=\"\"),\"\",AG150+AF150+AE150)","v":""},{"$f":"IF($B150=\"\",\"\",INDIRECT(ADDRESS(11+A150*2,21,1,,\"SeconedPartDegrees1\")))","v":""},{"$f":"IFERROR(IF(AI150=\"\",\"\",IF(((AI150+AJ150)/2-INT((AI150+AJ150)/2))>=0.75,INT((AI150+AJ150)/2)+1,IF(((AI150+AJ150)/2-INT((AI150+AJ150)/2))<0.25,INT((AI150+AJ150)/2),INT((AI150+AJ150)/2)+0.5))),\"\")","v":""},{"$f":"IF($AK150=\"\",\"\",IF(AK150=\"\",\"غياب وعليه دور ثاني\",IF(AK150<50,\"دور ثاني\",\"ناجح\")))","v":""},null,null,{"$f":"ROUNDUP(((FirstPartDegrees2!#REF!+D150)/2+(FirstPartDegrees2!F150+O150)/2+(FirstPartDegrees2!#REF!+M150)/2+(FirstPartDegrees2!C150+F150)/2 )/4,0)","v":{"$error":"#REF!"}},{"$f":"ROUNDUP(((FirstPartDegrees2!#REF!+FirstPartDegrees2!#REF!)/2+(FirstPartDegrees2!G150+J150)/2+(FirstPartDegrees2!L150+S150)/2+(FirstPartDegrees2!H150+#REF!)/2 )/4,0)","v":{"$error":"#REF!"}},{"$f":"ROUNDUP(((FirstPartDegrees2!E150+FirstPartDegrees2!I150)/2+(FirstPartDegrees2!#REF!+FirstPartDegrees2!#REF!)/2+(FirstPartDegrees2!N150+V150)/2+(AB150+#REF!)/2)/4,0)","v":{"$error":"#REF!"}},{"$f":"(AQ150+AAH150+AO150)*40/12","v":{"$error":"#REF!"}}]
[null,null,{"$f":"IF($B150=\"\",\"\",للطباعة!$G$48)","v":""},{"$f":"IF($B150=\"\",\"\",للطباعة!$F$48)","v":""},{"$f":"IF($B150=\"\",\"\",للطباعة!$N$48)","v":""},{"$f":"IF($B150=\"\",\"\",للطباعة!$M$48)","v":""},{"$f":"IF($B150=\"\",\"\",للطباعة!$U$48)","v":""},{"$f":"IF($B150=\"\",\"\",للطباعة!$T$48)","v":""},{"$f":"IF($B150=\"\",\"\",للطباعة!$AB$48)","v":""},{"$f":"IF($B150=\"\",\"\",للطباعة!$AA$48)","v":""},null,{"$f":"IF($B150=\"\",\"\",للطباعة!$AJ$48)","v":""},{"$f":"IF($B150=\"\",\"\",للطباعة!$AI$48)","v":""},{"$f":"IF($B150=\"\",\"\",للطباعة!$AQ$48)","v":""},{"$f":"IF($B150=\"\",\"\",للطباعة!$AP$48)","v":""},{"$f":"IF($B150=\"\",\"\",للطباعة!$AX$48)","v":""},{"$f":"IF($B150=\"\",\"\",للطباعة!$AW$48)","v":""},{"$f":"IF($B150=\"\",\"\",للطباعة!$BE$48)","v":""},{"$f":"IF($B150=\"\",\"\",للطباعة!$BD$48)","v":""},null,{"$f":"IF($B150=\"\",\"\",للطباعة!$BM$48)","v":""},{"$f":"IF($B150=\"\",\"\",للطباعة!$BL$48)","v":""},{"$f":"IF($B150=\"\",\"\",للطباعة!$BT$48)","v":""},{"$f":"IF($B150=\"\",\"\",للطباعة!$BS$48)","v":""},{"$f":"IF($B150=\"\",\"\",للطباعة!$CA$48)","v":""},{"$f":"IF($B150=\"\",\"\",للطباعة!$BZ$48)","v":""},{"$f":"IF($B150=\"\",\"\",للطباعة!$CH$48)","v":""},{"$f":"IF($B150=\"\",\"\",للطباعة!$CG$48)","v":""}]
[null,"النقاط",{"$f":"IF($B150=\"\",\"\",(D150+D151)*100/8)","v":""},null,{"$f":"IF($B150=\"\",\"\",(F150+F151)*100/8)","v":""},null,{"$f":"IF($B150=\"\",\"\",(H150+H151)*100/8)","v":""},null,{"$f":"IF($B150=\"\",\"\",(J150+J151)*100/8)","v":""},null,null,{"$f":"IF($B150=\"\",\"\",(M150+M151)*100/8)","v":""},null,{"$f":"IF($B150=\"\",\"\",(O150+O151)*100/8)","v":""},null,{"$f":"IF($B150=\"\",\"\",(Q150+Q151)*100/8)","v":""},null,{"$f":"IF($B150=\"\",\"\",(S150+S151)*100/8)","v":""},null,null,{"$f":"IF($B150=\"\",\"\",(V150+V151)*100/8)","v":""},null,{"$f":"IF($B150=\"\",\"\",(X150+X151)*100/8)","v":""},null,{"$f":"IF($B150=\"\",\"\",(Z150+Z151)*100/8)","v":""},null,{"$f":"IF($B150=\"\",\"\",(AB150+AB151)*100/8)","v":""}]
[48,{"$f":"INDIRECT(ADDRESS(A153+1,2,,,\"للطباعة\"))","v":""},{"$f":"IF($B153=\"\",\"\",للطباعة!$E$49)","v":""},{"$f":"IF($B153=\"\",\"\",للطباعة!$D$49)","v":""},{"$f":"IF($B153=\"\",\"\",للطباعة!$L$49)","v":""},{"$f":"IF($B153=\"\",\"\",للطباعة!$K$49)","v":""},{"$f":"IF($B153=\"\",\"\",للطباعة!$S$49)","v":""},{"$f":"IF($B153=\"\",\"\",للطباعة!$R$49)","v":""},{"$f":"IF($B153=\"\",\"\",للطباعة!$Z$49)","v":""},{"$f":"IF($B153=\"\",\"\",للطباعة!$Y$49)","v":""},{"$f":"IF($B153=\"\",\"\",(C155+E155+G155+I155)/4)","v":""},{"$f":"IF($B153=\"\",\"\",للطباعة!$AH$49)","v":""},{"$f":"IF($B153=\"\",\"\",للطباعة!$AG$49)","v":""},{"$f":"IF($B153=\"\",\"\",للطباعة!$AO$49)","v":""},{"$f":"IF($B153=\"\",\"\",للطباعة!$AN$49)","v":""},{"$f":"IF($B153=\"\",\"\",للطباعة!$AV$49)","v":""},{"$f":"IF($B153=\"\",\"\",للطباعة!$AU$49)","v":""},{"$f":"IF($B153=\"\",\"\",للطباعة!$BC$49)","v":""},{"$f":"IF($B153=\"\",\"\",للطباعة!$BB$49)","v":""},{"$f":"IF($B153=\"\",\"\",(L155+N155+P155+R155)/4)","v":""},{"$f":"IF($B153=\"\",\"\",للطباعة!$BK$49)","v":""},{"$f":"IF($B153=\"\",\"\",للطباعة!$BJ$49)","v":""},{"$f":"IF($B153=\"\",\"\",للطباعة!$BR$49)","v":""},{"$f":"IF($B153=\"\",\"\",للطباعة!$BQ$49)","v":""},{"$f":"IF($B153=\"\",\"\",للطباعة!$BY$49)","v":""},{"$f":"IF($B153=\"\",\"\",للطباعة!$BX$49)","v":""},{"$f":"IF($B153=\"\",\"\",للطباعة!$CF$49)","v":""},{"$f":"IF($B153=\"\",\"\",للطباعة!$CE$49)","v":""},{"$f":"IF($B153=\"\",\"\",(U155+W155+Y155+AA155)/4)","v":""},{"$f":"IF($B153=\"\",\"\",(K153+T153+AC153)*0.04)","v":""},{"$f":"IF($B153=\"\",\"\",IF((AD153*40/12-INT(AD153*40/12))>=0.75,INT(AD153*40/12)+1,IF((AD153*40/12-INT(AD153*40/12))<0.25,INT(AD153*40/12),INT(AD150*40/12)+0.5)))","v":""},{"$f":"IF($B153=\"\",\"\",INDIRECT(ADDRESS(11+A153*2,19,1,,\"SeconedPartDegrees2\")))","v":""},{"$f":"IF($B153=\"\",\"\",INDIRECT(ADDRESS(11+A153*2,20,1,,\"SeconedPartDegrees2\")))","v":""},{"$f":"IF(OR(AF153=\"\",AG153=\"\"),\"\",AF153+AG153)","v":""},{"$f":"IF(OR(AE153=\"\",AG153=\"\"),\"\",AG153+AF153+AE153)","v":""},{"$f":"IF($B153=\"\",\"\",INDIRECT(ADDRESS(11+A153*2,21,1,,\"SeconedPartDegrees1\")))","v":""},{"$f":"IFERROR(IF(AI153=\"\",\"\",IF(((AI153+AJ153)/2-INT((AI153+AJ153)/2))>=0.75,INT((AI153+AJ153)/2)+1,IF(((AI153+AJ153)/2-INT((AI153+AJ153)/2))<0.25,INT((AI153+AJ153)/2),INT((AI153+AJ153)/2)+0.5))),\"\")","v":""},{"$f":"IF($AK153=\"\",\"\",IF(AK153=\"\",\"غياب وعليه دور ثاني\",IF(AK153<50,\"دور ثاني\",\"ناجح\")))","v":""},null,null,{"$f":"ROUNDUP(((FirstPartDegrees2!#REF!+D153)/2+(FirstPartDegrees2!F153+O153)/2+(FirstPartDegrees2!#REF!+M153)/2+(FirstPartDegrees2!C153+F153)/2 )/4,0)","v":{"$error":"#REF!"}},{"$f":"ROUNDUP(((FirstPartDegrees2!#REF!+FirstPartDegrees2!#REF!)/2+(FirstPartDegrees2!G153+J153)/2+(FirstPartDegrees2!L153+S153)/2+(FirstPartDegrees2!H153+#REF!)/2 )/4,0)","v":{"$error":"#REF!"}},{"$f":"ROUNDUP(((FirstPartDegrees2!E153+FirstPartDegrees2!I153)/2+(FirstPartDegrees2!#REF!+FirstPartDegrees2!#REF!)/2+(FirstPartDegrees2!N153+V153)/2+(AB153+#REF!)/2)/4,0)","v":{"$error":"#REF!"}},{"$f":"(AQ153+AAH153+AO153)*40/12","v":{"$error":"#REF!"}}]
[null,null,{"$f":"IF($B153=\"\",\"\",للطباعة!$G$49)","v":""},{"$f":"IF($B153=\"\",\"\",للطباعة!$F$49)","v":""},{"$f":"IF($B153=\"\",\"\",للطباعة!$N$49)","v":""},{"$f":"IF($B153=\"\",\"\",للطباعة!$M$49)","v":""},{"$f":"IF($B153=\"\",\"\",للطباعة!$U$49)","v":""},{"$f":"IF($B153=\"\",\"\",للطباعة!$T$49)","v":""},{"$f":"IF($B153=\"\",\"\",للطباعة!$AB$49)","v":""},{"$f":"IF($B153=\"\",\"\",للطباعة!$AA$49)","v":""},null,{"$f":"IF($B153=\"\",\"\",للطباعة!$AJ$49)","v":""},{"$f":"IF($B153=\"\",\"\",للطباعة!$AI$49)","v":""},{"$f":"IF($B153=\"\",\"\",للطباعة!$AQ$49)","v":""},{"$f":"IF($B153=\"\",\"\",للطباعة!$AP$49)","v":""},{"$f":"IF($B153=\"\",\"\",للطباعة!$AX$49)","v":""},{"$f":"IF($B153=\"\",\"\",للطباعة!$AW$49)","v":""},{"$f":"IF($B153=\"\",\"\",للطباعة!$BE$49)","v":""},{"$f":"IF($B153=\"\",\"\",للطباعة!$BD$49)","v":""},null,{"$f":"IF($B153=\"\",\"\",للطباعة!$BM$49)","v":""},{"$f":"IF($B153=\"\",\"\",للطباعة!$BL$49)","v":""},{"$f":"IF($B153=\"\",\"\",للطباعة!$BT$49)","v":""},{"$f":"IF($B153=\"\",\"\",للطباعة!$BS$49)","v":""},{"$f":"IF($B153=\"\",\"\",للطباعة!$CA$49)","v":""},{"$f":"IF($B153=\"\",\"\",للطباعة!$BZ$49)","v":""},{"$f":"IF($B153=\"\",\"\",للطباعة!$CH$49)","v":""},{"$f":"IF($B153=\"\",\"\",للطباعة!$CG$49)","v":""}]
[null,"النقاط",{"$f":"IF($B153=\"\",\"\",(D153+D154)*100/8)","v":""},null,{"$f":"IF($B153=\"\",\"\",(F153+F154)*100/8)","v":""},null,{"$f":"IF($B153=\"\",\"\",(H153+H154)*100/8)","v":""},null,{"$f":"IF($B153=\"\",\"\",(J153+J154)*100/8)","v":""},null,null,{"$f":"IF($B153=\"\",\"\",(M153+M154)*100/8)","v":""},null,{"$f":"IF($B153=\"\",\"\",(O153+O154)*100/8)","v":""},null,{"$f":"IF($B153=\"\",\"\",(Q153+Q154)*100/8)","v":""},null,{"$f":"IF($B153=\"\",\"\",(S153+S154)*100/8)","v":""},null,null,{"$f":"IF($B153=\"\",\"\",(V153+V154)*100/8)","v":""},null,{"$f":"IF($B153=\"\",\"\",(X153+X154)*100/8)","v":""},null,{"$f":"IF($B153=\"\",\"\",(Z153+Z154)*100/8)","v":""},null,{"$f":"IF($B153=\"\",\"\",(AB153+AB154)*100/8)","v":""}]
[49,{"$f":"INDIRECT(ADDRESS(A156+1,2,,,\"للطباعة\"))","v":""},{"$f":"IF($B156=\"\",\"\",للطباعة!$E$50)","v":""},{"$f":"IF($B156=\"\",\"\",للطباعة!$D$50)","v":""},{"$f":"IF($B156=\"\",\"\",للطباعة!$L$50)","v":""},{"$f":"IF($B156=\"\",\"\",للطباعة!$K$50)","v":""},{"$f":"IF($B156=\"\",\"\",للطباعة!$S$50)","v":""},{"$f":"IF($B156=\"\",\"\",للطباعة!$R$50)","v":""},{"$f":"IF($B156=\"\",\"\",للطباعة!$Z$50)","v":""},{"$f":"IF($B156=\"\",\"\",للطباعة!$Y$50)","v":""},{"$f":"IF($B156=\"\",\"\",(C158+E158+G158+I158)/4)","v":""},{"$f":"IF($B156=\"\",\"\",للطباعة!$AH$50)","v":""},{"$f":"IF($B156=\"\",\"\",للطباعة!$AG$50)","v":""},{"$f":"IF($B156=\"\",\"\",للطباعة!$AO$50)","v":""},{"$f":"IF($B156=\"\",\"\",للطباعة!$AN$50)","v":""},{"$f":"IF($B156=\"\",\"\",للطباعة!$AV$50)","v":""},{"$f":"IF($B156=\"\",\"\",للطباعة!$AU$50)","v":""},{"$f":"IF($B156=\"\",\"\",للطباعة!$BC$50)","v":""},{"$f":"IF($B156=\"\",\"\",للطباعة!$BB$50)","v":""},{"$f":"IF($B156=\"\",\"\",(L158+N158+P158+R158)/4)","v":""},{"$f":"IF($B156=\"\",\"\",للطباعة!$BK$50)","v":""},{"$f":"IF($B156=\"\",\"\",للطباعة!$BJ$50)","v":""},{"$f":"IF($B156=\"\",\"\",للطباعة!$BR$50)","v":""},{"$f":"IF($B156=\"\",\"\",للطباعة!$BQ$50)","v":""},{"$f":"IF($B156=\"\",\"\",للطباعة!$BY$50)","v":""},{"$f":"IF($B156=\"\",\"\",للطباعة!$BX$50)","v":""},{"$f":"IF($B156=\"\",\"\",للطباعة!$CF$50)","v":""},{"$f":"IF($B156=\"\",\"\",للطباعة!$CE$50)","v":""},{"$f":"IF($B156=\"\",\"\",(U158+W158+Y158+AA158)/4)","v":""},{"$f":"IF($B156=\"\",\"\",(K156+T156+AC156)*0.04)","v":""},{"$f":"IF($B156=\"\",\"\",IF((AD156*40/12-INT(AD156*40/12))>=0.75,INT(AD156*40/12)+1,IF((AD156*40/12-INT(AD156*40/12))<0.25,INT(AD156*40/12),INT(AD153*40/12)+0.5)))","v":""},{"$f":"IF($B156=\"\",\"\",INDIRECT(ADDRESS(11+A156*2,19,1,,\"SeconedPartDegrees2\")))","v":""},{"$f":"IF($B156=\"\",\"\",INDIRECT(ADDRESS(11+A156*2,20,1,,\"SeconedPartDegrees2\")))","v":""},{"$f":"IF(OR(AF156=\"\",AG156=\"\"),\"\",AF156+AG156)","v":""},{"$f":"IF(OR(AE156=\"\",AG156=\"\"),\"\",AG156+AF156+AE156)","v":""},{"$f":"IF($B156=\"\",\"\",INDIRECT(ADDRESS(11+A156*2,21,1,,\"SeconedPartDegrees1\")))","v":""},{"$f":"IFERROR(IF(AI156=\"\",\"\",IF(((AI156+AJ156)/2-INT((AI156+AJ156)/2))>=0.75,INT((AI156+AJ156)/2)+1,IF(((AI156+AJ156)/2-INT((AI156+AJ156)/2))<0.25,INT((AI156+AJ156)/2),INT((AI156+AJ156)/2)+0.5))),\"\")","v":""},{"$f":"IF($AK156=\"\",\"\",IF(AK156=\"\",\"غياب وعليه دور ثاني\",IF(AK156<50,\"دور ثاني\",\"ناجح\")))","v":""},null,null,{"$f":"ROUNDUP(((FirstPartDegrees2!#REF!+D156)/2+(FirstPartDegrees2!F156+O156)/2+(FirstPartDegrees2!#REF!+M156)/2+(FirstPartDegrees2!C156+F156)/2 )/4,0)","v":{"$error":"#REF!"}},{"$f":"ROUNDUP(((FirstPartDegrees2!#REF!+FirstPartDegrees2!#REF!)/2+(FirstPartDegrees2!G156+J156)/2+(FirstPartDegrees2!L156+S156)/2+(FirstPartDegrees2!H156+#REF!)/2 )/4,0)","v":{"$error":"#REF!"}},{"$f":"ROUNDUP(((FirstPartDegrees2!E156+FirstPartDegrees2!I156)/2+(FirstPartDegrees2!#REF!+FirstPartDegrees2!#REF!)/2+(FirstPartDegrees2!N156+V156)/2+(AB156+#REF!)/2)/4,0)","v":{"$error":"#REF!"}},{"$f":"(AQ156+AAH156+AO156)*40/12","v":{"$error":"#REF!"}}]
[null,null,{"$f":"IF($B156=\"\",\"\",للطباعة!$G$50)","v":""},{"$f":"IF($B156=\"\",\"\",للطباعة!$F$50)","v":""},{"$f":"IF($B156=\"\",\"\",للطباعة!$N$50)","v":""},{"$f":"IF($B156=\"\",\"\",للطباعة!$M$50)","v":""},{"$f":"IF($B156=\"\",\"\",للطباعة!$U$50)","v":""},{"$f":"IF($B156=\"\",\"\",للطباعة!$T$50)","v":""},{"$f":"IF($B156=\"\",\"\",للطباعة!$AB$50)","v":""},{"$f":"IF($B156=\"\",\"\",للطباعة!$AA$50)","v":""},null,{"$f":"IF($B156=\"\",\"\",للطباعة!$AJ$50)","v":""},{"$f":"IF($B156=\"\",\"\",للطباعة!$AI$50)","v":""},{"$f":"IF($B156=\"\",\"\",للطباعة!$AQ$50)","v":""},{"$f":"IF($B156=\"\",\"\",للطباعة!$AP$50)","v":""},{"$f":"IF($B156=\"\",\"\",للطباعة!$AX$50)","v":""},{"$f":"IF($B156=\"\",\"\",للطباعة!$AW$50)","v":""},{"$f":"IF($B156=\"\",\"\",للطباعة!$BE$50)","v":""},{"$f":"IF($B156=\"\",\"\",للطباعة!$BD$50)","v":""},null,{"$f":"IF($B156=\"\",\"\",للطباعة!$BM$50)","v":""},{"$f":"IF($B156=\"\",\"\",للطباعة!$BL$50)","v":""},{"$f":"IF($B156=\"\",\"\",للطباعة!$BT$50)","v":""},{"$f":"IF($B156=\"\",\"\",للطباعة!$BS$50)","v":""},{"$f":"IF($B156=\"\",\"\",للطباعة!$CA$50)","v":""},{"$f":"IF($B156=\"\",\"\",للطباعة!$BZ$50)","v":""},{"$f":"IF($B156=\"\",\"\",للطباعة!$CH$50)","v":""},{"$f":"IF($B156=\"\",\"\",للطباعة!$CG$50)","v":""}]
[null,"النقاط",{"$f":"IF($B156=\"\",\"\",(D156+D157)*100/8)","v":""},null,{"$f":"IF($B156=\"\",\"\",(F156+F157)*100/8)","v":""},null,{"$f":"IF($B156=\"\",\"\",(H156+H157)*100/8)","v":""},null,{"$f":"IF($B156=\"\",\"\",(J156+J157)*100/8)","v":""},null,null,{"$f":"IF($B156=\"\",\"\",(M156+M157)*100/8)","v":""},null,{"$f":"IF($B156=\"\",\"\",(O156+O157)*100/8)","v":""},null,{"$f":"IF($B156=\"\",\"\",(Q156+Q157)*100/8)","v":""},null,{"$f":"IF($B156=\"\",\"\",(S156+S157)*100/8)","v":""},null,null,{"$f":"IF($B156=\"\",\"\",(V156+V157)*100/8)","v":""},null,{"$f":"IF($B156=\"\",\"\",(X156+X157)*100/8)","v":""},null,{"$f":"IF($B156=\"\",\"\",(Z156+Z157)*100/8)","v":""},null,{"$f":"IF($B156=\"\",\"\",(AB156+AB157)*100/8)","v":""}]
[50,{"$f":"INDIRECT(ADDRESS(A159+1,2,,,\"للطباعة\"))","v":""},{"$f":"IF($B159=\"\",\"\",للطباعة!$E$51)","v":""},{"$f":"IF($B159=\"\",\"\",للطباعة!$D$51)","v":""},{"$f":"IF($B159=\"\",\"\",للطباعة!$L$51)","v":""},{"$f":"IF($B159=\"\",\"\",للطباعة!$K$51)","v":""},{"$f":"IF($B159=\"\",\"\",للطباعة!$S$51)","v":""},{"$f":"IF($B159=\"\",\"\",للطباعة!$R$51)","v":""},{"$f":"IF($B159=\"\",\"\",للطباعة!$Z$51)","v":""},{"$f":"IF($B159=\"\",\"\",للطباعة!$Y$51)","v":""},{"$f":"IF($B159=\"\",\"\",(C161+E161+G161+I161)/4)","v":""},{"$f":"IF($B159=\"\",\"\",للطباعة!$AH$51)","v":""},{"$f":"IF($B159=\"\",\"\",للطباعة!$AG$51)","v":""},{"$f":"IF($B159=\"\",\"\",للطباعة!$AO$51)","v":""},{"$f":"IF($B159=\"\",\"\",للطباعة!$AN$51)","v":""},{"$f":"IF($B159=\"\",\"\",للطباعة!$AV$51)","v":""},{"$f":"IF($B159=\"\",\"\",للطباعة!$AU$51)","v":""},{"$f":"IF($B159=\"\",\"\",للطباعة!$BC$51)","v":""},{"$f":"IF($B159=\"\",\"\",للطباعة!$BB$51)","v":""},{"$f":"IF($B159=\"\",\"\",(L161+N161+P161+R161)/4)","v":""},{"$f":"IF($B159=\"\",\"\",للطباعة!$BK$51)","v":""},{"$f":"IF($B159=\"\",\"\",للطباعة!$BJ$51)","v":""},{"$f":"IF($B159=\"\",\"\",للطباعة!$BR$51)","v":""},{"$f":"IF($B159=\"\",\"\",للطباعة!$BQ$51)","v":""},{"$f":"IF($B159=\"\",\"\",للطباعة!$BY$51)","v":""},{"$f":"IF($B159=\"\",\"\",للطباعة!$BX$51)","v":""},{"$f":"IF($B159=\"\",\"\",للطباعة!$CF$51)","v":""},{"$f":"IF($B159=\"\",\"\",للطباعة!$CE$51)","v":""},{"$f":"IF($B159=\"\",\"\",(U161+W161+Y161+AA161)/4)","v":""},{"$f":"IF($B159=\"\",\"\",(K159+T159+AC159)*0.04)","v":""},{"$f":"IF($B159=\"\",\"\",IF((AD159*40/12-INT(AD159*40/12))>=0.75,INT(AD159*40/12)+1,IF((AD159*40/12-INT(AD159*40/12))<0.25,INT(AD159*40/12),INT(AD156*40/12)+0.5)))","v":""},{"$f":"IF($B159=\"\",\"\",INDIRECT(ADDRESS(11+A159*2,19,1,,\"SeconedPartDegrees2\")))","v":""},{"$f":"IF($B159=\"\",\"\",INDIRECT(ADDRESS(11+A159*2,20,1,,\"SeconedPartDegrees2\")))","v":""},{"$f":"IF(OR(AF159=\"\",AG159=\"\"),\"\",AF159+AG159)","v":""},{"$f":"IF(OR(AE159=\"\",AG159=\"\"),\"\",AG159+AF159+AE159)","v":""},{"$f":"IF($B159=\"\",\"\",INDIRECT(ADDRESS(11+A159*2,21,1,,\"SeconedPartDegrees1\")))","v":""},{"$f":"IFERROR(IF(AI159=\"\",\"\",IF(((AI159+AJ159)/2-INT((AI159+AJ159)/2))>=0.75,INT((AI159+AJ159)/2)+1,IF(((AI159+AJ159)/2-INT((AI159+AJ159)/2))<0.25,INT((AI159+AJ159)/2),INT((AI159+AJ159)/2)+0.5))),\"\")","v":""},{"$f":"IF($AK159=\"\",\"\",IF(AK159=\"\",\"غياب وعليه دور ثاني\",IF(AK159<50,\"دور ثاني\",\"ناجح\")))","v":""},null,null,{"$f":"ROUNDUP(((FirstPartDegrees2!#REF!+D159)/2+(FirstPartDegrees2!F159+O159)/2+(FirstPartDegrees2!#REF!+M159)/2+(FirstPartDegrees2!C159+F159)/2 )/4,0)","v":{"$error":"#REF!"}},{"$f":"ROUNDUP(((FirstPartDegrees2!#REF!+FirstPartDegrees2!#REF!)/2+(FirstPartDegrees2!G159+J159)/2+(FirstPartDegrees2!L159+S159)/2+(FirstPartDegrees2!H159+#REF!)/2 )/4,0)","v":{"$error":"#REF!"}},{"$f":"ROUNDUP(((FirstPartDegrees2!E159+FirstPartDegrees2!I159)/2+(FirstPartDegrees2!#REF!+FirstPartDegrees2!#REF!)/2+(FirstPartDegrees2!N159+V159)/2+(AB159+#REF!)/2)/4,0)","v":{"$error":"#REF!"}},{"$f":"(AQ159+AAH159+AO159)*40/12","v":{"$error":"#REF!"}}]
[null,null,{"$f":"IF($B159=\"\",\"\",للطباعة!$G$51)","v":""},{"$f":"IF($B159=\"\",\"\",للطباعة!$F$51)","v":""},{"$f":"IF($B159=\"\",\"\",للطباعة!$N$51)","v":""},{"$f":"IF($B159=\"\",\"\",للطباعة!$M$51)","v":""},{"$f":"IF($B159=\"\",\"\",للطباعة!$U$51)","v":""},{"$f":"IF($B159=\"\",\"\",للطباعة!$T$51)","v":""},{"$f":"IF($B159=\"\",\"\",للطباعة!$AB$51)","v":""},{"$f":"IF($B159=\"\",\"\",للطباعة!$AA$51)","v":""},null,{"$f":"IF($B159=\"\",\"\",للطباعة!$AJ$51)","v":""},{"$f":"IF($B159=\"\",\"\",للطباعة!$AI$51)","v":""},{"$f":"IF($B159=\"\",\"\",للطباعة!$AQ$51)","v":""},{"$f":"IF($B159=\"\",\"\",للطباعة!$AP$51)","v":""},{"$f":"IF($B159=\"\",\"\",للطباعة!$AX$51)","v":""},{"$f":"IF($B159=\"\",\"\",للطباعة!$AW$51)","v":""},{"$f":"IF($B159=\"\",\"\",للطباعة!$BE$51)","v":""},{"$f":"IF($B159=\"\",\"\",للطباعة!$BD$51)","v":""},null,{"$f":"IF($B159=\"\",\"\",للطباعة!$BM$51)","v":""},{"$f":"IF($B159=\"\",\"\",للطباعة!$BL$51)","v":""},{"$f":"IF($B159=\"\",\"\",للطباعة!$BT$51)","v":""},{"$f":"IF($B159=\"\",\"\",للطباعة!$BS$51)","v":""},{"$f":"IF($B159=\"\",\"\",للطباعة!$CA$51)","v":""},{"$f":"IF($B159=\"\",\"\",للطباعة!$BZ$51)","v":""},{"$f":"IF($B159=\"\",\"\",للطباعة!$CH$51)","v":""},{"$f":"IF($B159=\"\",\"\",للطباعة!$CG$51)","v":""}]
[null,"النقاط",{"$f":"IF($B159=\"\",\"\",(D159+D160)*100/8)","v":""},null,{"$f":"IF($B159=\"\",\"\",(F159+F160)*100/8)","v":""},null,{"$f":"IF($B159=\"\",\"\",(H159+H160)*100/8)","v":""},null,{"$f":"IF($B159=\"\",\"\",(J159+J160)*100/8)","v":""},null,null,{"$f":"IF($B159=\"\",\"\",(M159+M160)*100/8)","v":""},null,{"$f":"IF($B159=\"\",\"\",(O159+O160)*100/8)","v":""},null,{"$f":"IF($B159=\"\",\"\",(Q159+Q160)*100/8)","v":""},null,{"$f":"IF($B159=\"\",\"\",(S159+S160)*100/8)","v":""},null,null,{"$f":"IF($B159=\"\",\"\",(V159+V160)*100/8)","v":""},null,{"$f":"IF($B159=\"\",\"\",(X159+X160)*100/8)","v":""},null,{"$f":"IF($B159=\"\",\"\",(Z159+Z160)*100/8)","v":""},null,{"$f":"IF($B159=\"\",\"\",(AB159+AB160)*100/8)","v":""}]
[51,{"$f":"INDIRECT(ADDRESS(A162+1,2,,,\"للطباعة\"))","v":""},{"$f":"IF($B162=\"\",\"\",للطباعة!$E$52)","v":""},{"$f":"IF($B162=\"\",\"\",للطباعة!$D$52)","v":""},{"$f":"IF($B162=\"\",\"\",للطباعة!$L$52)","v":""},{"$f":"IF($B162=\"\",\"\",للطباعة!$K$52)","v":""},{"$f":"IF($B162=\"\",\"\",للطباعة!$S$52)","v":""},{"$f":"IF($B162=\"\",\"\",للطباعة!$R$52)","v":""},{"$f":"IF($B162=\"\",\"\",للطباعة!$Z$52)","v":""},{"$f":"IF($B162=\"\",\"\",للطباعة!$Y$52)","v":""},{"$f":"IF($B162=\"\",\"\",(C164+E164+G164+I164)/4)","v":""},{"$f":"IF($B162=\"\",\"\",للطباعة!$AH$52)","v":""},{"$f":"IF($B162=\"\",\"\",للطباعة!$AG$52)","v":""},{"$f":"IF($B162=\"\",\"\",للطباعة!$AO$52)","v":""},{"$f":"IF($B162=\"\",\"\",للطباعة!$AN$52)","v":""},{"$f":"IF($B162=\"\",\"\",للطباعة!$AV$52)","v":""},{"$f":"IF($B162=\"\",\"\",للطباعة!$AU$52)","v":""},{"$f":"IF($B162=\"\",\"\",للطباعة!$BC$52)","v":""},{"$f":"IF($B162=\"\",\"\",للطباعة!$BB$52)","v":""},{"$f":"IF($B162=\"\",\"\",(L164+N164+P164+R164)/4)","v":""},{"$f":"IF($B162=\"\",\"\",للطباعة!$BK$52)","v":""},{"$f":"IF($B162=\"\",\"\",للطباعة!$BJ$52)","v":""},{"$f":"IF($B162=\"\",\"\",للطباعة!$BR$52)","v":""},{"$f":"IF($B162=\"\",\"\",للطباعة!$BQ$52)","v":""},{"$f":"IF($B162=\"\",\"\",للطباعة!$BY$52)","v":""},{"$f":"IF($B162=\"\",\"\",للطباعة!$BX$52)","v":""},{"$f":"IF($B162=\"\",\"\",للطباعة!$CF$52)","v":""},{"$f":"IF($B162=\"\",\"\",للطباعة!$CE$52)","v":""},{"$f":"IF($B162=\"\",\"\",(U164+W164+Y164+AA164)/4)","v":""},{"$f":"IF($B162=\"\",\"\",(K162+T162+AC162)*0.04)","v":""},{"$f":"IF($B162=\"\",\"\",IF((AD162*40/12-INT(AD162*40/12))>=0.75,INT(AD162*40/12)+1,IF((AD162*40/12-INT(AD162*40/12))<0.25,INT(AD162*40/12),INT(AD159*40/12)+0.5)))","v":""},{"$f":"IF($B162=\"\",\"\",INDIRECT(ADDRESS(11+A162*2,19,1,,\"SeconedPartDegrees2\")))","v":""},{"$f":"IF($B162=\"\",\"\",INDIRECT(ADDRESS(11+A162*2,20,1,,\"SeconedPartDegrees2\")))","v":""},{"$f":"IF(OR(AF162=\"\",AG162=\"\"),\"\",AF162+AG162)","v":""},{"$f":"IF(OR(AE162=\"\",AG162=\"\"),\"\",AG162+AF162+AE162)","v":""},{"$f":"IF($B162=\"\",\"\",INDIRECT(ADDRESS(11+A162*2,21,1,,\"SeconedPartDegrees1\")))","v":""},{"$f":"IFERROR(IF(AI162=\"\",\"\",IF(((AI162+AJ162)/2-INT((AI162+AJ162)/2))>=0.75,INT((AI162+AJ162)/2)+1,IF(((AI162+AJ162)/2-INT((AI162+AJ162)/2))<0.25,INT((AI162+AJ162)/2),INT((AI162+AJ162)/2)+0.5))),\"\")","v":""},{"$f":"IF($AK162=\"\",\"\",IF(AK162=\"\",\"غياب وعليه دور ثاني\",IF(AK162<50,\"دور ثاني\",\"ناجح\")))","v":""},null,null,{"$f":"ROUNDUP(((FirstPartDegrees2!#REF!+D162)/2+(FirstPartDegrees2!F162+O162)/2+(FirstPartDegrees2!#REF!+M162)/2+(FirstPartDegrees2!C162+F162)/2 )/4,0)","v":{"$error":"#REF!"}},{"$f":"ROUNDUP(((FirstPartDegrees2!#REF!+FirstPartDegrees2!#REF!)/2+(FirstPartDegrees2!G162+J162)/2+(FirstPartDegrees2!L162+S162)/2+(FirstPartDegrees2!H162+#REF!)/2 )/4,0)","v":{"$error":"#REF!"}},{"$f":"ROUNDUP(((FirstPartDegrees2!E162+FirstPartDegrees2!I162)/2+(FirstPartDegrees2!#REF!+FirstPartDegrees2!#REF!)/2+(FirstPartDegrees2!N162+V162)/2+(AB162+#REF!)/2)/4,0)","v":{"$error":"#REF!"}},{"$f":"(AQ162+AAH162+AO162)*40/12","v":{"$error":"#REF!"}}]
[null,null,{"$f":"IF($B162=\"\",\"\",للطباعة!$G$52)","v":""},{"$f":"IF($B162=\"\",\"\",للطباعة!$F$52)","v":""},{"$f":"IF($B162=\"\",\"\",للطباعة!$N$52)","v":""},{"$f":"IF($B162=\"\",\"\",للطباعة!$M$52)","v":""},{"$f":"IF($B162=\"\",\"\",للطباعة!$U$52)","v":""},{"$f":"IF($B162=\"\",\"\",للطباعة!$T$52)","v":""},{"$f":"IF($B162=\"\",\"\",للطباعة!$AB$52)","v":""},{"$f":"IF($B162=\"\",\"\",للطباعة!$AA$52)","v":""},null,{"$f":"IF($B162=\"\",\"\",للطباعة!$AJ$52)","v":""},{"$f":"IF($B162=\"\",\"\",للطباعة!$AI$52)","v":""},{"$f":"IF($B162=\"\",\"\",للطباعة!$AQ$52)","v":""},{"$f":"IF($B162=\"\",\"\",للطباعة!$AP$52)","v":""},{"$f":"IF($B162=\"\",\"\",للطباعة!$AX$52)","v":""},{"$f":"IF($B162=\"\",\"\",للطباعة!$AW$52)","v":""},{"$f":"IF($B162=\"\",\"\",للطباعة!$BE$52)","v":""},{"$f":"IF($B162=\"\",\"\",للطباعة!$BD$52)","v":""},null,{"$f":"IF($B162=\"\",\"\",للطباعة!$BM$52)","v":""},{"$f":"IF($B162=\"\",\"\",للطباعة!$BL$52)","v":""},{"$f":"IF($B162=\"\",\"\",للطباعة!$BT$52)","v":""},{"$f":"IF($B162=\"\",\"\",للطباعة!$BS$52)","v":""},{"$f":"IF($B162=\"\",\"\",للطباعة!$CA$52)","v":""},{"$f":"IF($B162=\"\",\"\",للطباعة!$BZ$52)","v":""},{"$f":"IF($B162=\"\",\"\",للطباعة!$CH$52)","v":""},{"$f":"IF($B162=\"\",\"\",للطباعة!$CG$52)","v":""}]
[null,"النقاط",{"$f":"IF($B162=\"\",\"\",(D162+D163)*100/8)","v":""},null,{"$f":"IF($B162=\"\",\"\",(F162+F163)*100/8)","v":""},null,{"$f":"IF($B162=\"\",\"\",(H162+H163)*100/8)","v":""},null,{"$f":"IF($B162=\"\",\"\",(J162+J163)*100/8)","v":""},null,null,{"$f":"IF($B162=\"\",\"\",(M162+M163)*100/8)","v":""},null,{"$f":"IF($B162=\"\",\"\",(O162+O163)*100/8)","v":""},null,{"$f":"IF($B162=\"\",\"\",(Q162+Q163)*100/8)","v":""},null,{"$f":"IF($B162=\"\",\"\",(S162+S163)*100/8)","v":""},null,null,{"$f":"IF($B162=\"\",\"\",(V162+V163)*100/8)","v":""},null,{"$f":"IF($B162=\"\",\"\",(X162+X163)*100/8)","v":""},null,{"$f":"IF($B162=\"\",\"\",(Z162+Z163)*100/8)","v":""},null,{"$f":"IF($B162=\"\",\"\",(AB162+AB163)*100/8)","v":""}]
[52,{"$f":"INDIRECT(ADDRESS(A165+1,2,,,\"للطباعة\"))","v":""},{"$f":"IF($B165=\"\",\"\",للطباعة!$E$53)","v":""},{"$f":"IF($B165=\"\",\"\",للطباعة!$D$53)","v":""},{"$f":"IF($B165=\"\",\"\",للطباعة!$L$53)","v":""},{"$f":"IF($B165=\"\",\"\",للطباعة!$K$53)","v":""},{"$f":"IF($B165=\"\",\"\",للطباعة!$S$53)","v":""},{"$f":"IF($B165=\"\",\"\",للطباعة!$R$53)","v":""},{"$f":"IF($B165=\"\",\"\",للطباعة!$Z$53)","v":""},{"$f":"IF($B165=\"\",\"\",للطباعة!$Y$53)","v":""},{"$f":"IF($B165=\"\",\"\",(C167+E167+G167+I167)/4)","v":""},{"$f":"IF($B165=\"\",\"\",للطباعة!$AH$53)","v":""},{"$f":"IF($B165=\"\",\"\",للطباعة!$AG$53)","v":""},{"$f":"IF($B165=\"\",\"\",للطباعة!$AO$53)","v":""},{"$f":"IF($B165=\"\",\"\",للطباعة!$AN$53)","v":""},{"$f":"IF($B165=\"\",\"\",للطباعة!$AV$53)","v":""},{"$f":"IF($B165=\"\",\"\",للطباعة!$AU$53)","v":""},{"$f":"IF($B165=\"\",\"\",للطباعة!$BC$53)","v":""},{"$f":"IF($B165=\"\",\"\",للطباعة!$BB$53)","v":""},{"$f":"IF($B165=\"\",\"\",(L167+N167+P167+R167)/4)","v":""},{"$f":"IF($B165=\"\",\"\",للطباعة!$BK$53)","v":""},{"$f":"IF($B165=\"\",\"\",للطباعة!$BJ$53)","v":""},{"$f":"IF($B165=\"\",\"\",للطباعة!$BR$53)","v":""},{"$f":"IF($B165=\"\",\"\",للطباعة!$BQ$53)","v":""},{"$f":"IF($B165=\"\",\"\",للطباعة!$BY$53)","v":""},{"$f":"IF($B165=\"\",\"\",للطباعة!$BX$53)","v":""},{"$f":"IF($B165=\"\",\"\",للطباعة!$CF$53)","v":""},{"$f":"IF($B165=\"\",\"\",للطباعة!$CE$53)","v":""},{"$f":"IF($B165=\"\",\"\",(U167+W167+Y167+AA167)/4)","v":""},{"$f":"IF($B165=\"\",\"\",(K165+T165+AC165)*0.04)","v":""},{"$f":"IF($B165=\"\",\"\",IF((AD165*40/12-INT(AD165*40/12))>=0.75,INT(AD165*40/12)+1,IF((AD165*40/12-INT(AD165*40/12))<0.25,INT(AD165*40/12),INT(AD162*40/12)+0.5)))","v":""},{"$f":"IF($B165=\"\",\"\",INDIRECT(ADDRESS(11+A165*2,19,1,,\"SeconedPartDegrees2\")))","v":""},{"$f":"IF($B165=\"\",\"\",INDIRECT(ADDRESS(11+A165*2,20,1,,\"SeconedPartDegrees2\")))","v":""},{"$f":"IF(OR(AF165=\"\",AG165=\"\"),\"\",AF165+AG165)","v":""},{"$f":"IF(OR(AE165=\"\",AG165=\"\"),\"\",AG165+AF165+AE165)","v":""},{"$f":"IF($B165=\"\",\"\",INDIRECT(ADDRESS(11+A165*2,21,1,,\"SeconedPartDegrees1\")))","v":""},{"$f":"IFERROR(IF(AI165=\"\",\"\",IF(((AI165+AJ165)/2-INT((AI165+AJ165)/2))>=0.75,INT((AI165+AJ165)/2)+1,IF(((AI165+AJ165)/2-INT((AI165+AJ165)/2))<0.25,INT((AI165+AJ165)/2),INT((AI165+AJ165)/2)+0.5))),\"\")","v":""},{"$f":"IF($AK165=\"\",\"\",IF(AK165=\"\",\"غياب وعليه دور ثاني\",IF(AK165<50,\"دور ثاني\",\"ناجح\")))","v":""},null,null,{"$f":"ROUNDUP(((FirstPartDegrees2!#REF!+D165)/2+(FirstPartDegrees2!F165+O165)/2+(FirstPartDegrees2!#REF!+M165)/2+(FirstPartDegrees2!C165+F165)/2 )/4,0)","v":{"$error":"#REF!"}},{"$f":"ROUNDUP(((FirstPartDegrees2!#REF!+FirstPartDegrees2!#REF!)/2+(FirstPartDegrees2!G165+J165)/2+(FirstPartDegrees2!L165+S165)/2+(FirstPartDegrees2!H165+#REF!)/2 )/4,0)","v":{"$error":"#REF!"}},{"$f":"ROUNDUP(((FirstPartDegrees2!E165+FirstPartDegrees2!I165)/2+(FirstPartDegrees2!#REF!+FirstPartDegrees2!#REF!)/2+(FirstPartDegrees2!N165+V165)/2+(AB165+#REF!)/2)/4,0)","v":{"$error":"#REF!"}},{"$f":"(AQ165+AAH165+AO165)*40/12","v":{"$error":"#REF!"}}]
[null,null,{"$f":"IF($B165=\"\",\"\",للطباعة!$G$53)","v":""},{"$f":"IF($B165=\"\",\"\",للطباعة!$F$53)","v":""},{"$f":"IF($B165=\"\",\"\",للطباعة!$N$53)","v":""},{"$f":"IF($B165=\"\",\"\",للطباعة!$M$53)","v":""},{"$f":"IF($B165=\"\",\"\",للطباعة!$U$53)","v":""},{"$f":"IF($B165=\"\",\"\",للطباعة!$T$53)","v":""},{"$f":"IF($B165=\"\",\"\",للطباعة!$AB$53)","v":""},{"$f":"IF($B165=\"\",\"\",للطباعة!$AA$53)","v":""},null,{"$f":"IF($B165=\"\",\"\",للطباعة!$AJ$53)","v":""},{"$f":"IF($B165=\"\",\"\",للطباعة!$AI$53)","v":""},{"$f":"IF($B165=\"\",\"\",للطباعة!$AQ$53)","v":""},{"$f":"IF($B165=\"\",\"\",للطباعة!$AP$53)","v":""},{"$f":"IF($B165=\"\",\"\",للطباعة!$AX$53)","v":""},{"$f":"IF($B165=\"\",\"\",للطباعة!$AW$53)","v":""},{"$f":"IF($B165=\"\",\"\",للطباعة!$BE$53)","v":""},{"$f":"IF($B165=\"\",\"\",للطباعة!$BD$53)","v":""},null,{"$f":"IF($B165=\"\",\"\",للطباعة!$BM$53)","v":""},{"$f":"IF($B165=\"\",\"\",للطباعة!$BL$53)","v":""},{"$f":"IF($B165=\"\",\"\",للطباعة!$BT$53)","v":""},{"$f":"IF($B165=\"\",\"\",للطباعة!$BS$53)","v":""},{"$f":"IF($B165=\"\",\"\",للطباعة!$CA$53)","v":""},{"$f":"IF($B165=\"\",\"\",للطباعة!$BZ$53)","v":""},{"$f":"IF($B165=\"\",\"\",للطباعة!$CH$53)","v":""},{"$f":"IF($B165=\"\",\"\",للطباعة!$CG$53)","v":""}]
[null,"النقاط",{"$f":"IF($B165=\"\",\"\",(D165+D166)*100/8)","v":""},null,{"$f":"IF($B165=\"\",\"\",(F165+F166)*100/8)","v":""},null,{"$f":"IF($B165=\"\",\"\",(H165+H166)*100/8)","v":""},null,{"$f":"IF($B165=\"\",\"\",(J165+J166)*100/8)","v":""},null,null,{"$f":"IF($B165=\"\",\"\",(M165+M166)*100/8)","v":""},null,{"$f":"IF($B165=\"\",\"\",(O165+O166)*100/8)","v":""},null,{"$f":"IF($B165=\"\",\"\",(Q165+Q166)*100/8)","v":""},null,{"$f":"IF($B165=\"\",\"\",(S165+S166)*100/8)","v":""},null,null,{"$f":"IF($B165=\"\",\"\",(V165+V166)*100/8)","v":""},null,{"$f":"IF($B165=\"\",\"\",(X165+X166)*100/8)","v":""},null,{"$f":"IF($B165=\"\",\"\",(Z165+Z166)*100/8)","v":""},null,{"$f":"IF($B165=\"\",\"\",(AB165+AB166)*100/8)","v":""}]
[53,{"$f":"INDIRECT(ADDRESS(A168+1,2,,,\"للطباعة\"))","v":""},{"$f":"IF($B168=\"\",\"\",للطباعة!$E$54)","v":""},{"$f":"IF($B168=\"\",\"\",للطباعة!$D$54)","v":""},{"$f":"IF($B168=\"\",\"\",للطباعة!$L$54)","v":""},{"$f":"IF($B168=\"\",\"\",للطباعة!$K$54)","v":""},{"$f":"IF($B168=\"\",\"\",للطباعة!$S$54)","v":""},{"$f":"IF($B168=\"\",\"\",للطباعة!$R$54)","v":""},{"$f":"IF($B168=\"\",\"\",للطباعة!$Z$54)","v":""},{"$f":"IF($B168=\"\",\"\",للطباعة!$Y$54)","v":""},{"$f":"IF($B168=\"\",\"\",(C170+E170+G170+I170)/4)","v":""},{"$f":"IF($B168=\"\",\"\",للطباعة!$AH$54)","v":""},{"$f":"IF($B168=\"\",\"\",للطباعة!$AG$54)","v":""},{"$f":"IF($B168=\"\",\"\",للطباعة!$AO$54)","v":""},{"$f":"IF($B168=\"\",\"\",للطباعة!$AN$54)","v":""},{"$f":"IF($B168=\"\",\"\",للطباعة!$AV$54)","v":""},{"$f":"IF($B168=\"\",\"\",للطباعة!$AU$54)","v":""},{"$f":"IF($B168=\"\",\"\",للطباعة!$BC$54)","v":""},{"$f":"IF($B168=\"\",\"\",للطباعة!$BB$54)","v":""},{"$f":"IF($B168=\"\",\"\",(L170+N170+P170+R170)/4)","v":""},{"$f":"IF($B168=\"\",\"\",للطباعة!$BK$54)","v":""},{"$f":"IF($B168=\"\",\"\",للطباعة!$BJ$54)","v":""},{"$f":"IF($B168=\"\",\"\",للطباعة!$BR$54)","v":""},{"$f":"IF($B168=\"\",\"\",للطباعة!$BQ$54)","v":""},{"$f":"IF($B168=\"\",\"\",للطباعة!$BY$54)","v":""},{"$f":"IF($B168=\"\",\"\",للطباعة!$BX$54)","v":""},{"$f":"IF($B168=\"\",\"\",للطباعة!$CF$54)","v":""},{"$f":"IF($B168=\"\",\"\",للطباعة!$CE$54)","v":""},{"$f":"IF($B168=\"\",\"\",(U170+W170+Y170+AA170)/4)","v":""},{"$f":"IF($B168=\"\",\"\",(K168+T168+AC168)*0.04)","v":""},{"$f":"IF($B168=\"\",\"\",IF((AD168*40/12-INT(AD168*40/12))>=0.75,INT(AD168*40/12)+1,IF((AD168*40/12-INT(AD168*40/12))<0.25,INT(AD168*40/12),INT(AD165*40/12)+0.5)))","v":""},{"$f":"IF($B168=\"\",\"\",INDIRECT(ADDRESS(11+A168*2,19,1,,\"SeconedPartDegrees2\")))","v":""},{"$f":"IF($B168=\"\",\"\",INDIRECT(ADDRESS(11+A168*2,20,1,,\"SeconedPartDegrees2\")))","v":""},{"$f":"IF(OR(AF168=\"\",AG168=\"\"),\"\",AF168+AG168)","v":""},{"$f":"IF(OR(AE168=\"\",AG168=\"\"),\"\",AG168+AF168+AE168)","v":""},{"$f":"IF($B168=\"\",\"\",INDIRECT(ADDRESS(11+A168*2,21,1,,\"SeconedPartDegrees1\")))","v":""},{"$f":"IFERROR(IF(AI168=\"\",\"\",IF(((AI168+AJ168)/2-INT((AI168+AJ168)/2))>=0.75,INT((AI168+AJ168)/2)+1,IF(((AI168+AJ168)/2-INT((AI168+AJ168)/2))<0.25,INT((AI168+AJ168)/2),INT((AI168+AJ168)/2)+0.5))),\"\")","v":""},{"$f":"IF($AK168=\"\",\"\",IF(AK168=\"\",\"غياب وعليه دور ثاني\",IF(AK168<50,\"دور ثاني\",\"ناجح\")))","v":""},null,null,{"$f":"ROUNDUP(((FirstPartDegrees2!#REF!+D168)/2+(FirstPartDegrees2!F168+O168)/2+(FirstPartDegrees2!#REF!+M168)/2+(FirstPartDegrees2!C168+F168)/2 )/4,0)","v":{"$error":"#REF!"}},{"$f":"ROUNDUP(((FirstPartDegrees2!#REF!+FirstPartDegrees2!#REF!)/2+(FirstPartDegrees2!G168+J168)/2+(FirstPartDegrees2!L168+S168)/2+(FirstPartDegrees2!H168+#REF!)/2 )/4,0)","v":{"$error":"#REF!"}},{"$f":"ROUNDUP(((FirstPartDegrees2!E168+FirstPartDegrees2!I168)/2+(FirstPartDegrees2!#REF!+FirstPartDegrees2!#REF!)/2+(FirstPartDegrees2!N168+V168)/2+(AB168+#REF!)/2)/4,0)","v":{"$error":"#REF!"}},{"$f":"(AQ168+AAH168+AO168)*40/12","v":{"$error":"#REF!"}}]
[null,null,{"$f":"IF($B168=\"\",\"\",للطباعة!$G$54)","v":""},{"$f":"IF($B168=\"\",\"\",للطباعة!$F$54)","v":""},{"$f":"IF($B168=\"\",\"\",للطباعة!$N$54)","v":""},{"$f":"IF($B168=\"\",\"\",للطباعة!$M$54)","v":""},{"$f":"IF($B168=\"\",\"\",للطباعة!$U$54)","v":""},{"$f":"IF($B168=\"\",\"\",للطباعة!$T$54)","v":""},{"$f":"IF($B168=\"\",\"\",للطباعة!$AB$54)","v":""},{"$f":"IF($B168=\"\",\"\",للطباعة!$AA$54)","v":""},null,{"$f":"IF($B168=\"\",\"\",للطباعة!$AJ$54)","v":""},{"$f":"IF($B168=\"\",\"\",للطباعة!$AI$54)","v":""},{"$f":"IF($B168=\"\",\"\",للطباعة!$AQ$54)","v":""},{"$f":"IF($B168=\"\",\"\",للطباعة!$AP$54)","v":""},{"$f":"IF($B168=\"\",\"\",للطباعة!$AX$54)","v":""},{"$f":"IF($B168=\"\",\"\",للطباعة!$AW$54)","v":""},{"$f":"IF($B168=\"\",\"\",للطباعة!$BE$54)","v":""},{"$f":"IF($B168=\"\",\"\",للطباعة!$BD$54)","v":""},null,{"$f":"IF($B168=\"\",\"\",للطباعة!$BM$54)","v":""},{"$f":"IF($B168=\"\",\"\",للطباعة!$BL$54)","v":""},{"$f":"IF($B168=\"\",\"\",للطباعة!$BT$54)","v":""},{"$f":"IF($B168=\"\",\"\",للطباعة!$BS$54)","v":""},{"$f":"IF($B168=\"\",\"\",للطباعة!$CA$54)","v":""},{"$f":"IF($B168=\"\",\"\",للطباعة!$BZ$54)","v":""},{"$f":"IF($B168=\"\",\"\",للطباعة!$CH$54)","v":""},{"$f":"IF($B168=\"\",\"\",للطباعة!$CG$54)","v":""}]
[null,"النقاط",{"$f":"IF($B168=\"\",\"\",(D168+D169)*100/8)","v":""},null,{"$f":"IF($B168=\"\",\"\",(F168+F169)*100/8)","v":""},null,{"$f":"IF($B168=\"\",\"\",(H168+H169)*100/8)","v":""},null,{"$f":"IF($B168=\"\",\"\",(J168+J169)*100/8)","v":""},null,null,{"$f":"IF($B168=\"\",\"\",(M168+M169)*100/8)","v":""},null,{"$f":"IF($B168=\"\",\"\",(O168+O169)*100/8)","v":""},null,{"$f":"IF($B168=\"\",\"\",(Q168+Q169)*100/8)","v":""},null,{"$f":"IF($B168=\"\",\"\",(S168+S169)*100/8)","v":""},null,null,{"$f":"IF($B168=\"\",\"\",(V168+V169)*100/8)","v":""},null,{"$f":"IF($B168=\"\",\"\",(X168+X169)*100/8)","v":""},null,{"$f":"IF($B168=\"\",\"\",(Z168+Z169)*100/8)","v":""},null,{"$f":"IF($B168=\"\",\"\",(AB168+AB169)*100/8)","v":""}]
[54,{"$f":"INDIRECT(ADDRESS(A171+1,2,,,\"للطباعة\"))","v":""},{"$f":"IF($B171=\"\",\"\",للطباعة!$E$55)","v":""},{"$f":"IF($B171=\"\",\"\",للطباعة!$D$55)","v":""},{"$f":"IF($B171=\"\",\"\",للطباعة!$L$55)","v":""},{"$f":"IF($B171=\"\",\"\",للطباعة!$K$55)","v":""},{"$f":"IF($B171=\"\",\"\",للطباعة!$S$55)","v":""},{"$f":"IF($B171=\"\",\"\",للطباعة!$R$55)","v":""},{"$f":"IF($B171=\"\",\"\",للطباعة!$Z$55)","v":""},{"$f":"IF($B171=\"\",\"\",للطباعة!$Y$55)","v":""},{"$f":"IF($B171=\"\",\"\",(C173+E173+G173+I173)/4)","v":""},{"$f":"IF($B171=\"\",\"\",للطباعة!$AH$55)","v":""},{"$f":"IF($B171=\"\",\"\",للطباعة!$AG$55)","v":""},{"$f":"IF($B171=\"\",\"\",للطباعة!$AO$55)","v":""},{"$f":"IF($B171=\"\",\"\",للطباعة!$AN$55)","v":""},{"$f":"IF($B171=\"\",\"\",للطباعة!$AV$55)","v":""},{"$f":"IF($B171=\"\",\"\",للطباعة!$AU$55)","v":""},{"$f":"IF($B171=\"\",\"\",للطباعة!$BC$55)","v":""},{"$f":"IF($B171=\"\",\"\",للطباعة!$BB$55)","v":""},{"$f":"IF($B171=\"\",\"\",(L173+N173+P173+R173)/4)","v":""},{"$f":"IF($B171=\"\",\"\",للطباعة!$BK$55)","v":""},{"$f":"IF($B171=\"\",\"\",للطباعة!$BJ$55)","v":""},{"$f":"IF($B171=\"\",\"\",للطباعة!$BR$55)","v":""},{"$f":"IF($B171=\"\",\"\",للطباعة!$BQ$55)","v":""},{"$f":"IF($B171=\"\",\"\",للطباعة!$BY$55)","v":""},{"$f":"IF($B171=\"\",\"\",للطباعة!$BX$55)","v":""},{"$f":"IF($B171=\"\",\"\",للطباعة!$CF$55)","v":""},{"$f":"IF($B171=\"\",\"\",للطباعة!$CE$55)","v":""},{"$f":"IF($B171=\"\",\"\",(U173+W173+Y173+AA173)/4)","v":""},{"$f":"IF($B171=\"\",\"\",(K171+T171+AC171)*0.04)","v":""},{"$f":"IF($B171=\"\",\"\",IF((AD171*40/12-INT(AD171*40/12))>=0.75,INT(AD171*40/12)+1,IF((AD171*40/12-INT(AD171*40/12))<0.25,INT(AD171*40/12),INT(AD168*40/12)+0.5)))","v":""},{"$f":"IF($B171=\"\",\"\",INDIRECT(ADDRESS(11+A171*2,19,1,,\"SeconedPartDegrees2\")))","v":""},{"$f":"IF($B171=\"\",\"\",INDIRECT(ADDRESS(11+A171*2,20,1,,\"SeconedPartDegrees2\")))","v":""},{"$f":"IF(OR(AF171=\"\",AG171=\"\"),\"\",AF171+AG171)","v":""},{"$f":"IF(OR(AE171=\"\",AG171=\"\"),\"\",AG171+AF171+AE171)","v":""},{"$f":"IF($B171=\"\",\"\",INDIRECT(ADDRESS(11+A171*2,21,1,,\"SeconedPartDegrees1\")))","v":""},{"$f":"IFERROR(IF(AI171=\"\",\"\",IF(((AI171+AJ171)/2-INT((AI171+AJ171)/2))>=0.75,INT((AI171+AJ171)/2)+1,IF(((AI171+AJ171)/2-INT((AI171+AJ171)/2))<0.25,INT((AI171+AJ171)/2),INT((AI171+AJ171)/2)+0.5))),\"\")","v":""},{"$f":"IF($AK171=\"\",\"\",IF(AK171=\"\",\"غياب وعليه دور ثاني\",IF(AK171<50,\"دور ثاني\",\"ناجح\")))","v":""},null,null,{"$f":"ROUNDUP(((FirstPartDegrees2!#REF!+D171)/2+(FirstPartDegrees2!F171+O171)/2+(FirstPartDegrees2!#REF!+M171)/2+(FirstPartDegrees2!C171+F171)/2 )/4,0)","v":{"$error":"#REF!"}},{"$f":"ROUNDUP(((FirstPartDegrees2!#REF!+FirstPartDegrees2!#REF!)/2+(FirstPartDegrees2!G171+J171)/2+(FirstPartDegrees2!L171+S171)/2+(FirstPartDegrees2!H171+#REF!)/2 )/4,0)","v":{"$error":"#REF!"}},{"$f":"ROUNDUP(((FirstPartDegrees2!E171+FirstPartDegrees2!I171)/2+(FirstPartDegrees2!#REF!+FirstPartDegrees2!#REF!)/2+(FirstPartDegrees2!N171+V171)/2+(AB171+#REF!)/2)/4,0)","v":{"$error":"#REF!"}},{"$f":"(AQ171+AAH171+AO171)*40/12","v":{"$error":"#REF!"}}]
[null,null,{"$f":"IF($B171=\"\",\"\",للطباعة!$G$55)","v":""},{"$f":"IF($B171=\"\",\"\",للطباعة!$F$55)","v":""},{"$f":"IF($B171=\"\",\"\",للطباعة!$N$55)","v":""},{"$f":"IF($B171=\"\",\"\",للطباعة!$M$55)","v":""},{"$f":"IF($B171=\"\",\"\",للطباعة!$U$55)","v":""},{"$f":"IF($B171=\"\",\"\",للطباعة!$T$55)","v":""},{"$f":"IF($B171=\"\",\"\",للطباعة!$AB$55)","v":""},{"$f":"IF($B171=\"\",\"\",للطباعة!$AA$55)","v":""},null,{"$f":"IF($B171=\"\",\"\",للطباعة!$AJ$55)","v":""},{"$f":"IF($B171=\"\",\"\",للطباعة!$AI$55)","v":""},{"$f":"IF($B171=\"\",\"\",للطباعة!$AQ$55)","v":""},{"$f":"IF($B171=\"\",\"\",للطباعة!$AP$55)","v":""},{"$f":"IF($B171=\"\",\"\",للطباعة!$AX$55)","v":""},{"$f":"IF($B171=\"\",\"\",للطباعة!$AW$55)","v":""},{"$f":"IF($B171=\"\",\"\",للطباعة!$BE$55)","v":""},{"$f":"IF($B171=\"\",\"\",للطباعة!$BD$55)","v":""},null,{"$f":"IF($B171=\"\",\"\",للطباعة!$BM$55)","v":""},{"$f":"IF($B171=\"\",\"\",للطباعة!$BL$55)","v":""},{"$f":"IF($B171=\"\",\"\",للطباعة!$BT$55)","v":""},{"$f":"IF($B171=\"\",\"\",للطباعة!$BS$55)","v":""},{"$f":"IF($B171=\"\",\"\",للطباعة!$CA$55)","v":""},{"$f":"IF($B171=\"\",\"\",للطباعة!$BZ$55)","v":""},{"$f":"IF($B171=\"\",\"\",للطباعة!$CH$55)","v":""},{"$f":"IF($B171=\"\",\"\",للطباعة!$CG$55)","v":""}]
[null,"النقاط",{"$f":"IF($B171=\"\",\"\",(D171+D172)*100/8)","v":""},null,{"$f":"IF($B171=\"\",\"\",(F171+F172)*100/8)","v":""},null,{"$f":"IF($B171=\"\",\"\",(H171+H172)*100/8)","v":""},null,{"$f":"IF($B171=\"\",\"\",(J171+J172)*100/8)","v":""},null,null,{"$f":"IF($B171=\"\",\"\",(M171+M172)*100/8)","v":""},null,{"$f":"IF($B171=\"\",\"\",(O171+O172)*100/8)","v":""},null,{"$f":"IF($B171=\"\",\"\",(Q171+Q172)*100/8)","v":""},null,{"$f":"IF($B171=\"\",\"\",(S171+S172)*100/8)","v":""},null,null,{"$f":"IF($B171=\"\",\"\",(V171+V172)*100/8)","v":""},null,{"$f":"IF($B171=\"\",\"\",(X171+X172)*100/8)","v":""},null,{"$f":"IF($B171=\"\",\"\",(Z171+Z172)*100/8)","v":""},null,{"$f":"IF($B171=\"\",\"\",(AB171+AB172)*100/8)","v":""}]
[55,{"$f":"INDIRECT(ADDRESS(A174+1,2,,,\"للطباعة\"))","v":""},{"$f":"IF($B174=\"\",\"\",للطباعة!$E$56)","v":""},{"$f":"IF($B174=\"\",\"\",للطباعة!$D$56)","v":""},{"$f":"IF($B174=\"\",\"\",للطباعة!$L$56)","v":""},{"$f":"IF($B174=\"\",\"\",للطباعة!$K$56)","v":""},{"$f":"IF($B174=\"\",\"\",للطباعة!$S$56)","v":""},{"$f":"IF($B174=\"\",\"\",للطباعة!$R$56)","v":""},{"$f":"IF($B174=\"\",\"\",للطباعة!$Z$56)","v":""},{"$f":"IF($B174=\"\",\"\",للطباعة!$Y$56)","v":""},{"$f":"IF($B174=\"\",\"\",(C176+E176+G176+I176)/4)","v":""},{"$f":"IF($B174=\"\",\"\",للطباعة!$AH$56)","v":""},{"$f":"IF($B174=\"\",\"\",للطباعة!$AG$56)","v":""},{"$f":"IF($B174=\"\",\"\",للطباعة!$AO$56)","v":""},{"$f":"IF($B174=\"\",\"\",للطباعة!$AN$56)","v":""},{"$f":"IF($B174=\"\",\"\",للطباعة!$AV$56)","v":""},{"$f":"IF($B174=\"\",\"\",للطباعة!$AU$56)","v":""},{"$f":"IF($B174=\"\",\"\",للطباعة!$BC$56)","v":""},{"$f":"IF($B174=\"\",\"\",للطباعة!$BB$56)","v":""},{"$f":"IF($B174=\"\",\"\",(L176+N176+P176+R176)/4)","v":""},{"$f":"IF($B174=\"\",\"\",للطباعة!$BK$56)","v":""},{"$f":"IF($B174=\"\",\"\",للطباعة!$BJ$56)","v":""},{"$f":"IF($B174=\"\",\"\",للطباعة!$BR$56)","v":""},{"$f":"IF($B174=\"\",\"\",للطباعة!$BQ$56)","v":""},{"$f":"IF($B174=\"\",\"\",للطباعة!$BY$56)","v":""},{"$f":"IF($B174=\"\",\"\",للطباعة!$BX$56)","v":""},{"$f":"IF($B174=\"\",\"\",للطباعة!$CF$56)","v":""},{"$f":"IF($B174=\"\",\"\",للطباعة!$CE$56)","v":""},{"$f":"IF($B174=\"\",\"\",(U176+W176+Y176+AA176)/4)","v":""},{"$f":"IF($B174=\"\",\"\",(K174+T174+AC174)*0.04)","v":""},{"$f":"IF($B174=\"\",\"\",IF((AD174*40/12-INT(AD174*40/12))>=0.75,INT(AD174*40/12)+1,IF((AD174*40/12-INT(AD174*40/12))<0.25,INT(AD174*40/12),INT(AD171*40/12)+0.5)))","v":""},{"$f":"IF($B174=\"\",\"\",INDIRECT(ADDRESS(11+A174*2,19,1,,\"SeconedPartDegrees2\")))","v":""},{"$f":"IF($B174=\"\",\"\",INDIRECT(ADDRESS(11+A174*2,20,1,,\"SeconedPartDegrees2\")))","v":""},{"$f":"IF(OR(AF174=\"\",AG174=\"\"),\"\",AF174+AG174)","v":""},{"$f":"IF(OR(AE174=\"\",AG174=\"\"),\"\",AG174+AF174+AE174)","v":""},{"$f":"IF($B174=\"\",\"\",INDIRECT(ADDRESS(11+A174*2,21,1,,\"SeconedPartDegrees1\")))","v":""},{"$f":"IFERROR(IF(AI174=\"\",\"\",IF(((AI174+AJ174)/2-INT((AI174+AJ174)/2))>=0.75,INT((AI174+AJ174)/2)+1,IF(((AI174+AJ174)/2-INT((AI174+AJ174)/2))<0.25,INT((AI174+AJ174)/2),INT((AI174+AJ174)/2)+0.5))),\"\")","v":""},{"$f":"IF($AK174=\"\",\"\",IF(AK174=\"\",\"غياب وعليه دور ثاني\",IF(AK174<50,\"دور ثاني\",\"ناجح\")))","v":""},null,null,{"$f":"ROUNDUP(((FirstPartDegrees2!#REF!+D174)/2+(FirstPartDegrees2!F174+O174)/2+(FirstPartDegrees2!#REF!+M174)/2+(FirstPartDegrees2!C174+F174)/2 )/4,0)","v":{"$error":"#REF!"}},{"$f":"ROUNDUP(((FirstPartDegrees2!#REF!+FirstPartDegrees2!#REF!)/2+(FirstPartDegrees2!G174+J174)/2+(FirstPartDegrees2!L174+S174)/2+(FirstPartDegrees2!H174+#REF!)/2 )/4,0)","v":{"$error":"#REF!"}},{"$f":"ROUNDUP(((FirstPartDegrees2!E174+FirstPartDegrees2!I174)/2+(FirstPartDegrees2!#REF!+FirstPartDegrees2!#REF!)/2+(FirstPartDegrees2!N174+V174)/2+(AB174+#REF!)/2)/4,0)","v":{"$error":"#REF!"}},{"$f":"(AQ174+AAH174+AO174)*40/12","v":{"$error":"#REF!"}}]
[null,null,{"$f":"IF($B174=\"\",\"\",للطباعة!$G$56)","v":""},{"$f":"IF($B174=\"\",\"\",للطباعة!$F$56)","v":""},{"$f":"IF($B174=\"\",\"\",للطباعة!$N$56)","v":""},{"$f":"IF($B174=\"\",\"\",للطباعة!$M$56)","v":""},{"$f":"IF($B174=\"\",\"\",للطباعة!$U$56)","v":""},{"$f":"IF($B174=\"\",\"\",للطباعة!$T$56)","v":""},{"$f":"IF($B174=\"\",\"\",للطباعة!$AB$56)","v":""},{"$f":"IF($B174=\"\",\"\",للطباعة!$AA$56)","v":""},null,{"$f":"IF($B174=\"\",\"\",للطباعة!$AJ$56)","v":""},{"$f":"IF($B174=\"\",\"\",للطباعة!$AI$56)","v":""},{"$f":"IF($B174=\"\",\"\",للطباعة!$AQ$56)","v":""},{"$f":"IF($B174=\"\",\"\",للطباعة!$AP$56)","v":""},{"$f":"IF($B174=\"\",\"\",للطباعة!$AX$56)","v":""},{"$f":"IF($B174=\"\",\"\",للطباعة!$AW$56)","v":""},{"$f":"IF($B174=\"\",\"\",للطباعة!$BE$56)","v":""},{"$f":"IF($B174=\"\",\"\",للطباعة!$BD$56)","v":""},null,{"$f":"IF($B174=\"\",\"\",للطباعة!$BM$56)","v":""},{"$f":"IF($B174=\"\",\"\",للطباعة!$BL$56)","v":""},{"$f":"IF($B174=\"\",\"\",للطباعة!$BT$56)","v":""},{"$f":"IF($B174=\"\",\"\",للطباعة!$BS$56)","v":""},{"$f":"IF($B174=\"\",\"\",للطباعة!$CA$56)","v":""},{"$f":"IF($B174=\"\",\"\",للطباعة!$BZ$56)","v":""},{"$f":"IF($B174=\"\",\"\",للطباعة!$CH$56)","v":""},{"$f":"IF($B174=\"\",\"\",للطباعة!$CG$56)","v":""}]
[null,"النقاط",{"$f":"IF($B174=\"\",\"\",(D174+D175)*100/8)","v":""},null,{"$f":"IF($B174=\"\",\"\",(F174+F175)*100/8)","v":""},null,{"$f":"IF($B174=\"\",\"\",(H174+H175)*100/8)","v":""},null,{"$f":"IF($B174=\"\",\"\",(J174+J175)*100/8)","v":""},null,null,{"$f":"IF($B174=\"\",\"\",(M174+M175)*100/8)","v":""},null,{"$f":"IF($B174=\"\",\"\",(O174+O175)*100/8)","v":""},null,{"$f":"IF($B174=\"\",\"\",(Q174+Q175)*100/8)","v":""},null,{"$f":"IF($B174=\"\",\"\",(S174+S175)*100/8)","v":""},null,null,{"$f":"IF($B174=\"\",\"\",(V174+V175)*100/8)","v":""},null,{"$f":"IF($B174=\"\",\"\",(X174+X175)*100/8)","v":""},null,{"$f":"IF($B174=\"\",\"\",(Z174+Z175)*100/8)","v":""},null,{"$f":"IF($B174=\"\",\"\",(AB174+AB175)*100/8)","v":""}]
[56,{"$f":"INDIRECT(ADDRESS(A177+1,2,,,\"للطباعة\"))","v":""},{"$f":"IF($B177=\"\",\"\",للطباعة!$E$57)","v":""},{"$f":"IF($B177=\"\",\"\",للطباعة!$D$57)","v":""},{"$f":"IF($B177=\"\",\"\",للطباعة!$L$57)","v":""},{"$f":"IF($B177=\"\",\"\",للطباعة!$K$57)","v":""},{"$f":"IF($B177=\"\",\"\",للطباعة!$S$57)","v":""},{"$f":"IF($B177=\"\",\"\",للطباعة!$R$57)","v":""},{"$f":"IF($B177=\"\",\"\",للطباعة!$Z$57)","v":""},{"$f":"IF($B177=\"\",\"\",للطباعة!$Y$57)","v":""},{"$f":"IF($B177=\"\",\"\",(C179+E179+G179+I179)/4)","v":""},{"$f":"IF($B177=\"\",\"\",للطباعة!$AH$57)","v":""},{"$f":"IF($B177=\"\",\"\",للطباعة!$AG$57)","v":""},{"$f":"IF($B177=\"\",\"\",للطباعة!$AO$57)","v":""},{"$f":"IF($B177=\"\",\"\",للطباعة!$AN$57)","v":""},{"$f":"IF($B177=\"\",\"\",للطباعة!$AV$57)","v":""},{"$f":"IF($B177=\"\",\"\",للطباعة!$AU$57)","v":""},{"$f":"IF($B177=\"\",\"\",للطباعة!$BC$57)","v":""},{"$f":"IF($B177=\"\",\"\",للطباعة!$BB$57)","v":""},{"$f":"IF($B177=\"\",\"\",(L179+N179+P179+R179)/4)","v":""},{"$f":"IF($B177=\"\",\"\",للطباعة!$BK$57)","v":""},{"$f":"IF($B177=\"\",\"\",للطباعة!$BJ$57)","v":""},{"$f":"IF($B177=\"\",\"\",للطباعة!$BR$57)","v":""},{"$f":"IF($B177=\"\",\"\",للطباعة!$BQ$57)","v":""},{"$f":"IF($B177=\"\",\"\",للطباعة!$BY$57)","v":""},{"$f":"IF($B177=\"\",\"\",للطباعة!$BX$57)","v":""},{"$f":"IF($B177=\"\",\"\",للطباعة!$CF$57)","v":""},{"$f":"IF($B177=\"\",\"\",للطباعة!$CE$57)","v":""},{"$f":"IF($B177=\"\",\"\",(U179+W179+Y179+AA179)/4)","v":""},{"$f":"IF($B177=\"\",\"\",(K177+T177+AC177)*0.04)","v":""},{"$f":"IF($B177=\"\",\"\",IF((AD177*40/12-INT(AD177*40/12))>=0.75,INT(AD177*40/12)+1,IF((AD177*40/12-INT(AD177*40/12))<0.25,INT(AD177*40/12),INT(AD174*40/12)+0.5)))","v":""},{"$f":"IF($B177=\"\",\"\",INDIRECT(ADDRESS(11+A177*2,19,1,,\"SeconedPartDegrees2\")))","v":""},{"$f":"IF($B177=\"\",\"\",INDIRECT(ADDRESS(11+A177*2,20,1,,\"SeconedPartDegrees2\")))","v":""},{"$f":"IF(OR(AF177=\"\",AG177=\"\"),\"\",AF177+AG177)","v":""},{"$f":"IF(OR(AE177=\"\",AG177=\"\"),\"\",AG177+AF177+AE177)","v":""},{"$f":"IF($B177=\"\",\"\",INDIRECT(ADDRESS(11+A177*2,21,1,,\"SeconedPartDegrees1\")))","v":""},{"$f":"IFERROR(IF(AI177=\"\",\"\",IF(((AI177+AJ177)/2-INT((AI177+AJ177)/2))>=0.75,INT((AI177+AJ177)/2)+1,IF(((AI177+AJ177)/2-INT((AI177+AJ177)/2))<0.25,INT((AI177+AJ177)/2),INT((AI177+AJ177)/2)+0.5))),\"\")","v":""},{"$f":"IF($AK177=\"\",\"\",IF(AK177=\"\",\"غياب وعليه دور ثاني\",IF(AK177<50,\"دور ثاني\",\"ناجح\")))","v":""},null,null,{"$f":"ROUNDUP(((FirstPartDegrees2!#REF!+D177)/2+(FirstPartDegrees2!F177+O177)/2+(FirstPartDegrees2!#REF!+M177)/2+(FirstPartDegrees2!C177+F177)/2 )/4,0)","v":{"$error":"#REF!"}},{"$f":"ROUNDUP(((FirstPartDegrees2!#REF!+FirstPartDegrees2!#REF!)/2+(FirstPartDegrees2!G177+J177)/2+(FirstPartDegrees2!L177+S177)/2+(FirstPartDegrees2!H177+#REF!)/2 )/4,0)","v":{"$error":"#REF!"}},{"$f":"ROUNDUP(((FirstPartDegrees2!E177+FirstPartDegrees2!I177)/2+(FirstPartDegrees2!#REF!+FirstPartDegrees2!#REF!)/2+(FirstPartDegrees2!N177+V177)/2+(AB177+#REF!)/2)/4,0)","v":{"$error":"#REF!"}},{"$f":"(AQ177+AAH177+AO177)*40/12","v":{"$error":"#REF!"}}]
[null,null,{"$f":"IF($B177=\"\",\"\",للطباعة!$G$57)","v":""},{"$f":"IF($B177=\"\",\"\",للطباعة!$F$57)","v":""},{"$f":"IF($B177=\"\",\"\",للطباعة!$N$57)","v":""},{"$f":"IF($B177=\"\",\"\",للطباعة!$M$57)","v":""},{"$f":"IF($B177=\"\",\"\",للطباعة!$U$57)","v":""},{"$f":"IF($B177=\"\",\"\",للطباعة!$T$57)","v":""},{"$f":"IF($B177=\"\",\"\",للطباعة!$AB$57)","v":""},{"$f":"IF($B177=\"\",\"\",للطباعة!$AA$57)","v":""},null,{"$f":"IF($B177=\"\",\"\",للطباعة!$AJ$57)","v":""},{"$f":"IF($B177=\"\",\"\",للطباعة!$AI$57)","v":""},{"$f":"IF($B177=\"\",\"\",للطباعة!$AQ$57)","v":""},{"$f":"IF($B177=\"\",\"\",للطباعة!$AP$57)","v":""},{"$f":"IF($B177=\"\",\"\",للطباعة!$AX$57)","v":""},{"$f":"IF($B177=\"\",\"\",للطباعة!$AW$57)","v":""},{"$f":"IF($B177=\"\",\"\",للطباعة!$BE$57)","v":""},{"$f":"IF($B177=\"\",\"\",للطباعة!$BD$57)","v":""},null,{"$f":"IF($B177=\"\",\"\",للطباعة!$BM$57)","v":""},{"$f":"IF($B177=\"\",\"\",للطباعة!$BL$57)","v":""},{"$f":"IF($B177=\"\",\"\",للطباعة!$BT$57)","v":""},{"$f":"IF($B177=\"\",\"\",للطباعة!$BS$57)","v":""},{"$f":"IF($B177=\"\",\"\",للطباعة!$CA$57)","v":""},{"$f":"IF($B177=\"\",\"\",للطباعة!$BZ$57)","v":""},{"$f":"IF($B177=\"\",\"\",للطباعة!$CH$57)","v":""},{"$f":"IF($B177=\"\",\"\",للطباعة!$CG$57)","v":""}]
[null,"النقاط",{"$f":"IF($B177=\"\",\"\",(D177+D178)*100/8)","v":""},null,{"$f":"IF($B177=\"\",\"\",(F177+F178)*100/8)","v":""},null,{"$f":"IF($B177=\"\",\"\",(H177+H178)*100/8)","v":""},null,{"$f":"IF($B177=\"\",\"\",(J177+J178)*100/8)","v":""},null,null,{"$f":"IF($B177=\"\",\"\",(M177+M178)*100/8)","v":""},null,{"$f":"IF($B177=\"\",\"\",(O177+O178)*100/8)","v":""},null,{"$f":"IF($B177=\"\",\"\",(Q177+Q178)*100/8)","v":""},null,{"$f":"IF($B177=\"\",\"\",(S177+S178)*100/8)","v":""},null,null,{"$f":"IF($B177=\"\",\"\",(V177+V178)*100/8)","v":""},null,{"$f":"IF($B177=\"\",\"\",(X177+X178)*100/8)","v":""},null,{"$f":"IF($B177=\"\",\"\",(Z177+Z178)*100/8)","v":""},null,{"$f":"IF($B177=\"\",\"\",(AB177+AB178)*100/8)","v":""}]
[57,{"$f":"INDIRECT(ADDRESS(A180+1,2,,,\"للطباعة\"))","v":""},{"$f":"IF($B180=\"\",\"\",للطباعة!$E$58)","v":""},{"$f":"IF($B180=\"\",\"\",للطباعة!$D$58)","v":""},{"$f":"IF($B180=\"\",\"\",للطباعة!$L$58)","v":""},{"$f":"IF($B180=\"\",\"\",للطباعة!$K$58)","v":""},{"$f":"IF($B180=\"\",\"\",للطباعة!$S$58)","v":""},{"$f":"IF($B180=\"\",\"\",للطباعة!$R$58)","v":""},{"$f":"IF($B180=\"\",\"\",للطباعة!$Z$58)","v":""},{"$f":"IF($B180=\"\",\"\",للطباعة!$Y$58)","v":""},{"$f":"IF($B180=\"\",\"\",(C182+E182+G182+I182)/4)","v":""},{"$f":"IF($B180=\"\",\"\",للطباعة!$AH$58)","v":""},{"$f":"IF($B180=\"\",\"\",للطباعة!$AG$58)","v":""},{"$f":"IF($B180=\"\",\"\",للطباعة!$AO$58)","v":""},{"$f":"IF($B180=\"\",\"\",للطباعة!$AN$58)","v":""},{"$f":"IF($B180=\"\",\"\",للطباعة!$AV$58)","v":""},{"$f":"IF($B180=\"\",\"\",للطباعة!$AU$58)","v":""},{"$f":"IF($B180=\"\",\"\",للطباعة!$BC$58)","v":""},{"$f":"IF($B180=\"\",\"\",للطباعة!$BB$58)","v":""},{"$f":"IF($B180=\"\",\"\",(L182+N182+P182+R182)/4)","v":""},{"$f":"IF($B180=\"\",\"\",للطباعة!$BK$58)","v":""},{"$f":"IF($B180=\"\",\"\",للطباعة!$BJ$58)","v":""},{"$f":"IF($B180=\"\",\"\",للطباعة!$BR$58)","v":""},{"$f":"IF($B180=\"\",\"\",للطباعة!$BQ$58)","v":""},{"$f":"IF($B180=\"\",\"\",للطباعة!$BY$58)","v":""},{"$f":"IF($B180=\"\",\"\",للطباعة!$BX$58)","v":""},{"$f":"IF($B180=\"\",\"\",للطباعة!$CF$58)","v":""},{"$f":"IF($B180=\"\",\"\",للطباعة!$CE$58)","v":""},{"$f":"IF($B180=\"\",\"\",(U182+W182+Y182+AA182)/4)","v":""},{"$f":"IF($B180=\"\",\"\",(K180+T180+AC180)*0.04)","v":""},{"$f":"IF($B180=\"\",\"\",IF((AD180*40/12-INT(AD180*40/12))>=0.75,INT(AD180*40/12)+1,IF((AD180*40/12-INT(AD180*40/12))<0.25,INT(AD180*40/12),INT(AD177*40/12)+0.5)))","v":""},{"$f":"IF($B180=\"\",\"\",INDIRECT(ADDRESS(11+A180*2,19,1,,\"SeconedPartDegrees2\")))","v":""},{"$f":"IF($B180=\"\",\"\",INDIRECT(ADDRESS(11+A180*2,20,1,,\"SeconedPartDegrees2\")))","v":""},{"$f":"IF(OR(AF180=\"\",AG180=\"\"),\"\",AF180+AG180)","v":""},{"$f":"IF(OR(AE180=\"\",AG180=\"\"),\"\",AG180+AF180+AE180)","v":""},{"$f":"IF($B180=\"\",\"\",INDIRECT(ADDRESS(11+A180*2,21,1,,\"SeconedPartDegrees1\")))","v":""},{"$f":"IFERROR(IF(AI180=\"\",\"\",IF(((AI180+AJ180)/2-INT((AI180+AJ180)/2))>=0.75,INT((AI180+AJ180)/2)+1,IF(((AI180+AJ180)/2-INT((AI180+AJ180)/2))<0.25,INT((AI180+AJ180)/2),INT((AI180+AJ180)/2)+0.5))),\"\")","v":""},{"$f":"IF($AK180=\"\",\"\",IF(AK180=\"\",\"غياب وعليه دور ثاني\",IF(AK180<50,\"دور ثاني\",\"ناجح\")))","v":""},null,null,{"$f":"ROUNDUP(((FirstPartDegrees2!#REF!+D180)/2+(FirstPartDegrees2!F180+O180)/2+(FirstPartDegrees2!#REF!+M180)/2+(FirstPartDegrees2!C180+F180)/2 )/4,0)","v":{"$error":"#REF!"}},{"$f":"ROUNDUP(((FirstPartDegrees2!#REF!+FirstPartDegrees2!#REF!)/2+(FirstPartDegrees2!G180+J180)/2+(FirstPartDegrees2!L180+S180)/2+(FirstPartDegrees2!H180+#REF!)/2 )/4,0)","v":{"$error":"#REF!"}},{"$f":"ROUNDUP(((FirstPartDegrees2!E180+FirstPartDegrees2!I180)/2+(FirstPartDegrees2!#REF!+FirstPartDegrees2!#REF!)/2+(FirstPartDegrees2!N180+V180)/2+(AB180+#REF!)/2)/4,0)","v":{"$error":"#REF!"}},{"$f":"(AQ180+AAH180+AO180)*40/12","v":{"$error":"#REF!"}}]
[null,null,{"$f":"IF($B180=\"\",\"\",للطباعة!$G$58)","v":""},{"$f":"IF($B180=\"\",\"\",للطباعة!$F$58)","v":""},{"$f":"IF($B180=\"\",\"\",للطباعة!$N$58)","v":""},{"$f":"IF($B180=\"\",\"\",للطباعة!$M$58)","v":""},{"$f":"IF($B180=\"\",\"\",للطباعة!$U$58)","v":""},{"$f":"IF($B180=\"\",\"\",للطباعة!$T$58)","v":""},{"$f":"IF($B180=\"\",\"\",للطباعة!$AB$58)","v":""},{"$f":"IF($B180=\"\",\"\",للطباعة!$AA$58)","v":""},null,{"$f":"IF($B180=\"\",\"\",للطباعة!$AJ$58)","v":""},{"$f":"IF($B180=\"\",\"\",للطباعة!$AI$58)","v":""},{"$f":"IF($B180=\"\",\"\",للطباعة!$AQ$58)","v":""},{"$f":"IF($B180=\"\",\"\",للطباعة!$AP$58)","v":""},{"$f":"IF($B180=\"\",\"\",للطباعة!$AX$58)","v":""},{"$f":"IF($B180=\"\",\"\",للطباعة!$AW$58)","v":""},{"$f":"IF($B180=\"\",\"\",للطباعة!$BE$58)","v":""},{"$f":"IF($B180=\"\",\"\",للطباعة!$BD$58)","v":""},null,{"$f":"IF($B180=\"\",\"\",للطباعة!$BM$58)","v":""},{"$f":"IF($B180=\"\",\"\",للطباعة!$BL$58)","v":""},{"$f":"IF($B180=\"\",\"\",للطباعة!$BT$58)","v":""},{"$f":"IF($B180=\"\",\"\",للطباعة!$BS$58)","v":""},{"$f":"IF($B180=\"\",\"\",للطباعة!$CA$58)","v":""},{"$f":"IF($B180=\"\",\"\",للطباعة!$BZ$58)","v":""},{"$f":"IF($B180=\"\",\"\",للطباعة!$CH$58)","v":""},{"$f":"IF($B180=\"\",\"\",للطباعة!$CG$58)","v":""}]
[null,"النقاط",{"$f":"IF($B180=\"\",\"\",(D180+D181)*100/8)","v":""},null,{"$f":"IF($B180=\"\",\"\",(F180+F181)*100/8)","v":""},null,{"$f":"IF($B180=\"\",\"\",(H180+H181)*100/8)","v":""},null,{"$f":"IF($B180=\"\",\"\",(J180+J181)*100/8)","v":""},null,null,{"$f":"IF($B180=\"\",\"\",(M180+M181)*100/8)","v":""},null,{"$f":"IF($B180=\"\",\"\",(O180+O181)*100/8)","v":""},null,{"$f":"IF($B180=\"\",\"\",(Q180+Q181)*100/8)","v":""},null,{"$f":"IF($B180=\"\",\"\",(S180+S181)*100/8)","v":""},null,null,{"$f":"IF($B180=\"\",\"\",(V180+V181)*100/8)","v":""},null,{"$f":"IF($B180=\"\",\"\",(X180+X181)*100/8)","v":""},null,{"$f":"IF($B180=\"\",\"\",(Z180+Z181)*100/8)","v":""},null,{"$f":"IF($B180=\"\",\"\",(AB180+AB181)*100/8)","v":""}]
[58,{"$f":"INDIRECT(ADDRESS(A183+1,2,,,\"للطباعة\"))","v":""},{"$f":"IF($B183=\"\",\"\",للطباعة!$E$59)","v":""},{"$f":"IF($B183=\"\",\"\",للطباعة!$D$59)","v":""},{"$f":"IF($B183=\"\",\"\",للطباعة!$L$59)","v":""},{"$f":"IF($B183=\"\",\"\",للطباعة!$K$59)","v":""},{"$f":"IF($B183=\"\",\"\",للطباعة!$S$59)","v":""},{"$f":"IF($B183=\"\",\"\",للطباعة!$R$59)","v":""},{"$f":"IF($B183=\"\",\"\",للطباعة!$Z$59)","v":""},{"$f":"IF($B183=\"\",\"\",للطباعة!$Y$59)","v":""},{"$f":"IF($B183=\"\",\"\",(C185+E185+G185+I185)/4)","v":""},{"$f":"IF($B183=\"\",\"\",للطباعة!$AH$59)","v":""},{"$f":"IF($B183=\"\",\"\",للطباعة!$AG$59)","v":""},{"$f":"IF($B183=\"\",\"\",للطباعة!$AO$59)","v":""},{"$f":"IF($B183=\"\",\"\",للطباعة!$AN$59)","v":""},{"$f":"IF($B183=\"\",\"\",للطباعة!$AV$59)","v":""},{"$f":"IF($B183=\"\",\"\",للطباعة!$AU$59)","v":""},{"$f":"IF($B183=\"\",\"\",للطباعة!$BC$59)","v":""},{"$f":"IF($B183=\"\",\"\",للطباعة!$BB$59)","v":""},{"$f":"IF($B183=\"\",\"\",(L185+N185+P185+R185)/4)","v":""},{"$f":"IF($B183=\"\",\"\",للطباعة!$BK$59)","v":""},{"$f":"IF($B183=\"\",\"\",للطباعة!$BJ$59)","v":""},{"$f":"IF($B183=\"\",\"\",للطباعة!$BR$59)","v":""},{"$f":"IF($B183=\"\",\"\",للطباعة!$BQ$59)","v":""},{"$f":"IF($B183=\"\",\"\",للطباعة!$BY$59)","v":""},{"$f":"IF($B183=\"\",\"\",للطباعة!$BX$59)","v":""},{"$f":"IF($B183=\"\",\"\",للطباعة!$CF$59)","v":""},{"$f":"IF($B183=\"\",\"\",للطباعة!$CE$59)","v":""},{"$f":"IF($B183=\"\",\"\",(U185+W185+Y185+AA185)/4)","v":""},{"$f":"IF($B183=\"\",\"\",(K183+T183+AC183)*0.04)","v":""},{"$f":"IF($B183=\"\",\"\",IF((AD183*40/12-INT(AD183*40/12))>=0.75,INT(AD183*40/12)+1,IF((AD183*40/12-INT(AD183*40/12))<0.25,INT(AD183*40/12),INT(AD180*40/12)+0.5)))","v":""},{"$f":"IF($B183=\"\",\"\",INDIRECT(ADDRESS(11+A183*2,19,1,,\"SeconedPartDegrees2\")))","v":""},{"$f":"IF($B183=\"\",\"\",INDIRECT(ADDRESS(11+A183*2,20,1,,\"SeconedPartDegrees2\")))","v":""},{"$f":"IF(OR(AF183=\"\",AG183=\"\"),\"\",AF183+AG183)","v":""},{"$f":"IF(OR(AE183=\"\",AG183=\"\"),\"\",AG183+AF183+AE183)","v":""},{"$f":"IF($B183=\"\",\"\",INDIRECT(ADDRESS(11+A183*2,21,1,,\"SeconedPartDegrees1\")))","v":""},{"$f":"IFERROR(IF(AI183=\"\",\"\",IF(((AI183+AJ183)/2-INT((AI183+AJ183)/2))>=0.75,INT((AI183+AJ183)/2)+1,IF(((AI183+AJ183)/2-INT((AI183+AJ183)/2))<0.25,INT((AI183+AJ183)/2),INT((AI183+AJ183)/2)+0.5))),\"\")","v":""},{"$f":"IF($AK183=\"\",\"\",IF(AK183=\"\",\"غياب وعليه دور ثاني\",IF(AK183<50,\"دور ثاني\",\"ناجح\")))","v":""},null,null,{"$f":"ROUNDUP(((FirstPartDegrees2!#REF!+D183)/2+(FirstPartDegrees2!F183+O183)/2+(FirstPartDegrees2!#REF!+M183)/2+(FirstPartDegrees2!C183+F183)/2 )/4,0)","v":{"$error":"#REF!"}},{"$f":"ROUNDUP(((FirstPartDegrees2!#REF!+FirstPartDegrees2!#REF!)/2+(FirstPartDegrees2!G183+J183)/2+(FirstPartDegrees2!L183+S183)/2+(FirstPartDegrees2!H183+#REF!)/2 )/4,0)","v":{"$error":"#REF!"}},{"$f":"ROUNDUP(((FirstPartDegrees2!E183+FirstPartDegrees2!I183)/2+(FirstPartDegrees2!#REF!+FirstPartDegrees2!#REF!)/2+(FirstPartDegrees2!N183+V183)/2+(AB183+#REF!)/2)/4,0)","v":{"$error":"#REF!"}},{"$f":"(AQ183+AAH183+AO183)*40/12","v":{"$error":"#REF!"}}]
[null,null,{"$f":"IF($B183=\"\",\"\",للطباعة!$G$59)","v":""},{"$f":"IF($B183=\"\",\"\",للطباعة!$F$59)","v":""},{"$f":"IF($B183=\"\",\"\",للطباعة!$N$59)","v":""},{"$f":"IF($B183=\"\",\"\",للطباعة!$M$59)","v":""},{"$f":"IF($B183=\"\",\"\",للطباعة!$U$59)","v":""},{"$f":"IF($B183=\"\",\"\",للطباعة!$T$59)","v":""},{"$f":"IF($B183=\"\",\"\",للطباعة!$AB$59)","v":""},{"$f":"IF($B183=\"\",\"\",للطباعة!$AA$59)","v":""},null,{"$f":"IF($B183=\"\",\"\",للطباعة!$AJ$59)","v":""},{"$f":"IF($B183=\"\",\"\",للطباعة!$AI$59)","v":""},{"$f":"IF($B183=\"\",\"\",للطباعة!$AQ$59)","v":""},{"$f":"IF($B183=\"\",\"\",للطباعة!$AP$59)","v":""},{"$f":"IF($B183=\"\",\"\",للطباعة!$AX$59)","v":""},{"$f":"IF($B183=\"\",\"\",للطباعة!$AW$59)","v":""},{"$f":"IF($B183=\"\",\"\",للطباعة!$BE$59)","v":""},{"$f":"IF($B183=\"\",\"\",للطباعة!$BD$59)","v":""},null,{"$f":"IF($B183=\"\",\"\",للطباعة!$BM$59)","v":""},{"$f":"IF($B183=\"\",\"\",للطباعة!$BL$59)","v":""},{"$f":"IF($B183=\"\",\"\",للطباعة!$BT$59)","v":""},{"$f":"IF($B183=\"\",\"\",للطباعة!$BS$59)","v":""},{"$f":"IF($B183=\"\",\"\",للطباعة!$CA$59)","v":""},{"$f":"IF($B183=\"\",\"\",للطباعة!$BZ$59)","v":""},{"$f":"IF($B183=\"\",\"\",للطباعة!$CH$59)","v":""},{"$f":"IF($B183=\"\",\"\",للطباعة!$CG$59)","v":""}]
[null,"النقاط",{"$f":"IF($B183=\"\",\"\",(D183+D184)*100/8)","v":""},null,{"$f":"IF($B183=\"\",\"\",(F183+F184)*100/8)","v":""},null,{"$f":"IF($B183=\"\",\"\",(H183+H184)*100/8)","v":""},null,{"$f":"IF($B183=\"\",\"\",(J183+J184)*100/8)","v":""},null,null,{"$f":"IF($B183=\"\",\"\",(M183+M184)*100/8)","v":""},null,{"$f":"IF($B183=\"\",\"\",(O183+O184)*100/8)","v":""},null,{"$f":"IF($B183=\"\",\"\",(Q183+Q184)*100/8)","v":""},null,{"$f":"IF($B183=\"\",\"\",(S183+S184)*100/8)","v":""},null,null,{"$f":"IF($B183=\"\",\"\",(V183+V184)*100/8)","v":""},null,{"$f":"IF($B183=\"\",\"\",(X183+X184)*100/8)","v":""},null,{"$f":"IF($B183=\"\",\"\",(Z183+Z184)*100/8)","v":""},null,{"$f":"IF($B183=\"\",\"\",(AB183+AB184)*100/8)","v":""}]
[59,{"$f":"INDIRECT(ADDRESS(A186+1,2,,,\"للطباعة\"))","v":""},{"$f":"IF($B186=\"\",\"\",للطباعة!$E$60)","v":""},{"$f":"IF($B186=\"\",\"\",للطباعة!$D$60)","v":""},{"$f":"IF($B186=\"\",\"\",للطباعة!$L$60)","v":""},{"$f":"IF($B186=\"\",\"\",للطباعة!$K$60)","v":""},{"$f":"IF($B186=\"\",\"\",للطباعة!$S$60)","v":""},{"$f":"IF($B186=\"\",\"\",للطباعة!$R$60)","v":""},{"$f":"IF($B186=\"\",\"\",للطباعة!$Z$60)","v":""},{"$f":"IF($B186=\"\",\"\",للطباعة!$Y$60)","v":""},{"$f":"IF($B186=\"\",\"\",(C188+E188+G188+I188)/4)","v":""},{"$f":"IF($B186=\"\",\"\",للطباعة!$AH$60)","v":""},{"$f":"IF($B186=\"\",\"\",للطباعة!$AG$60)","v":""},{"$f":"IF($B186=\"\",\"\",للطباعة!$AO$60)","v":""},{"$f":"IF($B186=\"\",\"\",للطباعة!$AN$60)","v":""},{"$f":"IF($B186=\"\",\"\",للطباعة!$AV$60)","v":""},{"$f":"IF($B186=\"\",\"\",للطباعة!$AU$60)","v":""},{"$f":"IF($B186=\"\",\"\",للطباعة!$BC$60)","v":""},{"$f":"IF($B186=\"\",\"\",للطباعة!$BB$60)","v":""},{"$f":"IF($B186=\"\",\"\",(L188+N188+P188+R188)/4)","v":""},{"$f":"IF($B186=\"\",\"\",للطباعة!$BK$60)","v":""},{"$f":"IF($B186=\"\",\"\",للطباعة!$BJ$60)","v":""},{"$f":"IF($B186=\"\",\"\",للطباعة!$BR$60)","v":""},{"$f":"IF($B186=\"\",\"\",للطباعة!$BQ$60)","v":""},{"$f":"IF($B186=\"\",\"\",للطباعة!$BY$60)","v":""},{"$f":"IF($B186=\"\",\"\",للطباعة!$BX$60)","v":""},{"$f":"IF($B186=\"\",\"\",للطباعة!$CF$60)","v":""},{"$f":"IF($B186=\"\",\"\",للطباعة!$CE$60)","v":""},{"$f":"IF($B186=\"\",\"\",(U188+W188+Y188+AA188)/4)","v":""},{"$f":"IF($B186=\"\",\"\",(K186+T186+AC186)*0.04)","v":""},{"$f":"IF($B186=\"\",\"\",IF((AD186*40/12-INT(AD186*40/12))>=0.75,INT(AD186*40/12)+1,IF((AD186*40/12-INT(AD186*40/12))<0.25,INT(AD186*40/12),INT(AD183*40/12)+0.5)))","v":""},{"$f":"IF($B186=\"\",\"\",INDIRECT(ADDRESS(11+A186*2,19,1,,\"SeconedPartDegrees2\")))","v":""},{"$f":"IF($B186=\"\",\"\",INDIRECT(ADDRESS(11+A186*2,20,1,,\"SeconedPartDegrees2\")))","v":""},{"$f":"IF(OR(AF186=\"\",AG186=\"\"),\"\",AF186+AG186)","v":""},{"$f":"IF(OR(AE186=\"\",AG186=\"\"),\"\",AG186+AF186+AE186)","v":""},{"$f":"IF($B186=\"\",\"\",INDIRECT(ADDRESS(11+A186*2,21,1,,\"SeconedPartDegrees1\")))","v":""},{"$f":"IFERROR(IF(AI186=\"\",\"\",IF(((AI186+AJ186)/2-INT((AI186+AJ186)/2))>=0.75,INT((AI186+AJ186)/2)+1,IF(((AI186+AJ186)/2-INT((AI186+AJ186)/2))<0.25,INT((AI186+AJ186)/2),INT((AI186+AJ186)/2)+0.5))),\"\")","v":""},{"$f":"IF($AK186=\"\",\"\",IF(AK186=\"\",\"غياب وعليه دور ثاني\",IF(AK186<50,\"دور ثاني\",\"ناجح\")))","v":""},null,null,{"$f":"ROUNDUP(((FirstPartDegrees2!#REF!+D186)/2+(FirstPartDegrees2!F186+O186)/2+(FirstPartDegrees2!#REF!+M186)/2+(FirstPartDegrees2!C186+F186)/2 )/4,0)","v":{"$error":"#REF!"}},{"$f":"ROUNDUP(((FirstPartDegrees2!#REF!+FirstPartDegrees2!#REF!)/2+(FirstPartDegrees2!G186+J186)/2+(FirstPartDegrees2!L186+S186)/2+(FirstPartDegrees2!H186+#REF!)/2 )/4,0)","v":{"$error":"#REF!"}},{"$f":"ROUNDUP(((FirstPartDegrees2!E186+FirstPartDegrees2!I186)/2+(FirstPartDegrees2!#REF!+FirstPartDegrees2!#REF!)/2+(FirstPartDegrees2!N186+V186)/2+(AB186+#REF!)/2)/4,0)","v":{"$error":"#REF!"}},{"$f":"(AQ186+AAH186+AO186)*40/12","v":{"$error":"#REF!"}}]
[null,null,{"$f":"IF($B186=\"\",\"\",للطباعة!$G$60)","v":""},{"$f":"IF($B186=\"\",\"\",للطباعة!$F$60)","v":""},{"$f":"IF($B186=\"\",\"\",للطباعة!$N$60)","v":""},{"$f":"IF($B186=\"\",\"\",للطباعة!$M$60)","v":""},{"$f":"IF($B186=\"\",\"\",للطباعة!$U$60)","v":""},{"$f":"IF($B186=\"\",\"\",للطباعة!$T$60)","v":""},{"$f":"IF($B186=\"\",\"\",للطباعة!$AB$60)","v":""},{"$f":"IF($B186=\"\",\"\",للطباعة!$AA$60)","v":""},null,{"$f":"IF($B186=\"\",\"\",للطباعة!$AJ$60)","v":""},{"$f":"IF($B186=\"\",\"\",للطباعة!$AI$60)","v":""},{"$f":"IF($B186=\"\",\"\",للطباعة!$AQ$60)","v":""},{"$f":"IF($B186=\"\",\"\",للطباعة!$AP$60)","v":""},{"$f":"IF($B186=\"\",\"\",للطباعة!$AX$60)","v":""},{"$f":"IF($B186=\"\",\"\",للطباعة!$AW$60)","v":""},{"$f":"IF($B186=\"\",\"\",للطباعة!$BE$60)","v":""},{"$f":"IF($B186=\"\",\"\",للطباعة!$BD$60)","v":""},null,{"$f":"IF($B186=\"\",\"\",للطباعة!$BM$60)","v":""},{"$f":"IF($B186=\"\",\"\",للطباعة!$BL$60)","v":""},{"$f":"IF($B186=\"\",\"\",للطباعة!$BT$60)","v":""},{"$f":"IF($B186=\"\",\"\",للطباعة!$BS$60)","v":""},{"$f":"IF($B186=\"\",\"\",للطباعة!$CA$60)","v":""},{"$f":"IF($B186=\"\",\"\",للطباعة!$BZ$60)","v":""},{"$f":"IF($B186=\"\",\"\",للطباعة!$CH$60)","v":""},{"$f":"IF($B186=\"\",\"\",للطباعة!$CG$60)","v":""}]
[null,"النقاط",{"$f":"IF($B186=\"\",\"\",(D186+D187)*100/8)","v":""},null,{"$f":"IF($B186=\"\",\"\",(F186+F187)*100/8)","v":""},null,{"$f":"IF($B186=\"\",\"\",(H186+H187)*100/8)","v":""},null,{"$f":"IF($B186=\"\",\"\",(J186+J187)*100/8)","v":""},null,null,{"$f":"IF($B186=\"\",\"\",(M186+M187)*100/8)","v":""},null,{"$f":"IF($B186=\"\",\"\",(O186+O187)*100/8)","v":""},null,{"$f":"IF($B186=\"\",\"\",(Q186+Q187)*100/8)","v":""},null,{"$f":"IF($B186=\"\",\"\",(S186+S187)*100/8)","v":""},null,null,{"$f":"IF($B186=\"\",\"\",(V186+V187)*100/8)","v":""},null,{"$f":"IF($B186=\"\",\"\",(X186+X187)*100/8)","v":""},null,{"$f":"IF($B186=\"\",\"\",(Z186+Z187)*100/8)","v":""},null,{"$f":"IF($B186=\"\",\"\",(AB186+AB187)*100/8)","v":""}]
[60,{"$f":"INDIRECT(ADDRESS(A189+1,2,,,\"للطباعة\"))","v":""},{"$f":"IF($B189=\"\",\"\",للطباعة!$E$61)","v":""},{"$f":"IF($B189=\"\",\"\",للطباعة!$D$61)","v":""},{"$f":"IF($B189=\"\",\"\",للطباعة!$L$61)","v":""},{"$f":"IF($B189=\"\",\"\",للطباعة!$K$61)","v":""},{"$f":"IF($B189=\"\",\"\",للطباعة!$S$61)","v":""},{"$f":"IF($B189=\"\",\"\",للطباعة!$R$61)","v":""},{"$f":"IF($B189=\"\",\"\",للطباعة!$Z$61)","v":""},{"$f":"IF($B189=\"\",\"\",للطباعة!$Y$61)","v":""},{"$f":"IF($B189=\"\",\"\",(C191+E191+G191+I191)/4)","v":""},{"$f":"IF($B189=\"\",\"\",للطباعة!$AH$61)","v":""},{"$f":"IF($B189=\"\",\"\",للطباعة!$AG$61)","v":""},{"$f":"IF($B189=\"\",\"\",للطباعة!$AO$61)","v":""},{"$f":"IF($B189=\"\",\"\",للطباعة!$AN$61)","v":""},{"$f":"IF($B189=\"\",\"\",للطباعة!$AV$61)","v":""},{"$f":"IF($B189=\"\",\"\",للطباعة!$AU$61)","v":""},{"$f":"IF($B189=\"\",\"\",للطباعة!$BC$61)","v":""},{"$f":"IF($B189=\"\",\"\",للطباعة!$BB$61)","v":""},{"$f":"IF($B189=\"\",\"\",(L191+N191+P191+R191)/4)","v":""},{"$f":"IF($B189=\"\",\"\",للطباعة!$BK$61)","v":""},{"$f":"IF($B189=\"\",\"\",للطباعة!$BJ$61)","v":""},{"$f":"IF($B189=\"\",\"\",للطباعة!$BR$61)","v":""},{"$f":"IF($B189=\"\",\"\",للطباعة!$BQ$61)","v":""},{"$f":"IF($B189=\"\",\"\",للطباعة!$BY$61)","v":""},{"$f":"IF($B189=\"\",\"\",للطباعة!$BX$61)","v":""},{"$f":"IF($B189=\"\",\"\",للطباعة!$CF$61)","v":""},{"$f":"IF($B189=\"\",\"\",للطباعة!$CE$61)","v":""},{"$f":"IF($B189=\"\",\"\",(U191+W191+Y191+AA191)/4)","v":""},{"$f":"IF($B189=\"\",\"\",(K189+T189+AC189)*0.04)","v":""},{"$f":"IF($B189=\"\",\"\",IF((AD189*40/12-INT(AD189*40/12))>=0.75,INT(AD189*40/12)+1,IF((AD189*40/12-INT(AD189*40/12))<0.25,INT(AD189*40/12),INT(AD186*40/12)+0.5)))","v":""},{"$f":"IF($B189=\"\",\"\",INDIRECT(ADDRESS(11+A189*2,19,1,,\"SeconedPartDegrees2\")))","v":""},{"$f":"IF($B189=\"\",\"\",INDIRECT(ADDRESS(11+A189*2,20,1,,\"SeconedPartDegrees2\")))","v":""},{"$f":"IF(OR(AF189=\"\",AG189=\"\"),\"\",AF189+AG189)","v":""},{"$f":"IF(OR(AE189=\"\",AG189=\"\"),\"\",AG189+AF189+AE189)","v":""},{"$f":"IF($B189=\"\",\"\",INDIRECT(ADDRESS(11+A189*2,21,1,,\"SeconedPartDegrees1\")))","v":""},{"$f":"IFERROR(IF(AI189=\"\",\"\",IF(((AI189+AJ189)/2-INT((AI189+AJ189)/2))>=0.75,INT((AI189+AJ189)/2)+1,IF(((AI189+AJ189)/2-INT((AI189+AJ189)/2))<0.25,INT((AI189+AJ189)/2),INT((AI189+AJ189)/2)+0.5))),\"\")","v":""},{"$f":"IF($AK189=\"\",\"\",IF(AK189=\"\",\"غياب وعليه دور ثاني\",IF(AK189<50,\"دور ثاني\",\"ناجح\")))","v":""},null,null,{"$f":"ROUNDUP(((FirstPartDegrees2!#REF!+D189)/2+(FirstPartDegrees2!F189+O189)/2+(FirstPartDegrees2!#REF!+M189)/2+(FirstPartDegrees2!C189+F189)/2 )/4,0)","v":{"$error":"#REF!"}},{"$f":"ROUNDUP(((FirstPartDegrees2!#REF!+FirstPartDegrees2!#REF!)/2+(FirstPartDegrees2!G189+J189)/2+(FirstPartDegrees2!L189+S189)/2+(FirstPartDegrees2!H189+#REF!)/2 )/4,0)","v":{"$error":"#REF!"}},{"$f":"ROUNDUP(((FirstPartDegrees2!E189+FirstPartDegrees2!I189)/2+(FirstPartDegrees2!#REF!+FirstPartDegrees2!#REF!)/2+(FirstPartDegrees2!N189+V189)/2+(AB189+#REF!)/2)/4,0)","v":{"$error":"#REF!"}},{"$f":"(AQ189+AAH189+AO189)*40/12","v":{"$error":"#REF!"}}]
[null,null,{"$f":"IF($B189=\"\",\"\",للطباعة!$G$61)","v":""},{"$f":"IF($B189=\"\",\"\",للطباعة!$F$61)","v":""},{"$f":"IF($B189=\"\",\"\",للطباعة!$N$61)","v":""},{"$f":"IF($B189=\"\",\"\",للطباعة!$M$61)","v":""},{"$f":"IF($B189=\"\",\"\",للطباعة!$U$61)","v":""},{"$f":"IF($B189=\"\",\"\",للطباعة!$T$61)","v":""},{"$f":"IF($B189=\"\",\"\",للطباعة!$AB$61)","v":""},{"$f":"IF($B189=\"\",\"\",للطباعة!$AA$61)","v":""},null,{"$f":"IF($B189=\"\",\"\",للطباعة!$AJ$61)","v":""},{"$f":"IF($B189=\"\",\"\",للطباعة!$AI$61)","v":""},{"$f":"IF($B189=\"\",\"\",للطباعة!$AQ$61)","v":""},{"$f":"IF($B189=\"\",\"\",للطباعة!$AP$61)","v":""},{"$f":"IF($B189=\"\",\"\",للطباعة!$AX$61)","v":""},{"$f":"IF($B189=\"\",\"\",للطباعة!$AW$61)","v":""},{"$f":"IF($B189=\"\",\"\",للطباعة!$BE$61)","v":""},{"$f":"IF($B189=\"\",\"\",للطباعة!$BD$61)","v":""},null,{"$f":"IF($B189=\"\",\"\",للطباعة!$BM$61)","v":""},{"$f":"IF($B189=\"\",\"\",للطباعة!$BL$61)","v":""},{"$f":"IF($B189=\"\",\"\",للطباعة!$BT$61)","v":""},{"$f":"IF($B189=\"\",\"\",للطباعة!$BS$61)","v":""},{"$f":"IF($B189=\"\",\"\",للطباعة!$CA$61)","v":""},{"$f":"IF($B189=\"\",\"\",للطباعة!$BZ$61)","v":""},{"$f":"IF($B189=\"\",\"\",للطباعة!$CH$61)","v":""},{"$f":"IF($B189=\"\",\"\",للطباعة!$CG$61)","v":""}]
[null,"النقاط",{"$f":"IF($B189=\"\",\"\",(D189+D190)*100/8)","v":""},null,{"$f":"IF($B189=\"\",\"\",(F189+F190)*100/8)","v":""},null,{"$f":"IF($B189=\"\",\"\",(H189+H190)*100/8)","v":""},null,{"$f":"IF($B189=\"\",\"\",(J189+J190)*100/8)","v":""},null,null,{"$f":"IF($B189=\"\",\"\",(M189+M190)*100/8)","v":""},null,{"$f":"IF($B189=\"\",\"\",(O189+O190)*100/8)","v":""},null,{"$f":"IF($B189=\"\",\"\",(Q189+Q190)*100/8)","v":""},null,{"$f":"IF($B189=\"\",\"\",(S189+S190)*100/8)","v":""},null,null,{"$f":"IF($B189=\"\",\"\",(V189+V190)*100/8)","v":""},null,{"$f":"IF($B189=\"\",\"\",(X189+X190)*100/8)","v":""},null,{"$f":"IF($B189=\"\",\"\",(Z189+Z190)*100/8)","v":""},null,{"$f":"IF($B189=\"\",\"\",(AB189+AB190)*100/8)","v":""}]
[61,{"$f":"INDIRECT(ADDRESS(A192+1,2,,,\"للطباعة\"))","v":""},{"$f":"IF($B192=\"\",\"\",للطباعة!$E$62)","v":""},{"$f":"IF($B192=\"\",\"\",للطباعة!$D$62)","v":""},{"$f":"IF($B192=\"\",\"\",للطباعة!$L$62)","v":""},{"$f":"IF($B192=\"\",\"\",للطباعة!$K$62)","v":""},{"$f":"IF($B192=\"\",\"\",للطباعة!$S$62)","v":""},{"$f":"IF($B192=\"\",\"\",للطباعة!$R$62)","v":""},{"$f":"IF($B192=\"\",\"\",للطباعة!$Z$62)","v":""},{"$f":"IF($B192=\"\",\"\",للطباعة!$Y$62)","v":""},{"$f":"IF($B192=\"\",\"\",(C194+E194+G194+I194)/4)","v":""},{"$f":"IF($B192=\"\",\"\",للطباعة!$AH$62)","v":""},{"$f":"IF($B192=\"\",\"\",للطباعة!$AG$62)","v":""},{"$f":"IF($B192=\"\",\"\",للطباعة!$AO$62)","v":""},{"$f":"IF($B192=\"\",\"\",للطباعة!$AN$62)","v":""},{"$f":"IF($B192=\"\",\"\",للطباعة!$AV$62)","v":""},{"$f":"IF($B192=\"\",\"\",للطباعة!$AU$62)","v":""},{"$f":"IF($B192=\"\",\"\",للطباعة!$BC$62)","v":""},{"$f":"IF($B192=\"\",\"\",للطباعة!$BB$62)","v":""},{"$f":"IF($B192=\"\",\"\",(L194+N194+P194+R194)/4)","v":""},{"$f":"IF($B192=\"\",\"\",للطباعة!$BK$62)","v":""},{"$f":"IF($B192=\"\",\"\",للطباعة!$BJ$62)","v":""},{"$f":"IF($B192=\"\",\"\",للطباعة!$BR$62)","v":""},{"$f":"IF($B192=\"\",\"\",للطباعة!$BQ$62)","v":""},{"$f":"IF($B192=\"\",\"\",للطباعة!$BY$62)","v":""},{"$f":"IF($B192=\"\",\"\",للطباعة!$BX$62)","v":""},{"$f":"IF($B192=\"\",\"\",للطباعة!$CF$62)","v":""},{"$f":"IF($B192=\"\",\"\",للطباعة!$CE$62)","v":""},{"$f":"IF($B192=\"\",\"\",(U194+W194+Y194+AA194)/4)","v":""},{"$f":"IF($B192=\"\",\"\",(K192+T192+AC192)*0.04)","v":""},{"$f":"IF($B192=\"\",\"\",IF((AD192*40/12-INT(AD192*40/12))>=0.75,INT(AD192*40/12)+1,IF((AD192*40/12-INT(AD192*40/12))<0.25,INT(AD192*40/12),INT(AD189*40/12)+0.5)))","v":""},{"$f":"IF($B192=\"\",\"\",INDIRECT(ADDRESS(11+A192*2,19,1,,\"SeconedPartDegrees2\")))","v":""},{"$f":"IF($B192=\"\",\"\",INDIRECT(ADDRESS(11+A192*2,20,1,,\"SeconedPartDegrees2\")))","v":""},{"$f":"IF(OR(AF192=\"\",AG192=\"\"),\"\",AF192+AG192)","v":""},{"$f":"IF(OR(AE192=\"\",AG192=\"\"),\"\",AG192+AF192+AE192)","v":""},{"$f":"IF($B192=\"\",\"\",INDIRECT(ADDRESS(11+A192*2,21,1,,\"SeconedPartDegrees1\")))","v":""},{"$f":"IFERROR(IF(AI192=\"\",\"\",IF(((AI192+AJ192)/2-INT((AI192+AJ192)/2))>=0.75,INT((AI192+AJ192)/2)+1,IF(((AI192+AJ192)/2-INT((AI192+AJ192)/2))<0.25,INT((AI192+AJ192)/2),INT((AI192+AJ192)/2)+0.5))),\"\")","v":""},{"$f":"IF($AK192=\"\",\"\",IF(AK192=\"\",\"غياب وعليه دور ثاني\",IF(AK192<50,\"دور ثاني\",\"ناجح\")))","v":""},null,null,{"$f":"ROUNDUP(((FirstPartDegrees2!#REF!+D192)/2+(FirstPartDegrees2!F192+O192)/2+(FirstPartDegrees2!#REF!+M192)/2+(FirstPartDegrees2!C192+F192)/2 )/4,0)","v":{"$error":"#REF!"}},{"$f":"ROUNDUP(((FirstPartDegrees2!#REF!+FirstPartDegrees2!#REF!)/2+(FirstPartDegrees2!G192+J192)/2+(FirstPartDegrees2!L192+S192)/2+(FirstPartDegrees2!H192+#REF!)/2 )/4,0)","v":{"$error":"#REF!"}},{"$f":"ROUNDUP(((FirstPartDegrees2!E192+FirstPartDegrees2!I192)/2+(FirstPartDegrees2!#REF!+FirstPartDegrees2!#REF!)/2+(FirstPartDegrees2!N192+V192)/2+(AB192+#REF!)/2)/4,0)","v":{"$error":"#REF!"}},{"$f":"(AQ192+AAH192+AO192)*40/12","v":{"$error":"#REF!"}}]
[null,null,{"$f":"IF($B192=\"\",\"\",للطباعة!$G$62)","v":""},{"$f":"IF($B192=\"\",\"\",للطباعة!$F$62)","v":""},{"$f":"IF($B192=\"\",\"\",للطباعة!$N$62)","v":""},{"$f":"IF($B192=\"\",\"\",للطباعة!$M$62)","v":""},{"$f":"IF($B192=\"\",\"\",للطباعة!$U$62)","v":""},{"$f":"IF($B192=\"\",\"\",للطباعة!$T$62)","v":""},{"$f":"IF($B192=\"\",\"\",للطباعة!$AB$62)","v":""},{"$f":"IF($B192=\"\",\"\",للطباعة!$AA$62)","v":""},null,{"$f":"IF($B192=\"\",\"\",للطباعة!$AJ$62)","v":""},{"$f":"IF($B192=\"\",\"\",للطباعة!$AI$62)","v":""},{"$f":"IF($B192=\"\",\"\",للطباعة!$AQ$62)","v":""},{"$f":"IF($B192=\"\",\"\",للطباعة!$AP$62)","v":""},{"$f":"IF($B192=\"\",\"\",للطباعة!$AX$62)","v":""},{"$f":"IF($B192=\"\",\"\",للطباعة!$AW$62)","v":""},{"$f":"IF($B192=\"\",\"\",للطباعة!$BE$62)","v":""},{"$f":"IF($B192=\"\",\"\",للطباعة!$BD$62)","v":""},null,{"$f":"IF($B192=\"\",\"\",للطباعة!$BM$62)","v":""},{"$f":"IF($B192=\"\",\"\",للطباعة!$BL$62)","v":""},{"$f":"IF($B192=\"\",\"\",للطباعة!$BT$62)","v":""},{"$f":"IF($B192=\"\",\"\",للطباعة!$BS$62)","v":""},{"$f":"IF($B192=\"\",\"\",للطباعة!$CA$62)","v":""},{"$f":"IF($B192=\"\",\"\",للطباعة!$BZ$62)","v":""},{"$f":"IF($B192=\"\",\"\",للطباعة!$CH$62)","v":""},{"$f":"IF($B192=\"\",\"\",للطباعة!$CG$62)","v":""}]
[null,"النقاط",{"$f":"IF($B192=\"\",\"\",(D192+D193)*100/8)","v":""},null,{"$f":"IF($B192=\"\",\"\",(F192+F193)*100/8)","v":""},null,{"$f":"IF($B192=\"\",\"\",(H192+H193)*100/8)","v":""},null,{"$f":"IF($B192=\"\",\"\",(J192+J193)*100/8)","v":""},null,null,{"$f":"IF($B192=\"\",\"\",(M192+M193)*100/8)","v":""},null,{"$f":"IF($B192=\"\",\"\",(O192+O193)*100/8)","v":""},null,{"$f":"IF($B192=\"\",\"\",(Q192+Q193)*100/8)","v":""},null,{"$f":"IF($B192=\"\",\"\",(S192+S193)*100/8)","v":""},null,null,{"$f":"IF($B192=\"\",\"\",(V192+V193)*100/8)","v":""},null,{"$f":"IF($B192=\"\",\"\",(X192+X193)*100/8)","v":""},null,{"$f":"IF($B192=\"\",\"\",(Z192+Z193)*100/8)","v":""},null,{"$f":"IF($B192=\"\",\"\",(AB192+AB193)*100/8)","v":""}]
[62,{"$f":"INDIRECT(ADDRESS(A195+1,2,,,\"للطباعة\"))","v":""},{"$f":"IF($B195=\"\",\"\",للطباعة!$E$63)","v":""},{"$f":"IF($B195=\"\",\"\",للطباعة!$D$63)","v":""},{"$f":"IF($B195=\"\",\"\",للطباعة!$L$63)","v":""},{"$f":"IF($B195=\"\",\"\",للطباعة!$K$63)","v":""},{"$f":"IF($B195=\"\",\"\",للطباعة!$S$63)","v":""},{"$f":"IF($B195=\"\",\"\",للطباعة!$R$63)","v":""},{"$f":"IF($B195=\"\",\"\",للطباعة!$Z$63)","v":""},{"$f":"IF($B195=\"\",\"\",للطباعة!$Y$63)","v":""},{"$f":"IF($B195=\"\",\"\",(C197+E197+G197+I197)/4)","v":""},{"$f":"IF($B195=\"\",\"\",للطباعة!$AH$63)","v":""},{"$f":"IF($B195=\"\",\"\",للطباعة!$AG$63)","v":""},{"$f":"IF($B195=\"\",\"\",للطباعة!$AO$63)","v":""},{"$f":"IF($B195=\"\",\"\",للطباعة!$AN$63)","v":""},{"$f":"IF($B195=\"\",\"\",للطباعة!$AV$63)","v":""},{"$f":"IF($B195=\"\",\"\",للطباعة!$AU$63)","v":""},{"$f":"IF($B195=\"\",\"\",للطباعة!$BC$63)","v":""},{"$f":"IF($B195=\"\",\"\",للطباعة!$BB$63)","v":""},{"$f":"IF($B195=\"\",\"\",(L197+N197+P197+R197)/4)","v":""},{"$f":"IF($B195=\"\",\"\",للطباعة!$BK$63)","v":""},{"$f":"IF($B195=\"\",\"\",للطباعة!$BJ$63)","v":""},{"$f":"IF($B195=\"\",\"\",للطباعة!$BR$63)","v":""},{"$f":"IF($B195=\"\",\"\",للطباعة!$BQ$63)","v":""},{"$f":"IF($B195=\"\",\"\",للطباعة!$BY$63)","v":""},{"$f":"IF($B195=\"\",\"\",للطباعة!$BX$63)","v":""},{"$f":"IF($B195=\"\",\"\",للطباعة!$CF$63)","v":""},{"$f":"IF($B195=\"\",\"\",للطباعة!$CE$63)","v":""},{"$f":"IF($B195=\"\",\"\",(U197+W197+Y197+AA197)/4)","v":""},{"$f":"IF($B195=\"\",\"\",(K195+T195+AC195)*0.04)","v":""},{"$f":"IF($B195=\"\",\"\",IF((AD195*40/12-INT(AD195*40/12))>=0.75,INT(AD195*40/12)+1,IF((AD195*40/12-INT(AD195*40/12))<0.25,INT(AD195*40/12),INT(AD192*40/12)+0.5)))","v":""},{"$f":"IF($B195=\"\",\"\",INDIRECT(ADDRESS(11+A195*2,19,1,,\"SeconedPartDegrees2\")))","v":""},{"$f":"IF($B195=\"\",\"\",INDIRECT(ADDRESS(11+A195*2,20,1,,\"SeconedPartDegrees2\")))","v":""},{"$f":"IF(OR(AF195=\"\",AG195=\"\"),\"\",AF195+AG195)","v":""},{"$f":"IF(OR(AE195=\"\",AG195=\"\"),\"\",AG195+AF195+AE195)","v":""},{"$f":"IF($B195=\"\",\"\",INDIRECT(ADDRESS(11+A195*2,21,1,,\"SeconedPartDegrees1\")))","v":""},{"$f":"IFERROR(IF(AI195=\"\",\"\",IF(((AI195+AJ195)/2-INT((AI195+AJ195)/2))>=0.75,INT((AI195+AJ195)/2)+1,IF(((AI195+AJ195)/2-INT((AI195+AJ195)/2))<0.25,INT((AI195+AJ195)/2),INT((AI195+AJ195)/2)+0.5))),\"\")","v":""},{"$f":"IF($AK195=\"\",\"\",IF(AK195=\"\",\"غياب وعليه دور ثاني\",IF(AK195<50,\"دور ثاني\",\"ناجح\")))","v":""},null,null,{"$f":"ROUNDUP(((FirstPartDegrees2!#REF!+D195)/2+(FirstPartDegrees2!F195+O195)/2+(FirstPartDegrees2!#REF!+M195)/2+(FirstPartDegrees2!C195+F195)/2 )/4,0)","v":{"$error":"#REF!"}},{"$f":"ROUNDUP(((FirstPartDegrees2!#REF!+FirstPartDegrees2!#REF!)/2+(FirstPartDegrees2!G195+J195)/2+(FirstPartDegrees2!L195+S195)/2+(FirstPartDegrees2!H195+#REF!)/2 )/4,0)","v":{"$error":"#REF!"}},{"$f":"ROUNDUP(((FirstPartDegrees2!E195+FirstPartDegrees2!I195)/2+(FirstPartDegrees2!#REF!+FirstPartDegrees2!#REF!)/2+(FirstPartDegrees2!N195+V195)/2+(AB195+#REF!)/2)/4,0)","v":{"$error":"#REF!"}},{"$f":"(AQ195+AAH195+AO195)*40/12","v":{"$error":"#REF!"}}]
[null,null,{"$f":"IF($B195=\"\",\"\",للطباعة!$G$63)","v":""},{"$f":"IF($B195=\"\",\"\",للطباعة!$F$63)","v":""},{"$f":"IF($B195=\"\",\"\",للطباعة!$N$63)","v":""},{"$f":"IF($B195=\"\",\"\",للطباعة!$M$63)","v":""},{"$f":"IF($B195=\"\",\"\",للطباعة!$U$63)","v":""},{"$f":"IF($B195=\"\",\"\",للطباعة!$T$63)","v":""},{"$f":"IF($B195=\"\",\"\",للطباعة!$AB$63)","v":""},{"$f":"IF($B195=\"\",\"\",للطباعة!$AA$63)","v":""},null,{"$f":"IF($B195=\"\",\"\",للطباعة!$AJ$63)","v":""},{"$f":"IF($B195=\"\",\"\",للطباعة!$AI$63)","v":""},{"$f":"IF($B195=\"\",\"\",للطباعة!$AQ$63)","v":""},{"$f":"IF($B195=\"\",\"\",للطباعة!$AP$63)","v":""},{"$f":"IF($B195=\"\",\"\",للطباعة!$AX$63)","v":""},{"$f":"IF($B195=\"\",\"\",للطباعة!$AW$63)","v":""},{"$f":"IF($B195=\"\",\"\",للطباعة!$BE$63)","v":""},{"$f":"IF($B195=\"\",\"\",للطباعة!$BD$63)","v":""},null,{"$f":"IF($B195=\"\",\"\",للطباعة!$BM$63)","v":""},{"$f":"IF($B195=\"\",\"\",للطباعة!$BL$63)","v":""},{"$f":"IF($B195=\"\",\"\",للطباعة!$BT$63)","v":""},{"$f":"IF($B195=\"\",\"\",للطباعة!$BS$63)","v":""},{"$f":"IF($B195=\"\",\"\",للطباعة!$CA$63)","v":""},{"$f":"IF($B195=\"\",\"\",للطباعة!$BZ$63)","v":""},{"$f":"IF($B195=\"\",\"\",للطباعة!$CH$63)","v":""},{"$f":"IF($B195=\"\",\"\",للطباعة!$CG$63)","v":""}]
[null,"النقاط",{"$f":"IF($B195=\"\",\"\",(D195+D196)*100/8)","v":""},null,{"$f":"IF($B195=\"\",\"\",(F195+F196)*100/8)","v":""},null,{"$f":"IF($B195=\"\",\"\",(H195+H196)*100/8)","v":""},null,{"$f":"IF($B195=\"\",\"\",(J195+J196)*100/8)","v":""},null,null,{"$f":"IF($B195=\"\",\"\",(M195+M196)*100/8)","v":""},null,{"$f":"IF($B195=\"\",\"\",(O195+O196)*100/8)","v":""},null,{"$f":"IF($B195=\"\",\"\",(Q195+Q196)*100/8)","v":""},null,{"$f":"IF($B195=\"\",\"\",(S195+S196)*100/8)","v":""},null,null,{"$f":"IF($B195=\"\",\"\",(V195+V196)*100/8)","v":""},null,{"$f":"IF($B195=\"\",\"\",(X195+X196)*100/8)","v":""},null,{"$f":"IF($B195=\"\",\"\",(Z195+Z196)*100/8)","v":""},null,{"$f":"IF($B195=\"\",\"\",(AB195+AB196)*100/8)","v":""}]
[63,{"$f":"INDIRECT(ADDRESS(A198+1,2,,,\"للطباعة\"))","v":""},{"$f":"IF($B198=\"\",\"\",للطباعة!$E$64)","v":""},{"$f":"IF($B198=\"\",\"\",للطباعة!$D$64)","v":""},{"$f":"IF($B198=\"\",\"\",للطباعة!$L$64)","v":""},{"$f":"IF($B198=\"\",\"\",للطباعة!$K$64)","v":""},{"$f":"IF($B198=\"\",\"\",للطباعة!$S$64)","v":""},{"$f":"IF($B198=\"\",\"\",للطباعة!$R$64)","v":""},{"$f":"IF($B198=\"\",\"\",للطباعة!$Z$64)","v":""},{"$f":"IF($B198=\"\",\"\",للطباعة!$Y$64)","v":""},{"$f":"IF($B198=\"\",\"\",(C200+E200+G200+I200)/4)","v":""},{"$f":"IF($B198=\"\",\"\",للطباعة!$AH$64)","v":""},{"$f":"IF($B198=\"\",\"\",للطباعة!$AG$64)","v":""},{"$f":"IF($B198=\"\",\"\",للطباعة!$AO$64)","v":""},{"$f":"IF($B198=\"\",\"\",للطباعة!$AN$64)","v":""},{"$f":"IF($B198=\"\",\"\",للطباعة!$AV$64)","v":""},{"$f":"IF($B198=\"\",\"\",للطباعة!$AU$64)","v":""},{"$f":"IF($B198=\"\",\"\",للطباعة!$BC$64)","v":""},{"$f":"IF($B198=\"\",\"\",للطباعة!$BB$64)","v":""},{"$f":"IF($B198=\"\",\"\",(L200+N200+P200+R200)/4)","v":""},{"$f":"IF($B198=\"\",\"\",للطباعة!$BK$64)","v":""},{"$f":"IF($B198=\"\",\"\",للطباعة!$BJ$64)","v":""},{"$f":"IF($B198=\"\",\"\",للطباعة!$BR$64)","v":""},{"$f":"IF($B198=\"\",\"\",للطباعة!$BQ$64)","v":""},{"$f":"IF($B198=\"\",\"\",للطباعة!$BY$64)","v":""},{"$f":"IF($B198=\"\",\"\",للطباعة!$BX$64)","v":""},{"$f":"IF($B198=\"\",\"\",للطباعة!$CF$64)","v":""},{"$f":"IF($B198=\"\",\"\",للطباعة!$CE$64)","v":""},{"$f":"IF($B198=\"\",\"\",(U200+W200+Y200+AA200)/4)","v":""},{"$f":"IF($B198=\"\",\"\",(K198+T198+AC198)*0.04)","v":""},{"$f":"IF($B198=\"\",\"\",IF((AD198*40/12-INT(AD198*40/12))>=0.75,INT(AD198*40/12)+1,IF((AD198*40/12-INT(AD198*40/12))<0.25,INT(AD198*40/12),INT(AD195*40/12)+0.5)))","v":""},{"$f":"IF($B198=\"\",\"\",INDIRECT(ADDRESS(11+A198*2,19,1,,\"SeconedPartDegrees2\")))","v":""},{"$f":"IF($B198=\"\",\"\",INDIRECT(ADDRESS(11+A198*2,20,1,,\"SeconedPartDegrees2\")))","v":""},{"$f":"IF(OR(AF198=\"\",AG198=\"\"),\"\",AF198+AG198)","v":""},{"$f":"IF(OR(AE198=\"\",AG198=\"\"),\"\",AG198+AF198+AE198)","v":""},{"$f":"IF($B198=\"\",\"\",INDIRECT(ADDRESS(11+A198*2,21,1,,\"SeconedPartDegrees1\")))","v":""},{"$f":"IFERROR(IF(AI198=\"\",\"\",IF(((AI198+AJ198)/2-INT((AI198+AJ198)/2))>=0.75,INT((AI198+AJ198)/2)+1,IF(((AI198+AJ198)/2-INT((AI198+AJ198)/2))<0.25,INT((AI198+AJ198)/2),INT((AI198+AJ198)/2)+0.5))),\"\")","v":""},{"$f":"IF($AK198=\"\",\"\",IF(AK198=\"\",\"غياب وعليه دور ثاني\",IF(AK198<50,\"دور ثاني\",\"ناجح\")))","v":""},null,null,{"$f":"ROUNDUP(((FirstPartDegrees2!#REF!+D198)/2+(FirstPartDegrees2!F198+O198)/2+(FirstPartDegrees2!#REF!+M198)/2+(FirstPartDegrees2!C198+F198)/2 )/4,0)","v":{"$error":"#REF!"}},{"$f":"ROUNDUP(((FirstPartDegrees2!#REF!+FirstPartDegrees2!#REF!)/2+(FirstPartDegrees2!G198+J198)/2+(FirstPartDegrees2!L198+S198)/2+(FirstPartDegrees2!H198+#REF!)/2 )/4,0)","v":{"$error":"#REF!"}},{"$f":"ROUNDUP(((FirstPartDegrees2!E198+FirstPartDegrees2!I198)/2+(FirstPartDegrees2!#REF!+FirstPartDegrees2!#REF!)/2+(FirstPartDegrees2!N198+V198)/2+(AB198+#REF!)/2)/4,0)","v":{"$error":"#REF!"}},{"$f":"(AQ198+AAH198+AO198)*40/12","v":{"$error":"#REF!"}}]
[null,null,{"$f":"IF($B198=\"\",\"\",للطباعة!$G$64)","v":""},{"$f":"IF($B198=\"\",\"\",للطباعة!$F$64)","v":""},{"$f":"IF($B198=\"\",\"\",للطباعة!$N$64)","v":""},{"$f":"IF($B198=\"\",\"\",للطباعة!$M$64)","v":""},{"$f":"IF($B198=\"\",\"\",للطباعة!$U$64)","v":""},{"$f":"IF($B198=\"\",\"\",للطباعة!$T$64)","v":""},{"$f":"IF($B198=\"\",\"\",للطباعة!$AB$64)","v":""},{"$f":"IF($B198=\"\",\"\",للطباعة!$AA$64)","v":""},null,{"$f":"IF($B198=\"\",\"\",للطباعة!$AJ$64)","v":""},{"$f":"IF($B198=\"\",\"\",للطباعة!$AI$64)","v":""},{"$f":"IF($B198=\"\",\"\",للطباعة!$AQ$64)","v":""},{"$f":"IF($B198=\"\",\"\",للطباعة!$AP$64)","v":""},{"$f":"IF($B198=\"\",\"\",للطباعة!$AX$64)","v":""},{"$f":"IF($B198=\"\",\"\",للطباعة!$AW$64)","v":""},{"$f":"IF($B198=\"\",\"\",للطباعة!$BE$64)","v":""},{"$f":"IF($B198=\"\",\"\",للطباعة!$BD$64)","v":""},null,{"$f":"IF($B198=\"\",\"\",للطباعة!$BM$64)","v":""},{"$f":"IF($B198=\"\",\"\",للطباعة!$BL$64)","v":""},{"$f":"IF($B198=\"\",\"\",للطباعة!$BT$64)","v":""},{"$f":"IF($B198=\"\",\"\",للطباعة!$BS$64)","v":""},{"$f":"IF($B198=\"\",\"\",للطباعة!$CA$64)","v":""},{"$f":"IF($B198=\"\",\"\",للطباعة!$BZ$64)","v":""},{"$f":"IF($B198=\"\",\"\",للطباعة!$CH$64)","v":""},{"$f":"IF($B198=\"\",\"\",للطباعة!$CG$64)","v":""}]
[null,"النقاط",{"$f":"IF($B198=\"\",\"\",(D198+D199)*100/8)","v":""},null,{"$f":"IF($B198=\"\",\"\",(F198+F199)*100/8)","v":""},null,{"$f":"IF($B198=\"\",\"\",(H198+H199)*100/8)","v":""},null,{"$f":"IF($B198=\"\",\"\",(J198+J199)*100/8)","v":""},null,null,{"$f":"IF($B198=\"\",\"\",(M198+M199)*100/8)","v":""},null,{"$f":"IF($B198=\"\",\"\",(O198+O199)*100/8)","v":""},null,{"$f":"IF($B198=\"\",\"\",(Q198+Q199)*100/8)","v":""},null,{"$f":"IF($B198=\"\",\"\",(S198+S199)*100/8)","v":""},null,null,{"$f":"IF($B198=\"\",\"\",(V198+V199)*100/8)","v":""},null,{"$f":"IF($B198=\"\",\"\",(X198+X199)*100/8)","v":""},null,{"$f":"IF($B198=\"\",\"\",(Z198+Z199)*100/8)","v":""},null,{"$f":"IF($B198=\"\",\"\",(AB198+AB199)*100/8)","v":""}]
[64,{"$f":"INDIRECT(ADDRESS(A201+1,2,,,\"للطباعة\"))","v":""},{"$f":"IF($B201=\"\",\"\",للطباعة!$E$65)","v":""},{"$f":"IF($B201=\"\",\"\",للطباعة!$D$65)","v":""},{"$f":"IF($B201=\"\",\"\",للطباعة!$L$65)","v":""},{"$f":"IF($B201=\"\",\"\",للطباعة!$K$65)","v":""},{"$f":"IF($B201=\"\",\"\",للطباعة!$S$65)","v":""},{"$f":"IF($B201=\"\",\"\",للطباعة!$R$65)","v":""},{"$f":"IF($B201=\"\",\"\",للطباعة!$Z$65)","v":""},{"$f":"IF($B201=\"\",\"\",للطباعة!$Y$65)","v":""},{"$f":"IF($B201=\"\",\"\",(C203+E203+G203+I203)/4)","v":""},{"$f":"IF($B201=\"\",\"\",للطباعة!$AH$65)","v":""},{"$f":"IF($B201=\"\",\"\",للطباعة!$AG$65)","v":""},{"$f":"IF($B201=\"\",\"\",للطباعة!$AO$65)","v":""},{"$f":"IF($B201=\"\",\"\",للطباعة!$AN$65)","v":""},{"$f":"IF($B201=\"\",\"\",للطباعة!$AV$65)","v":""},{"$f":"IF($B201=\"\",\"\",للطباعة!$AU$65)","v":""},{"$f":"IF($B201=\"\",\"\",للطباعة!$BC$65)","v":""},{"$f":"IF($B201=\"\",\"\",للطباعة!$BB$65)","v":""},{"$f":"IF($B201=\"\",\"\",(L203+N203+P203+R203)/4)","v":""},{"$f":"IF($B201=\"\",\"\",للطباعة!$BK$65)","v":""},{"$f":"IF($B201=\"\",\"\",للطباعة!$BJ$65)","v":""},{"$f":"IF($B201=\"\",\"\",للطباعة!$BR$65)","v":""},{"$f":"IF($B201=\"\",\"\",للطباعة!$BQ$65)","v":""},{"$f":"IF($B201=\"\",\"\",للطباعة!$BY$65)","v":""},{"$f":"IF($B201=\"\",\"\",للطباعة!$BX$65)","v":""},{"$f":"IF($B201=\"\",\"\",للطباعة!$CF$65)","v":""},{"$f":"IF($B201=\"\",\"\",للطباعة!$CE$65)","v":""},{"$f":"IF($B201=\"\",\"\",(U203+W203+Y203+AA203)/4)","v":""},{"$f":"IF($B201=\"\",\"\",(K201+T201+AC201)*0.04)","v":""},{"$f":"IF($B201=\"\",\"\",IF((AD201*40/12-INT(AD201*40/12))>=0.75,INT(AD201*40/12)+1,IF((AD201*40/12-INT(AD201*40/12))<0.25,INT(AD201*40/12),INT(AD198*40/12)+0.5)))","v":""},{"$f":"IF($B201=\"\",\"\",INDIRECT(ADDRESS(11+A201*2,19,1,,\"SeconedPartDegrees2\")))","v":""},{"$f":"IF($B201=\"\",\"\",INDIRECT(ADDRESS(11+A201*2,20,1,,\"SeconedPartDegrees2\")))","v":""},{"$f":"IF(OR(AF201=\"\",AG201=\"\"),\"\",AF201+AG201)","v":""},{"$f":"IF(OR(AE201=\"\",AG201=\"\"),\"\",AG201+AF201+AE201)","v":""},{"$f":"IF($B201=\"\",\"\",INDIRECT(ADDRESS(11+A201*2,21,1,,\"SeconedPartDegrees1\")))","v":""},{"$f":"IFERROR(IF(AI201=\"\",\"\",IF(((AI201+AJ201)/2-INT((AI201+AJ201)/2))>=0.75,INT((AI201+AJ201)/2)+1,IF(((AI201+AJ201)/2-INT((AI201+AJ201)/2))<0.25,INT((AI201+AJ201)/2),INT((AI201+AJ201)/2)+0.5))),\"\")","v":""},{"$f":"IF($AK201=\"\",\"\",IF(AK201=\"\",\"غياب وعليه دور ثاني\",IF(AK201<50,\"دور ثاني\",\"ناجح\")))","v":""},null,null,{"$f":"ROUNDUP(((FirstPartDegrees2!#REF!+D201)/2+(FirstPartDegrees2!F201+O201)/2+(FirstPartDegrees2!#REF!+M201)/2+(FirstPartDegrees2!C201+F201)/2 )/4,0)","v":{"$error":"#REF!"}},{"$f":"ROUNDUP(((FirstPartDegrees2!#REF!+FirstPartDegrees2!#REF!)/2+(FirstPartDegrees2!G201+J201)/2+(FirstPartDegrees2!L201+S201)/2+(FirstPartDegrees2!H201+#REF!)/2 )/4,0)","v":{"$error":"#REF!"}},{"$f":"ROUNDUP(((FirstPartDegrees2!E201+FirstPartDegrees2!I201)/2+(FirstPartDegrees2!#REF!+FirstPartDegrees2!#REF!)/2+(FirstPartDegrees2!N201+V201)/2+(AB201+#REF!)/2)/4,0)","v":{"$error":"#REF!"}},{"$f":"(AQ201+AAH201+AO201)*40/12","v":{"$error":"#REF!"}}]
[null,null,{"$f":"IF($B201=\"\",\"\",للطباعة!$G$65)","v":""},{"$f":"IF($B201=\"\",\"\",للطباعة!$F$65)","v":""},{"$f":"IF($B201=\"\",\"\",للطباعة!$N$65)","v":""},{"$f":"IF($B201=\"\",\"\",للطباعة!$M$65)","v":""},{"$f":"IF($B201=\"\",\"\",للطباعة!$U$65)","v":""},{"$f":"IF($B201=\"\",\"\",للطباعة!$T$65)","v":""},{"$f":"IF($B201=\"\",\"\",للطباعة!$AB$65)","v":""},{"$f":"IF($B201=\"\",\"\",للطباعة!$AA$65)","v":""},null,{"$f":"IF($B201=\"\",\"\",للطباعة!$AJ$65)","v":""},{"$f":"IF($B201=\"\",\"\",للطباعة!$AI$65)","v":""},{"$f":"IF($B201=\"\",\"\",للطباعة!$AQ$65)","v":""},{"$f":"IF($B201=\"\",\"\",للطباعة!$AP$65)","v":""},{"$f":"IF($B201=\"\",\"\",للطباعة!$AX$65)","v":""},{"$f":"IF($B201=\"\",\"\",للطباعة!$AW$65)","v":""},{"$f":"IF($B201=\"\",\"\",للطباعة!$BE$65)","v":""},{"$f":"IF($B201=\"\",\"\",للطباعة!$BD$65)","v":""},null,{"$f":"IF($B201=\"\",\"\",للطباعة!$BM$65)","v":""},{"$f":"IF($B201=\"\",\"\",للطباعة!$BL$65)","v":""},{"$f":"IF($B201=\"\",\"\",للطباعة!$BT$65)","v":""},{"$f":"IF($B201=\"\",\"\",للطباعة!$BS$65)","v":""},{"$f":"IF($B201=\"\",\"\",للطباعة!$CA$65)","v":""},{"$f":"IF($B201=\"\",\"\",للطباعة!$BZ$65)","v":""},{"$f":"IF($B201=\"\",\"\",للطباعة!$CH$65)","v":""},{"$f":"IF($B201=\"\",\"\",للطباعة!$CG$65)","v":""}]
[null,"النقاط",{"$f":"IF($B201=\"\",\"\",(D201+D202)*100/8)","v":""},null,{"$f":"IF($B201=\"\",\"\",(F201+F202)*100/8)","v":""},null,{"$f":"IF($B201=\"\",\"\",(H201+H202)*100/8)","v":""},null,{"$f":"IF($B201=\"\",\"\",(J201+J202)*100/8)","v":""},null,null,{"$f":"IF($B201=\"\",\"\",(M201+M202)*100/8)","v":""},null,{"$f":"IF($B201=\"\",\"\",(O201+O202)*100/8)","v":""},null,{"$f":"IF($B201=\"\",\"\",(Q201+Q202)*100/8)","v":""},null,{"$f":"IF($B201=\"\",\"\",(S201+S202)*100/8)","v":""},null,null,{"$f":"IF($B201=\"\",\"\",(V201+V202)*100/8)","v":""},null,{"$f":"IF($B201=\"\",\"\",(X201+X202)*100/8)","v":""},null,{"$f":"IF($B201=\"\",\"\",(Z201+Z202)*100/8)","v":""},null,{"$f":"IF($B201=\"\",\"\",(AB201+AB202)*100/8)","v":""}]
[65,{"$f":"INDIRECT(ADDRESS(A204+1,2,,,\"للطباعة\"))","v":""},{"$f":"IF($B204=\"\",\"\",للطباعة!$E$66)","v":""},{"$f":"IF($B204=\"\",\"\",للطباعة!$D$66)","v":""},{"$f":"IF($B204=\"\",\"\",للطباعة!$L$66)","v":""},{"$f":"IF($B204=\"\",\"\",للطباعة!$K$66)","v":""},{"$f":"IF($B204=\"\",\"\",للطباعة!$S$66)","v":""},{"$f":"IF($B204=\"\",\"\",للطباعة!$R$66)","v":""},{"$f":"IF($B204=\"\",\"\",للطباعة!$Z$66)","v":""},{"$f":"IF($B204=\"\",\"\",للطباعة!$Y$66)","v":""},{"$f":"IF($B204=\"\",\"\",(C206+E206+G206+I206)/4)","v":""},{"$f":"IF($B204=\"\",\"\",للطباعة!$AH$66)","v":""},{"$f":"IF($B204=\"\",\"\",للطباعة!$AG$66)","v":""},{"$f":"IF($B204=\"\",\"\",للطباعة!$AO$66)","v":""},{"$f":"IF($B204=\"\",\"\",للطباعة!$AN$66)","v":""},{"$f":"IF($B204=\"\",\"\",للطباعة!$AV$66)","v":""},{"$f":"IF($B204=\"\",\"\",للطباعة!$AU$66)","v":""},{"$f":"IF($B204=\"\",\"\",للطباعة!$BC$66)","v":""},{"$f":"IF($B204=\"\",\"\",للطباعة!$BB$66)","v":""},{"$f":"IF($B204=\"\",\"\",(L206+N206+P206+R206)/4)","v":""},{"$f":"IF($B204=\"\",\"\",للطباعة!$BK$66)","v":""},{"$f":"IF($B204=\"\",\"\",للطباعة!$BJ$66)","v":""},{"$f":"IF($B204=\"\",\"\",للطباعة!$BR$66)","v":""},{"$f":"IF($B204=\"\",\"\",للطباعة!$BQ$66)","v":""},{"$f":"IF($B204=\"\",\"\",للطباعة!$BY$66)","v":""},{"$f":"IF($B204=\"\",\"\",للطباعة!$BX$66)","v":""},{"$f":"IF($B204=\"\",\"\",للطباعة!$CF$66)","v":""},{"$f":"IF($B204=\"\",\"\",للطباعة!$CE$66)","v":""},{"$f":"IF($B204=\"\",\"\",(U206+W206+Y206+AA206)/4)","v":""},{"$f":"IF($B204=\"\",\"\",(K204+T204+AC204)*0.04)","v":""},{"$f":"IF($B204=\"\",\"\",IF((AD204*40/12-INT(AD204*40/12))>=0.75,INT(AD204*40/12)+1,IF((AD204*40/12-INT(AD204*40/12))<0.25,INT(AD204*40/12),INT(AD201*40/12)+0.5)))","v":""},{"$f":"IF($B204=\"\",\"\",INDIRECT(ADDRESS(11+A204*2,19,1,,\"SeconedPartDegrees2\")))","v":""},{"$f":"IF($B204=\"\",\"\",INDIRECT(ADDRESS(11+A204*2,20,1,,\"SeconedPartDegrees2\")))","v":""},{"$f":"IF(OR(AF204=\"\",AG204=\"\"),\"\",AF204+AG204)","v":""},{"$f":"IF(OR(AE204=\"\",AG204=\"\"),\"\",AG204+AF204+AE204)","v":""},{"$f":"IF($B204=\"\",\"\",INDIRECT(ADDRESS(11+A204*2,21,1,,\"SeconedPartDegrees1\")))","v":""},{"$f":"IFERROR(IF(AI204=\"\",\"\",IF(((AI204+AJ204)/2-INT((AI204+AJ204)/2))>=0.75,INT((AI204+AJ204)/2)+1,IF(((AI204+AJ204)/2-INT((AI204+AJ204)/2))<0.25,INT((AI204+AJ204)/2),INT((AI204+AJ204)/2)+0.5))),\"\")","v":""},{"$f":"IF($AK204=\"\",\"\",IF(AK204=\"\",\"غياب وعليه دور ثاني\",IF(AK204<50,\"دور ثاني\",\"ناجح\")))","v":""},null,null,{"$f":"ROUNDUP(((FirstPartDegrees2!#REF!+D204)/2+(FirstPartDegrees2!F204+O204)/2+(FirstPartDegrees2!#REF!+M204)/2+(FirstPartDegrees2!C204+F204)/2 )/4,0)","v":{"$error":"#REF!"}},{"$f":"ROUNDUP(((FirstPartDegrees2!#REF!+FirstPartDegrees2!#REF!)/2+(FirstPartDegrees2!G204+J204)/2+(FirstPartDegrees2!L204+S204)/2+(FirstPartDegrees2!H204+#REF!)/2 )/4,0)","v":{"$error":"#REF!"}},{"$f":"ROUNDUP(((FirstPartDegrees2!E204+FirstPartDegrees2!I204)/2+(FirstPartDegrees2!#REF!+FirstPartDegrees2!#REF!)/2+(FirstPartDegrees2!N204+V204)/2+(AB204+#REF!)/2)/4,0)","v":{"$error":"#REF!"}},{"$f":"(AQ204+AAH204+AO204)*40/12","v":{"$error":"#REF!"}}]
[null,null,{"$f":"IF($B204=\"\",\"\",للطباعة!$G$66)","v":""},{"$f":"IF($B204=\"\",\"\",للطباعة!$F$66)","v":""},{"$f":"IF($B204=\"\",\"\",للطباعة!$N$66)","v":""},{"$f":"IF($B204=\"\",\"\",للطباعة!$M$66)","v":""},{"$f":"IF($B204=\"\",\"\",للطباعة!$U$66)","v":""},{"$f":"IF($B204=\"\",\"\",للطباعة!$T$66)","v":""},{"$f":"IF($B204=\"\",\"\",للطباعة!$AB$66)","v":""},{"$f":"IF($B204=\"\",\"\",للطباعة!$AA$66)","v":""},null,{"$f":"IF($B204=\"\",\"\",للطباعة!$AJ$66)","v":""},{"$f":"IF($B204=\"\",\"\",للطباعة!$AI$66)","v":""},{"$f":"IF($B204=\"\",\"\",للطباعة!$AQ$66)","v":""},{"$f":"IF($B204=\"\",\"\",للطباعة!$AP$66)","v":""},{"$f":"IF($B204=\"\",\"\",للطباعة!$AX$66)","v":""},{"$f":"IF($B204=\"\",\"\",للطباعة!$AW$66)","v":""},{"$f":"IF($B204=\"\",\"\",للطباعة!$BE$66)","v":""},{"$f":"IF($B204=\"\",\"\",للطباعة!$BD$66)","v":""},null,{"$f":"IF($B204=\"\",\"\",للطباعة!$BM$66)","v":""},{"$f":"IF($B204=\"\",\"\",للطباعة!$BL$66)","v":""},{"$f":"IF($B204=\"\",\"\",للطباعة!$BT$66)","v":""},{"$f":"IF($B204=\"\",\"\",للطباعة!$BS$66)","v":""},{"$f":"IF($B204=\"\",\"\",للطباعة!$CA$66)","v":""},{"$f":"IF($B204=\"\",\"\",للطباعة!$BZ$66)","v":""},{"$f":"IF($B204=\"\",\"\",للطباعة!$CH$66)","v":""},{"$f":"IF($B204=\"\",\"\",للطباعة!$CG$66)","v":""}]
[null,"النقاط",{"$f":"IF($B204=\"\",\"\",(D204+D205)*100/8)","v":""},null,{"$f":"IF($B204=\"\",\"\",(F204+F205)*100/8)","v":""},null,{"$f":"IF($B204=\"\",\"\",(H204+H205)*100/8)","v":""},null,{"$f":"IF($B204=\"\",\"\",(J204+J205)*100/8)","v":""},null,null,{"$f":"IF($B204=\"\",\"\",(M204+M205)*100/8)","v":""},null,{"$f":"IF($B204=\"\",\"\",(O204+O205)*100/8)","v":""},null,{"$f":"IF($B204=\"\",\"\",(Q204+Q205)*100/8)","v":""},null,{"$f":"IF($B204=\"\",\"\",(S204+S205)*100/8)","v":""},null,null,{"$f":"IF($B204=\"\",\"\",(V204+V205)*100/8)","v":""},null,{"$f":"IF($B204=\"\",\"\",(X204+X205)*100/8)","v":""},null,{"$f":"IF($B204=\"\",\"\",(Z204+Z205)*100/8)","v":""},null,{"$f":"IF($B204=\"\",\"\",(AB204+AB205)*100/8)","v":""}]
[66,{"$f":"INDIRECT(ADDRESS(A207+1,2,,,\"للطباعة\"))","v":""},{"$f":"IF($B207=\"\",\"\",للطباعة!$E$67)","v":""},{"$f":"IF($B207=\"\",\"\",للطباعة!$D$67)","v":""},{"$f":"IF($B207=\"\",\"\",للطباعة!$L$67)","v":""},{"$f":"IF($B207=\"\",\"\",للطباعة!$K$67)","v":""},{"$f":"IF($B207=\"\",\"\",للطباعة!$S$67)","v":""},{"$f":"IF($B207=\"\",\"\",للطباعة!$R$67)","v":""},{"$f":"IF($B207=\"\",\"\",للطباعة!$Z$67)","v":""},{"$f":"IF($B207=\"\",\"\",للطباعة!$Y$67)","v":""},{"$f":"IF($B207=\"\",\"\",(C209+E209+G209+I209)/4)","v":""},{"$f":"IF($B207=\"\",\"\",للطباعة!$AH$67)","v":""},{"$f":"IF($B207=\"\",\"\",للطباعة!$AG$67)","v":""},{"$f":"IF($B207=\"\",\"\",للطباعة!$AO$67)","v":""},{"$f":"IF($B207=\"\",\"\",للطباعة!$AN$67)","v":""},{"$f":"IF($B207=\"\",\"\",للطباعة!$AV$67)","v":""},{"$f":"IF($B207=\"\",\"\",للطباعة!$AU$67)","v":""},{"$f":"IF($B207=\"\",\"\",للطباعة!$BC$67)","v":""},{"$f":"IF($B207=\"\",\"\",للطباعة!$BB$67)","v":""},{"$f":"IF($B207=\"\",\"\",(L209+N209+P209+R209)/4)","v":""},{"$f":"IF($B207=\"\",\"\",للطباعة!$BK$67)","v":""},{"$f":"IF($B207=\"\",\"\",للطباعة!$BJ$67)","v":""},{"$f":"IF($B207=\"\",\"\",للطباعة!$BR$67)","v":""},{"$f":"IF($B207=\"\",\"\",للطباعة!$BQ$67)","v":""},{"$f":"IF($B207=\"\",\"\",للطباعة!$BY$67)","v":""},{"$f":"IF($B207=\"\",\"\",للطباعة!$BX$67)","v":""},{"$f":"IF($B207=\"\",\"\",للطباعة!$CF$67)","v":""},{"$f":"IF($B207=\"\",\"\",للطباعة!$CE$67)","v":""},{"$f":"IF($B207=\"\",\"\",(U209+W209+Y209+AA209)/4)","v":""},{"$f":"IF($B207=\"\",\"\",(K207+T207+AC207)*0.04)","v":""},{"$f":"IF($B207=\"\",\"\",IF((AD207*40/12-INT(AD207*40/12))>=0.75,INT(AD207*40/12)+1,IF((AD207*40/12-INT(AD207*40/12))<0.25,INT(AD207*40/12),INT(AD204*40/12)+0.5)))","v":""},{"$f":"IF($B207=\"\",\"\",INDIRECT(ADDRESS(11+A207*2,19,1,,\"SeconedPartDegrees2\")))","v":""},{"$f":"IF($B207=\"\",\"\",INDIRECT(ADDRESS(11+A207*2,20,1,,\"SeconedPartDegrees2\")))","v":""},{"$f":"IF(OR(AF207=\"\",AG207=\"\"),\"\",AF207+AG207)","v":""},{"$f":"IF(OR(AE207=\"\",AG207=\"\"),\"\",AG207+AF207+AE207)","v":""},{"$f":"IF($B207=\"\",\"\",INDIRECT(ADDRESS(11+A207*2,21,1,,\"SeconedPartDegrees1\")))","v":""},{"$f":"IFERROR(IF(AI207=\"\",\"\",IF(((AI207+AJ207)/2-INT((AI207+AJ207)/2))>=0.75,INT((AI207+AJ207)/2)+1,IF(((AI207+AJ207)/2-INT((AI207+AJ207)/2))<0.25,INT((AI207+AJ207)/2),INT((AI207+AJ207)/2)+0.5))),\"\")","v":""},{"$f":"IF($AK207=\"\",\"\",IF(AK207=\"\",\"غياب وعليه دور ثاني\",IF(AK207<50,\"دور ثاني\",\"ناجح\")))","v":""},null,null,{"$f":"ROUNDUP(((FirstPartDegrees2!#REF!+D207)/2+(FirstPartDegrees2!F207+O207)/2+(FirstPartDegrees2!#REF!+M207)/2+(FirstPartDegrees2!C207+F207)/2 )/4,0)","v":{"$error":"#REF!"}},{"$f":"ROUNDUP(((FirstPartDegrees2!#REF!+FirstPartDegrees2!#REF!)/2+(FirstPartDegrees2!G207+J207)/2+(FirstPartDegrees2!L207+S207)/2+(FirstPartDegrees2!H207+#REF!)/2 )/4,0)","v":{"$error":"#REF!"}},{"$f":"ROUNDUP(((FirstPartDegrees2!E207+FirstPartDegrees2!I207)/2+(FirstPartDegrees2!#REF!+FirstPartDegrees2!#REF!)/2+(FirstPartDegrees2!N207+V207)/2+(AB207+#REF!)/2)/4,0)","v":{"$error":"#REF!"}},{"$f":"(AQ207+AAH207+AO207)*40/12","v":{"$error":"#REF!"}}]
[null,null,{"$f":"IF($B207=\"\",\"\",للطباعة!$G$67)","v":""},{"$f":"IF($B207=\"\",\"\",للطباعة!$F$67)","v":""},{"$f":"IF($B207=\"\",\"\",للطباعة!$N$67)","v":""},{"$f":"IF($B207=\"\",\"\",للطباعة!$M$67)","v":""},{"$f":"IF($B207=\"\",\"\",للطباعة!$U$67)","v":""},{"$f":"IF($B207=\"\",\"\",للطباعة!$T$67)","v":""},{"$f":"IF($B207=\"\",\"\",للطباعة!$AB$67)","v":""},{"$f":"IF($B207=\"\",\"\",للطباعة!$AA$67)","v":""},null,{"$f":"IF($B207=\"\",\"\",للطباعة!$AJ$67)","v":""},{"$f":"IF($B207=\"\",\"\",للطباعة!$AI$67)","v":""},{"$f":"IF($B207=\"\",\"\",للطباعة!$AQ$67)","v":""},{"$f":"IF($B207=\"\",\"\",للطباعة!$AP$67)","v":""},{"$f":"IF($B207=\"\",\"\",للطباعة!$AX$67)","v":""},{"$f":"IF($B207=\"\",\"\",للطباعة!$AW$67)","v":""},{"$f":"IF($B207=\"\",\"\",للطباعة!$BE$67)","v":""},{"$f":"IF($B207=\"\",\"\",للطباعة!$BD$67)","v":""},null,{"$f":"IF($B207=\"\",\"\",للطباعة!$BM$67)","v":""},{"$f":"IF($B207=\"\",\"\",للطباعة!$BL$67)","v":""},{"$f":"IF($B207=\"\",\"\",للطباعة!$BT$67)","v":""},{"$f":"IF($B207=\"\",\"\",للطباعة!$BS$67)","v":""},{"$f":"IF($B207=\"\",\"\",للطباعة!$CA$67)","v":""},{"$f":"IF($B207=\"\",\"\",للطباعة!$BZ$67)","v":""},{"$f":"IF($B207=\"\",\"\",للطباعة!$CH$67)","v":""},{"$f":"IF($B207=\"\",\"\",للطباعة!$CG$67)","v":""}]
[null,"النقاط",{"$f":"IF($B207=\"\",\"\",(D207+D208)*100/8)","v":""},null,{"$f":"IF($B207=\"\",\"\",(F207+F208)*100/8)","v":""},null,{"$f":"IF($B207=\"\",\"\",(H207+H208)*100/8)","v":""},null,{"$f":"IF($B207=\"\",\"\",(J207+J208)*100/8)","v":""},null,null,{"$f":"IF($B207=\"\",\"\",(M207+M208)*100/8)","v":""},null,{"$f":"IF($B207=\"\",\"\",(O207+O208)*100/8)","v":""},null,{"$f":"IF($B207=\"\",\"\",(Q207+Q208)*100/8)","v":""},null,{"$f":"IF($B207=\"\",\"\",(S207+S208)*100/8)","v":""},null,null,{"$f":"IF($B207=\"\",\"\",(V207+V208)*100/8)","v":""},null,{"$f":"IF($B207=\"\",\"\",(X207+X208)*100/8)","v":""},null,{"$f":"IF($B207=\"\",\"\",(Z207+Z208)*100/8)","v":""},null,{"$f":"IF($B207=\"\",\"\",(AB207+AB208)*100/8)","v":""}]
[67,{"$f":"INDIRECT(ADDRESS(A210+1,2,,,\"للطباعة\"))","v":""},{"$f":"IF($B210=\"\",\"\",للطباعة!$E$68)","v":""},{"$f":"IF($B210=\"\",\"\",للطباعة!$D$68)","v":""},{"$f":"IF($B210=\"\",\"\",للطباعة!$L$68)","v":""},{"$f":"IF($B210=\"\",\"\",للطباعة!$K$68)","v":""},{"$f":"IF($B210=\"\",\"\",للطباعة!$S$68)","v":""},{"$f":"IF($B210=\"\",\"\",للطباعة!$R$68)","v":""},{"$f":"IF($B210=\"\",\"\",للطباعة!$Z$68)","v":""},{"$f":"IF($B210=\"\",\"\",للطباعة!$Y$68)","v":""},{"$f":"IF($B210=\"\",\"\",(C212+E212+G212+I212)/4)","v":""},{"$f":"IF($B210=\"\",\"\",للطباعة!$AH$68)","v":""},{"$f":"IF($B210=\"\",\"\",للطباعة!$AG$68)","v":""},{"$f":"IF($B210=\"\",\"\",للطباعة!$AO$68)","v":""},{"$f":"IF($B210=\"\",\"\",للطباعة!$AN$68)","v":""},{"$f":"IF($B210=\"\",\"\",للطباعة!$AV$68)","v":""},{"$f":"IF($B210=\"\",\"\",للطباعة!$AU$68)","v":""},{"$f":"IF($B210=\"\",\"\",للطباعة!$BC$68)","v":""},{"$f":"IF($B210=\"\",\"\",للطباعة!$BB$68)","v":""},{"$f":"IF($B210=\"\",\"\",(L212+N212+P212+R212)/4)","v":""},{"$f":"IF($B210=\"\",\"\",للطباعة!$BK$68)","v":""},{"$f":"IF($B210=\"\",\"\",للطباعة!$BJ$68)","v":""},{"$f":"IF($B210=\"\",\"\",للطباعة!$BR$68)","v":""},{"$f":"IF($B210=\"\",\"\",للطباعة!$BQ$68)","v":""},{"$f":"IF($B210=\"\",\"\",للطباعة!$BY$68)","v":""},{"$f":"IF($B210=\"\",\"\",للطباعة!$BX$68)","v":""},{"$f":"IF($B210=\"\",\"\",للطباعة!$CF$68)","v":""},{"$f":"IF($B210=\"\",\"\",للطباعة!$CE$68)","v":""},{"$f":"IF($B210=\"\",\"\",(U212+W212+Y212+AA212)/4)","v":""},{"$f":"IF($B210=\"\",\"\",(K210+T210+AC210)*0.04)","v":""},{"$f":"IF($B210=\"\",\"\",IF((AD210*40/12-INT(AD210*40/12))>=0.75,INT(AD210*40/12)+1,IF((AD210*40/12-INT(AD210*40/12))<0.25,INT(AD210*40/12),INT(AD207*40/12)+0.5)))","v":""},{"$f":"IF($B210=\"\",\"\",INDIRECT(ADDRESS(11+A210*2,19,1,,\"SeconedPartDegrees2\")))","v":""},{"$f":"IF($B210=\"\",\"\",INDIRECT(ADDRESS(11+A210*2,20,1,,\"SeconedPartDegrees2\")))","v":""},{"$f":"IF(OR(AF210=\"\",AG210=\"\"),\"\",AF210+AG210)","v":""},{"$f":"IF(OR(AE210=\"\",AG210=\"\"),\"\",AG210+AF210+AE210)","v":""},{"$f":"IF($B210=\"\",\"\",INDIRECT(ADDRESS(11+A210*2,21,1,,\"SeconedPartDegrees1\")))","v":""},{"$f":"IFERROR(IF(AI210=\"\",\"\",IF(((AI210+AJ210)/2-INT((AI210+AJ210)/2))>=0.75,INT((AI210+AJ210)/2)+1,IF(((AI210+AJ210)/2-INT((AI210+AJ210)/2))<0.25,INT((AI210+AJ210)/2),INT((AI210+AJ210)/2)+0.5))),\"\")","v":""},{"$f":"IF($AK210=\"\",\"\",IF(AK210=\"\",\"غياب وعليه دور ثاني\",IF(AK210<50,\"دور ثاني\",\"ناجح\")))","v":""},null,null,{"$f":"ROUNDUP(((FirstPartDegrees2!#REF!+D210)/2+(FirstPartDegrees2!F210+O210)/2+(FirstPartDegrees2!#REF!+M210)/2+(FirstPartDegrees2!C210+F210)/2 )/4,0)","v":{"$error":"#REF!"}},{"$f":"ROUNDUP(((FirstPartDegrees2!#REF!+FirstPartDegrees2!#REF!)/2+(FirstPartDegrees2!G210+J210)/2+(FirstPartDegrees2!L210+S210)/2+(FirstPartDegrees2!H210+#REF!)/2 )/4,0)","v":{"$error":"#REF!"}},{"$f":"ROUNDUP(((FirstPartDegrees2!E210+FirstPartDegrees2!I210)/2+(FirstPartDegrees2!#REF!+FirstPartDegrees2!#REF!)/2+(FirstPartDegrees2!N210+V210)/2+(AB210+#REF!)/2)/4,0)","v":{"$error":"#REF!"}},{"$f":"(AQ210+AAH210+AO210)*40/12","v":{"$error":"#REF!"}}]
[null,null,{"$f":"IF($B210=\"\",\"\",للطباعة!$G$68)","v":""},{"$f":"IF($B210=\"\",\"\",للطباعة!$F$68)","v":""},{"$f":"IF($B210=\"\",\"\",للطباعة!$N$68)","v":""},{"$f":"IF($B210=\"\",\"\",للطباعة!$M$68)","v":""},{"$f":"IF($B210=\"\",\"\",للطباعة!$U$68)","v":""},{"$f":"IF($B210=\"\",\"\",للطباعة!$T$68)","v":""},{"$f":"IF($B210=\"\",\"\",للطباعة!$AB$68)","v":""},{"$f":"IF($B210=\"\",\"\",للطباعة!$AA$68)","v":""},null,{"$f":"IF($B210=\"\",\"\",للطباعة!$AJ$68)","v":""},{"$f":"IF($B210=\"\",\"\",للطباعة!$AI$68)","v":""},{"$f":"IF($B210=\"\",\"\",للطباعة!$AQ$68)","v":""},{"$f":"IF($B210=\"\",\"\",للطباعة!$AP$68)","v":""},{"$f":"IF($B210=\"\",\"\",للطباعة!$AX$68)","v":""},{"$f":"IF($B210=\"\",\"\",للطباعة!$AW$68)","v":""},{"$f":"IF($B210=\"\",\"\",للطباعة!$BE$68)","v":""},{"$f":"IF($B210=\"\",\"\",للطباعة!$BD$68)","v":""},null,{"$f":"IF($B210=\"\",\"\",للطباعة!$BM$68)","v":""},{"$f":"IF($B210=\"\",\"\",للطباعة!$BL$68)","v":""},{"$f":"IF($B210=\"\",\"\",للطباعة!$BT$68)","v":""},{"$f":"IF($B210=\"\",\"\",للطباعة!$BS$68)","v":""},{"$f":"IF($B210=\"\",\"\",للطباعة!$CA$68)","v":""},{"$f":"IF($B210=\"\",\"\",للطباعة!$BZ$68)","v":""},{"$f":"IF($B210=\"\",\"\",للطباعة!$CH$68)","v":""},{"$f":"IF($B210=\"\",\"\",للطباعة!$CG$68)","v":""}]
[null,"النقاط",{"$f":"IF($B210=\"\",\"\",(D210+D211)*100/8)","v":""},null,{"$f":"IF($B210=\"\",\"\",(F210+F211)*100/8)","v":""},null,{"$f":"IF($B210=\"\",\"\",(H210+H211)*100/8)","v":""},null,{"$f":"IF($B210=\"\",\"\",(J210+J211)*100/8)","v":""},null,null,{"$f":"IF($B210=\"\",\"\",(M210+M211)*100/8)","v":""},null,{"$f":"IF($B210=\"\",\"\",(O210+O211)*100/8)","v":""},null,{"$f":"IF($B210=\"\",\"\",(Q210+Q211)*100/8)","v":""},null,{"$f":"IF($B210=\"\",\"\",(S210+S211)*100/8)","v":""},null,null,{"$f":"IF($B210=\"\",\"\",(V210+V211)*100/8)","v":""},null,{"$f":"IF($B210=\"\",\"\",(X210+X211)*100/8)","v":""},null,{"$f":"IF($B210=\"\",\"\",(Z210+Z211)*100/8)","v":""},null,{"$f":"IF($B210=\"\",\"\",(AB210+AB211)*100/8)","v":""}]
[68,{"$f":"INDIRECT(ADDRESS(A213+1,2,,,\"للطباعة\"))","v":""},{"$f":"IF($B213=\"\",\"\",للطباعة!$E$69)","v":""},{"$f":"IF($B213=\"\",\"\",للطباعة!$D$69)","v":""},{"$f":"IF($B213=\"\",\"\",للطباعة!$L$69)","v":""},{"$f":"IF($B213=\"\",\"\",للطباعة!$K$69)","v":""},{"$f":"IF($B213=\"\",\"\",للطباعة!$S$69)","v":""},{"$f":"IF($B213=\"\",\"\",للطباعة!$R$69)","v":""},{"$f":"IF($B213=\"\",\"\",للطباعة!$Z$69)","v":""},{"$f":"IF($B213=\"\",\"\",للطباعة!$Y$69)","v":""},{"$f":"IF($B213=\"\",\"\",(C215+E215+G215+I215)/4)","v":""},{"$f":"IF($B213=\"\",\"\",للطباعة!$AH$69)","v":""},{"$f":"IF($B213=\"\",\"\",للطباعة!$AG$69)","v":""},{"$f":"IF($B213=\"\",\"\",للطباعة!$AO$69)","v":""},{"$f":"IF($B213=\"\",\"\",للطباعة!$AN$69)","v":""},{"$f":"IF($B213=\"\",\"\",للطباعة!$AV$69)","v":""},{"$f":"IF($B213=\"\",\"\",للطباعة!$AU$69)","v":""},{"$f":"IF($B213=\"\",\"\",للطباعة!$BC$69)","v":""},{"$f":"IF($B213=\"\",\"\",للطباعة!$BB$69)","v":""},{"$f":"IF($B213=\"\",\"\",(L215+N215+P215+R215)/4)","v":""},{"$f":"IF($B213=\"\",\"\",للطباعة!$BK$69)","v":""},{"$f":"IF($B213=\"\",\"\",للطباعة!$BJ$69)","v":""},{"$f":"IF($B213=\"\",\"\",للطباعة!$BR$69)","v":""},{"$f":"IF($B213=\"\",\"\",للطباعة!$BQ$69)","v":""},{"$f":"IF($B213=\"\",\"\",للطباعة!$BY$69)","v":""},{"$f":"IF($B213=\"\",\"\",للطباعة!$BX$69)","v":""},{"$f":"IF($B213=\"\",\"\",للطباعة!$CF$69)","v":""},{"$f":"IF($B213=\"\",\"\",للطباعة!$CE$69)","v":""},{"$f":"IF($B213=\"\",\"\",(U215+W215+Y215+AA215)/4)","v":""},{"$f":"IF($B213=\"\",\"\",(K213+T213+AC213)*0.04)","v":""},{"$f":"IF($B213=\"\",\"\",IF((AD213*40/12-INT(AD213*40/12))>=0.75,INT(AD213*40/12)+1,IF((AD213*40/12-INT(AD213*40/12))<0.25,INT(AD213*40/12),INT(AD210*40/12)+0.5)))","v":""},{"$f":"IF($B213=\"\",\"\",INDIRECT(ADDRESS(11+A213*2,19,1,,\"SeconedPartDegrees2\")))","v":""},{"$f":"IF($B213=\"\",\"\",INDIRECT(ADDRESS(11+A213*2,20,1,,\"SeconedPartDegrees2\")))","v":""},{"$f":"IF(OR(AF213=\"\",AG213=\"\"),\"\",AF213+AG213)","v":""},{"$f":"IF(OR(AE213=\"\",AG213=\"\"),\"\",AG213+AF213+AE213)","v":""},{"$f":"IF($B213=\"\",\"\",INDIRECT(ADDRESS(11+A213*2,21,1,,\"SeconedPartDegrees1\")))","v":""},{"$f":"IFERROR(IF(AI213=\"\",\"\",IF(((AI213+AJ213)/2-INT((AI213+AJ213)/2))>=0.75,INT((AI213+AJ213)/2)+1,IF(((AI213+AJ213)/2-INT((AI213+AJ213)/2))<0.25,INT((AI213+AJ213)/2),INT((AI213+AJ213)/2)+0.5))),\"\")","v":""},{"$f":"IF($AK213=\"\",\"\",IF(AK213=\"\",\"غياب وعليه دور ثاني\",IF(AK213<50,\"دور ثاني\",\"ناجح\")))","v":""},null,null,{"$f":"ROUNDUP(((FirstPartDegrees2!#REF!+D213)/2+(FirstPartDegrees2!F213+O213)/2+(FirstPartDegrees2!#REF!+M213)/2+(FirstPartDegrees2!C213+F213)/2 )/4,0)","v":{"$error":"#REF!"}},{"$f":"ROUNDUP(((FirstPartDegrees2!#REF!+FirstPartDegrees2!#REF!)/2+(FirstPartDegrees2!G213+J213)/2+(FirstPartDegrees2!L213+S213)/2+(FirstPartDegrees2!H213+#REF!)/2 )/4,0)","v":{"$error":"#REF!"}},{"$f":"ROUNDUP(((FirstPartDegrees2!E213+FirstPartDegrees2!I213)/2+(FirstPartDegrees2!#REF!+FirstPartDegrees2!#REF!)/2+(FirstPartDegrees2!N213+V213)/2+(AB213+#REF!)/2)/4,0)","v":{"$error":"#REF!"}},{"$f":"(AQ213+AAH213+AO213)*40/12","v":{"$error":"#REF!"}}]
[null,null,{"$f":"IF($B213=\"\",\"\",للطباعة!$G$69)","v":""},{"$f":"IF($B213=\"\",\"\",للطباعة!$F$69)","v":""},{"$f":"IF($B213=\"\",\"\",للطباعة!$N$69)","v":""},{"$f":"IF($B213=\"\",\"\",للطباعة!$M$69)","v":""},{"$f":"IF($B213=\"\",\"\",للطباعة!$U$69)","v":""},{"$f":"IF($B213=\"\",\"\",للطباعة!$T$69)","v":""},{"$f":"IF($B213=\"\",\"\",للطباعة!$AB$69)","v":""},{"$f":"IF($B213=\"\",\"\",للطباعة!$AA$69)","v":""},null,{"$f":"IF($B213=\"\",\"\",للطباعة!$AJ$69)","v":""},{"$f":"IF($B213=\"\",\"\",للطباعة!$AI$69)","v":""},{"$f":"IF($B213=\"\",\"\",للطباعة!$AQ$69)","v":""},{"$f":"IF($B213=\"\",\"\",للطباعة!$AP$69)","v":""},{"$f":"IF($B213=\"\",\"\",للطباعة!$AX$69)","v":""},{"$f":"IF($B213=\"\",\"\",للطباعة!$AW$69)","v":""},{"$f":"IF($B213=\"\",\"\",للطباعة!$BE$69)","v":""},{"$f":"IF($B213=\"\",\"\",للطباعة!$BD$69)","v":""},null,{"$f":"IF($B213=\"\",\"\",للطباعة!$BM$69)","v":""},{"$f":"IF($B213=\"\",\"\",للطباعة!$BL$69)","v":""},{"$f":"IF($B213=\"\",\"\",للطباعة!$BT$69)","v":""},{"$f":"IF($B213=\"\",\"\",للطباعة!$BS$69)","v":""},{"$f":"IF($B213=\"\",\"\",للطباعة!$CA$69)","v":""},{"$f":"IF($B213=\"\",\"\",للطباعة!$BZ$69)","v":""},{"$f":"IF($B213=\"\",\"\",للطباعة!$CH$69)","v":""},{"$f":"IF($B213=\"\",\"\",للطباعة!$CG$69)","v":""}]
[null,"النقاط",{"$f":"IF($B213=\"\",\"\",(D213+D214)*100/8)","v":""},null,{"$f":"IF($B213=\"\",\"\",(F213+F214)*100/8)","v":""},null,{"$f":"IF($B213=\"\",\"\",(H213+H214)*100/8)","v":""},null,{"$f":"IF($B213=\"\",\"\",(J213+J214)*100/8)","v":""},null,null,{"$f":"IF($B213=\"\",\"\",(M213+M214)*100/8)","v":""},null,{"$f":"IF($B213=\"\",\"\",(O213+O214)*100/8)","v":""},null,{"$f":"IF($B213=\"\",\"\",(Q213+Q214)*100/8)","v":""},null,{"$f":"IF($B213=\"\",\"\",(S213+S214)*100/8)","v":""},null,null,{"$f":"IF($B213=\"\",\"\",(V213+V214)*100/8)","v":""},null,{"$f":"IF($B213=\"\",\"\",(X213+X214)*100/8)","v":""},null,{"$f":"IF($B213=\"\",\"\",(Z213+Z214)*100/8)","v":""},null,{"$f":"IF($B213=\"\",\"\",(AB213+AB214)*100/8)","v":""}]
[69,{"$f":"INDIRECT(ADDRESS(A216+1,2,,,\"للطباعة\"))","v":""},{"$f":"IF($B216=\"\",\"\",للطباعة!$E$70)","v":""},{"$f":"IF($B216=\"\",\"\",للطباعة!$D$70)","v":""},{"$f":"IF($B216=\"\",\"\",للطباعة!$L$70)","v":""},{"$f":"IF($B216=\"\",\"\",للطباعة!$K$70)","v":""},{"$f":"IF($B216=\"\",\"\",للطباعة!$S$70)","v":""},{"$f":"IF($B216=\"\",\"\",للطباعة!$R$70)","v":""},{"$f":"IF($B216=\"\",\"\",للطباعة!$Z$70)","v":""},{"$f":"IF($B216=\"\",\"\",للطباعة!$Y$70)","v":""},{"$f":"IF($B216=\"\",\"\",(C218+E218+G218+I218)/4)","v":""},{"$f":"IF($B216=\"\",\"\",للطباعة!$AH$70)","v":""},{"$f":"IF($B216=\"\",\"\",للطباعة!$AG$70)","v":""},{"$f":"IF($B216=\"\",\"\",للطباعة!$AO$70)","v":""},{"$f":"IF($B216=\"\",\"\",للطباعة!$AN$70)","v":""},{"$f":"IF($B216=\"\",\"\",للطباعة!$AV$70)","v":""},{"$f":"IF($B216=\"\",\"\",للطباعة!$AU$70)","v":""},{"$f":"IF($B216=\"\",\"\",للطباعة!$BC$70)","v":""},{"$f":"IF($B216=\"\",\"\",للطباعة!$BB$70)","v":""},{"$f":"IF($B216=\"\",\"\",(L218+N218+P218+R218)/4)","v":""},{"$f":"IF($B216=\"\",\"\",للطباعة!$BK$70)","v":""},{"$f":"IF($B216=\"\",\"\",للطباعة!$BJ$70)","v":""},{"$f":"IF($B216=\"\",\"\",للطباعة!$BR$70)","v":""},{"$f":"IF($B216=\"\",\"\",للطباعة!$BQ$70)","v":""},{"$f":"IF($B216=\"\",\"\",للطباعة!$BY$70)","v":""},{"$f":"IF($B216=\"\",\"\",للطباعة!$BX$70)","v":""},{"$f":"IF($B216=\"\",\"\",للطباعة!$CF$70)","v":""},{"$f":"IF($B216=\"\",\"\",للطباعة!$CE$70)","v":""},{"$f":"IF($B216=\"\",\"\",(U218+W218+Y218+AA218)/4)","v":""},{"$f":"IF($B216=\"\",\"\",(K216+T216+AC216)*0.04)","v":""},{"$f":"IF($B216=\"\",\"\",IF((AD216*40/12-INT(AD216*40/12))>=0.75,INT(AD216*40/12)+1,IF((AD216*40/12-INT(AD216*40/12))<0.25,INT(AD216*40/12),INT(AD213*40/12)+0.5)))","v":""},{"$f":"IF($B216=\"\",\"\",INDIRECT(ADDRESS(11+A216*2,19,1,,\"SeconedPartDegrees2\")))","v":""},{"$f":"IF($B216=\"\",\"\",INDIRECT(ADDRESS(11+A216*2,20,1,,\"SeconedPartDegrees2\")))","v":""},{"$f":"IF(OR(AF216=\"\",AG216=\"\"),\"\",AF216+AG216)","v":""},{"$f":"IF(OR(AE216=\"\",AG216=\"\"),\"\",AG216+AF216+AE216)","v":""},{"$f":"IF($B216=\"\",\"\",INDIRECT(ADDRESS(11+A216*2,21,1,,\"SeconedPartDegrees1\")))","v":""},{"$f":"IFERROR(IF(AI216=\"\",\"\",IF(((AI216+AJ216)/2-INT((AI216+AJ216)/2))>=0.75,INT((AI216+AJ216)/2)+1,IF(((AI216+AJ216)/2-INT((AI216+AJ216)/2))<0.25,INT((AI216+AJ216)/2),INT((AI216+AJ216)/2)+0.5))),\"\")","v":""},{"$f":"IF($AK216=\"\",\"\",IF(AK216=\"\",\"غياب وعليه دور ثاني\",IF(AK216<50,\"دور ثاني\",\"ناجح\")))","v":""},null,null,{"$f":"ROUNDUP(((FirstPartDegrees2!#REF!+D216)/2+(FirstPartDegrees2!F216+O216)/2+(FirstPartDegrees2!#REF!+M216)/2+(FirstPartDegrees2!C216+F216)/2 )/4,0)","v":{"$error":"#REF!"}},{"$f":"ROUNDUP(((FirstPartDegrees2!#REF!+FirstPartDegrees2!#REF!)/2+(FirstPartDegrees2!G216+J216)/2+(FirstPartDegrees2!L216+S216)/2+(FirstPartDegrees2!H216+#REF!)/2 )/4,0)","v":{"$error":"#REF!"}},{"$f":"ROUNDUP(((FirstPartDegrees2!E216+FirstPartDegrees2!I216)/2+(FirstPartDegrees2!#REF!+FirstPartDegrees2!#REF!)/2+(FirstPartDegrees2!N216+V216)/2+(AB216+#REF!)/2)/4,0)","v":{"$error":"#REF!"}},{"$f":"(AQ216+AAH216+AO216)*40/12","v":{"$error":"#REF!"}}]
[null,null,{"$f":"IF($B216=\"\",\"\",للطباعة!$G$70)","v":""},{"$f":"IF($B216=\"\",\"\",للطباعة!$F$70)","v":""},{"$f":"IF($B216=\"\",\"\",للطباعة!$N$70)","v":""},{"$f":"IF($B216=\"\",\"\",للطباعة!$M$70)","v":""},{"$f":"IF($B216=\"\",\"\",للطباعة!$U$70)","v":""},{"$f":"IF($B216=\"\",\"\",للطباعة!$T$70)","v":""},{"$f":"IF($B216=\"\",\"\",للطباعة!$AB$70)","v":""},{"$f":"IF($B216=\"\",\"\",للطباعة!$AA$70)","v":""},null,{"$f":"IF($B216=\"\",\"\",للطباعة!$AJ$70)","v":""},{"$f":"IF($B216=\"\",\"\",للطباعة!$AI$70)","v":""},{"$f":"IF($B216=\"\",\"\",للطباعة!$AQ$70)","v":""},{"$f":"IF($B216=\"\",\"\",للطباعة!$AP$70)","v":""},{"$f":"IF($B216=\"\",\"\",للطباعة!$AX$70)","v":""},{"$f":"IF($B216=\"\",\"\",للطباعة!$AW$70)","v":""},{"$f":"IF($B216=\"\",\"\",للطباعة!$BE$70)","v":""},{"$f":"IF($B216=\"\",\"\",للطباعة!$BD$70)","v":""},null,{"$f":"IF($B216=\"\",\"\",للطباعة!$BM$70)","v":""},{"$f":"IF($B216=\"\",\"\",للطباعة!$BL$70)","v":""},{"$f":"IF($B216=\"\",\"\",للطباعة!$BT$70)","v":""},{"$f":"IF($B216=\"\",\"\",للطباعة!$BS$70)","v":""},{"$f":"IF($B216=\"\",\"\",للطباعة!$CA$70)","v":""},{"$f":"IF($B216=\"\",\"\",للطباعة!$BZ$70)","v":""},{"$f":"IF($B216=\"\",\"\",للطباعة!$CH$70)","v":""},{"$f":"IF($B216=\"\",\"\",للطباعة!$CG$70)","v":""}]
[null,"النقاط",{"$f":"IF($B216=\"\",\"\",(D216+D217)*100/8)","v":""},null,{"$f":"IF($B216=\"\",\"\",(F216+F217)*100/8)","v":""},null,{"$f":"IF($B216=\"\",\"\",(H216+H217)*100/8)","v":""},null,{"$f":"IF($B216=\"\",\"\",(J216+J217)*100/8)","v":""},null,null,{"$f":"IF($B216=\"\",\"\",(M216+M217)*100/8)","v":""},null,{"$f":"IF($B216=\"\",\"\",(O216+O217)*100/8)","v":""},null,{"$f":"IF($B216=\"\",\"\",(Q216+Q217)*100/8)","v":""},null,{"$f":"IF($B216=\"\",\"\",(S216+S217)*100/8)","v":""},null,null,{"$f":"IF($B216=\"\",\"\",(V216+V217)*100/8)","v":""},null,{"$f":"IF($B216=\"\",\"\",(X216+X217)*100/8)","v":""},null,{"$f":"IF($B216=\"\",\"\",(Z216+Z217)*100/8)","v":""},null,{"$f":"IF($B216=\"\",\"\",(AB216+AB217)*100/8)","v":""}]
[70,{"$f":"INDIRECT(ADDRESS(A219+1,2,,,\"للطباعة\"))","v":""},{"$f":"IF($B219=\"\",\"\",للطباعة!$E$71)","v":""},{"$f":"IF($B219=\"\",\"\",للطباعة!$D$71)","v":""},{"$f":"IF($B219=\"\",\"\",للطباعة!$L$71)","v":""},{"$f":"IF($B219=\"\",\"\",للطباعة!$K$71)","v":""},{"$f":"IF($B219=\"\",\"\",للطباعة!$S$71)","v":""},{"$f":"IF($B219=\"\",\"\",للطباعة!$R$71)","v":""},{"$f":"IF($B219=\"\",\"\",للطباعة!$Z$71)","v":""},{"$f":"IF($B219=\"\",\"\",للطباعة!$Y$71)","v":""},{"$f":"IF($B219=\"\",\"\",(C221+E221+G221+I221)/4)","v":""},{"$f":"IF($B219=\"\",\"\",للطباعة!$AH$71)","v":""},{"$f":"IF($B219=\"\",\"\",للطباعة!$AG$71)","v":""},{"$f":"IF($B219=\"\",\"\",للطباعة!$AO$71)","v":""},{"$f":"IF($B219=\"\",\"\",للطباعة!$AN$71)","v":""},{"$f":"IF($B219=\"\",\"\",للطباعة!$AV$71)","v":""},{"$f":"IF($B219=\"\",\"\",للطباعة!$AU$71)","v":""},{"$f":"IF($B219=\"\",\"\",للطباعة!$BC$71)","v":""},{"$f":"IF($B219=\"\",\"\",للطباعة!$BB$71)","v":""},{"$f":"IF($B219=\"\",\"\",(L221+N221+P221+R221)/4)","v":""},{"$f":"IF($B219=\"\",\"\",للطباعة!$BK$71)","v":""},{"$f":"IF($B219=\"\",\"\",للطباعة!$BJ$71)","v":""},{"$f":"IF($B219=\"\",\"\",للطباعة!$BR$71)","v":""},{"$f":"IF($B219=\"\",\"\",للطباعة!$BQ$71)","v":""},{"$f":"IF($B219=\"\",\"\",للطباعة!$BY$71)","v":""},{"$f":"IF($B219=\"\",\"\",للطباعة!$BX$71)","v":""},{"$f":"IF($B219=\"\",\"\",للطباعة!$CF$71)","v":""},{"$f":"IF($B219=\"\",\"\",للطباعة!$CE$71)","v":""},{"$f":"IF($B219=\"\",\"\",(U221+W221+Y221+AA221)/4)","v":""},{"$f":"IF($B219=\"\",\"\",(K219+T219+AC219)*0.04)","v":""},{"$f":"IF($B219=\"\",\"\",IF((AD219*40/12-INT(AD219*40/12))>=0.75,INT(AD219*40/12)+1,IF((AD219*40/12-INT(AD219*40/12))<0.25,INT(AD219*40/12),INT(AD216*40/12)+0.5)))","v":""},{"$f":"IF($B219=\"\",\"\",INDIRECT(ADDRESS(11+A219*2,19,1,,\"SeconedPartDegrees2\")))","v":""},{"$f":"IF($B219=\"\",\"\",INDIRECT(ADDRESS(11+A219*2,20,1,,\"SeconedPartDegrees2\")))","v":""},{"$f":"IF(OR(AF219=\"\",AG219=\"\"),\"\",AF219+AG219)","v":""},{"$f":"IF(OR(AE219=\"\",AG219=\"\"),\"\",AG219+AF219+AE219)","v":""},{"$f":"IF($B219=\"\",\"\",INDIRECT(ADDRESS(11+A219*2,21,1,,\"SeconedPartDegrees1\")))","v":""},{"$f":"IFERROR(IF(AI219=\"\",\"\",IF(((AI219+AJ219)/2-INT((AI219+AJ219)/2))>=0.75,INT((AI219+AJ219)/2)+1,IF(((AI219+AJ219)/2-INT((AI219+AJ219)/2))<0.25,INT((AI219+AJ219)/2),INT((AI219+AJ219)/2)+0.5))),\"\")","v":""},{"$f":"IF($AK219=\"\",\"\",IF(AK219=\"\",\"غياب وعليه دور ثاني\",IF(AK219<50,\"دور ثاني\",\"ناجح\")))","v":""},null,null,{"$f":"ROUNDUP(((FirstPartDegrees2!#REF!+D219)/2+(FirstPartDegrees2!F219+O219)/2+(FirstPartDegrees2!#REF!+M219)/2+(FirstPartDegrees2!C219+F219)/2 )/4,0)","v":{"$error":"#REF!"}},{"$f":"ROUNDUP(((FirstPartDegrees2!#REF!+FirstPartDegrees2!#REF!)/2+(FirstPartDegrees2!G219+J219)/2+(FirstPartDegrees2!L219+S219)/2+(FirstPartDegrees2!H219+#REF!)/2 )/4,0)","v":{"$error":"#REF!"}},{"$f":"ROUNDUP(((FirstPartDegrees2!E219+FirstPartDegrees2!I219)/2+(FirstPartDegrees2!#REF!+FirstPartDegrees2!#REF!)/2+(FirstPartDegrees2!N219+V219)/2+(AB219+#REF!)/2)/4,0)","v":{"$error":"#REF!"}},{"$f":"(AQ219+AAH219+AO219)*40/12","v":{"$error":"#REF!"}}]
[null,null,{"$f":"IF($B219=\"\",\"\",للطباعة!$G$71)","v":""},{"$f":"IF($B219=\"\",\"\",للطباعة!$F$71)","v":""},{"$f":"IF($B219=\"\",\"\",للطباعة!$N$71)","v":""},{"$f":"IF($B219=\"\",\"\",للطباعة!$M$71)","v":""},{"$f":"IF($B219=\"\",\"\",للطباعة!$U$71)","v":""},{"$f":"IF($B219=\"\",\"\",للطباعة!$T$71)","v":""},{"$f":"IF($B219=\"\",\"\",للطباعة!$AB$71)","v":""},{"$f":"IF($B219=\"\",\"\",للطباعة!$AA$71)","v":""},null,{"$f":"IF($B219=\"\",\"\",للطباعة!$AJ$71)","v":""},{"$f":"IF($B219=\"\",\"\",للطباعة!$AI$71)","v":""},{"$f":"IF($B219=\"\",\"\",للطباعة!$AQ$71)","v":""},{"$f":"IF($B219=\"\",\"\",للطباعة!$AP$71)","v":""},{"$f":"IF($B219=\"\",\"\",للطباعة!$AX$71)","v":""},{"$f":"IF($B219=\"\",\"\",للطباعة!$AW$71)","v":""},{"$f":"IF($B219=\"\",\"\",للطباعة!$BE$71)","v":""},{"$f":"IF($B219=\"\",\"\",للطباعة!$BD$71)","v":""},null,{"$f":"IF($B219=\"\",\"\",للطباعة!$BM$71)","v":""},{"$f":"IF($B219=\"\",\"\",للطباعة!$BL$71)","v":""},{"$f":"IF($B219=\"\",\"\",للطباعة!$BT$71)","v":""},{"$f":"IF($B219=\"\",\"\",للطباعة!$BS$71)","v":""},{"$f":"IF($B219=\"\",\"\",للطباعة!$CA$71)","v":""},{"$f":"IF($B219=\"\",\"\",للطباعة!$BZ$71)","v":""},{"$f":"IF($B219=\"\",\"\",للطباعة!$CH$71)","v":""},{"$f":"IF($B219=\"\",\"\",للطباعة!$CG$71)","v":""}]
[null,"النقاط",{"$f":"IF($B219=\"\",\"\",(D219+D220)*100/8)","v":""},null,{"$f":"IF($B219=\"\",\"\",(F219+F220)*100/8)","v":""},null,{"$f":"IF($B219=\"\",\"\",(H219+H220)*100/8)","v":""},null,{"$f":"IF($B219=\"\",\"\",(J219+J220)*100/8)","v":""},null,null,{"$f":"IF($B219=\"\",\"\",(M219+M220)*100/8)","v":""},null,{"$f":"IF($B219=\"\",\"\",(O219+O220)*100/8)","v":""},null,{"$f":"IF($B219=\"\",\"\",(Q219+Q220)*100/8)","v":""},null,{"$f":"IF($B219=\"\",\"\",(S219+S220)*100/8)","v":""},null,null,{"$f":"IF($B219=\"\",\"\",(V219+V220)*100/8)","v":""},null,{"$f":"IF($B219=\"\",\"\",(X219+X220)*100/8)","v":""},null,{"$f":"IF($B219=\"\",\"\",(Z219+Z220)*100/8)","v":""},null,{"$f":"IF($B219=\"\",\"\",(AB219+AB220)*100/8)","v":""}]

{"sheet":"للطباعة","index":11,"n_rows":76,"n_cols":92,"rows_kept":76,"cut":false,"hidden":true,"merged":[]}
["ser","full name","class","k111","d111","k112","d112","k113","d113","11avg","k121","d121","k122","d122","k123","d123","12avg","k131","d131","k132","d132","k133","d133","13avg","k141","d141","k142","d142","k143","d143","14avg","general1","k211","d211","k212","d212","k213","d213","21avg","k221","d221","k222","d222","k223","d223","22avg","k231","d231","k232","d232","k233","d233","23avg","k241","d241","k242","d242","k243","d243","24avg","general2","k311","d311","k312","d312","k313","d313","31avg","k321","d321","k322","d322","k323","d323","32avg","k331","d331","k332","d332","k333","d333","33avg","k341","d341","k342","d342","k343","d343","34avg","generl3","generalTotal","final"]
[{"$f":"SeconedPartDegrees2!$A13","v":1},{"$f":"FirstPartDegrees2!$B13","v":""},{"$f":"FirstPartDegrees2!$H$7","v":"7-1"},{"$f":"FirstPartDegrees2!C13","v":0},{"$f":"IF(ISBLANK(FirstPartDegrees2!$C$9),\"\",FirstPartDegrees2!$C$9)","v":""},{"$f":"FirstPartDegrees2!F13","v":0},{"$f":"IF(ISBLANK(FirstPartDegrees2!$F$9),\"\",FirstPartDegrees2!$F$9)","v":""},null,null,{"$f":"(F2+D2)/2","v":0},{"$f":"FirstPartDegrees2!K13","v":0},{"$f":"IF(ISBLANK(FirstPartDegrees2!$K$9),\"\",FirstPartDegrees2!$K$9)","v":""},{"$f":"FirstPartDegrees2!L13","v":0},{"$f":"IF(ISBLANK(FirstPartDegrees2!$K$9),\"\",FirstPartDegrees2!$K$9)","v":""},null,null,{"$f":"(M2+K2)/2","v":0},{"$f":"SeconedPartDegrees2!M13","v":0},{"$f":"IF(ISBLANK(SeconedPartDegrees2!$M$9),\"\",SeconedPartDegrees2!$M$9)","v":""},{"$f":"SeconedPartDegrees2!N13","v":0},{"$f":"IF(ISBLANK(SeconedPartDegrees2!$M$9),\"\",SeconedPartDegrees2!$M$9)","v":""},null,null,{"$f":"(T2+R2)/2","v":0},{"$f":"FirstPartDegrees2!H13","v":0},{"$f":"IF(ISBLANK(FirstPartDegrees2!$H$9),\"\",FirstPartDegrees2!$H$9)","v":""},{"$f":"SeconedPartDegrees2!C13","v":0},{"$f":"IF(ISBLANK(SeconedPartDegrees2!$C$9),\"\",SeconedPartDegrees2!$C$9)","v":""},null,null,{"$f":"(AA2+Y2)/2","v":0},{"$f":"ROUNDUP((J2+Q2+X2+AE2)/4,0)","v":0},{"$f":"SeconedPartDegrees2!G13","v":0},{"$f":"IF(ISBLANK(SeconedPartDegrees2!$G$9),\"\",SeconedPartDegrees2!$G$9)","v":""},{"$f":"SeconedPartDegrees2!H13","v":0},{"$f":"IF(ISBLANK(SeconedPartDegrees2!$G$9),\"\",SeconedPartDegrees2!$G$9)","v":""},null,null,{"$f":"(AI2+AG2)/2","v":0},{"$f":"SeconedPartDegrees2!I13","v":0},{"$f":"IF(ISBLANK(SeconedPartDegrees2!$G$9),\"\",SeconedPartDegrees2!$G$9)","v":""},{"$f":"SeconedPartDegrees2!J13","v":0},{"$f":"IF(ISBLANK(SeconedPartDegrees2!$G$9),\"\",SeconedPartDegrees2!$G$9)","v":""},null,null,{"$f":"(AP2+AN2)/2","v":0},{"$f":"SeconedPartDegrees2!O13","v":0},{"$f":"IF(ISBLANK(SeconedPartDegrees2!$M$9),\"\",SeconedPartDegrees2!$M$9)","v":""},{"$f":"SeconedPartDegrees2!P13","v":0},{"$f":"IF(ISBLANK(SeconedPartDegrees2!$M$9),\"\",SeconedPartDegrees2!$M$9)","v":""},null,null,{"$f":"(AW2+AU2)/2","v":0},{"$f":"SeconedPartDegrees2!K13","v":0},{"$f":"IF(ISBLANK(SeconedPartDegrees2!$G$9),\"\",SeconedPartDegrees2!$G$9)","v":""},{"$f":"SeconedPartDegrees2!L13","v":0},{"$f":"IF(ISBLANK(SeconedPartDegrees2!$G$9),\"\",SeconedPartDegrees2!$G$9)","v":""},null,null,{"$f":"(BD2+BB2)/2","v":0},{"$f":"ROUNDUP((AM2+AT2+BA2+BH2)/4,0)","v":0},{"$f":"FirstPartDegrees2!D13","v":0},{"$f":"IF(ISBLANK(FirstPartDegrees2!$C$9),\"\",FirstPartDegrees2!$C$9)","v":""},{"$f":"FirstPartDegrees2!E13","v":0},{"$f":"IF(ISBLANK(FirstPartDegrees2!$C$9),\"\",FirstPartDegrees2!$C$9)","v":""},null,null,{"$f":"(BL2+BJ2)/2","v":0},{"$f":"FirstPartDegrees2!I13","v":0},{"$f":"IF(ISBLANK(FirstPartDegrees2!$H$9),\"\",FirstPartDegrees2!$H$9)","v":""},{"$f":"FirstPartDegrees2!J13","v":0},{"$f":"IF(ISBLANK(FirstPartDegrees2!$H$9),\"\",FirstPartDegrees2!$H$9)","v":""},null,null,{"$f":"(BS2+BQ2)/2","v":0},{"$f":"FirstPartDegrees2!M13","v":0},{"$f":"IF(ISBLANK(FirstPartDegrees2!$M$9),\"\",FirstPartDegrees2!$M$9)","v":""},{"$f":"FirstPartDegrees2!N13","v":0},{"$f":"IF(ISBLANK(FirstPartDegrees2!$M$9),\"\",FirstPartDegrees2!$M$9)","v":""},null,null,{"$f":"(BZ2+BX2)/2","v":0},{"$f":"SeconedPartDegrees2!D13","v":0},{"$f":"IF(ISBLANK(SeconedPartDegrees2!$D$9),\"\",SeconedPartDegrees2!$D$9)","v":""},{"$f":"SeconedPartDegrees2!F13","v":0},{"$f":"IF(ISBLANK(SeconedPartDegrees2!$F$9),\"\",SeconedPartDegrees2!$F$9)","v":""},null,null,{"$f":"(CG2+CE2)/2","v":0},{"$f":"ROUNDUP((BP2+BW2+CD2+CK2)/4,0)","v":0},{"$f":"(CL2+AF2+BI2)*40/12","v":0},{"$f":"SeconedPartDegrees2!R13","v":""}]
[{"$f":"SeconedPartDegrees2!$A15","v":2},{"$f":"FirstPartDegrees2!$B15","v":""},{"$f":"FirstPartDegrees2!$H$7","v":"7-1"},{"$f":"FirstPartDegrees2!C15","v":0},{"$f":"IF(ISBLANK(FirstPartDegrees2!$C$9),\"\",FirstPartDegrees2!$C$9)","v":""},{"$f":"FirstPartDegrees2!F15","v":0},{"$f":"IF(ISBLANK(FirstPartDegrees2!$F$9),\"\",FirstPartDegrees2!$F$9)","v":""},null,null,{"$f":"(F3+D3)/2","v":0},{"$f":"FirstPartDegrees2!K15","v":0},{"$f":"IF(ISBLANK(FirstPartDegrees2!$K$9),\"\",FirstPartDegrees2!$K$9)","v":""},{"$f":"FirstPartDegrees2!L15","v":0},{"$f":"IF(ISBLANK(FirstPartDegrees2!$K$9),\"\",FirstPartDegrees2!$K$9)","v":""},null,null,{"$f":"(M3+K3)/2","v":0},{"$f":"SeconedPartDegrees2!M15","v":0},{"$f":"IF(ISBLANK(SeconedPartDegrees2!$M$9),\"\",SeconedPartDegrees2!$M$9)","v":""},{"$f":"SeconedPartDegrees2!N15","v":0},{"$f":"IF(ISBLANK(SeconedPartDegrees2!$M$9),\"\",SeconedPartDegrees2!$M$9)","v":""},null,null,{"$f":"(T3+R3)/2","v":0},{"$f":"FirstPartDegrees2!H15","v":0},{"$f":"IF(ISBLANK(FirstPartDegrees2!$H$9),\"\",FirstPartDegrees2!$H$9)","v":""},{"$f":"SeconedPartDegrees2!C15","v":0},{"$f":"IF(ISBLANK(SeconedPartDegrees2!$C$9),\"\",SeconedPartDegrees2!$C$9)","v":""},null,null,{"$f":"(AA3+Y3)/2","v":0},{"$f":"ROUNDUP((J3+Q3+X3+AE3)/4,0)","v":0},{"$f":"SeconedPartDegrees2!G15","v":0},{"$f":"IF(ISBLANK(SeconedPartDegrees2!$G$9),\"\",SeconedPartDegrees2!$G$9)","v":""},{"$f":"SeconedPartDegrees2!H15","v":0},{"$f":"IF(ISBLANK(SeconedPartDegrees2!$G$9),\"\",SeconedPartDegrees2!$G$9)","v":""},null,null,{"$f":"(AI3+AG3)/2","v":0},{"$f":"SeconedPartDegrees2!I15","v":0},{"$f":"IF(ISBLANK(SeconedPartDegrees2!$G$9),\"\",SeconedPartDegrees2!$G$9)","v":""},{"$f":"SeconedPartDegrees2!J15","v":0},{"$f":"IF(ISBLANK(SeconedPartDegrees2!$G$9),\"\",SeconedPartDegrees2!$G$9)","v":""},null,null,{"$f":"(AP3+AN3)/2","v":0},{"$f":"SeconedPartDegrees2!O15","v":0},{"$f":"IF(ISBLANK(SeconedPartDegrees2!$M$9),\"\",SeconedPartDegrees2!$M$9)","v":""},{"$f":"SeconedPartDegrees2!P15","v":0},{"$f":"IF(ISBLANK(SeconedPartDegrees2!$M$9),\"\",SeconedPartDegrees2!$M$9)","v":""},null,null,{"$f":"(AW3+AU3)/2","v":0},{"$f":"SeconedPartDegrees2!K15","v":0},{"$f":"IF(ISBLANK(SeconedPartDegrees2!$G$9),\"\",SeconedPartDegrees2!$G$9)","v":""},{"$f":"SeconedPartDegrees2!L15","v":0},{"$f":"IF(ISBLANK(SeconedPartDegrees2!$G$9),\"\",SeconedPartDegrees2!$G$9)","v":""},null,null,{"$f":"(BD3+BB3)/2","v":0},{"$f":"ROUNDUP((AM3+AT3+BA3+BH3)/4,0)","v":0},{"$f":"FirstPartDegrees2!D15","v":0},{"$f":"IF(ISBLANK(FirstPartDegrees2!$C$9),\"\",FirstPartDegrees2!$C$9)","v":""},{"$f":"FirstPartDegrees2!E15","v":0},{"$f":"IF(ISBLANK(FirstPartDegrees2!$C$9),\"\",FirstPartDegrees2!$C$9)","v":""},null,null,{"$f":"(BL3+BJ3)/2","v":0},{"$f":"FirstPartDegrees2!I15","v":0},{"$f":"IF(ISBLANK(FirstPartDegrees2!$H$9),\"\",FirstPartDegrees2!$H$9)","v":""},{"$f":"FirstPartDegrees2!J15","v":0},{"$f":"IF(ISBLANK(FirstPartDegrees2!$H$9),\"\",FirstPartDegrees2!$H$9)","v":""},null,null,{"$f":"(BS3+BQ3)/2","v":0},{"$f":"FirstPartDegrees2!M15","v":0},{"$f":"IF(ISBLANK(FirstPartDegrees2!$M$9),\"\",FirstPartDegrees2!$M$9)","v":""},{"$f":"FirstPartDegrees2!N15","v":0},{"$f":"IF(ISBLANK(FirstPartDegrees2!$M$9),\"\",FirstPartDegrees2!$M$9)","v":""},null,null,{"$f":"(BZ3+BX3)/2","v":0},{"$f":"SeconedPartDegrees2!D15","v":0},{"$f":"IF(ISBLANK(SeconedPartDegrees2!$D$9),\"\",SeconedPartDegrees2!$D$9)","v":""},{"$f":"SeconedPartDegrees2!F15","v":0},{"$f":"IF(ISBLANK(SeconedPartDegrees2!$F$9),\"\",SeconedPartDegrees2!$F$9)","v":""},null,null,{"$f":"(CG3+CE3)/2","v":0},{"$f":"ROUNDUP((BP3+BW3+CD3+CK3)/4,0)","v":0},{"$f":"(CL3+AF3+BI3)*40/12","v":0},{"$f":"SeconedPartDegrees2!R15","v":""}]
[{"$f":"SeconedPartDegrees2!$A17","v":3},{"$f":"FirstPartDegrees2!$B17","v":""},{"$f":"FirstPartDegrees2!$H$7","v":"7-1"},{"$f":"FirstPartDegrees2!C17","v":0},{"$f":"IF(ISBLANK(FirstPartDegrees2!$C$9),\"\",FirstPartDegrees2!$C$9)","v":""},{"$f":"FirstPartDegrees2!F17","v":0},{"$f":"IF(ISBLANK(FirstPartDegrees2!$F$9),\"\",FirstPartDegrees2!$F$9)","v":""},null,null,0,{"$f":"FirstPartDegrees2!K17","v":0},{"$f":"IF(ISBLANK(FirstPartDegrees2!$K$9),\"\",FirstPartDegrees2!$K$9)","v":""},{"$f":"FirstPartDegrees2!L17","v":0},{"$f":"IF(ISBLANK(FirstPartDegrees2!$K$9),\"\",FirstPartDegrees2!$K$9)","v":""},null,null,0,{"$f":"SeconedPartDegrees2!M17","v":0},{"$f":"IF(ISBLANK(SeconedPartDegrees2!$M$9),\"\",SeconedPartDegrees2!$M$9)","v":""},{"$f":"SeconedPartDegrees2!N17","v":0},{"$f":"IF(ISBLANK(SeconedPartDegrees2!$M$9),\"\",SeconedPartDegrees2!$M$9)","v":""},null,null,0,{"$f":"FirstPartDegrees2!H17","v":0},{"$f":"IF(ISBLANK(FirstPartDegrees2!$H$9),\"\",FirstPartDegrees2!$H$9)","v":""},{"$f":"SeconedPartDegrees2!C17","v":0},{"$f":"IF(ISBLANK(SeconedPartDegrees2!$C$9),\"\",SeconedPartDegrees2!$C$9)","v":""},null,null,0,0,{"$f":"SeconedPartDegrees2!G17","v":0},{"$f":"IF(ISBLANK(SeconedPartDegrees2!$G$9),\"\",SeconedPartDegrees2!$G$9)","v":""},{"$f":"SeconedPartDegrees2!H17","v":0},{"$f":"IF(ISBLANK(SeconedPartDegrees2!$G$9),\"\",SeconedPartDegrees2!$G$9)","v":""},null,null,0,{"$f":"SeconedPartDegrees2!I17","v":0},{"$f":"IF(ISBLANK(SeconedPartDegrees2!$G$9),\"\",SeconedPartDegrees2!$G$9)","v":""},{"$f":"SeconedPartDegrees2!J17","v":0},{"$f":"IF(ISBLANK(SeconedPartDegrees2!$G$9),\"\",SeconedPartDegrees2!$G$9)","v":""},null,null,0,{"$f":"SeconedPartDegrees2!O17","v":0},{"$f":"IF(ISBLANK(SeconedPartDegrees2!$M$9),\"\",SeconedPartDegrees2!$M$9)","v":""},{"$f":"SeconedPartDegrees2!P17","v":0},{"$f":"IF(ISBLANK(SeconedPartDegrees2!$M$9),\"\",SeconedPartDegrees2!$M$9)","v":""},null,null,0,{"$f":"SeconedPartDegrees2!K17","v":0},{"$f":"IF(ISBLANK(SeconedPartDegrees2!$G$9),\"\",SeconedPartDegrees2!$G$9)","v":""},{"$f":"SeconedPartDegrees2!L17","v":0},{"$f":"IF(ISBLANK(SeconedPartDegrees2!$G$9),\"\",SeconedPartDegrees2!$G$9)","v":""},null,null,0,0,{"$f":"FirstPartDegrees2!D17","v":0},{"$f":"IF(ISBLANK(FirstPartDegrees2!$C$9),\"\",FirstPartDegrees2!$C$9)","v":""},{"$f":"FirstPartDegrees2!E17","v":0},{"$f":"IF(ISBLANK(FirstPartDegrees2!$C$9),\"\",FirstPartDegrees2!$C$9)","v":""},null,null,0,{"$f":"FirstPartDegrees2!I17","v":0},{"$f":"IF(ISBLANK(FirstPartDegrees2!$H$9),\"\",FirstPartDegrees2!$H$9)","v":""},{"$f":"FirstPartDegrees2!J17","v":0},{"$f":"IF(ISBLANK(FirstPartDegrees2!$H$9),\"\",FirstPartDegrees2!$H$9)","v":""},null,null,0,{"$f":"FirstPartDegrees2!M17","v":0},{"$f":"IF(ISBLANK(FirstPartDegrees2!$M$9),\"\",FirstPartDegrees2!$M$9)","v":""},{"$f":"FirstPartDegrees2!N17","v":0},{"$f":"IF(ISBLANK(FirstPartDegrees2!$M$9),\"\",FirstPartDegrees2!$M$9)","v":""},null,null,0,{"$f":"SeconedPartDegrees2!D17","v":0},{"$f":"IF(ISBLANK(SeconedPartDegrees2!$D$9),\"\",SeconedPartDegrees2!$D$9)","v":""},{"$f":"SeconedPartDegrees2!F17","v":0},{"$f":"IF(ISBLANK(SeconedPartDegrees2!$F$9),\"\",SeconedPartDegrees2!$F$9)","v":""},null,null,0,0,0,{"$f":"SeconedPartDegrees2!R17","v":""}]
[{"$f":"SeconedPartDegrees2!$A19","v":4},{"$f":"FirstPartDegrees2!$B19","v":""},{"$f":"FirstPartDegrees2!$H$7","v":"7-1"},{"$f":"FirstPartDegrees2!C19","v":0},{"$f":"IF(ISBLANK(FirstPartDegrees2!$C$9),\"\",FirstPartDegrees2!$C$9)","v":""},{"$f":"FirstPartDegrees2!F19","v":0},{"$f":"IF(ISBLANK(FirstPartDegrees2!$F$9),\"\",FirstPartDegrees2!$F$9)","v":""},null,null,0,{"$f":"FirstPartDegrees2!K19","v":0},{"$f":"IF(ISBLANK(FirstPartDegrees2!$K$9),\"\",FirstPartDegrees2!$K$9)","v":""},{"$f":"FirstPartDegrees2!L19","v":0},{"$f":"IF(ISBLANK(FirstPartDegrees2!$K$9),\"\",FirstPartDegrees2!$K$9)","v":""},null,null,0,{"$f":"SeconedPartDegrees2!M19","v":0},{"$f":"IF(ISBLANK(SeconedPartDegrees2!$M$9),\"\",SeconedPartDegrees2!$M$9)","v":""},{"$f":"SeconedPartDegrees2!N19","v":0},{"$f":"IF(ISBLANK(SeconedPartDegrees2!$M$9),\"\",SeconedPartDegrees2!$M$9)","v":""},null,null,0,{"$f":"FirstPartDegrees2!H19","v":0},{"$f":"IF(ISBLANK(FirstPartDegrees2!$H$9),\"\",FirstPartDegrees2!$H$9)","v":""},{"$f":"SeconedPartDegrees2!C19","v":0},{"$f":"IF(ISBLANK(SeconedPartDegrees2!$C$9),\"\",SeconedPartDegrees2!$C$9)","v":""},null,null,0,0,{"$f":"SeconedPartDegrees2!G19","v":0},{"$f":"IF(ISBLANK(SeconedPartDegrees2!$G$9),\"\",SeconedPartDegrees2!$G$9)","v":""},{"$f":"SeconedPartDegrees2!H19","v":0},{"$f":"IF(ISBLANK(SeconedPartDegrees2!$G$9),\"\",SeconedPartDegrees2!$G$9)","v":""},null,null,0,{"$f":"SeconedPartDegrees2!I19","v":0},{"$f":"IF(ISBLANK(SeconedPartDegrees2!$G$9),\"\",SeconedPartDegrees2!$G$9)","v":""},{"$f":"SeconedPartDegrees2!J19","v":0},{"$f":"IF(ISBLANK(SeconedPartDegrees2!$G$9),\"\",SeconedPartDegrees2!$G$9)","v":""},null,null,0,{"$f":"SeconedPartDegrees2!O19","v":0},{"$f":"IF(ISBLANK(SeconedPartDegrees2!$M$9),\"\",SeconedPartDegrees2!$M$9)","v":""},{"$f":"SeconedPartDegrees2!P19","v":0},{"$f":"IF(ISBLANK(SeconedPartDegrees2!$M$9),\"\",SeconedPartDegrees2!$M$9)","v":""},null,null,0,{"$f":"SeconedPartDegrees2!K19","v":0},{"$f":"IF(ISBLANK(SeconedPartDegrees2!$G$9),\"\",SeconedPartDegrees2!$G$9)","v":""},{"$f":"SeconedPartDegrees2!L19","v":0},{"$f":"IF(ISBLANK(SeconedPartDegrees2!$G$9),\"\",SeconedPartDegrees2!$G$9)","v":""},null,null,0,0,{"$f":"FirstPartDegrees2!D19","v":0},{"$f":"IF(ISBLANK(FirstPartDegrees2!$C$9),\"\",FirstPartDegrees2!$C$9)","v":""},{"$f":"FirstPartDegrees2!E19","v":0},{"$f":"IF(ISBLANK(FirstPartDegrees2!$C$9),\"\",FirstPartDegrees2!$C$9)","v":""},null,null,0,{"$f":"FirstPartDegrees2!I19","v":0},{"$f":"IF(ISBLANK(FirstPartDegrees2!$H$9),\"\",FirstPartDegrees2!$H$9)","v":""},{"$f":"FirstPartDegrees2!J19","v":0},{"$f":"IF(ISBLANK(FirstPartDegrees2!$H$9),\"\",FirstPartDegrees2!$H$9)","v":""},null,null,0,{"$f":"FirstPartDegrees2!M19","v":0},{"$f":"IF(ISBLANK(FirstPartDegrees2!$M$9),\"\",FirstPartDegrees2!$M$9)","v":""},{"$f":"FirstPartDegrees2!N19","v":0},{"$f":"IF(ISBLANK(FirstPartDegrees2!$M$9),\"\",FirstPartDegrees2!$M$9)","v":""},null,null,0,{"$f":"SeconedPartDegrees2!D19","v":0},{"$f":"IF(ISBLANK(SeconedPartDegrees2!$D$9),\"\",SeconedPartDegrees2!$D$9)","v":""},{"$f":"SeconedPartDegrees2!F19","v":0},{"$f":"IF(ISBLANK(SeconedPartDegrees2!$F$9),\"\",SeconedPartDegrees2!$F$9)","v":""},null,null,0,0,0,{"$f":"SeconedPartDegrees2!R19","v":""}]
[{"$f":"SeconedPartDegrees2!$A21","v":5},{"$f":"FirstPartDegrees2!$B21","v":""},{"$f":"FirstPartDegrees2!$H$7","v":"7-1"},{"$f":"FirstPartDegrees2!C21","v":0},{"$f":"IF(ISBLANK(FirstPartDegrees2!$C$9),\"\",FirstPartDegrees2!$C$9)","v":""},{"$f":"FirstPartDegrees2!F21","v":0},{"$f":"IF(ISBLANK(FirstPartDegrees2!$F$9),\"\",FirstPartDegrees2!$F$9)","v":""},null,null,0,{"$f":"FirstPartDegrees2!K21","v":0},{"$f":"IF(ISBLANK(FirstPartDegrees2!$K$9),\"\",FirstPartDegrees2!$K$9)","v":""},{"$f":"FirstPartDegrees2!L21","v":0},{"$f":"IF(ISBLANK(FirstPartDegrees2!$K$9),\"\",FirstPartDegrees2!$K$9)","v":""},null,null,0,{"$f":"SeconedPartDegrees2!M21","v":0},{"$f":"IF(ISBLANK(SeconedPartDegrees2!$M$9),\"\",SeconedPartDegrees2!$M$9)","v":""},{"$f":"SeconedPartDegrees2!N21","v":0},{"$f":"IF(ISBLANK(SeconedPartDegrees2!$M$9),\"\",SeconedPartDegrees2!$M$9)","v":""},null,null,0,{"$f":"FirstPartDegrees2!H21","v":0},{"$f":"IF(ISBLANK(FirstPartDegrees2!$H$9),\"\",FirstPartDegrees2!$H$9)","v":""},{"$f":"SeconedPartDegrees2!C21","v":0},{"$f":"IF(ISBLANK(SeconedPartDegrees2!$C$9),\"\",SeconedPartDegrees2!$C$9)","v":""},null,null,0,0,{"$f":"SeconedPartDegrees2!G21","v":0},{"$f":"IF(ISBLANK(SeconedPartDegrees2!$G$9),\"\",SeconedPartDegrees2!$G$9)","v":""},{"$f":"SeconedPartDegrees2!H21","v":0},{"$f":"IF(ISBLANK(SeconedPartDegrees2!$G$9),\"\",SeconedPartDegrees2!$G$9)","v":""},null,null,0,{"$f":"SeconedPartDegrees2!I21","v":0},{"$f":"IF(ISBLANK(SeconedPartDegrees2!$G$9),\"\",SeconedPartDegrees2!$G$9)","v":""},{"$f":"SeconedPartDegrees2!J21","v":0},{"$f":"IF(ISBLANK(SeconedPartDegrees2!$G$9),\"\",SeconedPartDegrees2!$G$9)","v":""},null,null,0,{"$f":"SeconedPartDegrees2!O21","v":0},{"$f":"IF(ISBLANK(SeconedPartDegrees2!$M$9),\"\",SeconedPartDegrees2!$M$9)","v":""},{"$f":"SeconedPartDegrees2!P21","v":0},{"$f":"IF(ISBLANK(SeconedPartDegrees2!$M$9),\"\",SeconedPartDegrees2!$M$9)","v":""},null,null,0,{"$f":"SeconedPartDegrees2!K21","v":0},{"$f":"IF(ISBLANK(SeconedPartDegrees2!$G$9),\"\",SeconedPartDegrees2!$G$9)","v":""},{"$f":"SeconedPartDegrees2!L21","v":0},{"$f":"IF(ISBLANK(SeconedPartDegrees2!$G$9),\"\",SeconedPartDegrees2!$G$9)","v":""},null,null,0,0,{"$f":"FirstPartDegrees2!D21","v":0},{"$f":"IF(ISBLANK(FirstPartDegrees2!$C$9),\"\",FirstPartDegrees2!$C$9)","v":""},{"$f":"FirstPartDegrees2!E21","v":0},{"$f":"IF(ISBLANK(FirstPartDegrees2!$C$9),\"\",FirstPartDegrees2!$C$9)","v":""},null,null,0,{"$f":"FirstPartDegrees2!I21","v":0},{"$f":"IF(ISBLANK(FirstPartDegrees2!$H$9),\"\",FirstPartDegrees2!$H$9)","v":""},{"$f":"FirstPartDegrees2!J21","v":0},{"$f":"IF(ISBLANK(FirstPartDegrees2!$H$9),\"\",FirstPartDegrees2!$H$9)","v":""},null,null,0,{"$f":"FirstPartDegrees2!M21","v":0},{"$f":"IF(ISBLANK(FirstPartDegrees2!$M$9),\"\",FirstPartDegrees2!$M$9)","v":""},{"$f":"FirstPartDegrees2!N21","v":0},{"$f":"IF(ISBLANK(FirstPartDegrees2!$M$9),\"\",FirstPartDegrees2!$M$9)","v":""},null,null,0,{"$f":"SeconedPartDegrees2!D21","v":0},{"$f":"IF(ISBLANK(SeconedPartDegrees2!$D$9),\"\",SeconedPartDegrees2!$D$9)","v":""},{"$f":"SeconedPartDegrees2!F21","v":0},{"$f":"IF(ISBLANK(SeconedPartDegrees2!$F$9),\"\",SeconedPartDegrees2!$F$9)","v":""},null,null,0,0,0,{"$f":"SeconedPartDegrees2!R21","v":""}]
[{"$f":"SeconedPartDegrees2!$A23","v":6},{"$f":"FirstPartDegrees2!$B23","v":""},{"$f":"FirstPartDegrees2!$H$7","v":"7-1"},{"$f":"FirstPartDegrees2!C23","v":0},{"$f":"IF(ISBLANK(FirstPartDegrees2!$C$9),\"\",FirstPartDegrees2!$C$9)","v":""},{"$f":"FirstPartDegrees2!F23","v":0},{"$f":"IF(ISBLANK(FirstPartDegrees2!$F$9),\"\",FirstPartDegrees2!$F$9)","v":""},null,null,0,{"$f":"FirstPartDegrees2!K23","v":0},{"$f":"IF(ISBLANK(FirstPartDegrees2!$K$9),\"\",FirstPartDegrees2!$K$9)","v":""},{"$f":"FirstPartDegrees2!L23","v":0},{"$f":"IF(ISBLANK(FirstPartDegrees2!$K$9),\"\",FirstPartDegrees2!$K$9)","v":""},null,null,0,{"$f":"SeconedPartDegrees2!M23","v":0},{"$f":"IF(ISBLANK(SeconedPartDegrees2!$M$9),\"\",SeconedPartDegrees2!$M$9)","v":""},{"$f":"SeconedPartDegrees2!N23","v":0},{"$f":"IF(ISBLANK(SeconedPartDegrees2!$M$9),\"\",SeconedPartDegrees2!$M$9)","v":""},null,null,0,{"$f":"FirstPartDegrees2!H23","v":0},{"$f":"IF(ISBLANK(FirstPartDegrees2!$H$9),\"\",FirstPartDegrees2!$H$9)","v":""},{"$f":"SeconedPartDegrees2!C23","v":0},{"$f":"IF(ISBLANK(SeconedPartDegrees2!$C$9),\"\",SeconedPartDegrees2!$C$9)","v":""},null,null,0,0,{"$f":"SeconedPartDegrees2!G23","v":0},{"$f":"IF(ISBLANK(SeconedPartDegrees2!$G$9),\"\",SeconedPartDegrees2!$G$9)","v":""},{"$f":"SeconedPartDegrees2!H23","v":0},{"$f":"IF(ISBLANK(SeconedPartDegrees2!$G$9),\"\",SeconedPartDegrees2!$G$9)","v":""},null,null,0,{"$f":"SeconedPartDegrees2!I23","v":0},{"$f":"IF(ISBLANK(SeconedPartDegrees2!$G$9),\"\",SeconedPartDegrees2!$G$9)","v":""},{"$f":"SeconedPartDegrees2!J23","v":0},{"$f":"IF(ISBLANK(SeconedPartDegrees2!$G$9),\"\",SeconedPartDegrees2!$G$9)","v":""},null,null,0,{"$f":"SeconedPartDegrees2!O23","v":0},{"$f":"IF(ISBLANK(SeconedPartDegrees2!$M$9),\"\",SeconedPartDegrees2!$M$9)","v":""},{"$f":"SeconedPartDegrees2!P23","v":0},{"$f":"IF(ISBLANK(SeconedPartDegrees2!$M$9),\"\",SeconedPartDegrees2!$M$9)","v":""},null,null,0,{"$f":"SeconedPartDegrees2!K23","v":0},{"$f":"IF(ISBLANK(SeconedPartDegrees2!$G$9),\"\",SeconedPartDegrees2!$G$9)","v":""},{"$f":"SeconedPartDegrees2!L23","v":0},{"$f":"IF(ISBLANK(SeconedPartDegrees2!$G$9),\"\",SeconedPartDegrees2!$G$9)","v":""},null,null,0,0,{"$f":"FirstPartDegrees2!D23","v":0},{"$f":"IF(ISBLANK(FirstPartDegrees2!$C$9),\"\",FirstPartDegrees2!$C$9)","v":""},{"$f":"FirstPartDegrees2!E23","v":0},{"$f":"IF(ISBLANK(FirstPartDegrees2!$C$9),\"\",FirstPartDegrees2!$C$9)","v":""},null,null,0,{"$f":"FirstPartDegrees2!I23","v":0},{"$f":"IF(ISBLANK(FirstPartDegrees2!$H$9),\"\",FirstPartDegrees2!$H$9)","v":""},{"$f":"FirstPartDegrees2!J23","v":0},{"$f":"IF(ISBLANK(FirstPartDegrees2!$H$9),\"\",FirstPartDegrees2!$H$9)","v":""},null,null,0,{"$f":"FirstPartDegrees2!M23","v":0},{"$f":"IF(ISBLANK(FirstPartDegrees2!$M$9),\"\",FirstPartDegrees2!$M$9)","v":""},{"$f":"FirstPartDegrees2!N23","v":0},{"$f":"IF(ISBLANK(FirstPartDegrees2!$M$9),\"\",FirstPartDegrees2!$M$9)","v":""},null,null,0,{"$f":"SeconedPartDegrees2!D23","v":0},{"$f":"IF(ISBLANK(SeconedPartDegrees2!$D$9),\"\",SeconedPartDegrees2!$D$9)","v":""},{"$f":"SeconedPartDegrees2!F23","v":0},{"$f":"IF(ISBLANK(SeconedPartDegrees2!$F$9),\"\",SeconedPartDegrees2!$F$9)","v":""},null,null,0,0,0,{"$f":"SeconedPartDegrees2!R23","v":""}]
[{"$f":"SeconedPartDegrees2!$A25","v":7},{"$f":"FirstPartDegrees2!$B25","v":""},{"$f":"FirstPartDegrees2!$H$7","v":"7-1"},{"$f":"FirstPartDegrees2!C25","v":0},{"$f":"IF(ISBLANK(FirstPartDegrees2!$C$9),\"\",FirstPartDegrees2!$C$9)","v":""},{"$f":"FirstPartDegrees2!F25","v":0},{"$f":"IF(ISBLANK(FirstPartDegrees2!$F$9),\"\",FirstPartDegrees2!$F$9)","v":""},null,null,0,{"$f":"FirstPartDegrees2!K25","v":0},{"$f":"IF(ISBLANK(FirstPartDegrees2!$K$9),\"\",FirstPartDegrees2!$K$9)","v":""},{"$f":"FirstPartDegrees2!L25","v":0},{"$f":"IF(ISBLANK(FirstPartDegrees2!$K$9),\"\",FirstPartDegrees2!$K$9)","v":""},null,null,0,{"$f":"SeconedPartDegrees2!M25","v":0},{"$f":"IF(ISBLANK(SeconedPartDegrees2!$M$9),\"\",SeconedPartDegrees2!$M$9)","v":""},{"$f":"SeconedPartDegrees2!N25","v":0},{"$f":"IF(ISBLANK(SeconedPartDegrees2!$M$9),\"\",SeconedPartDegrees2!$M$9)","v":""},null,null,0,{"$f":"FirstPartDegrees2!H25","v":0},{"$f":"IF(ISBLANK(FirstPartDegrees2!$H$9),\"\",FirstPartDegrees2!$H$9)","v":""},{"$f":"SeconedPartDegrees2!C25","v":0},{"$f":"IF(ISBLANK(SeconedPartDegrees2!$C$9),\"\",SeconedPartDegrees2!$C$9)","v":""},null,null,0,0,{"$f":"SeconedPartDegrees2!G25","v":0},{"$f":"IF(ISBLANK(SeconedPartDegrees2!$G$9),\"\",SeconedPartDegrees2!$G$9)","v":""},{"$f":"SeconedPartDegrees2!H25","v":0},{"$f":"IF(ISBLANK(SeconedPartDegrees2!$G$9),\"\",SeconedPartDegrees2!$G$9)","v":""},null,null,0,{"$f":"SeconedPartDegrees2!I25","v":0},{"$f":"IF(ISBLANK(SeconedPartDegrees2!$G$9),\"\",SeconedPartDegrees2!$G$9)","v":""},{"$f":"SeconedPartDegrees2!J25","v":0},{"$f":"IF(ISBLANK(SeconedPartDegrees2!$G$9),\"\",SeconedPartDegrees2!$G$9)","v":""},null,null,0,{"$f":"SeconedPartDegrees2!O25","v":0},{"$f":"IF(ISBLANK(SeconedPartDegrees2!$M$9),\"\",SeconedPartDegrees2!$M$9)","v":""},{"$f":"SeconedPartDegrees2!P25","v":0},{"$f":"IF(ISBLANK(SeconedPartDegrees2!$M$9),\"\",SeconedPartDegrees2!$M$9)","v":""},null,null,0,{"$f":"SeconedPartDegrees2!K25","v":0},{"$f":"IF(ISBLANK(SeconedPartDegrees2!$G$9),\"\",SeconedPartDegrees2!$G$9)","v":""},{"$f":"SeconedPartDegrees2!L25","v":0},{"$f":"IF(ISBLANK(SeconedPartDegrees2!$G$9),\"\",SeconedPartDegrees2!$G$9)","v":""},null,null,0,0,{"$f":"FirstPartDegrees2!D25","v":0},{"$f":"IF(ISBLANK(FirstPartDegrees2!$C$9),\"\",FirstPartDegrees2!$C$9)","v":""},{"$f":"FirstPartDegrees2!E25","v":0},{"$f":"IF(ISBLANK(FirstPartDegrees2!$C$9),\"\",FirstPartDegrees2!$C$9)","v":""},null,null,0,{"$f":"FirstPartDegrees2!I25","v":0},{"$f":"IF(ISBLANK(FirstPartDegrees2!$H$9),\"\",FirstPartDegrees2!$H$9)","v":""},{"$f":"FirstPartDegrees2!J25","v":0},{"$f":"IF(ISBLANK(FirstPartDegrees2!$H$9),\"\",FirstPartDegrees2!$H$9)","v":""},null,null,0,{"$f":"FirstPartDegrees2!M25","v":0},{"$f":"IF(ISBLANK(FirstPartDegrees2!$M$9),\"\",FirstPartDegrees2!$M$9)","v":""},{"$f":"FirstPartDegrees2!N25","v":0},{"$f":"IF(ISBLANK(FirstPartDegrees2!$M$9),\"\",FirstPartDegrees2!$M$9)","v":""},null,null,0,{"$f":"SeconedPartDegrees2!D25","v":0},{"$f":"IF(ISBLANK(SeconedPartDegrees2!$D$9),\"\",SeconedPartDegrees2!$D$9)","v":""},{"$f":"SeconedPartDegrees2!F25","v":0},{"$f":"IF(ISBLANK(SeconedPartDegrees2!$F$9),\"\",SeconedPartDegrees2!$F$9)","v":""},null,null,0,0,0,{"$f":"SeconedPartDegrees2!R25","v":""}]
[{"$f":"SeconedPartDegrees2!$A27","v":8},{"$f":"FirstPartDegrees2!$B27","v":""},{"$f":"FirstPartDegrees2!$H$7","v":"7-1"},{"$f":"FirstPartDegrees2!C27","v":0},{"$f":"IF(ISBLANK(FirstPartDegrees2!$C$9),\"\",FirstPartDegrees2!$C$9)","v":""},{"$f":"FirstPartDegrees2!F27","v":0},{"$f":"IF(ISBLANK(FirstPartDegrees2!$F$9),\"\",FirstPartDegrees2!$F$9)","v":""},null,null,0,{"$f":"FirstPartDegrees2!K27","v":0},{"$f":"IF(ISBLANK(FirstPartDegrees2!$K$9),\"\",FirstPartDegrees2!$K$9)","v":""},{"$f":"FirstPartDegrees2!L27","v":0},{"$f":"IF(ISBLANK(FirstPartDegrees2!$K$9),\"\",FirstPartDegrees2!$K$9)","v":""},null,null,0,{"$f":"SeconedPartDegrees2!M27","v":0},{"$f":"IF(ISBLANK(SeconedPartDegrees2!$M$9),\"\",SeconedPartDegrees2!$M$9)","v":""},{"$f":"SeconedPartDegrees2!N27","v":0},{"$f":"IF(ISBLANK(SeconedPartDegrees2!$M$9),\"\",SeconedPartDegrees2!$M$9)","v":""},null,null,0,{"$f":"FirstPartDegrees2!H27","v":0},{"$f":"IF(ISBLANK(FirstPartDegrees2!$H$9),\"\",FirstPartDegrees2!$H$9)","v":""},{"$f":"SeconedPartDegrees2!C27","v":0},{"$f":"IF(ISBLANK(SeconedPartDegrees2!$C$9),\"\",SeconedPartDegrees2!$C$9)","v":""},null,null,0,0,{"$f":"SeconedPartDegrees2!G27","v":0},{"$f":"IF(ISBLANK(SeconedPartDegrees2!$G$9),\"\",SeconedPartDegrees2!$G$9)","v":""},{"$f":"SeconedPartDegrees2!H27","v":0},{"$f":"IF(ISBLANK(SeconedPartDegrees2!$G$9),\"\",SeconedPartDegrees2!$G$9)","v":""},null,null,0,{"$f":"SeconedPartDegrees2!I27","v":0},{"$f":"IF(ISBLANK(SeconedPartDegrees2!$G$9),\"\",SeconedPartDegrees2!$G$9)","v":""},{"$f":"SeconedPartDegrees2!J27","v":0},{"$f":"IF(ISBLANK(SeconedPartDegrees2!$G$9),\"\",SeconedPartDegrees2!$G$9)","v":""},null,null,0,{"$f":"SeconedPartDegrees2!O27","v":0},{"$f":"IF(ISBLANK(SeconedPartDegrees2!$M$9),\"\",SeconedPartDegrees2!$M$9)","v":""},{"$f":"SeconedPartDegrees2!P27","v":0},{"$f":"IF(ISBLANK(SeconedPartDegrees2!$M$9),\"\",SeconedPartDegrees2!$M$9)","v":""},null,null,0,{"$f":"SeconedPartDegrees2!K27","v":0},{"$f":"IF(ISBLANK(SeconedPartDegrees2!$G$9),\"\",SeconedPartDegrees2!$G$9)","v":""},{"$f":"SeconedPartDegrees2!L27","v":0},{"$f":"IF(ISBLANK(SeconedPartDegrees2!$G$9),\"\",SeconedPartDegrees2!$G$9)","v":""},null,null,0,0,{"$f":"FirstPartDegrees2!D27","v":0},{"$f":"IF(ISBLANK(FirstPartDegrees2!$C$9),\"\",FirstPartDegrees2!$C$9)","v":""},{"$f":"FirstPartDegrees2!E27","v":0},{"$f":"IF(ISBLANK(FirstPartDegrees2!$C$9),\"\",FirstPartDegrees2!$C$9)","v":""},null,null,0,{"$f":"FirstPartDegrees2!I27","v":0},{"$f":"IF(ISBLANK(FirstPartDegrees2!$H$9),\"\",FirstPartDegrees2!$H$9)","v":""},{"$f":"FirstPartDegrees2!J27","v":0},{"$f":"IF(ISBLANK(FirstPartDegrees2!$H$9),\"\",FirstPartDegrees2!$H$9)","v":""},null,null,0,{"$f":"FirstPartDegrees2!M27","v":0},{"$f":"IF(ISBLANK(FirstPartDegrees2!$M$9),\"\",FirstPartDegrees2!$M$9)","v":""},{"$f":"FirstPartDegrees2!N27","v":0},{"$f":"IF(ISBLANK(FirstPartDegrees2!$M$9),\"\",FirstPartDegrees2!$M$9)","v":""},null,null,0,{"$f":"SeconedPartDegrees2!D27","v":0},{"$f":"IF(ISBLANK(SeconedPartDegrees2!$D$9),\"\",SeconedPartDegrees2!$D$9)","v":""},{"$f":"SeconedPartDegrees2!F27","v":0},{"$f":"IF(ISBLANK(SeconedPartDegrees2!$F$9),\"\",SeconedPartDegrees2!$F$9)","v":""},null,null,0,0,0,{"$f":"SeconedPartDegrees2!R27","v":""}]
[{"$f":"SeconedPartDegrees2!$A29","v":9},{"$f":"FirstPartDegrees2!$B29","v":""},{"$f":"FirstPartDegrees2!$H$7","v":"7-1"},{"$f":"FirstPartDegrees2!C29","v":0},{"$f":"IF(ISBLANK(FirstPartDegrees2!$C$9),\"\",FirstPartDegrees2!$C$9)","v":""},{"$f":"FirstPartDegrees2!F29","v":0},{"$f":"IF(ISBLANK(FirstPartDegrees2!$F$9),\"\",FirstPartDegrees2!$F$9)","v":""},null,null,0,{"$f":"FirstPartDegrees2!K29","v":0},{"$f":"IF(ISBLANK(FirstPartDegrees2!$K$9),\"\",FirstPartDegrees2!$K$9)","v":""},{"$f":"FirstPartDegrees2!L29","v":0},{"$f":"IF(ISBLANK(FirstPartDegrees2!$K$9),\"\",FirstPartDegrees2!$K$9)","v":""},null,null,0,{"$f":"SeconedPartDegrees2!M29","v":0},{"$f":"IF(ISBLANK(SeconedPartDegrees2!$M$9),\"\",SeconedPartDegrees2!$M$9)","v":""},{"$f":"SeconedPartDegrees2!N29","v":0},{"$f":"IF(ISBLANK(SeconedPartDegrees2!$M$9),\"\",SeconedPartDegrees2!$M$9)","v":""},null,null,0,{"$f":"FirstPartDegrees2!H29","v":0},{"$f":"IF(ISBLANK(FirstPartDegrees2!$H$9),\"\",FirstPartDegrees2!$H$9)","v":""},{"$f":"SeconedPartDegrees2!C29","v":0},{"$f":"IF(ISBLANK(SeconedPartDegrees2!$C$9),\"\",SeconedPartDegrees2!$C$9)","v":""},null,null,0,0,{"$f":"SeconedPartDegrees2!G29","v":0},{"$f":"IF(ISBLANK(SeconedPartDegrees2!$G$9),\"\",SeconedPartDegrees2!$G$9)","v":""},{"$f":"SeconedPartDegrees2!H29","v":0},{"$f":"IF(ISBLANK(SeconedPartDegrees2!$G$9),\"\",SeconedPartDegrees2!$G$9)","v":""},null,null,0,{"$f":"SeconedPartDegrees2!I29","v":0},{"$f":"IF(ISBLANK(SeconedPartDegrees2!$G$9),\"\",SeconedPartDegrees2!$G$9)","v":""},{"$f":"SeconedPartDegrees2!J29","v":0},{"$f":"IF(ISBLANK(SeconedPartDegrees2!$G$9),\"\",SeconedPartDegrees2!$G$9)","v":""},null,null,0,{"$f":"SeconedPartDegrees2!O29","v":0},{"$f":"IF(ISBLANK(SeconedPartDegrees2!$M$9),\"\",SeconedPartDegrees2!$M$9)","v":""},{"$f":"SeconedPartDegrees2!P29","v":0},{"$f":"IF(ISBLANK(SeconedPartDegrees2!$M$9),\"\",SeconedPartDegrees2!$M$9)","v":""},null,null,0,{"$f":"SeconedPartDegrees2!K29","v":0},{"$f":"IF(ISBLANK(SeconedPartDegrees2!$G$9),\"\",SeconedPartDegrees2!$G$9)","v":""},{"$f":"SeconedPartDegrees2!L29","v":0},{"$f":"IF(ISBLANK(SeconedPartDegrees2!$G$9),\"\",SeconedPartDegrees2!$G$9)","v":""},null,null,0,0,{"$f":"FirstPartDegrees2!D29","v":0},{"$f":"IF(ISBLANK(FirstPartDegrees2!$C$9),\"\",FirstPartDegrees2!$C$9)","v":""},{"$f":"FirstPartDegrees2!E29","v":0},{"$f":"IF(ISBLANK(FirstPartDegrees2!$C$9),\"\",FirstPartDegrees2!$C$9)","v":""},null,null,0,{"$f":"FirstPartDegrees2!I29","v":0},{"$f":"IF(ISBLANK(FirstPartDegrees2!$H$9),\"\",FirstPartDegrees2!$H$9)","v":""},{"$f":"FirstPartDegrees2!J29","v":0},{"$f":"IF(ISBLANK(FirstPartDegrees2!$H$9),\"\",FirstPartDegrees2!$H$9)","v":""},null,null,0,{"$f":"FirstPartDegrees2!M29","v":0},{"$f":"IF(ISBLANK(FirstPartDegrees2!$M$9),\"\",FirstPartDegrees2!$M$9)","v":""},{"$f":"FirstPartDegrees2!N29","v":0},{"$f":"IF(ISBLANK(FirstPartDegrees2!$M$9),\"\",FirstPartDegrees2!$M$9)","v":""},null,null,0,{"$f":"SeconedPartDegrees2!D29","v":0},{"$f":"IF(ISBLANK(SeconedPartDegrees2!$D$9),\"\",SeconedPartDegrees2!$D$9)","v":""},{"$f":"SeconedPartDegrees2!F29","v":0},{"$f":"IF(ISBLANK(SeconedPartDegrees2!$F$9),\"\",SeconedPartDegrees2!$F$9)","v":""},null,null,0,0,0,{"$f":"SeconedPartDegrees2!R29","v":""}]
[{"$f":"SeconedPartDegrees2!$A31","v":10},{"$f":"FirstPartDegrees2!$B31","v":""},{"$f":"FirstPartDegrees2!$H$7","v":"7-1"},{"$f":"FirstPartDegrees2!C31","v":0},{"$f":"IF(ISBLANK(FirstPartDegrees2!$C$9),\"\",FirstPartDegrees2!$C$9)","v":""},{"$f":"FirstPartDegrees2!F31","v":0},{"$f":"IF(ISBLANK(FirstPartDegrees2!$F$9),\"\",FirstPartDegrees2!$F$9)","v":""},null,null,0,{"$f":"FirstPartDegrees2!K31","v":0},{"$f":"IF(ISBLANK(FirstPartDegrees2!$K$9),\"\",FirstPartDegrees2!$K$9)","v":""},{"$f":"FirstPartDegrees2!L31","v":0},{"$f":"IF(ISBLANK(FirstPartDegrees2!$K$9),\"\",FirstPartDegrees2!$K$9)","v":""},null,null,0,{"$f":"SeconedPartDegrees2!M31","v":0},{"$f":"IF(ISBLANK(SeconedPartDegrees2!$M$9),\"\",SeconedPartDegrees2!$M$9)","v":""},{"$f":"SeconedPartDegrees2!N31","v":0},{"$f":"IF(ISBLANK(SeconedPartDegrees2!$M$9),\"\",SeconedPartDegrees2!$M$9)","v":""},null,null,0,{"$f":"FirstPartDegrees2!H31","v":0},{"$f":"IF(ISBLANK(FirstPartDegrees2!$H$9),\"\",FirstPartDegrees2!$H$9)","v":""},{"$f":"SeconedPartDegrees2!C31","v":0},{"$f":"IF(ISBLANK(SeconedPartDegrees2!$C$9),\"\",SeconedPartDegrees2!$C$9)","v":""},null,null,0,0,{"$f":"SeconedPartDegrees2!G31","v":0},{"$f":"IF(ISBLANK(SeconedPartDegrees2!$G$9),\"\",SeconedPartDegrees2!$G$9)","v":""},{"$f":"SeconedPartDegrees2!H31","v":0},{"$f":"IF(ISBLANK(SeconedPartDegrees2!$G$9),\"\",SeconedPartDegrees2!$G$9)","v":""},null,null,0,{"$f":"SeconedPartDegrees2!I31","v":0},{"$f":"IF(ISBLANK(SeconedPartDegrees2!$G$9),\"\",SeconedPartDegrees2!$G$9)","v":""},{"$f":"SeconedPartDegrees2!J31","v":0},{"$f":"IF(ISBLANK(SeconedPartDegrees2!$G$9),\"\",SeconedPartDegrees2!$G$9)","v":""},null,null,0,{"$f":"SeconedPartDegrees2!O31","v":0},{"$f":"IF(ISBLANK(SeconedPartDegrees2!$M$9),\"\",SeconedPartDegrees2!$M$9)","v":""},{"$f":"SeconedPartDegrees2!P31","v":0},{"$f":"IF(ISBLANK(SeconedPartDegrees2!$M$9),\"\",SeconedPartDegrees2!$M$9)","v":""},null,null,0,{"$f":"SeconedPartDegrees2!K31","v":0},{"$f":"IF(ISBLANK(SeconedPartDegrees2!$G$9),\"\",SeconedPartDegrees2!$G$9)","v":""},{"$f":"SeconedPartDegrees2!L31","v":0},{"$f":"IF(ISBLANK(SeconedPartDegrees2!$G$9),\"\",SeconedPartDegrees2!$G$9)","v":""},null,null,0,0,{"$f":"FirstPartDegrees2!D31","v":0},{"$f":"IF(ISBLANK(FirstPartDegrees2!$C$9),\"\",FirstPartDegrees2!$C$9)","v":""},{"$f":"FirstPartDegrees2!E31","v":0},{"$f":"IF(ISBLANK(FirstPartDegrees2!$C$9),\"\",FirstPartDegrees2!$C$9)","v":""},null,null,0,{"$f":"FirstPartDegrees2!I31","v":0},{"$f":"IF(ISBLANK(FirstPartDegrees2!$H$9),\"\",FirstPartDegrees2!$H$9)","v":""},{"$f":"FirstPartDegrees2!J31","v":0},{"$f":"IF(ISBLANK(FirstPartDegrees2!$H$9),\"\",FirstPartDegrees2!$H$9)","v":""},null,null,0,{"$f":"FirstPartDegrees2!M31","v":0},{"$f":"IF(ISBLANK(FirstPartDegrees2!$M$9),\"\",FirstPartDegrees2!$M$9)","v":""},{"$f":"FirstPartDegrees2!N31","v":0},{"$f":"IF(ISBLANK(FirstPartDegrees2!$M$9),\"\",FirstPartDegrees2!$M$9)","v":""},null,null,0,{"$f":"SeconedPartDegrees2!D31","v":0},{"$f":"IF(ISBLANK(SeconedPartDegrees2!$D$9),\"\",SeconedPartDegrees2!$D$9)","v":""},{"$f":"SeconedPartDegrees2!F31","v":0},{"$f":"IF(ISBLANK(SeconedPartDegrees2!$F$9),\"\",SeconedPartDegrees2!$F$9)","v":""},null,null,0,0,0,{"$f":"SeconedPartDegrees2!R31","v":""}]
[{"$f":"SeconedPartDegrees2!$A33","v":11},{"$f":"FirstPartDegrees2!$B33","v":""},{"$f":"FirstPartDegrees2!$H$7","v":"7-1"},{"$f":"FirstPartDegrees2!C33","v":0},{"$f":"IF(ISBLANK(FirstPartDegrees2!$C$9),\"\",FirstPartDegrees2!$C$9)","v":""},{"$f":"FirstPartDegrees2!F33","v":0},{"$f":"IF(ISBLANK(FirstPartDegrees2!$F$9),\"\",FirstPartDegrees2!$F$9)","v":""},null,null,0,{"$f":"FirstPartDegrees2!K33","v":0},{"$f":"IF(ISBLANK(FirstPartDegrees2!$K$9),\"\",FirstPartDegrees2!$K$9)","v":""},{"$f":"FirstPartDegrees2!L33","v":0},{"$f":"IF(ISBLANK(FirstPartDegrees2!$K$9),\"\",FirstPartDegrees2!$K$9)","v":""},null,null,0,{"$f":"SeconedPartDegrees2!M33","v":0},{"$f":"IF(ISBLANK(SeconedPartDegrees2!$M$9),\"\",SeconedPartDegrees2!$M$9)","v":""},{"$f":"SeconedPartDegrees2!N33","v":0},{"$f":"IF(ISBLANK(SeconedPartDegrees2!$M$9),\"\",SeconedPartDegrees2!$M$9)","v":""},null,null,0,{"$f":"FirstPartDegrees2!H33","v":0},{"$f":"IF(ISBLANK(FirstPartDegrees2!$H$9),\"\",FirstPartDegrees2!$H$9)","v":""},{"$f":"SeconedPartDegrees2!C33","v":0},{"$f":"IF(ISBLANK(SeconedPartDegrees2!$C$9),\"\",SeconedPartDegrees2!$C$9)","v":""},null,null,0,0,{"$f":"SeconedPartDegrees2!G33","v":0},{"$f":"IF(ISBLANK(SeconedPartDegrees2!$G$9),\"\",SeconedPartDegrees2!$G$9)","v":""},{"$f":"SeconedPartDegrees2!H33","v":0},{"$f":"IF(ISBLANK(SeconedPartDegrees2!$G$9),\"\",SeconedPartDegrees2!$G$9)","v":""},null,null,0,{"$f":"SeconedPartDegrees2!I33","v":0},{"$f":"IF(ISBLANK(SeconedPartDegrees2!$G$9),\"\",SeconedPartDegrees2!$G$9)","v":""},{"$f":"SeconedPartDegrees2!J33","v":0},{"$f":"IF(ISBLANK(SeconedPartDegrees2!$G$9),\"\",SeconedPartDegrees2!$G$9)","v":""},null,null,0,{"$f":"SeconedPartDegrees2!O33","v":0},{"$f":"IF(ISBLANK(SeconedPartDegrees2!$M$9),\"\",SeconedPartDegrees2!$M$9)","v":""},{"$f":"SeconedPartDegrees2!P33","v":0},{"$f":"IF(ISBLANK(SeconedPartDegrees2!$M$9),\"\",SeconedPartDegrees2!$M$9)","v":""},null,null,0,{"$f":"SeconedPartDegrees2!K33","v":0},{"$f":"IF(ISBLANK(SeconedPartDegrees2!$G$9),\"\",SeconedPartDegrees2!$G$9)","v":""},{"$f":"SeconedPartDegrees2!L33","v":0},{"$f":"IF(ISBLANK(SeconedPartDegrees2!$G$9),\"\",SeconedPartDegrees2!$G$9)","v":""},null,null,0,0,{"$f":"FirstPartDegrees2!D33","v":0},{"$f":"IF(ISBLANK(FirstPartDegrees2!$C$9),\"\",FirstPartDegrees2!$C$9)","v":""},{"$f":"FirstPartDegrees2!E33","v":0},{"$f":"IF(ISBLANK(FirstPartDegrees2!$C$9),\"\",FirstPartDegrees2!$C$9)","v":""},null,null,0,{"$f":"FirstPartDegrees2!I33","v":0},{"$f":"IF(ISBLANK(FirstPartDegrees2!$H$9),\"\",FirstPartDegrees2!$H$9)","v":""},{"$f":"FirstPartDegrees2!J33","v":0},{"$f":"IF(ISBLANK(FirstPartDegrees2!$H$9),\"\",FirstPartDegrees2!$H$9)","v":""},null,null,0,{"$f":"FirstPartDegrees2!M33","v":0},{"$f":"IF(ISBLANK(FirstPartDegrees2!$M$9),\"\",FirstPartDegrees2!$M$9)","v":""},{"$f":"FirstPartDegrees2!N33","v":0},{"$f":"IF(ISBLANK(FirstPartDegrees2!$M$9),\"\",FirstPartDegrees2!$M$9)","v":""},null,null,0,{"$f":"SeconedPartDegrees2!D33","v":0},{"$f":"IF(ISBLANK(SeconedPartDegrees2!$D$9),\"\",SeconedPartDegrees2!$D$9)","v":""},{"$f":"SeconedPartDegrees2!F33","v":0},{"$f":"IF(ISBLANK(SeconedPartDegrees2!$F$9),\"\",SeconedPartDegrees2!$F$9)","v":""},null,null,0,0,0,{"$f":"SeconedPartDegrees2!R33","v":""}]
[{"$f":"SeconedPartDegrees2!$A35","v":12},{"$f":"FirstPartDegrees2!$B35","v":""},{"$f":"FirstPartDegrees2!$H$7","v":"7-1"},{"$f":"FirstPartDegrees2!C35","v":0},{"$f":"IF(ISBLANK(FirstPartDegrees2!$C$9),\"\",FirstPartDegrees2!$C$9)","v":""},{"$f":"FirstPartDegrees2!F35","v":0},{"$f":"IF(ISBLANK(FirstPartDegrees2!$F$9),\"\",FirstPartDegrees2!$F$9)","v":""},null,null,0,{"$f":"FirstPartDegrees2!K35","v":0},{"$f":"IF(ISBLANK(FirstPartDegrees2!$K$9),\"\",FirstPartDegrees2!$K$9)","v":""},{"$f":"FirstPartDegrees2!L35","v":0},{"$f":"IF(ISBLANK(FirstPartDegrees2!$K$9),\"\",FirstPartDegrees2!$K$9)","v":""},null,null,0,{"$f":"SeconedPartDegrees2!M35","v":0},{"$f":"IF(ISBLANK(SeconedPartDegrees2!$M$9),\"\",SeconedPartDegrees2!$M$9)","v":""},{"$f":"SeconedPartDegrees2!N35","v":0},{"$f":"IF(ISBLANK(SeconedPartDegrees2!$M$9),\"\",SeconedPartDegrees2!$M$9)","v":""},null,null,0,{"$f":"FirstPartDegrees2!H35","v":0},{"$f":"IF(ISBLANK(FirstPartDegrees2!$H$9),\"\",FirstPartDegrees2!$H$9)","v":""},{"$f":"SeconedPartDegrees2!C35","v":0},{"$f":"IF(ISBLANK(SeconedPartDegrees2!$C$9),\"\",SeconedPartDegrees2!$C$9)","v":""},null,null,0,0,{"$f":"SeconedPartDegrees2!G35","v":0},{"$f":"IF(ISBLANK(SeconedPartDegrees2!$G$9),\"\",SeconedPartDegrees2!$G$9)","v":""},{"$f":"SeconedPartDegrees2!H35","v":0},{"$f":"IF(ISBLANK(SeconedPartDegrees2!$G$9),\"\",SeconedPartDegrees2!$G$9)","v":""},null,null,0,{"$f":"SeconedPartDegrees2!I35","v":0},{"$f":"IF(ISBLANK(SeconedPartDegrees2!$G$9),\"\",SeconedPartDegrees2!$G$9)","v":""},{"$f":"SeconedPartDegrees2!J35","v":0},{"$f":"IF(ISBLANK(SeconedPartDegrees2!$G$9),\"\",SeconedPartDegrees2!$G$9)","v":""},null,null,0,{"$f":"SeconedPartDegrees2!O35","v":0},{"$f":"IF(ISBLANK(SeconedPartDegrees2!$M$9),\"\",SeconedPartDegrees2!$M$9)","v":""},{"$f":"SeconedPartDegrees2!P35","v":0},{"$f":"IF(ISBLANK(SeconedPartDegrees2!$M$9),\"\",SeconedPartDegrees2!$M$9)","v":""},null,null,0,{"$f":"SeconedPartDegrees2!K35","v":0},{"$f":"IF(ISBLANK(SeconedPartDegrees2!$G$9),\"\",SeconedPartDegrees2!$G$9)","v":""},{"$f":"SeconedPartDegrees2!L35","v":0},{"$f":"IF(ISBLANK(SeconedPartDegrees2!$G$9),\"\",SeconedPartDegrees2!$G$9)","v":""},null,null,0,0,{"$f":"FirstPartDegrees2!D35","v":0},{"$f":"IF(ISBLANK(FirstPartDegrees2!$C$9),\"\",FirstPartDegrees2!$C$9)","v":""},{"$f":"FirstPartDegrees2!E35","v":0},{"$f":"IF(ISBLANK(FirstPartDegrees2!$C$9),\"\",FirstPartDegrees2!$C$9)","v":""},null,null,0,{"$f":"FirstPartDegrees2!I35","v":0},{"$f":"IF(ISBLANK(FirstPartDegrees2!$H$9),\"\",FirstPartDegrees2!$H$9)","v":""},{"$f":"FirstPartDegrees2!J35","v":0},{"$f":"IF(ISBLANK(FirstPartDegrees2!$H$9),\"\",FirstPartDegrees2!$H$9)","v":""},null,null,0,{"$f":"FirstPartDegrees2!M35","v":0},{"$f":"IF(ISBLANK(FirstPartDegrees2!$M$9),\"\",FirstPartDegrees2!$M$9)","v":""},{"$f":"FirstPartDegrees2!N35","v":0},{"$f":"IF(ISBLANK(FirstPartDegrees2!$M$9),\"\",FirstPartDegrees2!$M$9)","v":""},null,null,0,{"$f":"SeconedPartDegrees2!D35","v":0},{"$f":"IF(ISBLANK(SeconedPartDegrees2!$D$9),\"\",SeconedPartDegrees2!$D$9)","v":""},{"$f":"SeconedPartDegrees2!F35","v":0},{"$f":"IF(ISBLANK(SeconedPartDegrees2!$F$9),\"\",SeconedPartDegrees2!$F$9)","v":""},null,null,0,0,0,{"$f":"SeconedPartDegrees2!R35","v":""}]
[{"$f":"SeconedPartDegrees2!$A37","v":13},{"$f":"FirstPartDegrees2!$B37","v":""},{"$f":"FirstPartDegrees2!$H$7","v":"7-1"},{"$f":"FirstPartDegrees2!C37","v":0},{"$f":"IF(ISBLANK(FirstPartDegrees2!$C$9),\"\",FirstPartDegrees2!$C$9)","v":""},{"$f":"FirstPartDegrees2!F37","v":0},{"$f":"IF(ISBLANK(FirstPartDegrees2!$F$9),\"\",FirstPartDegrees2!$F$9)","v":""},null,null,0,{"$f":"FirstPartDegrees2!K37","v":0},{"$f":"IF(ISBLANK(FirstPartDegrees2!$K$9),\"\",FirstPartDegrees2!$K$9)","v":""},{"$f":"FirstPartDegrees2!L37","v":0},{"$f":"IF(ISBLANK(FirstPartDegrees2!$K$9),\"\",FirstPartDegrees2!$K$9)","v":""},null,null,0,{"$f":"SeconedPartDegrees2!M37","v":0},{"$f":"IF(ISBLANK(SeconedPartDegrees2!$M$9),\"\",SeconedPartDegrees2!$M$9)","v":""},{"$f":"SeconedPartDegrees2!N37","v":0},{"$f":"IF(ISBLANK(SeconedPartDegrees2!$M$9),\"\",SeconedPartDegrees2!$M$9)","v":""},null,null,0,{"$f":"FirstPartDegrees2!H37","v":0},{"$f":"IF(ISBLANK(FirstPartDegrees2!$H$9),\"\",FirstPartDegrees2!$H$9)","v":""},{"$f":"SeconedPartDegrees2!C37","v":0},{"$f":"IF(ISBLANK(SeconedPartDegrees2!$C$9),\"\",SeconedPartDegrees2!$C$9)","v":""},null,null,0,0,{"$f":"SeconedPartDegrees2!G37","v":0},{"$f":"IF(ISBLANK(SeconedPartDegrees2!$G$9),\"\",SeconedPartDegrees2!$G$9)","v":""},{"$f":"SeconedPartDegrees2!H37","v":0},{"$f":"IF(ISBLANK(SeconedPartDegrees2!$G$9),\"\",SeconedPartDegrees2!$G$9)","v":""},null,null,0,{"$f":"SeconedPartDegrees2!I37","v":0},{"$f":"IF(ISBLANK(SeconedPartDegrees2!$G$9),\"\",SeconedPartDegrees2!$G$9)","v":""},{"$f":"SeconedPartDegrees2!J37","v":0},{"$f":"IF(ISBLANK(SeconedPartDegrees2!$G$9),\"\",SeconedPartDegrees2!$G$9)","v":""},null,null,0,{"$f":"SeconedPartDegrees2!O37","v":0},{"$f":"IF(ISBLANK(SeconedPartDegrees2!$M$9),\"\",SeconedPartDegrees2!$M$9)","v":""},{"$f":"SeconedPartDegrees2!P37","v":0},{"$f":"IF(ISBLANK(SeconedPartDegrees2!$M$9),\"\",SeconedPartDegrees2!$M$9)","v":""},null,null,0,{"$f":"SeconedPartDegrees2!K37","v":0},{"$f":"IF(ISBLANK(SeconedPartDegrees2!$G$9),\"\",SeconedPartDegrees2!$G$9)","v":""},{"$f":"SeconedPartDegrees2!L37","v":0},{"$f":"IF(ISBLANK(SeconedPartDegrees2!$G$9),\"\",SeconedPartDegrees2!$G$9)","v":""},null,null,0,0,{"$f":"FirstPartDegrees2!D37","v":0},{"$f":"IF(ISBLANK(FirstPartDegrees2!$C$9),\"\",FirstPartDegrees2!$C$9)","v":""},{"$f":"FirstPartDegrees2!E37","v":0},{"$f":"IF(ISBLANK(FirstPartDegrees2!$C$9),\"\",FirstPartDegrees2!$C$9)","v":""},null,null,0,{"$f":"FirstPartDegrees2!I37","v":0},{"$f":"IF(ISBLANK(FirstPartDegrees2!$H$9),\"\",FirstPartDegrees2!$H$9)","v":""},{"$f":"FirstPartDegrees2!J37","v":0},{"$f":"IF(ISBLANK(FirstPartDegrees2!$H$9),\"\",FirstPartDegrees2!$H$9)","v":""},null,null,0,{"$f":"FirstPartDegrees2!M37","v":0},{"$f":"IF(ISBLANK(FirstPartDegrees2!$M$9),\"\",FirstPartDegrees2!$M$9)","v":""},{"$f":"FirstPartDegrees2!N37","v":0},{"$f":"IF(ISBLANK(FirstPartDegrees2!$M$9),\"\",FirstPartDegrees2!$M$9)","v":""},null,null,0,{"$f":"SeconedPartDegrees2!D37","v":0},{"$f":"IF(ISBLANK(SeconedPartDegrees2!$D$9),\"\",SeconedPartDegrees2!$D$9)","v":""},{"$f":"SeconedPartDegrees2!F37","v":0},{"$f":"IF(ISBLANK(SeconedPartDegrees2!$F$9),\"\",SeconedPartDegrees2!$F$9)","v":""},null,null,0,0,0,{"$f":"SeconedPartDegrees2!R37","v":""}]
[{"$f":"SeconedPartDegrees2!$A39","v":14},{"$f":"FirstPartDegrees2!$B39","v":""},{"$f":"FirstPartDegrees2!$H$7","v":"7-1"},{"$f":"FirstPartDegrees2!C39","v":0},{"$f":"IF(ISBLANK(FirstPartDegrees2!$C$9),\"\",FirstPartDegrees2!$C$9)","v":""},{"$f":"FirstPartDegrees2!F39","v":0},{"$f":"IF(ISBLANK(FirstPartDegrees2!$F$9),\"\",FirstPartDegrees2!$F$9)","v":""},null,null,0,{"$f":"FirstPartDegrees2!K39","v":0},{"$f":"IF(ISBLANK(FirstPartDegrees2!$K$9),\"\",FirstPartDegrees2!$K$9)","v":""},{"$f":"FirstPartDegrees2!L39","v":0},{"$f":"IF(ISBLANK(FirstPartDegrees2!$K$9),\"\",FirstPartDegrees2!$K$9)","v":""},null,null,0,{"$f":"SeconedPartDegrees2!M39","v":0},{"$f":"IF(ISBLANK(SeconedPartDegrees2!$M$9),\"\",SeconedPartDegrees2!$M$9)","v":""},{"$f":"SeconedPartDegrees2!N39","v":0},{"$f":"IF(ISBLANK(SeconedPartDegrees2!$M$9),\"\",SeconedPartDegrees2!$M$9)","v":""},null,null,0,{"$f":"FirstPartDegrees2!H39","v":0},{"$f":"IF(ISBLANK(FirstPartDegrees2!$H$9),\"\",FirstPartDegrees2!$H$9)","v":""},{"$f":"SeconedPartDegrees2!C39","v":0},{"$f":"IF(ISBLANK(SeconedPartDegrees2!$C$9),\"\",SeconedPartDegrees2!$C$9)","v":""},null,null,0,0,{"$f":"SeconedPartDegrees2!G39","v":0},{"$f":"IF(ISBLANK(SeconedPartDegrees2!$G$9),\"\",SeconedPartDegrees2!$G$9)","v":""},{"$f":"SeconedPartDegrees2!H39","v":0},{"$f":"IF(ISBLANK(SeconedPartDegrees2!$G$9),\"\",SeconedPartDegrees2!$G$9)","v":""},null,null,0,{"$f":"SeconedPartDegrees2!I39","v":0},{"$f":"IF(ISBLANK(SeconedPartDegrees2!$G$9),\"\",SeconedPartDegrees2!$G$9)","v":""},{"$f":"SeconedPartDegrees2!J39","v":0},{"$f":"IF(ISBLANK(SeconedPartDegrees2!$G$9),\"\",SeconedPartDegrees2!$G$9)","v":""},null,null,0,{"$f":"SeconedPartDegrees2!O39","v":0},{"$f":"IF(ISBLANK(SeconedPartDegrees2!$M$9),\"\",SeconedPartDegrees2!$M$9)","v":""},{"$f":"SeconedPartDegrees2!P39","v":0},{"$f":"IF(ISBLANK(SeconedPartDegrees2!$M$9),\"\",SeconedPartDegrees2!$M$9)","v":""},null,null,0,{"$f":"SeconedPartDegrees2!K39","v":0},{"$f":"IF(ISBLANK(SeconedPartDegrees2!$G$9),\"\",SeconedPartDegrees2!$G$9)","v":""},{"$f":"SeconedPartDegrees2!L39","v":0},{"$f":"IF(ISBLANK(SeconedPartDegrees2!$G$9),\"\",SeconedPartDegrees2!$G$9)","v":""},null,null,0,0,{"$f":"FirstPartDegrees2!D39","v":0},{"$f":"IF(ISBLANK(FirstPartDegrees2!$C$9),\"\",FirstPartDegrees2!$C$9)","v":""},{"$f":"FirstPartDegrees2!E39","v":0},{"$f":"IF(ISBLANK(FirstPartDegrees2!$C$9),\"\",FirstPartDegrees2!$C$9)","v":""},null,null,0,{"$f":"FirstPartDegrees2!I39","v":0},{"$f":"IF(ISBLANK(FirstPartDegrees2!$H$9),\"\",FirstPartDegrees2!$H$9)","v":""},{"$f":"FirstPartDegrees2!J39","v":0},{"$f":"IF(ISBLANK(FirstPartDegrees2!$H$9),\"\",FirstPartDegrees2!$H$9)","v":""},null,null,0,{"$f":"FirstPartDegrees2!M39","v":0},{"$f":"IF(ISBLANK(FirstPartDegrees2!$M$9),\"\",FirstPartDegrees2!$M$9)","v":""},{"$f":"FirstPartDegrees2!N39","v":0},{"$f":"IF(ISBLANK(FirstPartDegrees2!$M$9),\"\",FirstPartDegrees2!$M$9)","v":""},null,null,0,{"$f":"SeconedPartDegrees2!D39","v":0},{"$f":"IF(ISBLANK(SeconedPartDegrees2!$D$9),\"\",SeconedPartDegrees2!$D$9)","v":""},{"$f":"SeconedPartDegrees2!F39","v":0},{"$f":"IF(ISBLANK(SeconedPartDegrees2!$F$9),\"\",SeconedPartDegrees2!$F$9)","v":""},null,null,0,0,0,{"$f":"SeconedPartDegrees2!R39","v":""}]
[{"$f":"SeconedPartDegrees2!$A41","v":15},{"$f":"FirstPartDegrees2!$B41","v":""},{"$f":"FirstPartDegrees2!$H$7","v":"7-1"},{"$f":"FirstPartDegrees2!C41","v":0},{"$f":"IF(ISBLANK(FirstPartDegrees2!$C$9),\"\",FirstPartDegrees2!$C$9)","v":""},{"$f":"FirstPartDegrees2!F41","v":0},{"$f":"IF(ISBLANK(FirstPartDegrees2!$F$9),\"\",FirstPartDegrees2!$F$9)","v":""},null,null,0,{"$f":"FirstPartDegrees2!K41","v":0},{"$f":"IF(ISBLANK(FirstPartDegrees2!$K$9),\"\",FirstPartDegrees2!$K$9)","v":""},{"$f":"FirstPartDegrees2!L41","v":0},{"$f":"IF(ISBLANK(FirstPartDegrees2!$K$9),\"\",FirstPartDegrees2!$K$9)","v":""},null,null,0,{"$f":"SeconedPartDegrees2!M41","v":0},{"$f":"IF(ISBLANK(SeconedPartDegrees2!$M$9),\"\",SeconedPartDegrees2!$M$9)","v":""},{"$f":"SeconedPartDegrees2!N41","v":0},{"$f":"IF(ISBLANK(SeconedPartDegrees2!$M$9),\"\",SeconedPartDegrees2!$M$9)","v":""},null,null,0,{"$f":"FirstPartDegrees2!H41","v":0},{"$f":"IF(ISBLANK(FirstPartDegrees2!$H$9),\"\",FirstPartDegrees2!$H$9)","v":""},{"$f":"SeconedPartDegrees2!C41","v":0},{"$f":"IF(ISBLANK(SeconedPartDegrees2!$C$9),\"\",SeconedPartDegrees2!$C$9)","v":""},null,null,0,0,{"$f":"SeconedPartDegrees2!G41","v":0},{"$f":"IF(ISBLANK(SeconedPartDegrees2!$G$9),\"\",SeconedPartDegrees2!$G$9)","v":""},{"$f":"SeconedPartDegrees2!H41","v":0},{"$f":"IF(ISBLANK(SeconedPartDegrees2!$G$9),\"\",SeconedPartDegrees2!$G$9)","v":""},null,null,0,{"$f":"SeconedPartDegrees2!I41","v":0},{"$f":"IF(ISBLANK(SeconedPartDegrees2!$G$9),\"\",SeconedPartDegrees2!$G$9)","v":""},{"$f":"SeconedPartDegrees2!J41","v":0},{"$f":"IF(ISBLANK(SeconedPartDegrees2!$G$9),\"\",SeconedPartDegrees2!$G$9)","v":""},null,null,0,{"$f":"SeconedPartDegrees2!O41","v":0},{"$f":"IF(ISBLANK(SeconedPartDegrees2!$M$9),\"\",SeconedPartDegrees2!$M$9)","v":""},{"$f":"SeconedPartDegrees2!P41","v":0},{"$f":"IF(ISBLANK(SeconedPartDegrees2!$M$9),\"\",SeconedPartDegrees2!$M$9)","v":""},null,null,0,{"$f":"SeconedPartDegrees2!K41","v":0},{"$f":"IF(ISBLANK(SeconedPartDegrees2!$G$9),\"\",SeconedPartDegrees2!$G$9)","v":""},{"$f":"SeconedPartDegrees2!L41","v":0},{"$f":"IF(ISBLANK(SeconedPartDegrees2!$G$9),\"\",SeconedPartDegrees2!$G$9)","v":""},null,null,0,0,{"$f":"FirstPartDegrees2!D41","v":0},{"$f":"IF(ISBLANK(FirstPartDegrees2!$C$9),\"\",FirstPartDegrees2!$C$9)","v":""},{"$f":"FirstPartDegrees2!E41","v":0},{"$f":"IF(ISBLANK(FirstPartDegrees2!$C$9),\"\",FirstPartDegrees2!$C$9)","v":""},null,null,0,{"$f":"FirstPartDegrees2!I41","v":0},{"$f":"IF(ISBLANK(FirstPartDegrees2!$H$9),\"\",FirstPartDegrees2!$H$9)","v":""},{"$f":"FirstPartDegrees2!J41","v":0},{"$f":"IF(ISBLANK(FirstPartDegrees2!$H$9),\"\",FirstPartDegrees2!$H$9)","v":""},null,null,0,{"$f":"FirstPartDegrees2!M41","v":0},{"$f":"IF(ISBLANK(FirstPartDegrees2!$M$9),\"\",FirstPartDegrees2!$M$9)","v":""},{"$f":"FirstPartDegrees2!N41","v":0},{"$f":"IF(ISBLANK(FirstPartDegrees2!$M$9),\"\",FirstPartDegrees2!$M$9)","v":""},null,null,0,{"$f":"SeconedPartDegrees2!D41","v":0},{"$f":"IF(ISBLANK(SeconedPartDegrees2!$D$9),\"\",SeconedPartDegrees2!$D$9)","v":""},{"$f":"SeconedPartDegrees2!F41","v":0},{"$f":"IF(ISBLANK(SeconedPartDegrees2!$F$9),\"\",SeconedPartDegrees2!$F$9)","v":""},null,null,0,0,0,{"$f":"SeconedPartDegrees2!R41","v":""}]
[{"$f":"SeconedPartDegrees2!$A43","v":16},{"$f":"FirstPartDegrees2!$B43","v":""},{"$f":"FirstPartDegrees2!$H$7","v":"7-1"},{"$f":"FirstPartDegrees2!C43","v":0},{"$f":"IF(ISBLANK(FirstPartDegrees2!$C$9),\"\",FirstPartDegrees2!$C$9)","v":""},{"$f":"FirstPartDegrees2!F43","v":0},{"$f":"IF(ISBLANK(FirstPartDegrees2!$F$9),\"\",FirstPartDegrees2!$F$9)","v":""},null,null,0,{"$f":"FirstPartDegrees2!K43","v":0},{"$f":"IF(ISBLANK(FirstPartDegrees2!$K$9),\"\",FirstPartDegrees2!$K$9)","v":""},{"$f":"FirstPartDegrees2!L43","v":0},{"$f":"IF(ISBLANK(FirstPartDegrees2!$K$9),\"\",FirstPartDegrees2!$K$9)","v":""},null,null,0,{"$f":"SeconedPartDegrees2!M43","v":0},{"$f":"IF(ISBLANK(SeconedPartDegrees2!$M$9),\"\",SeconedPartDegrees2!$M$9)","v":""},{"$f":"SeconedPartDegrees2!N43","v":0},{"$f":"IF(ISBLANK(SeconedPartDegrees2!$M$9),\"\",SeconedPartDegrees2!$M$9)","v":""},null,null,0,{"$f":"FirstPartDegrees2!H43","v":0},{"$f":"IF(ISBLANK(FirstPartDegrees2!$H$9),\"\",FirstPartDegrees2!$H$9)","v":""},{"$f":"SeconedPartDegrees2!C43","v":0},{"$f":"IF(ISBLANK(SeconedPartDegrees2!$C$9),\"\",SeconedPartDegrees2!$C$9)","v":""},null,null,0,0,{"$f":"SeconedPartDegrees2!G43","v":0},{"$f":"IF(ISBLANK(SeconedPartDegrees2!$G$9),\"\",SeconedPartDegrees2!$G$9)","v":""},{"$f":"SeconedPartDegrees2!H43","v":0},{"$f":"IF(ISBLANK(SeconedPartDegrees2!$G$9),\"\",SeconedPartDegrees2!$G$9)","v":""},null,null,0,{"$f":"SeconedPartDegrees2!I43","v":0},{"$f":"IF(ISBLANK(SeconedPartDegrees2!$G$9),\"\",SeconedPartDegrees2!$G$9)","v":""},{"$f":"SeconedPartDegrees2!J43","v":0},{"$f":"IF(ISBLANK(SeconedPartDegrees2!$G$9),\"\",SeconedPartDegrees2!$G$9)","v":""},null,null,0,{"$f":"SeconedPartDegrees2!O43","v":0},{"$f":"IF(ISBLANK(SeconedPartDegrees2!$M$9),\"\",SeconedPartDegrees2!$M$9)","v":""},{"$f":"SeconedPartDegrees2!P43","v":0},{"$f":"IF(ISBLANK(SeconedPartDegrees2!$M$9),\"\",SeconedPartDegrees2!$M$9)","v":""},null,null,0,{"$f":"SeconedPartDegrees2!K43","v":0},{"$f":"IF(ISBLANK(SeconedPartDegrees2!$G$9),\"\",SeconedPartDegrees2!$G$9)","v":""},{"$f":"SeconedPartDegrees2!L43","v":0},{"$f":"IF(ISBLANK(SeconedPartDegrees2!$G$9),\"\",SeconedPartDegrees2!$G$9)","v":""},null,null,0,0,{"$f":"FirstPartDegrees2!D43","v":0},{"$f":"IF(ISBLANK(FirstPartDegrees2!$C$9),\"\",FirstPartDegrees2!$C$9)","v":""},{"$f":"FirstPartDegrees2!E43","v":0},{"$f":"IF(ISBLANK(FirstPartDegrees2!$C$9),\"\",FirstPartDegrees2!$C$9)","v":""},null,null,0,{"$f":"FirstPartDegrees2!I43","v":0},{"$f":"IF(ISBLANK(FirstPartDegrees2!$H$9),\"\",FirstPartDegrees2!$H$9)","v":""},{"$f":"FirstPartDegrees2!J43","v":0},{"$f":"IF(ISBLANK(FirstPartDegrees2!$H$9),\"\",FirstPartDegrees2!$H$9)","v":""},null,null,0,{"$f":"FirstPartDegrees2!M43","v":0},{"$f":"IF(ISBLANK(FirstPartDegrees2!$M$9),\"\",FirstPartDegrees2!$M$9)","v":""},{"$f":"FirstPartDegrees2!N43","v":0},{"$f":"IF(ISBLANK(FirstPartDegrees2!$M$9),\"\",FirstPartDegrees2!$M$9)","v":""},null,null,0,{"$f":"SeconedPartDegrees2!D43","v":0},{"$f":"IF(ISBLANK(SeconedPartDegrees2!$D$9),\"\",SeconedPartDegrees2!$D$9)","v":""},{"$f":"SeconedPartDegrees2!F43","v":0},{"$f":"IF(ISBLANK(SeconedPartDegrees2!$F$9),\"\",SeconedPartDegrees2!$F$9)","v":""},null,null,0,0,0,{"$f":"SeconedPartDegrees2!R43","v":""}]
[{"$f":"SeconedPartDegrees2!$A45","v":17},{"$f":"FirstPartDegrees2!$B45","v":""},{"$f":"FirstPartDegrees2!$H$7","v":"7-1"},{"$f":"FirstPartDegrees2!C45","v":0},{"$f":"IF(ISBLANK(FirstPartDegrees2!$C$9),\"\",FirstPartDegrees2!$C$9)","v":""},{"$f":"FirstPartDegrees2!F45","v":0},{"$f":"IF(ISBLANK(FirstPartDegrees2!$F$9),\"\",FirstPartDegrees2!$F$9)","v":""},null,null,0,{"$f":"FirstPartDegrees2!K45","v":0},{"$f":"IF(ISBLANK(FirstPartDegrees2!$K$9),\"\",FirstPartDegrees2!$K$9)","v":""},{"$f":"FirstPartDegrees2!L45","v":0},{"$f":"IF(ISBLANK(FirstPartDegrees2!$K$9),\"\",FirstPartDegrees2!$K$9)","v":""},null,null,0,{"$f":"SeconedPartDegrees2!M45","v":0},{"$f":"IF(ISBLANK(SeconedPartDegrees2!$M$9),\"\",SeconedPartDegrees2!$M$9)","v":""},{"$f":"SeconedPartDegrees2!N45","v":0},{"$f":"IF(ISBLANK(SeconedPartDegrees2!$M$9),\"\",SeconedPartDegrees2!$M$9)","v":""},null,null,0,{"$f":"FirstPartDegrees2!H45","v":0},{"$f":"IF(ISBLANK(FirstPartDegrees2!$H$9),\"\",FirstPartDegrees2!$H$9)","v":""},{"$f":"SeconedPartDegrees2!C45","v":0},{"$f":"IF(ISBLANK(SeconedPartDegrees2!$C$9),\"\",SeconedPartDegrees2!$C$9)","v":""},null,null,0,0,{"$f":"SeconedPartDegrees2!G45","v":0},{"$f":"IF(ISBLANK(SeconedPartDegrees2!$G$9),\"\",SeconedPartDegrees2!$G$9)","v":""},{"$f":"SeconedPartDegrees2!H45","v":0},{"$f":"IF(ISBLANK(SeconedPartDegrees2!$G$9),\"\",SeconedPartDegrees2!$G$9)","v":""},null,null,0,{"$f":"SeconedPartDegrees2!I45","v":0},{"$f":"IF(ISBLANK(SeconedPartDegrees2!$G$9),\"\",SeconedPartDegrees2!$G$9)","v":""},{"$f":"SeconedPartDegrees2!J45","v":0},{"$f":"IF(ISBLANK(SeconedPartDegrees2!$G$9),\"\",SeconedPartDegrees2!$G$9)","v":""},null,null,0,{"$f":"SeconedPartDegrees2!O45","v":0},{"$f":"IF(ISBLANK(SeconedPartDegrees2!$M$9),\"\",SeconedPartDegrees2!$M$9)","v":""},{"$f":"SeconedPartDegrees2!P45","v":0},{"$f":"IF(ISBLANK(SeconedPartDegrees2!$M$9),\"\",SeconedPartDegrees2!$M$9)","v":""},null,null,0,{"$f":"SeconedPartDegrees2!K45","v":0},{"$f":"IF(ISBLANK(SeconedPartDegrees2!$G$9),\"\",SeconedPartDegrees2!$G$9)","v":""},{"$f":"SeconedPartDegrees2!L45","v":0},{"$f":"IF(ISBLANK(SeconedPartDegrees2!$G$9),\"\",SeconedPartDegrees2!$G$9)","v":""},null,null,0,0,{"$f":"FirstPartDegrees2!D45","v":0},{"$f":"IF(ISBLANK(FirstPartDegrees2!$C$9),\"\",FirstPartDegrees2!$C$9)","v":""},{"$f":"FirstPartDegrees2!E45","v":0},{"$f":"IF(ISBLANK(FirstPartDegrees2!$C$9),\"\",FirstPartDegrees2!$C$9)","v":""},null,null,0,{"$f":"FirstPartDegrees2!I45","v":0},{"$f":"IF(ISBLANK(FirstPartDegrees2!$H$9),\"\",FirstPartDegrees2!$H$9)","v":""},{"$f":"FirstPartDegrees2!J45","v":0},{"$f":"IF(ISBLANK(FirstPartDegrees2!$H$9),\"\",FirstPartDegrees2!$H$9)","v":""},null,null,0,{"$f":"FirstPartDegrees2!M45","v":0},{"$f":"IF(ISBLANK(FirstPartDegrees2!$M$9),\"\",FirstPartDegrees2!$M$9)","v":""},{"$f":"FirstPartDegrees2!N45","v":0},{"$f":"IF(ISBLANK(FirstPartDegrees2!$M$9),\"\",FirstPartDegrees2!$M$9)","v":""},null,null,0,{"$f":"SeconedPartDegrees2!D45","v":0},{"$f":"IF(ISBLANK(SeconedPartDegrees2!$D$9),\"\",SeconedPartDegrees2!$D$9)","v":""},{"$f":"SeconedPartDegrees2!F45","v":0},{"$f":"IF(ISBLANK(SeconedPartDegrees2!$F$9),\"\",SeconedPartDegrees2!$F$9)","v":""},null,null,0,0,0,{"$f":"SeconedPartDegrees2!R45","v":""}]
[{"$f":"SeconedPartDegrees2!$A47","v":18},{"$f":"FirstPartDegrees2!$B47","v":""},{"$f":"FirstPartDegrees2!$H$7","v":"7-1"},{"$f":"FirstPartDegrees2!C47","v":0},{"$f":"IF(ISBLANK(FirstPartDegrees2!$C$9),\"\",FirstPartDegrees2!$C$9)","v":""},{"$f":"FirstPartDegrees2!F47","v":0},{"$f":"IF(ISBLANK(FirstPartDegrees2!$F$9),\"\",FirstPartDegrees2!$F$9)","v":""},null,null,0,{"$f":"FirstPartDegrees2!K47","v":0},{"$f":"IF(ISBLANK(FirstPartDegrees2!$K$9),\"\",FirstPartDegrees2!$K$9)","v":""},{"$f":"FirstPartDegrees2!L47","v":0},{"$f":"IF(ISBLANK(FirstPartDegrees2!$K$9),\"\",FirstPartDegrees2!$K$9)","v":""},null,null,0,{"$f":"SeconedPartDegrees2!M47","v":0},{"$f":"IF(ISBLANK(SeconedPartDegrees2!$M$9),\"\",SeconedPartDegrees2!$M$9)","v":""},{"$f":"SeconedPartDegrees2!N47","v":0},{"$f":"IF(ISBLANK(SeconedPartDegrees2!$M$9),\"\",SeconedPartDegrees2!$M$9)","v":""},null,null,0,{"$f":"FirstPartDegrees2!H47","v":0},{"$f":"IF(ISBLANK(FirstPartDegrees2!$H$9),\"\",FirstPartDegrees2!$H$9)","v":""},{"$f":"SeconedPartDegrees2!C47","v":0},{"$f":"IF(ISBLANK(SeconedPartDegrees2!$C$9),\"\",SeconedPartDegrees2!$C$9)","v":""},null,null,0,0,{"$f":"SeconedPartDegrees2!G47","v":0},{"$f":"IF(ISBLANK(SeconedPartDegrees2!$G$9),\"\",SeconedPartDegrees2!$G$9)","v":""},{"$f":"SeconedPartDegrees2!H47","v":0},{"$f":"IF(ISBLANK(SeconedPartDegrees2!$G$9),\"\",SeconedPartDegrees2!$G$9)","v":""},null,null,0,{"$f":"SeconedPartDegrees2!I47","v":0},{"$f":"IF(ISBLANK(SeconedPartDegrees2!$G$9),\"\",SeconedPartDegrees2!$G$9)","v":""},{"$f":"SeconedPartDegrees2!J47","v":0},{"$f":"IF(ISBLANK(SeconedPartDegrees2!$G$9),\"\",SeconedPartDegrees2!$G$9)","v":""},null,null,0,{"$f":"SeconedPartDegrees2!O47","v":0},{"$f":"IF(ISBLANK(SeconedPartDegrees2!$M$9),\"\",SeconedPartDegrees2!$M$9)","v":""},{"$f":"SeconedPartDegrees2!P47","v":0},{"$f":"IF(ISBLANK(SeconedPartDegrees2!$M$9),\"\",SeconedPartDegrees2!$M$9)","v":""},null,null,0,{"$f":"SeconedPartDegrees2!K47","v":0},{"$f":"IF(ISBLANK(SeconedPartDegrees2!$G$9),\"\",SeconedPartDegrees2!$G$9)","v":""},{"$f":"SeconedPartDegrees2!L47","v":0},{"$f":"IF(ISBLANK(SeconedPartDegrees2!$G$9),\"\",SeconedPartDegrees2!$G$9)","v":""},null,null,0,0,{"$f":"FirstPartDegrees2!D47","v":0},{"$f":"IF(ISBLANK(FirstPartDegrees2!$C$9),\"\",FirstPartDegrees2!$C$9)","v":""},{"$f":"FirstPartDegrees2!E47","v":0},{"$f":"IF(ISBLANK(FirstPartDegrees2!$C$9),\"\",FirstPartDegrees2!$C$9)","v":""},null,null,0,{"$f":"FirstPartDegrees2!I47","v":0},{"$f":"IF(ISBLANK(FirstPartDegrees2!$H$9),\"\",FirstPartDegrees2!$H$9)","v":""},{"$f":"FirstPartDegrees2!J47","v":0},{"$f":"IF(ISBLANK(FirstPartDegrees2!$H$9),\"\",FirstPartDegrees2!$H$9)","v":""},null,null,0,{"$f":"FirstPartDegrees2!M47","v":0},{"$f":"IF(ISBLANK(FirstPartDegrees2!$M$9),\"\",FirstPartDegrees2!$M$9)","v":""},{"$f":"FirstPartDegrees2!N47","v":0},{"$f":"IF(ISBLANK(FirstPartDegrees2!$M$9),\"\",FirstPartDegrees2!$M$9)","v":""},null,null,0,{"$f":"SeconedPartDegrees2!D47","v":0},{"$f":"IF(ISBLANK(SeconedPartDegrees2!$D$9),\"\",SeconedPartDegrees2!$D$9)","v":""},{"$f":"SeconedPartDegrees2!F47","v":0},{"$f":"IF(ISBLANK(SeconedPartDegrees2!$F$9),\"\",SeconedPartDegrees2!$F$9)","v":""},null,null,0,0,0,{"$f":"SeconedPartDegrees2!R47","v":""}]
[{"$f":"SeconedPartDegrees2!$A49","v":19},{"$f":"FirstPartDegrees2!$B49","v":""},{"$f":"FirstPartDegrees2!$H$7","v":"7-1"},{"$f":"FirstPartDegrees2!C49","v":0},{"$f":"IF(ISBLANK(FirstPartDegrees2!$C$9),\"\",FirstPartDegrees2!$C$9)","v":""},{"$f":"FirstPartDegrees2!F49","v":0},{"$f":"IF(ISBLANK(FirstPartDegrees2!$F$9),\"\",FirstPartDegrees2!$F$9)","v":""},null,null,0,{"$f":"FirstPartDegrees2!K49","v":0},{"$f":"IF(ISBLANK(FirstPartDegrees2!$K$9),\"\",FirstPartDegrees2!$K$9)","v":""},{"$f":"FirstPartDegrees2!L49","v":0},{"$f":"IF(ISBLANK(FirstPartDegrees2!$K$9),\"\",FirstPartDegrees2!$K$9)","v":""},null,null,0,{"$f":"SeconedPartDegrees2!M49","v":0},{"$f":"IF(ISBLANK(SeconedPartDegrees2!$M$9),\"\",SeconedPartDegrees2!$M$9)","v":""},{"$f":"SeconedPartDegrees2!N49","v":0},{"$f":"IF(ISBLANK(SeconedPartDegrees2!$M$9),\"\",SeconedPartDegrees2!$M$9)","v":""},null,null,0,{"$f":"FirstPartDegrees2!H49","v":0},{"$f":"IF(ISBLANK(FirstPartDegrees2!$H$9),\"\",FirstPartDegrees2!$H$9)","v":""},{"$f":"SeconedPartDegrees2!C49","v":0},{"$f":"IF(ISBLANK(SeconedPartDegrees2!$C$9),\"\",SeconedPartDegrees2!$C$9)","v":""},null,null,0,0,{"$f":"SeconedPartDegrees2!G49","v":0},{"$f":"IF(ISBLANK(SeconedPartDegrees2!$G$9),\"\",SeconedPartDegrees2!$G$9)","v":""},{"$f":"SeconedPartDegrees2!H49","v":0},{"$f":"IF(ISBLANK(SeconedPartDegrees2!$G$9),\"\",SeconedPartDegrees2!$G$9)","v":""},null,null,0,{"$f":"SeconedPartDegrees2!I49","v":0},{"$f":"IF(ISBLANK(SeconedPartDegrees2!$G$9),\"\",SeconedPartDegrees2!$G$9)","v":""},{"$f":"SeconedPartDegrees2!J49","v":0},{"$f":"IF(ISBLANK(SeconedPartDegrees2!$G$9),\"\",SeconedPartDegrees2!$G$9)","v":""},null,null,0,{"$f":"SeconedPartDegrees2!O49","v":0},{"$f":"IF(ISBLANK(SeconedPartDegrees2!$M$9),\"\",SeconedPartDegrees2!$M$9)","v":""},{"$f":"SeconedPartDegrees2!P49","v":0},{"$f":"IF(ISBLANK(SeconedPartDegrees2!$M$9),\"\",SeconedPartDegrees2!$M$9)","v":""},null,null,0,{"$f":"SeconedPartDegrees2!K49","v":0},{"$f":"IF(ISBLANK(SeconedPartDegrees2!$G$9),\"\",SeconedPartDegrees2!$G$9)","v":""},{"$f":"SeconedPartDegrees2!L49","v":0},{"$f":"IF(ISBLANK(SeconedPartDegrees2!$G$9),\"\",SeconedPartDegrees2!$G$9)","v":""},null,null,0,0,{"$f":"FirstPartDegrees2!D49","v":0},{"$f":"IF(ISBLANK(FirstPartDegrees2!$C$9),\"\",FirstPartDegrees2!$C$9)","v":""},{"$f":"FirstPartDegrees2!E49","v":0},{"$f":"IF(ISBLANK(FirstPartDegrees2!$C$9),\"\",FirstPartDegrees2!$C$9)","v":""},null,null,0,{"$f":"FirstPartDegrees2!I49","v":0},{"$f":"IF(ISBLANK(FirstPartDegrees2!$H$9),\"\",FirstPartDegrees2!$H$9)","v":""},{"$f":"FirstPartDegrees2!J49","v":0},{"$f":"IF(ISBLANK(FirstPartDegrees2!$H$9),\"\",FirstPartDegrees2!$H$9)","v":""},null,null,0,{"$f":"FirstPartDegrees2!M49","v":0},{"$f":"IF(ISBLANK(FirstPartDegrees2!$M$9),\"\",FirstPartDegrees2!$M$9)","v":""},{"$f":"FirstPartDegrees2!N49","v":0},{"$f":"IF(ISBLANK(FirstPartDegrees2!$M$9),\"\",FirstPartDegrees2!$M$9)","v":""},null,null,0,{"$f":"SeconedPartDegrees2!D49","v":0},{"$f":"IF(ISBLANK(SeconedPartDegrees2!$D$9),\"\",SeconedPartDegrees2!$D$9)","v":""},{"$f":"SeconedPartDegrees2!F49","v":0},{"$f":"IF(ISBLANK(SeconedPartDegrees2!$F$9),\"\",SeconedPartDegrees2!$F$9)","v":""},null,null,0,0,0,{"$f":"SeconedPartDegrees2!R49","v":""}]
[{"$f":"SeconedPartDegrees2!$A51","v":20},{"$f":"FirstPartDegrees2!$B51","v":""},{"$f":"FirstPartDegrees2!$H$7","v":"7-1"},{"$f":"FirstPartDegrees2!C51","v":0},{"$f":"IF(ISBLANK(FirstPartDegrees2!$C$9),\"\",FirstPartDegrees2!$C$9)","v":""},{"$f":"FirstPartDegrees2!F51","v":0},{"$f":"IF(ISBLANK(FirstPartDegrees2!$F$9),\"\",FirstPartDegrees2!$F$9)","v":""},null,null,0,{"$f":"FirstPartDegrees2!K51","v":0},{"$f":"IF(ISBLANK(FirstPartDegrees2!$K$9),\"\",FirstPartDegrees2!$K$9)","v":""},{"$f":"FirstPartDegrees2!L51","v":0},{"$f":"IF(ISBLANK(FirstPartDegrees2!$K$9),\"\",FirstPartDegrees2!$K$9)","v":""},null,null,0,{"$f":"SeconedPartDegrees2!M51","v":0},{"$f":"IF(ISBLANK(SeconedPartDegrees2!$M$9),\"\",SeconedPartDegrees2!$M$9)","v":""},{"$f":"SeconedPartDegrees2!N51","v":0},{"$f":"IF(ISBLANK(SeconedPartDegrees2!$M$9),\"\",SeconedPartDegrees2!$M$9)","v":""},null,null,0,{"$f":"FirstPartDegrees2!H51","v":0},{"$f":"IF(ISBLANK(FirstPartDegrees2!$H$9),\"\",FirstPartDegrees2!$H$9)","v":""},{"$f":"SeconedPartDegrees2!C51","v":0},{"$f":"IF(ISBLANK(SeconedPartDegrees2!$C$9),\"\",SeconedPartDegrees2!$C$9)","v":""},null,null,0,0,{"$f":"SeconedPartDegrees2!G51","v":0},{"$f":"IF(ISBLANK(SeconedPartDegrees2!$G$9),\"\",SeconedPartDegrees2!$G$9)","v":""},{"$f":"SeconedPartDegrees2!H51","v":0},{"$f":"IF(ISBLANK(SeconedPartDegrees2!$G$9),\"\",SeconedPartDegrees2!$G$9)","v":""},null,null,0,{"$f":"SeconedPartDegrees2!I51","v":0},{"$f":"IF(ISBLANK(SeconedPartDegrees2!$G$9),\"\",SeconedPartDegrees2!$G$9)","v":""},{"$f":"SeconedPartDegrees2!J51","v":0},{"$f":"IF(ISBLANK(SeconedPartDegrees2!$G$9),\"\",SeconedPartDegrees2!$G$9)","v":""},null,null,0,{"$f":"SeconedPartDegrees2!O51","v":0},{"$f":"IF(ISBLANK(SeconedPartDegrees2!$M$9),\"\",SeconedPartDegrees2!$M$9)","v":""},{"$f":"SeconedPartDegrees2!P51","v":0},{"$f":"IF(ISBLANK(SeconedPartDegrees2!$M$9),\"\",SeconedPartDegrees2!$M$9)","v":""},null,null,0,{"$f":"SeconedPartDegrees2!K51","v":0},{"$f":"IF(ISBLANK(SeconedPartDegrees2!$G$9),\"\",SeconedPartDegrees2!$G$9)","v":""},{"$f":"SeconedPartDegrees2!L51","v":0},{"$f":"IF(ISBLANK(SeconedPartDegrees2!$G$9),\"\",SeconedPartDegrees2!$G$9)","v":""},null,null,0,0,{"$f":"FirstPartDegrees2!D51","v":0},{"$f":"IF(ISBLANK(FirstPartDegrees2!$C$9),\"\",FirstPartDegrees2!$C$9)","v":""},{"$f":"FirstPartDegrees2!E51","v":0},{"$f":"IF(ISBLANK(FirstPartDegrees2!$C$9),\"\",FirstPartDegrees2!$C$9)","v":""},null,null,0,{"$f":"FirstPartDegrees2!I51","v":0},{"$f":"IF(ISBLANK(FirstPartDegrees2!$H$9),\"\",FirstPartDegrees2!$H$9)","v":""},{"$f":"FirstPartDegrees2!J51","v":0},{"$f":"IF(ISBLANK(FirstPartDegrees2!$H$9),\"\",FirstPartDegrees2!$H$9)","v":""},null,null,0,{"$f":"FirstPartDegrees2!M51","v":0},{"$f":"IF(ISBLANK(FirstPartDegrees2!$M$9),\"\",FirstPartDegrees2!$M$9)","v":""},{"$f":"FirstPartDegrees2!N51","v":0},{"$f":"IF(ISBLANK(FirstPartDegrees2!$M$9),\"\",FirstPartDegrees2!$M$9)","v":""},null,null,0,{"$f":"SeconedPartDegrees2!D51","v":0},{"$f":"IF(ISBLANK(SeconedPartDegrees2!$D$9),\"\",SeconedPartDegrees2!$D$9)","v":""},{"$f":"SeconedPartDegrees2!F51","v":0},{"$f":"IF(ISBLANK(SeconedPartDegrees2!$F$9),\"\",SeconedPartDegrees2!$F$9)","v":""},null,null,0,0,0,{"$f":"SeconedPartDegrees2!R51","v":""}]
[{"$f":"SeconedPartDegrees2!$A53","v":21},{"$f":"FirstPartDegrees2!$B53","v":""},{"$f":"FirstPartDegrees2!$H$7","v":"7-1"},{"$f":"FirstPartDegrees2!C53","v":0},{"$f":"IF(ISBLANK(FirstPartDegrees2!$C$9),\"\",FirstPartDegrees2!$C$9)","v":""},{"$f":"FirstPartDegrees2!F53","v":0},{"$f":"IF(ISBLANK(FirstPartDegrees2!$F$9),\"\",FirstPartDegrees2!$F$9)","v":""},null,null,0,{"$f":"FirstPartDegrees2!K53","v":0},{"$f":"IF(ISBLANK(FirstPartDegrees2!$K$9),\"\",FirstPartDegrees2!$K$9)","v":""},{"$f":"FirstPartDegrees2!L53","v":0},{"$f":"IF(ISBLANK(FirstPartDegrees2!$K$9),\"\",FirstPartDegrees2!$K$9)","v":""},null,null,0,{"$f":"SeconedPartDegrees2!M53","v":0},{"$f":"IF(ISBLANK(SeconedPartDegrees2!$M$9),\"\",SeconedPartDegrees2!$M$9)","v":""},{"$f":"SeconedPartDegrees2!N53","v":0},{"$f":"IF(ISBLANK(SeconedPartDegrees2!$M$9),\"\",SeconedPartDegrees2!$M$9)","v":""},null,null,0,{"$f":"FirstPartDegrees2!H53","v":0},{"$f":"IF(ISBLANK(FirstPartDegrees2!$H$9),\"\",FirstPartDegrees2!$H$9)","v":""},{"$f":"SeconedPartDegrees2!C53","v":0},{"$f":"IF(ISBLANK(SeconedPartDegrees2!$C$9),\"\",SeconedPartDegrees2!$C$9)","v":""},null,null,0,0,{"$f":"SeconedPartDegrees2!G53","v":0},{"$f":"IF(ISBLANK(SeconedPartDegrees2!$G$9),\"\",SeconedPartDegrees2!$G$9)","v":""},{"$f":"SeconedPartDegrees2!H53","v":0},{"$f":"IF(ISBLANK(SeconedPartDegrees2!$G$9),\"\",SeconedPartDegrees2!$G$9)","v":""},null,null,0,{"$f":"SeconedPartDegrees2!I53","v":0},{"$f":"IF(ISBLANK(SeconedPartDegrees2!$G$9),\"\",SeconedPartDegrees2!$G$9)","v":""},{"$f":"SeconedPartDegrees2!J53","v":0},{"$f":"IF(ISBLANK(SeconedPartDegrees2!$G$9),\"\",SeconedPartDegrees2!$G$9)","v":""},null,null,0,{"$f":"SeconedPartDegrees2!O53","v":0},{"$f":"IF(ISBLANK(SeconedPartDegrees2!$M$9),\"\",SeconedPartDegrees2!$M$9)","v":""},{"$f":"SeconedPartDegrees2!P53","v":0},{"$f":"IF(ISBLANK(SeconedPartDegrees2!$M$9),\"\",SeconedPartDegrees2!$M$9)","v":""},null,null,0,{"$f":"SeconedPartDegrees2!K53","v":0},{"$f":"IF(ISBLANK(SeconedPartDegrees2!$G$9),\"\",SeconedPartDegrees2!$G$9)","v":""},{"$f":"SeconedPartDegrees2!L53","v":0},{"$f":"IF(ISBLANK(SeconedPartDegrees2!$G$9),\"\",SeconedPartDegrees2!$G$9)","v":""},null,null,0,0,{"$f":"FirstPartDegrees2!D53","v":0},{"$f":"IF(ISBLANK(FirstPartDegrees2!$C$9),\"\",FirstPartDegrees2!$C$9)","v":""},{"$f":"FirstPartDegrees2!E53","v":0},{"$f":"IF(ISBLANK(FirstPartDegrees2!$C$9),\"\",FirstPartDegrees2!$C$9)","v":""},null,null,0,{"$f":"FirstPartDegrees2!I53","v":0},{"$f":"IF(ISBLANK(FirstPartDegrees2!$H$9),\"\",FirstPartDegrees2!$H$9)","v":""},{"$f":"FirstPartDegrees2!J53","v":0},{"$f":"IF(ISBLANK(FirstPartDegrees2!$H$9),\"\",FirstPartDegrees2!$H$9)","v":""},null,null,0,{"$f":"FirstPartDegrees2!M53","v":0},{"$f":"IF(ISBLANK(FirstPartDegrees2!$M$9),\"\",FirstPartDegrees2!$M$9)","v":""},{"$f":"FirstPartDegrees2!N53","v":0},{"$f":"IF(ISBLANK(FirstPartDegrees2!$M$9),\"\",FirstPartDegrees2!$M$9)","v":""},null,null,0,{"$f":"SeconedPartDegrees2!D53","v":0},{"$f":"IF(ISBLANK(SeconedPartDegrees2!$D$9),\"\",SeconedPartDegrees2!$D$9)","v":""},{"$f":"SeconedPartDegrees2!F53","v":0},{"$f":"IF(ISBLANK(SeconedPartDegrees2!$F$9),\"\",SeconedPartDegrees2!$F$9)","v":""},null,null,0,0,0,{"$f":"SeconedPartDegrees2!R53","v":""}]
[{"$f":"SeconedPartDegrees2!$A55","v":22},{"$f":"FirstPartDegrees2!$B55","v":""},{"$f":"FirstPartDegrees2!$H$7","v":"7-1"},{"$f":"FirstPartDegrees2!C55","v":0},{"$f":"IF(ISBLANK(FirstPartDegrees2!$C$9),\"\",FirstPartDegrees2!$C$9)","v":""},{"$f":"FirstPartDegrees2!F55","v":0},{"$f":"IF(ISBLANK(FirstPartDegrees2!$F$9),\"\",FirstPartDegrees2!$F$9)","v":""},null,null,0,{"$f":"FirstPartDegrees2!K55","v":0},{"$f":"IF(ISBLANK(FirstPartDegrees2!$K$9),\"\",FirstPartDegrees2!$K$9)","v":""},{"$f":"FirstPartDegrees2!L55","v":0},{"$f":"IF(ISBLANK(FirstPartDegrees2!$K$9),\"\",FirstPartDegrees2!$K$9)","v":""},null,null,0,{"$f":"SeconedPartDegrees2!M55","v":0},{"$f":"IF(ISBLANK(SeconedPartDegrees2!$M$9),\"\",SeconedPartDegrees2!$M$9)","v":""},{"$f":"SeconedPartDegrees2!N55","v":0},{"$f":"IF(ISBLANK(SeconedPartDegrees2!$M$9),\"\",SeconedPartDegrees2!$M$9)","v":""},null,null,0,{"$f":"FirstPartDegrees2!H55","v":0},{"$f":"IF(ISBLANK(FirstPartDegrees2!$H$9),\"\",FirstPartDegrees2!$H$9)","v":""},{"$f":"SeconedPartDegrees2!C55","v":0},{"$f":"IF(ISBLANK(SeconedPartDegrees2!$C$9),\"\",SeconedPartDegrees2!$C$9)","v":""},null,null,0,0,{"$f":"SeconedPartDegrees2!G55","v":0},{"$f":"IF(ISBLANK(SeconedPartDegrees2!$G$9),\"\",SeconedPartDegrees2!$G$9)","v":""},{"$f":"SeconedPartDegrees2!H55","v":0},{"$f":"IF(ISBLANK(SeconedPartDegrees2!$G$9),\"\",SeconedPartDegrees2!$G$9)","v":""},null,null,0,{"$f":"SeconedPartDegrees2!I55","v":0},{"$f":"IF(ISBLANK(SeconedPartDegrees2!$G$9),\"\",SeconedPartDegrees2!$G$9)","v":""},{"$f":"SeconedPartDegrees2!J55","v":0},{"$f":"IF(ISBLANK(SeconedPartDegrees2!$G$9),\"\",SeconedPartDegrees2!$G$9)","v":""},null,null,0,{"$f":"SeconedPartDegrees2!O55","v":0},{"$f":"IF(ISBLANK(SeconedPartDegrees2!$M$9),\"\",SeconedPartDegrees2!$M$9)","v":""},{"$f":"SeconedPartDegrees2!P55","v":0},{"$f":"IF(ISBLANK(SeconedPartDegrees2!$M$9),\"\",SeconedPartDegrees2!$M$9)","v":""},null,null,0,{"$f":"SeconedPartDegrees2!K55","v":0},{"$f":"IF(ISBLANK(SeconedPartDegrees2!$G$9),\"\",SeconedPartDegrees2!$G$9)","v":""},{"$f":"SeconedPartDegrees2!L55","v":0},{"$f":"IF(ISBLANK(SeconedPartDegrees2!$G$9),\"\",SeconedPartDegrees2!$G$9)","v":""},null,null,0,0,{"$f":"FirstPartDegrees2!D55","v":0},{"$f":"IF(ISBLANK(FirstPartDegrees2!$C$9),\"\",FirstPartDegrees2!$C$9)","v":""},{"$f":"FirstPartDegrees2!E55","v":0},{"$f":"IF(ISBLANK(FirstPartDegrees2!$C$9),\"\",FirstPartDegrees2!$C$9)","v":""},null,null,0,{"$f":"FirstPartDegrees2!I55","v":0},{"$f":"IF(ISBLANK(FirstPartDegrees2!$H$9),\"\",FirstPartDegrees2!$H$9)","v":""},{"$f":"FirstPartDegrees2!J55","v":0},{"$f":"IF(ISBLANK(FirstPartDegrees2!$H$9),\"\",FirstPartDegrees2!$H$9)","v":""},null,null,0,{"$f":"FirstPartDegrees2!M55","v":0},{"$f":"IF(ISBLANK(FirstPartDegrees2!$M$9),\"\",FirstPartDegrees2!$M$9)","v":""},{"$f":"FirstPartDegrees2!N55","v":0},{"$f":"IF(ISBLANK(FirstPartDegrees2!$M$9),\"\",FirstPartDegrees2!$M$9)","v":""},null,null,0,{"$f":"SeconedPartDegrees2!D55","v":0},{"$f":"IF(ISBLANK(SeconedPartDegrees2!$D$9),\"\",SeconedPartDegrees2!$D$9)","v":""},{"$f":"SeconedPartDegrees2!F55","v":0},{"$f":"IF(ISBLANK(SeconedPartDegrees2!$F$9),\"\",SeconedPartDegrees2!$F$9)","v":""},null,null,0,0,0,{"$f":"SeconedPartDegrees2!R55","v":""}]
[{"$f":"SeconedPartDegrees2!$A57","v":23},{"$f":"FirstPartDegrees2!$B57","v":""},{"$f":"FirstPartDegrees2!$H$7","v":"7-1"},{"$f":"FirstPartDegrees2!C57","v":0},{"$f":"IF(ISBLANK(FirstPartDegrees2!$C$9),\"\",FirstPartDegrees2!$C$9)","v":""},{"$f":"FirstPartDegrees2!F57","v":0},{"$f":"IF(ISBLANK(FirstPartDegrees2!$F$9),\"\",FirstPartDegrees2!$F$9)","v":""},null,null,0,{"$f":"FirstPartDegrees2!K57","v":0},{"$f":"IF(ISBLANK(FirstPartDegrees2!$K$9),\"\",FirstPartDegrees2!$K$9)","v":""},{"$f":"FirstPartDegrees2!L57","v":0},{"$f":"IF(ISBLANK(FirstPartDegrees2!$K$9),\"\",FirstPartDegrees2!$K$9)","v":""},null,null,0,{"$f":"SeconedPartDegrees2!M57","v":0},{"$f":"IF(ISBLANK(SeconedPartDegrees2!$M$9),\"\",SeconedPartDegrees2!$M$9)","v":""},{"$f":"SeconedPartDegrees2!N57","v":0},{"$f":"IF(ISBLANK(SeconedPartDegrees2!$M$9),\"\",SeconedPartDegrees2!$M$9)","v":""},null,null,0,{"$f":"FirstPartDegrees2!H57","v":0},{"$f":"IF(ISBLANK(FirstPartDegrees2!$H$9),\"\",FirstPartDegrees2!$H$9)","v":""},{"$f":"SeconedPartDegrees2!C57","v":0},{"$f":"IF(ISBLANK(SeconedPartDegrees2!$C$9),\"\",SeconedPartDegrees2!$C$9)","v":""},null,null,0,0,{"$f":"SeconedPartDegrees2!G57","v":0},{"$f":"IF(ISBLANK(SeconedPartDegrees2!$G$9),\"\",SeconedPartDegrees2!$G$9)","v":""},{"$f":"SeconedPartDegrees2!H57","v":0},{"$f":"IF(ISBLANK(SeconedPartDegrees2!$G$9),\"\",SeconedPartDegrees2!$G$9)","v":""},null,null,0,{"$f":"SeconedPartDegrees2!I57","v":0},{"$f":"IF(ISBLANK(SeconedPartDegrees2!$G$9),\"\",SeconedPartDegrees2!$G$9)","v":""},{"$f":"SeconedPartDegrees2!J57","v":0},{"$f":"IF(ISBLANK(SeconedPartDegrees2!$G$9),\"\",SeconedPartDegrees2!$G$9)","v":""},null,null,0,{"$f":"SeconedPartDegrees2!O57","v":0},{"$f":"IF(ISBLANK(SeconedPartDegrees2!$M$9),\"\",SeconedPartDegrees2!$M$9)","v":""},{"$f":"SeconedPartDegrees2!P57","v":0},{"$f":"IF(ISBLANK(SeconedPartDegrees2!$M$9),\"\",SeconedPartDegrees2!$M$9)","v":""},null,null,0,{"$f":"SeconedPartDegrees2!K57","v":0},{"$f":"IF(ISBLANK(SeconedPartDegrees2!$G$9),\"\",SeconedPartDegrees2!$G$9)","v":""},{"$f":"SeconedPartDegrees2!L57","v":0},{"$f":"IF(ISBLANK(SeconedPartDegrees2!$G$9),\"\",SeconedPartDegrees2!$G$9)","v":""},null,null,0,0,{"$f":"FirstPartDegrees2!D57","v":0},{"$f":"IF(ISBLANK(FirstPartDegrees2!$C$9),\"\",FirstPartDegrees2!$C$9)","v":""},{"$f":"FirstPartDegrees2!E57","v":0},{"$f":"IF(ISBLANK(FirstPartDegrees2!$C$9),\"\",FirstPartDegrees2!$C$9)","v":""},null,null,0,{"$f":"FirstPartDegrees2!I57","v":0},{"$f":"IF(ISBLANK(FirstPartDegrees2!$H$9),\"\",FirstPartDegrees2!$H$9)","v":""},{"$f":"FirstPartDegrees2!J57","v":0},{"$f":"IF(ISBLANK(FirstPartDegrees2!$H$9),\"\",FirstPartDegrees2!$H$9)","v":""},null,null,0,{"$f":"FirstPartDegrees2!M57","v":0},{"$f":"IF(ISBLANK(FirstPartDegrees2!$M$9),\"\",FirstPartDegrees2!$M$9)","v":""},{"$f":"FirstPartDegrees2!N57","v":0},{"$f":"IF(ISBLANK(FirstPartDegrees2!$M$9),\"\",FirstPartDegrees2!$M$9)","v":""},null,null,0,{"$f":"SeconedPartDegrees2!D57","v":0},{"$f":"IF(ISBLANK(SeconedPartDegrees2!$D$9),\"\",SeconedPartDegrees2!$D$9)","v":""},{"$f":"SeconedPartDegrees2!F57","v":0},{"$f":"IF(ISBLANK(SeconedPartDegrees2!$F$9),\"\",SeconedPartDegrees2!$F$9)","v":""},null,null,0,0,0,{"$f":"SeconedPartDegrees2!R57","v":""}]
[{"$f":"SeconedPartDegrees2!$A59","v":24},{"$f":"FirstPartDegrees2!$B59","v":""},{"$f":"FirstPartDegrees2!$H$7","v":"7-1"},{"$f":"FirstPartDegrees2!C59","v":0},{"$f":"IF(ISBLANK(FirstPartDegrees2!$C$9),\"\",FirstPartDegrees2!$C$9)","v":""},{"$f":"FirstPartDegrees2!F59","v":0},{"$f":"IF(ISBLANK(FirstPartDegrees2!$F$9),\"\",FirstPartDegrees2!$F$9)","v":""},null,null,0,{"$f":"FirstPartDegrees2!K59","v":0},{"$f":"IF(ISBLANK(FirstPartDegrees2!$K$9),\"\",FirstPartDegrees2!$K$9)","v":""},{"$f":"FirstPartDegrees2!L59","v":0},{"$f":"IF(ISBLANK(FirstPartDegrees2!$K$9),\"\",FirstPartDegrees2!$K$9)","v":""},null,null,0,{"$f":"SeconedPartDegrees2!M59","v":0},{"$f":"IF(ISBLANK(SeconedPartDegrees2!$M$9),\"\",SeconedPartDegrees2!$M$9)","v":""},{"$f":"SeconedPartDegrees2!N59","v":0},{"$f":"IF(ISBLANK(SeconedPartDegrees2!$M$9),\"\",SeconedPartDegrees2!$M$9)","v":""},null,null,0,{"$f":"FirstPartDegrees2!H59","v":0},{"$f":"IF(ISBLANK(FirstPartDegrees2!$H$9),\"\",FirstPartDegrees2!$H$9)","v":""},{"$f":"SeconedPartDegrees2!C59","v":0},{"$f":"IF(ISBLANK(SeconedPartDegrees2!$C$9),\"\",SeconedPartDegrees2!$C$9)","v":""},null,null,0,0,{"$f":"SeconedPartDegrees2!G59","v":0},{"$f":"IF(ISBLANK(SeconedPartDegrees2!$G$9),\"\",SeconedPartDegrees2!$G$9)","v":""},{"$f":"SeconedPartDegrees2!H59","v":0},{"$f":"IF(ISBLANK(SeconedPartDegrees2!$G$9),\"\",SeconedPartDegrees2!$G$9)","v":""},null,null,0,{"$f":"SeconedPartDegrees2!I59","v":0},{"$f":"IF(ISBLANK(SeconedPartDegrees2!$G$9),\"\",SeconedPartDegrees2!$G$9)","v":""},{"$f":"SeconedPartDegrees2!J59","v":0},{"$f":"IF(ISBLANK(SeconedPartDegrees2!$G$9),\"\",SeconedPartDegrees2!$G$9)","v":""},null,null,0,{"$f":"SeconedPartDegrees2!O59","v":0},{"$f":"IF(ISBLANK(SeconedPartDegrees2!$M$9),\"\",SeconedPartDegrees2!$M$9)","v":""},{"$f":"SeconedPartDegrees2!P59","v":0},{"$f":"IF(ISBLANK(SeconedPartDegrees2!$M$9),\"\",SeconedPartDegrees2!$M$9)","v":""},null,null,0,{"$f":"SeconedPartDegrees2!K59","v":0},{"$f":"IF(ISBLANK(SeconedPartDegrees2!$G$9),\"\",SeconedPartDegrees2!$G$9)","v":""},{"$f":"SeconedPartDegrees2!L59","v":0},{"$f":"IF(ISBLANK(SeconedPartDegrees2!$G$9),\"\",SeconedPartDegrees2!$G$9)","v":""},null,null,0,0,{"$f":"FirstPartDegrees2!D59","v":0},{"$f":"IF(ISBLANK(FirstPartDegrees2!$C$9),\"\",FirstPartDegrees2!$C$9)","v":""},{"$f":"FirstPartDegrees2!E59","v":0},{"$f":"IF(ISBLANK(FirstPartDegrees2!$C$9),\"\",FirstPartDegrees2!$C$9)","v":""},null,null,0,{"$f":"FirstPartDegrees2!I59","v":0},{"$f":"IF(ISBLANK(FirstPartDegrees2!$H$9),\"\",FirstPartDegrees2!$H$9)","v":""},{"$f":"FirstPartDegrees2!J59","v":0},{"$f":"IF(ISBLANK(FirstPartDegrees2!$H$9),\"\",FirstPartDegrees2!$H$9)","v":""},null,null,0,{"$f":"FirstPartDegrees2!M59","v":0},{"$f":"IF(ISBLANK(FirstPartDegrees2!$M$9),\"\",FirstPartDegrees2!$M$9)","v":""},{"$f":"FirstPartDegrees2!N59","v":0},{"$f":"IF(ISBLANK(FirstPartDegrees2!$M$9),\"\",FirstPartDegrees2!$M$9)","v":""},null,null,0,{"$f":"SeconedPartDegrees2!D59","v":0},{"$f":"IF(ISBLANK(SeconedPartDegrees2!$D$9),\"\",SeconedPartDegrees2!$D$9)","v":""},{"$f":"SeconedPartDegrees2!F59","v":0},{"$f":"IF(ISBLANK(SeconedPartDegrees2!$F$9),\"\",SeconedPartDegrees2!$F$9)","v":""},null,null,0,0,0,{"$f":"SeconedPartDegrees2!R59","v":""}]
[{"$f":"SeconedPartDegrees2!$A61","v":25},{"$f":"FirstPartDegrees2!$B61","v":""},{"$f":"FirstPartDegrees2!$H$7","v":"7-1"},{"$f":"FirstPartDegrees2!C61","v":0},{"$f":"IF(ISBLANK(FirstPartDegrees2!$C$9),\"\",FirstPartDegrees2!$C$9)","v":""},{"$f":"FirstPartDegrees2!F61","v":0},{"$f":"IF(ISBLANK(FirstPartDegrees2!$F$9),\"\",FirstPartDegrees2!$F$9)","v":""},null,null,0,{"$f":"FirstPartDegrees2!K61","v":0},{"$f":"IF(ISBLANK(FirstPartDegrees2!$K$9),\"\",FirstPartDegrees2!$K$9)","v":""},{"$f":"FirstPartDegrees2!L61","v":0},{"$f":"IF(ISBLANK(FirstPartDegrees2!$K$9),\"\",FirstPartDegrees2!$K$9)","v":""},null,null,0,{"$f":"SeconedPartDegrees2!M61","v":0},{"$f":"IF(ISBLANK(SeconedPartDegrees2!$M$9),\"\",SeconedPartDegrees2!$M$9)","v":""},{"$f":"SeconedPartDegrees2!N61","v":0},{"$f":"IF(ISBLANK(SeconedPartDegrees2!$M$9),\"\",SeconedPartDegrees2!$M$9)","v":""},null,null,0,{"$f":"FirstPartDegrees2!H61","v":0},{"$f":"IF(ISBLANK(FirstPartDegrees2!$H$9),\"\",FirstPartDegrees2!$H$9)","v":""},{"$f":"SeconedPartDegrees2!C61","v":0},{"$f":"IF(ISBLANK(SeconedPartDegrees2!$C$9),\"\",SeconedPartDegrees2!$C$9)","v":""},null,null,0,0,{"$f":"SeconedPartDegrees2!G61","v":0},{"$f":"IF(ISBLANK(SeconedPartDegrees2!$G$9),\"\",SeconedPartDegrees2!$G$9)","v":""},{"$f":"SeconedPartDegrees2!H61","v":0},{"$f":"IF(ISBLANK(SeconedPartDegrees2!$G$9),\"\",SeconedPartDegrees2!$G$9)","v":""},null,null,0,{"$f":"SeconedPartDegrees2!I61","v":0},{"$f":"IF(ISBLANK(SeconedPartDegrees2!$G$9),\"\",SeconedPartDegrees2!$G$9)","v":""},{"$f":"SeconedPartDegrees2!J61","v":0},{"$f":"IF(ISBLANK(SeconedPartDegrees2!$G$9),\"\",SeconedPartDegrees2!$G$9)","v":""},null,null,0,{"$f":"SeconedPartDegrees2!O61","v":0},{"$f":"IF(ISBLANK(SeconedPartDegrees2!$M$9),\"\",SeconedPartDegrees2!$M$9)","v":""},{"$f":"SeconedPartDegrees2!P61","v":0},{"$f":"IF(ISBLANK(SeconedPartDegrees2!$M$9),\"\",SeconedPartDegrees2!$M$9)","v":""},null,null,0,{"$f":"SeconedPartDegrees2!K61","v":0},{"$f":"IF(ISBLANK(SeconedPartDegrees2!$G$9),\"\",SeconedPartDegrees2!$G$9)","v":""},{"$f":"SeconedPartDegrees2!L61","v":0},{"$f":"IF(ISBLANK(SeconedPartDegrees2!$G$9),\"\",SeconedPartDegrees2!$G$9)","v":""},null,null,0,0,{"$f":"FirstPartDegrees2!D61","v":0},{"$f":"IF(ISBLANK(FirstPartDegrees2!$C$9),\"\",FirstPartDegrees2!$C$9)","v":""},{"$f":"FirstPartDegrees2!E61","v":0},{"$f":"IF(ISBLANK(FirstPartDegrees2!$C$9),\"\",FirstPartDegrees2!$C$9)","v":""},null,null,0,{"$f":"FirstPartDegrees2!I61","v":0},{"$f":"IF(ISBLANK(FirstPartDegrees2!$H$9),\"\",FirstPartDegrees2!$H$9)","v":""},{"$f":"FirstPartDegrees2!J61","v":0},{"$f":"IF(ISBLANK(FirstPartDegrees2!$H$9),\"\",FirstPartDegrees2!$H$9)","v":""},null,null,0,{"$f":"FirstPartDegrees2!M61","v":0},{"$f":"IF(ISBLANK(FirstPartDegrees2!$M$9),\"\",FirstPartDegrees2!$M$9)","v":""},{"$f":"FirstPartDegrees2!N61","v":0},{"$f":"IF(ISBLANK(FirstPartDegrees2!$M$9),\"\",FirstPartDegrees2!$M$9)","v":""},null,null,0,{"$f":"SeconedPartDegrees2!D61","v":0},{"$f":"IF(ISBLANK(SeconedPartDegrees2!$D$9),\"\",SeconedPartDegrees2!$D$9)","v":""},{"$f":"SeconedPartDegrees2!F61","v":0},{"$f":"IF(ISBLANK(SeconedPartDegrees2!$F$9),\"\",SeconedPartDegrees2!$F$9)","v":""},null,null,0,0,0,{"$f":"SeconedPartDegrees2!R61","v":""}]
[{"$f":"SeconedPartDegrees2!$A63","v":26},{"$f":"FirstPartDegrees2!$B63","v":""},{"$f":"FirstPartDegrees2!$H$7","v":"7-1"},{"$f":"FirstPartDegrees2!C63","v":0},{"$f":"IF(ISBLANK(FirstPartDegrees2!$C$9),\"\",FirstPartDegrees2!$C$9)","v":""},{"$f":"FirstPartDegrees2!F63","v":0},{"$f":"IF(ISBLANK(FirstPartDegrees2!$F$9),\"\",FirstPartDegrees2!$F$9)","v":""},null,null,0,{"$f":"FirstPartDegrees2!K63","v":0},{"$f":"IF(ISBLANK(FirstPartDegrees2!$K$9),\"\",FirstPartDegrees2!$K$9)","v":""},{"$f":"FirstPartDegrees2!L63","v":0},{"$f":"IF(ISBLANK(FirstPartDegrees2!$K$9),\"\",FirstPartDegrees2!$K$9)","v":""},null,null,0,{"$f":"SeconedPartDegrees2!M63","v":0},{"$f":"IF(ISBLANK(SeconedPartDegrees2!$M$9),\"\",SeconedPartDegrees2!$M$9)","v":""},{"$f":"SeconedPartDegrees2!N63","v":0},{"$f":"IF(ISBLANK(SeconedPartDegrees2!$M$9),\"\",SeconedPartDegrees2!$M$9)","v":""},null,null,0,{"$f":"FirstPartDegrees2!H63","v":0},{"$f":"IF(ISBLANK(FirstPartDegrees2!$H$9),\"\",FirstPartDegrees2!$H$9)","v":""},{"$f":"SeconedPartDegrees2!C63","v":0},{"$f":"IF(ISBLANK(SeconedPartDegrees2!$C$9),\"\",SeconedPartDegrees2!$C$9)","v":""},null,null,0,0,{"$f":"SeconedPartDegrees2!G63","v":0},{"$f":"IF(ISBLANK(SeconedPartDegrees2!$G$9),\"\",SeconedPartDegrees2!$G$9)","v":""},{"$f":"SeconedPartDegrees2!H63","v":0},{"$f":"IF(ISBLANK(SeconedPartDegrees2!$G$9),\"\",SeconedPartDegrees2!$G$9)","v":""},null,null,0,{"$f":"SeconedPartDegrees2!I63","v":0},{"$f":"IF(ISBLANK(SeconedPartDegrees2!$G$9),\"\",SeconedPartDegrees2!$G$9)","v":""},{"$f":"SeconedPartDegrees2!J63","v":0},{"$f":"IF(ISBLANK(SeconedPartDegrees2!$G$9),\"\",SeconedPartDegrees2!$G$9)","v":""},null,null,0,{"$f":"SeconedPartDegrees2!O63","v":0},{"$f":"IF(ISBLANK(SeconedPartDegrees2!$M$9),\"\",SeconedPartDegrees2!$M$9)","v":""},{"$f":"SeconedPartDegrees2!P63","v":0},{"$f":"IF(ISBLANK(SeconedPartDegrees2!$M$9),\"\",SeconedPartDegrees2!$M$9)","v":""},null,null,0,{"$f":"SeconedPartDegrees2!K63","v":0},{"$f":"IF(ISBLANK(SeconedPartDegrees2!$G$9),\"\",SeconedPartDegrees2!$G$9)","v":""},{"$f":"SeconedPartDegrees2!L63","v":0},{"$f":"IF(ISBLANK(SeconedPartDegrees2!$G$9),\"\",SeconedPartDegrees2!$G$9)","v":""},null,null,0,0,{"$f":"FirstPartDegrees2!D63","v":0},{"$f":"IF(ISBLANK(FirstPartDegrees2!$C$9),\"\",FirstPartDegrees2!$C$9)","v":""},{"$f":"FirstPartDegrees2!E63","v":0},{"$f":"IF(ISBLANK(FirstPartDegrees2!$C$9),\"\",FirstPartDegrees2!$C$9)","v":""},null,null,0,{"$f":"FirstPartDegrees2!I63","v":0},{"$f":"IF(ISBLANK(FirstPartDegrees2!$H$9),\"\",FirstPartDegrees2!$H$9)","v":""},{"$f":"FirstPartDegrees2!J63","v":0},{"$f":"IF(ISBLANK(FirstPartDegrees2!$H$9),\"\",FirstPartDegrees2!$H$9)","v":""},null,null,0,{"$f":"FirstPartDegrees2!M63","v":0},{"$f":"IF(ISBLANK(FirstPartDegrees2!$M$9),\"\",FirstPartDegrees2!$M$9)","v":""},{"$f":"FirstPartDegrees2!N63","v":0},{"$f":"IF(ISBLANK(FirstPartDegrees2!$M$9),\"\",FirstPartDegrees2!$M$9)","v":""},null,null,0,{"$f":"SeconedPartDegrees2!D63","v":0},{"$f":"IF(ISBLANK(SeconedPartDegrees2!$D$9),\"\",SeconedPartDegrees2!$D$9)","v":""},{"$f":"SeconedPartDegrees2!F63","v":0},{"$f":"IF(ISBLANK(SeconedPartDegrees2!$F$9),\"\",SeconedPartDegrees2!$F$9)","v":""},null,null,0,0,0,{"$f":"SeconedPartDegrees2!R63","v":""}]
[{"$f":"SeconedPartDegrees2!$A65","v":27},{"$f":"FirstPartDegrees2!$B65","v":""},{"$f":"FirstPartDegrees2!$H$7","v":"7-1"},{"$f":"FirstPartDegrees2!C65","v":0},{"$f":"IF(ISBLANK(FirstPartDegrees2!$C$9),\"\",FirstPartDegrees2!$C$9)","v":""},{"$f":"FirstPartDegrees2!F65","v":0},{"$f":"IF(ISBLANK(FirstPartDegrees2!$F$9),\"\",FirstPartDegrees2!$F$9)","v":""},null,null,0,{"$f":"FirstPartDegrees2!K65","v":0},{"$f":"IF(ISBLANK(FirstPartDegrees2!$K$9),\"\",FirstPartDegrees2!$K$9)","v":""},{"$f":"FirstPartDegrees2!L65","v":0},{"$f":"IF(ISBLANK(FirstPartDegrees2!$K$9),\"\",FirstPartDegrees2!$K$9)","v":""},null,null,0,{"$f":"SeconedPartDegrees2!M65","v":0},{"$f":"IF(ISBLANK(SeconedPartDegrees2!$M$9),\"\",SeconedPartDegrees2!$M$9)","v":""},{"$f":"SeconedPartDegrees2!N65","v":0},{"$f":"IF(ISBLANK(SeconedPartDegrees2!$M$9),\"\",SeconedPartDegrees2!$M$9)","v":""},null,null,0,{"$f":"FirstPartDegrees2!H65","v":0},{"$f":"IF(ISBLANK(FirstPartDegrees2!$H$9),\"\",FirstPartDegrees2!$H$9)","v":""},{"$f":"SeconedPartDegrees2!C65","v":0},{"$f":"IF(ISBLANK(SeconedPartDegrees2!$C$9),\"\",SeconedPartDegrees2!$C$9)","v":""},null,null,0,0,{"$f":"SeconedPartDegrees2!G65","v":0},{"$f":"IF(ISBLANK(SeconedPartDegrees2!$G$9),\"\",SeconedPartDegrees2!$G$9)","v":""},{"$f":"SeconedPartDegrees2!H65","v":0},{"$f":"IF(ISBLANK(SeconedPartDegrees2!$G$9),\"\",SeconedPartDegrees2!$G$9)","v":""},null,null,0,{"$f":"SeconedPartDegrees2!I65","v":0},{"$f":"IF(ISBLANK(SeconedPartDegrees2!$G$9),\"\",SeconedPartDegrees2!$G$9)","v":""},{"$f":"SeconedPartDegrees2!J65","v":0},{"$f":"IF(ISBLANK(SeconedPartDegrees2!$G$9),\"\",SeconedPartDegrees2!$G$9)","v":""},null,null,0,{"$f":"SeconedPartDegrees2!O65","v":0},{"$f":"IF(ISBLANK(SeconedPartDegrees2!$M$9),\"\",SeconedPartDegrees2!$M$9)","v":""},{"$f":"SeconedPartDegrees2!P65","v":0},{"$f":"IF(ISBLANK(SeconedPartDegrees2!$M$9),\"\",SeconedPartDegrees2!$M$9)","v":""},null,null,0,{"$f":"SeconedPartDegrees2!K65","v":0},{"$f":"IF(ISBLANK(SeconedPartDegrees2!$G$9),\"\",SeconedPartDegrees2!$G$9)","v":""},{"$f":"SeconedPartDegrees2!L65","v":0},{"$f":"IF(ISBLANK(SeconedPartDegrees2!$G$9),\"\",SeconedPartDegrees2!$G$9)","v":""},null,null,0,0,{"$f":"FirstPartDegrees2!D65","v":0},{"$f":"IF(ISBLANK(FirstPartDegrees2!$C$9),\"\",FirstPartDegrees2!$C$9)","v":""},{"$f":"FirstPartDegrees2!E65","v":0},{"$f":"IF(ISBLANK(FirstPartDegrees2!$C$9),\"\",FirstPartDegrees2!$C$9)","v":""},null,null,0,{"$f":"FirstPartDegrees2!I65","v":0},{"$f":"IF(ISBLANK(FirstPartDegrees2!$H$9),\"\",FirstPartDegrees2!$H$9)","v":""},{"$f":"FirstPartDegrees2!J65","v":0},{"$f":"IF(ISBLANK(FirstPartDegrees2!$H$9),\"\",FirstPartDegrees2!$H$9)","v":""},null,null,0,{"$f":"FirstPartDegrees2!M65","v":0},{"$f":"IF(ISBLANK(FirstPartDegrees2!$M$9),\"\",FirstPartDegrees2!$M$9)","v":""},{"$f":"FirstPartDegrees2!N65","v":0},{"$f":"IF(ISBLANK(FirstPartDegrees2!$M$9),\"\",FirstPartDegrees2!$M$9)","v":""},null,null,0,{"$f":"SeconedPartDegrees2!D65","v":0},{"$f":"IF(ISBLANK(SeconedPartDegrees2!$D$9),\"\",SeconedPartDegrees2!$D$9)","v":""},{"$f":"SeconedPartDegrees2!F65","v":0},{"$f":"IF(ISBLANK(SeconedPartDegrees2!$F$9),\"\",SeconedPartDegrees2!$F$9)","v":""},null,null,0,0,0,{"$f":"SeconedPartDegrees2!R65","v":""}]
[{"$f":"SeconedPartDegrees2!$A67","v":28},{"$f":"FirstPartDegrees2!$B67","v":""},{"$f":"FirstPartDegrees2!$H$7","v":"7-1"},{"$f":"FirstPartDegrees2!C67","v":0},{"$f":"IF(ISBLANK(FirstPartDegrees2!$C$9),\"\",FirstPartDegrees2!$C$9)","v":""},{"$f":"FirstPartDegrees2!F67","v":0},{"$f":"IF(ISBLANK(FirstPartDegrees2!$F$9),\"\",FirstPartDegrees2!$F$9)","v":""},null,null,0,{"$f":"FirstPartDegrees2!K67","v":0},{"$f":"IF(ISBLANK(FirstPartDegrees2!$K$9),\"\",FirstPartDegrees2!$K$9)","v":""},{"$f":"FirstPartDegrees2!L67","v":0},{"$f":"IF(ISBLANK(FirstPartDegrees2!$K$9),\"\",FirstPartDegrees2!$K$9)","v":""},null,null,0,{"$f":"SeconedPartDegrees2!M67","v":0},{"$f":"IF(ISBLANK(SeconedPartDegrees2!$M$9),\"\",SeconedPartDegrees2!$M$9)","v":""},{"$f":"SeconedPartDegrees2!N67","v":0},{"$f":"IF(ISBLANK(SeconedPartDegrees2!$M$9),\"\",SeconedPartDegrees2!$M$9)","v":""},null,null,0,{"$f":"FirstPartDegrees2!H67","v":0},{"$f":"IF(ISBLANK(FirstPartDegrees2!$H$9),\"\",FirstPartDegrees2!$H$9)","v":""},{"$f":"SeconedPartDegrees2!C67","v":0},{"$f":"IF(ISBLANK(SeconedPartDegrees2!$C$9),\"\",SeconedPartDegrees2!$C$9)","v":""},null,null,0,0,{"$f":"SeconedPartDegrees2!G67","v":0},{"$f":"IF(ISBLANK(SeconedPartDegrees2!$G$9),\"\",SeconedPartDegrees2!$G$9)","v":""},{"$f":"SeconedPartDegrees2!H67","v":0},{"$f":"IF(ISBLANK(SeconedPartDegrees2!$G$9),\"\",SeconedPartDegrees2!$G$9)","v":""},null,null,0,{"$f":"SeconedPartDegrees2!I67","v":0},{"$f":"IF(ISBLANK(SeconedPartDegrees2!$G$9),\"\",SeconedPartDegrees2!$G$9)","v":""},{"$f":"SeconedPartDegrees2!J67","v":0},{"$f":"IF(ISBLANK(SeconedPartDegrees2!$G$9),\"\",SeconedPartDegrees2!$G$9)","v":""},null,null,0,{"$f":"SeconedPartDegrees2!O67","v":0},{"$f":"IF(ISBLANK(SeconedPartDegrees2!$M$9),\"\",SeconedPartDegrees2!$M$9)","v":""},{"$f":"SeconedPartDegrees2!P67","v":0},{"$f":"IF(ISBLANK(SeconedPartDegrees2!$M$9),\"\",SeconedPartDegrees2!$M$9)","v":""},null,null,0,{"$f":"SeconedPartDegrees2!K67","v":0},{"$f":"IF(ISBLANK(SeconedPartDegrees2!$G$9),\"\",SeconedPartDegrees2!$G$9)","v":""},{"$f":"SeconedPartDegrees2!L67","v":0},{"$f":"IF(ISBLANK(SeconedPartDegrees2!$G$9),\"\",SeconedPartDegrees2!$G$9)","v":""},null,null,0,0,{"$f":"FirstPartDegrees2!D67","v":0},{"$f":"IF(ISBLANK(FirstPartDegrees2!$C$9),\"\",FirstPartDegrees2!$C$9)","v":""},{"$f":"FirstPartDegrees2!E67","v":0},{"$f":"IF(ISBLANK(FirstPartDegrees2!$C$9),\"\",FirstPartDegrees2!$C$9)","v":""},null,null,0,{"$f":"FirstPartDegrees2!I67","v":0},{"$f":"IF(ISBLANK(FirstPartDegrees2!$H$9),\"\",FirstPartDegrees2!$H$9)","v":""},{"$f":"FirstPartDegrees2!J67","v":0},{"$f":"IF(ISBLANK(FirstPartDegrees2!$H$9),\"\",FirstPartDegrees2!$H$9)","v":""},null,null,0,{"$f":"FirstPartDegrees2!M67","v":0},{"$f":"IF(ISBLANK(FirstPartDegrees2!$M$9),\"\",FirstPartDegrees2!$M$9)","v":""},{"$f":"FirstPartDegrees2!N67","v":0},{"$f":"IF(ISBLANK(FirstPartDegrees2!$M$9),\"\",FirstPartDegrees2!$M$9)","v":""},null,null,0,{"$f":"SeconedPartDegrees2!D67","v":0},{"$f":"IF(ISBLANK(SeconedPartDegrees2!$D$9),\"\",SeconedPartDegrees2!$D$9)","v":""},{"$f":"SeconedPartDegrees2!F67","v":0},{"$f":"IF(ISBLANK(SeconedPartDegrees2!$F$9),\"\",SeconedPartDegrees2!$F$9)","v":""},null,null,0,0,0,{"$f":"SeconedPartDegrees2!R67","v":""}]
[{"$f":"SeconedPartDegrees2!$A69","v":29},{"$f":"FirstPartDegrees2!$B69","v":""},{"$f":"FirstPartDegrees2!$H$7","v":"7-1"},{"$f":"FirstPartDegrees2!C69","v":0},{"$f":"IF(ISBLANK(FirstPartDegrees2!$C$9),\"\",FirstPartDegrees2!$C$9)","v":""},{"$f":"FirstPartDegrees2!F69","v":0},{"$f":"IF(ISBLANK(FirstPartDegrees2!$F$9),\"\",FirstPartDegrees2!$F$9)","v":""},null,null,0,{"$f":"FirstPartDegrees2!K69","v":0},{"$f":"IF(ISBLANK(FirstPartDegrees2!$K$9),\"\",FirstPartDegrees2!$K$9)","v":""},{"$f":"FirstPartDegrees2!L69","v":0},{"$f":"IF(ISBLANK(FirstPartDegrees2!$K$9),\"\",FirstPartDegrees2!$K$9)","v":""},null,null,0,{"$f":"SeconedPartDegrees2!M69","v":0},{"$f":"IF(ISBLANK(SeconedPartDegrees2!$M$9),\"\",SeconedPartDegrees2!$M$9)","v":""},{"$f":"SeconedPartDegrees2!N69","v":0},{"$f":"IF(ISBLANK(SeconedPartDegrees2!$M$9),\"\",SeconedPartDegrees2!$M$9)","v":""},null,null,0,{"$f":"FirstPartDegrees2!H69","v":0},{"$f":"IF(ISBLANK(FirstPartDegrees2!$H$9),\"\",FirstPartDegrees2!$H$9)","v":""},{"$f":"SeconedPartDegrees2!C69","v":0},{"$f":"IF(ISBLANK(SeconedPartDegrees2!$C$9),\"\",SeconedPartDegrees2!$C$9)","v":""},null,null,0,0,{"$f":"SeconedPartDegrees2!G69","v":0},{"$f":"IF(ISBLANK(SeconedPartDegrees2!$G$9),\"\",SeconedPartDegrees2!$G$9)","v":""},{"$f":"SeconedPartDegrees2!H69","v":0},{"$f":"IF(ISBLANK(SeconedPartDegrees2!$G$9),\"\",SeconedPartDegrees2!$G$9)","v":""},null,null,0,{"$f":"SeconedPartDegrees2!I69","v":0},{"$f":"IF(ISBLANK(SeconedPartDegrees2!$G$9),\"\",SeconedPartDegrees2!$G$9)","v":""},{"$f":"SeconedPartDegrees2!J69","v":0},{"$f":"IF(ISBLANK(SeconedPartDegrees2!$G$9),\"\",SeconedPartDegrees2!$G$9)","v":""},null,null,0,{"$f":"SeconedPartDegrees2!O69","v":0},{"$f":"IF(ISBLANK(SeconedPartDegrees2!$M$9),\"\",SeconedPartDegrees2!$M$9)","v":""},{"$f":"SeconedPartDegrees2!P69","v":0},{"$f":"IF(ISBLANK(SeconedPartDegrees2!$M$9),\"\",SeconedPartDegrees2!$M$9)","v":""},null,null,0,{"$f":"SeconedPartDegrees2!K69","v":0},{"$f":"IF(ISBLANK(SeconedPartDegrees2!$G$9),\"\",SeconedPartDegrees2!$G$9)","v":""},{"$f":"SeconedPartDegrees2!L69","v":0},{"$f":"IF(ISBLANK(SeconedPartDegrees2!$G$9),\"\",SeconedPartDegrees2!$G$9)","v":""},null,null,0,0,{"$f":"FirstPartDegrees2!D69","v":0},{"$f":"IF(ISBLANK(FirstPartDegrees2!$C$9),\"\",FirstPartDegrees2!$C$9)","v":""},{"$f":"FirstPartDegrees2!E69","v":0},{"$f":"IF(ISBLANK(FirstPartDegrees2!$C$9),\"\",FirstPartDegrees2!$C$9)","v":""},null,null,0,{"$f":"FirstPartDegrees2!I69","v":0},{"$f":"IF(ISBLANK(FirstPartDegrees2!$H$9),\"\",FirstPartDegrees2!$H$9)","v":""},{"$f":"FirstPartDegrees2!J69","v":0},{"$f":"IF(ISBLANK(FirstPartDegrees2!$H$9),\"\",FirstPartDegrees2!$H$9)","v":""},null,null,0,{"$f":"FirstPartDegrees2!M69","v":0},{"$f":"IF(ISBLANK(FirstPartDegrees2!$M$9),\"\",FirstPartDegrees2!$M$9)","v":""},{"$f":"FirstPartDegrees2!N69","v":0},{"$f":"IF(ISBLANK(FirstPartDegrees2!$M$9),\"\",FirstPartDegrees2!$M$9)","v":""},null,null,0,{"$f":"SeconedPartDegrees2!D69","v":0},{"$f":"IF(ISBLANK(SeconedPartDegrees2!$D$9),\"\",SeconedPartDegrees2!$D$9)","v":""},{"$f":"SeconedPartDegrees2!F69","v":0},{"$f":"IF(ISBLANK(SeconedPartDegrees2!$F$9),\"\",SeconedPartDegrees2!$F$9)","v":""},null,null,0,0,0,{"$f":"SeconedPartDegrees2!R69","v":""}]
[{"$f":"SeconedPartDegrees2!$A71","v":30},{"$f":"FirstPartDegrees2!$B71","v":""},{"$f":"FirstPartDegrees2!$H$7","v":"7-1"},{"$f":"FirstPartDegrees2!C71","v":0},{"$f":"IF(ISBLANK(FirstPartDegrees2!$C$9),\"\",FirstPartDegrees2!$C$9)","v":""},{"$f":"FirstPartDegrees2!F71","v":0},{"$f":"IF(ISBLANK(FirstPartDegrees2!$F$9),\"\",FirstPartDegrees2!$F$9)","v":""},null,null,0,{"$f":"FirstPartDegrees2!K71","v":0},{"$f":"IF(ISBLANK(FirstPartDegrees2!$K$9),\"\",FirstPartDegrees2!$K$9)","v":""},{"$f":"FirstPartDegrees2!L71","v":0},{"$f":"IF(ISBLANK(FirstPartDegrees2!$K$9),\"\",FirstPartDegrees2!$K$9)","v":""},null,null,0,{"$f":"SeconedPartDegrees2!M71","v":0},{"$f":"IF(ISBLANK(SeconedPartDegrees2!$M$9),\"\",SeconedPartDegrees2!$M$9)","v":""},{"$f":"SeconedPartDegrees2!N71","v":0},{"$f":"IF(ISBLANK(SeconedPartDegrees2!$M$9),\"\",SeconedPartDegrees2!$M$9)","v":""},null,null,0,{"$f":"FirstPartDegrees2!H71","v":0},{"$f":"IF(ISBLANK(FirstPartDegrees2!$H$9),\"\",FirstPartDegrees2!$H$9)","v":""},{"$f":"SeconedPartDegrees2!C71","v":0},{"$f":"IF(ISBLANK(SeconedPartDegrees2!$C$9),\"\",SeconedPartDegrees2!$C$9)","v":""},null,null,0,0,{"$f":"SeconedPartDegrees2!G71","v":0},{"$f":"IF(ISBLANK(SeconedPartDegrees2!$G$9),\"\",SeconedPartDegrees2!$G$9)","v":""},{"$f":"SeconedPartDegrees2!H71","v":0},{"$f":"IF(ISBLANK(SeconedPartDegrees2!$G$9),\"\",SeconedPartDegrees2!$G$9)","v":""},null,null,0,{"$f":"SeconedPartDegrees2!I71","v":0},{"$f":"IF(ISBLANK(SeconedPartDegrees2!$G$9),\"\",SeconedPartDegrees2!$G$9)","v":""},{"$f":"SeconedPartDegrees2!J71","v":0},{"$f":"IF(ISBLANK(SeconedPartDegrees2!$G$9),\"\",SeconedPartDegrees2!$G$9)","v":""},null,null,0,{"$f":"SeconedPartDegrees2!O71","v":0},{"$f":"IF(ISBLANK(SeconedPartDegrees2!$M$9),\"\",SeconedPartDegrees2!$M$9)","v":""},{"$f":"SeconedPartDegrees2!P71","v":0},{"$f":"IF(ISBLANK(SeconedPartDegrees2!$M$9),\"\",SeconedPartDegrees2!$M$9)","v":""},null,null,0,{"$f":"SeconedPartDegrees2!K71","v":0},{"$f":"IF(ISBLANK(SeconedPartDegrees2!$G$9),\"\",SeconedPartDegrees2!$G$9)","v":""},{"$f":"SeconedPartDegrees2!L71","v":0},{"$f":"IF(ISBLANK(SeconedPartDegrees2!$G$9),\"\",SeconedPartDegrees2!$G$9)","v":""},null,null,0,0,{"$f":"FirstPartDegrees2!D71","v":0},{"$f":"IF(ISBLANK(FirstPartDegrees2!$C$9),\"\",FirstPartDegrees2!$C$9)","v":""},{"$f":"FirstPartDegrees2!E71","v":0},{"$f":"IF(ISBLANK(FirstPartDegrees2!$C$9),\"\",FirstPartDegrees2!$C$9)","v":""},null,null,0,{"$f":"FirstPartDegrees2!I71","v":0},{"$f":"IF(ISBLANK(FirstPartDegrees2!$H$9),\"\",FirstPartDegrees2!$H$9)","v":""},{"$f":"FirstPartDegrees2!J71","v":0},{"$f":"IF(ISBLANK(FirstPartDegrees2!$H$9),\"\",FirstPartDegrees2!$H$9)","v":""},null,null,0,{"$f":"FirstPartDegrees2!M71","v":0},{"$f":"IF(ISBLANK(FirstPartDegrees2!$M$9),\"\",FirstPartDegrees2!$M$9)","v":""},{"$f":"FirstPartDegrees2!N71","v":0},{"$f":"IF(ISBLANK(FirstPartDegrees2!$M$9),\"\",FirstPartDegrees2!$M$9)","v":""},null,null,0,{"$f":"SeconedPartDegrees2!D71","v":0},{"$f":"IF(ISBLANK(SeconedPartDegrees2!$D$9),\"\",SeconedPartDegrees2!$D$9)","v":""},{"$f":"SeconedPartDegrees2!F71","v":0},{"$f":"IF(ISBLANK(SeconedPartDegrees2!$F$9),\"\",SeconedPartDegrees2!$F$9)","v":""},null,null,0,0,0,{"$f":"SeconedPartDegrees2!R71","v":""}]
[{"$f":"SeconedPartDegrees2!$A73","v":31},{"$f":"FirstPartDegrees2!$B73","v":""},{"$f":"FirstPartDegrees2!$H$7","v":"7-1"},{"$f":"FirstPartDegrees2!C73","v":0},{"$f":"IF(ISBLANK(FirstPartDegrees2!$C$9),\"\",FirstPartDegrees2!$C$9)","v":""},{"$f":"FirstPartDegrees2!F73","v":0},{"$f":"IF(ISBLANK(FirstPartDegrees2!$F$9),\"\",FirstPartDegrees2!$F$9)","v":""},null,null,{"$f":"(F32+D32)/2","v":0},{"$f":"FirstPartDegrees2!K73","v":0},{"$f":"IF(ISBLANK(FirstPartDegrees2!$K$9),\"\",FirstPartDegrees2!$K$9)","v":""},{"$f":"FirstPartDegrees2!L73","v":0},{"$f":"IF(ISBLANK(FirstPartDegrees2!$K$9),\"\",FirstPartDegrees2!$K$9)","v":""},null,null,{"$f":"(M32+K32)/2","v":0},{"$f":"SeconedPartDegrees2!M73","v":0},{"$f":"IF(ISBLANK(SeconedPartDegrees2!$M$9),\"\",SeconedPartDegrees2!$M$9)","v":""},{"$f":"SeconedPartDegrees2!N73","v":0},{"$f":"IF(ISBLANK(SeconedPartDegrees2!$M$9),\"\",SeconedPartDegrees2!$M$9)","v":""},null,null,{"$f":"(T32+R32)/2","v":0},{"$f":"FirstPartDegrees2!H73","v":0},{"$f":"IF(ISBLANK(FirstPartDegrees2!$H$9),\"\",FirstPartDegrees2!$H$9)","v":""},{"$f":"SeconedPartDegrees2!C73","v":0},{"$f":"IF(ISBLANK(SeconedPartDegrees2!$C$9),\"\",SeconedPartDegrees2!$C$9)","v":""},null,null,{"$f":"(AA32+Y32)/2","v":0},{"$f":"ROUNDUP((J32+Q32+X32+AE32)/4,0)","v":0},{"$f":"SeconedPartDegrees2!G73","v":0},{"$f":"IF(ISBLANK(SeconedPartDegrees2!$G$9),\"\",SeconedPartDegrees2!$G$9)","v":""},{"$f":"SeconedPartDegrees2!H73","v":0},{"$f":"IF(ISBLANK(SeconedPartDegrees2!$G$9),\"\",SeconedPartDegrees2!$G$9)","v":""},null,null,{"$f":"(AI32+AG32)/2","v":0},{"$f":"SeconedPartDegrees2!I73","v":0},{"$f":"IF(ISBLANK(SeconedPartDegrees2!$G$9),\"\",SeconedPartDegrees2!$G$9)","v":""},{"$f":"SeconedPartDegrees2!J73","v":0},{"$f":"IF(ISBLANK(SeconedPartDegrees2!$G$9),\"\",SeconedPartDegrees2!$G$9)","v":""},null,null,{"$f":"(AP32+AN32)/2","v":0},{"$f":"SeconedPartDegrees2!O73","v":0},{"$f":"IF(ISBLANK(SeconedPartDegrees2!$M$9),\"\",SeconedPartDegrees2!$M$9)","v":""},{"$f":"SeconedPartDegrees2!P73","v":0},{"$f":"IF(ISBLANK(SeconedPartDegrees2!$M$9),\"\",SeconedPartDegrees2!$M$9)","v":""},null,null,{"$f":"(AW32+AU32)/2","v":0},{"$f":"SeconedPartDegrees2!K73","v":0},{"$f":"IF(ISBLANK(SeconedPartDegrees2!$G$9),\"\",SeconedPartDegrees2!$G$9)","v":""},{"$f":"SeconedPartDegrees2!L73","v":0},{"$f":"IF(ISBLANK(SeconedPartDegrees2!$G$9),\"\",SeconedPartDegrees2!$G$9)","v":""},null,null,{"$f":"(BD32+BB32)/2","v":0},{"$f":"ROUNDUP((AM32+AT32+BA32+BH32)/4,0)","v":0},{"$f":"FirstPartDegrees2!D73","v":0},{"$f":"IF(ISBLANK(FirstPartDegrees2!$C$9),\"\",FirstPartDegrees2!$C$9)","v":""},{"$f":"FirstPartDegrees2!E73","v":0},{"$f":"IF(ISBLANK(FirstPartDegrees2!$C$9),\"\",FirstPartDegrees2!$C$9)","v":""},null,null,{"$f":"(BL32+BJ32)/2","v":0},{"$f":"FirstPartDegrees2!I73","v":0},{"$f":"IF(ISBLANK(FirstPartDegrees2!$H$9),\"\",FirstPartDegrees2!$H$9)","v":""},{"$f":"FirstPartDegrees2!J73","v":0},{"$f":"IF(ISBLANK(FirstPartDegrees2!$H$9),\"\",FirstPartDegrees2!$H$9)","v":""},null,null,{"$f":"(BS32+BQ32)/2","v":0},{"$f":"FirstPartDegrees2!M73","v":0},{"$f":"IF(ISBLANK(FirstPartDegrees2!$M$9),\"\",FirstPartDegrees2!$M$9)","v":""},{"$f":"FirstPartDegrees2!N73","v":0},{"$f":"IF(ISBLANK(FirstPartDegrees2!$M$9),\"\",FirstPartDegrees2!$M$9)","v":""},null,null,{"$f":"(BZ32+BX32)/2","v":0},{"$f":"SeconedPartDegrees2!D73","v":0},{"$f":"IF(ISBLANK(SeconedPartDegrees2!$D$9),\"\",SeconedPartDegrees2!$D$9)","v":""},{"$f":"SeconedPartDegrees2!F73","v":0},{"$f":"IF(ISBLANK(SeconedPartDegrees2!$F$9),\"\",SeconedPartDegrees2!$F$9)","v":""},null,null,{"$f":"(CG32+CE32)/2","v":0},{"$f":"ROUNDUP((BP32+BW32+CD32+CK32)/4,0)","v":0},{"$f":"(CL32+AF32+BI32)*40/12","v":0},{"$f":"SeconedPartDegrees2!R73","v":""}]
[{"$f":"SeconedPartDegrees2!$A75","v":32},{"$f":"FirstPartDegrees2!$B75","v":""},{"$f":"FirstPartDegrees2!$H$7","v":"7-1"},{"$f":"FirstPartDegrees2!C75","v":0},{"$f":"IF(ISBLANK(FirstPartDegrees2!$C$9),\"\",FirstPartDegrees2!$C$9)","v":""},{"$f":"FirstPartDegrees2!F75","v":0},{"$f":"IF(ISBLANK(FirstPartDegrees2!$F$9),\"\",FirstPartDegrees2!$F$9)","v":""},null,null,0,{"$f":"FirstPartDegrees2!K75","v":0},{"$f":"IF(ISBLANK(FirstPartDegrees2!$K$9),\"\",FirstPartDegrees2!$K$9)","v":""},{"$f":"FirstPartDegrees2!L75","v":0},{"$f":"IF(ISBLANK(FirstPartDegrees2!$K$9),\"\",FirstPartDegrees2!$K$9)","v":""},null,null,0,{"$f":"SeconedPartDegrees2!M75","v":0},{"$f":"IF(ISBLANK(SeconedPartDegrees2!$M$9),\"\",SeconedPartDegrees2!$M$9)","v":""},{"$f":"SeconedPartDegrees2!N75","v":0},{"$f":"IF(ISBLANK(SeconedPartDegrees2!$M$9),\"\",SeconedPartDegrees2!$M$9)","v":""},null,null,0,{"$f":"FirstPartDegrees2!H75","v":0},{"$f":"IF(ISBLANK(FirstPartDegrees2!$H$9),\"\",FirstPartDegrees2!$H$9)","v":""},{"$f":"SeconedPartDegrees2!C75","v":0},{"$f":"IF(ISBLANK(SeconedPartDegrees2!$C$9),\"\",SeconedPartDegrees2!$C$9)","v":""},null,null,0,0,{"$f":"SeconedPartDegrees2!G75","v":0},{"$f":"IF(ISBLANK(SeconedPartDegrees2!$G$9),\"\",SeconedPartDegrees2!$G$9)","v":""},{"$f":"SeconedPartDegrees2!H75","v":0},{"$f":"IF(ISBLANK(SeconedPartDegrees2!$G$9),\"\",SeconedPartDegrees2!$G$9)","v":""},null,null,0,{"$f":"SeconedPartDegrees2!I75","v":0},{"$f":"IF(ISBLANK(SeconedPartDegrees2!$G$9),\"\",SeconedPartDegrees2!$G$9)","v":""},{"$f":"SeconedPartDegrees2!J75","v":0},{"$f":"IF(ISBLANK(SeconedPartDegrees2!$G$9),\"\",SeconedPartDegrees2!$G$9)","v":""},null,null,0,{"$f":"SeconedPartDegrees2!O75","v":0},{"$f":"IF(ISBLANK(SeconedPartDegrees2!$M$9),\"\",SeconedPartDegrees2!$M$9)","v":""},{"$f":"SeconedPartDegrees2!P75","v":0},{"$f":"IF(ISBLANK(SeconedPartDegrees2!$M$9),\"\",SeconedPartDegrees2!$M$9)","v":""},null,null,0,{"$f":"SeconedPartDegrees2!K75","v":0},{"$f":"IF(ISBLANK(SeconedPartDegrees2!$G$9),\"\",SeconedPartDegrees2!$G$9)","v":""},{"$f":"SeconedPartDegrees2!L75","v":0},{"$f":"IF(ISBLANK(SeconedPartDegrees2!$G$9),\"\",SeconedPartDegrees2!$G$9)","v":""},null,null,0,0,{"$f":"FirstPartDegrees2!D75","v":0},{"$f":"IF(ISBLANK(FirstPartDegrees2!$C$9),\"\",FirstPartDegrees2!$C$9)","v":""},{"$f":"FirstPartDegrees2!E75","v":0},{"$f":"IF(ISBLANK(FirstPartDegrees2!$C$9),\"\",FirstPartDegrees2!$C$9)","v":""},null,null,0,{"$f":"FirstPartDegrees2!I75","v":0},{"$f":"IF(ISBLANK(FirstPartDegrees2!$H$9),\"\",FirstPartDegrees2!$H$9)","v":""},{"$f":"FirstPartDegrees2!J75","v":0},{"$f":"IF(ISBLANK(FirstPartDegrees2!$H$9),\"\",FirstPartDegrees2!$H$9)","v":""},null,null,0,{"$f":"FirstPartDegrees2!M75","v":0},{"$f":"IF(ISBLANK(FirstPartDegrees2!$M$9),\"\",FirstPartDegrees2!$M$9)","v":""},{"$f":"FirstPartDegrees2!N75","v":0},{"$f":"IF(ISBLANK(FirstPartDegrees2!$M$9),\"\",FirstPartDegrees2!$M$9)","v":""},null,null,0,{"$f":"SeconedPartDegrees2!D75","v":0},{"$f":"IF(ISBLANK(SeconedPartDegrees2!$D$9),\"\",SeconedPartDegrees2!$D$9)","v":""},{"$f":"SeconedPartDegrees2!F75","v":0},{"$f":"IF(ISBLANK(SeconedPartDegrees2!$F$9),\"\",SeconedPartDegrees2!$F$9)","v":""},null,null,0,0,0,{"$f":"SeconedPartDegrees2!R75","v":""}]
[{"$f":"SeconedPartDegrees2!$A77","v":33},{"$f":"FirstPartDegrees2!$B77","v":""},{"$f":"FirstPartDegrees2!$H$7","v":"7-1"},{"$f":"FirstPartDegrees2!C77","v":0},{"$f":"IF(ISBLANK(FirstPartDegrees2!$C$9),\"\",FirstPartDegrees2!$C$9)","v":""},{"$f":"FirstPartDegrees2!F77","v":0},{"$f":"IF(ISBLANK(FirstPartDegrees2!$F$9),\"\",FirstPartDegrees2!$F$9)","v":""},null,null,0,{"$f":"FirstPartDegrees2!K77","v":0},{"$f":"IF(ISBLANK(FirstPartDegrees2!$K$9),\"\",FirstPartDegrees2!$K$9)","v":""},{"$f":"FirstPartDegrees2!L77","v":0},{"$f":"IF(ISBLANK(FirstPartDegrees2!$K$9),\"\",FirstPartDegrees2!$K$9)","v":""},null,null,0,{"$f":"SeconedPartDegrees2!M77","v":0},{"$f":"IF(ISBLANK(SeconedPartDegrees2!$M$9),\"\",SeconedPartDegrees2!$M$9)","v":""},{"$f":"SeconedPartDegrees2!N77","v":0},{"$f":"IF(ISBLANK(SeconedPartDegrees2!$M$9),\"\",SeconedPartDegrees2!$M$9)","v":""},null,null,0,{"$f":"FirstPartDegrees2!H77","v":0},{"$f":"IF(ISBLANK(FirstPartDegrees2!$H$9),\"\",FirstPartDegrees2!$H$9)","v":""},{"$f":"SeconedPartDegrees2!C77","v":0},{"$f":"IF(ISBLANK(SeconedPartDegrees2!$C$9),\"\",SeconedPartDegrees2!$C$9)","v":""},null,null,0,0,{"$f":"SeconedPartDegrees2!G77","v":0},{"$f":"IF(ISBLANK(SeconedPartDegrees2!$G$9),\"\",SeconedPartDegrees2!$G$9)","v":""},{"$f":"SeconedPartDegrees2!H77","v":0},{"$f":"IF(ISBLANK(SeconedPartDegrees2!$G$9),\"\",SeconedPartDegrees2!$G$9)","v":""},null,null,0,{"$f":"SeconedPartDegrees2!I77","v":0},{"$f":"IF(ISBLANK(SeconedPartDegrees2!$G$9),\"\",SeconedPartDegrees2!$G$9)","v":""},{"$f":"SeconedPartDegrees2!J77","v":0},{"$f":"IF(ISBLANK(SeconedPartDegrees2!$G$9),\"\",SeconedPartDegrees2!$G$9)","v":""},null,null,0,{"$f":"SeconedPartDegrees2!O77","v":0},{"$f":"IF(ISBLANK(SeconedPartDegrees2!$M$9),\"\",SeconedPartDegrees2!$M$9)","v":""},{"$f":"SeconedPartDegrees2!P77","v":0},{"$f":"IF(ISBLANK(SeconedPartDegrees2!$M$9),\"\",SeconedPartDegrees2!$M$9)","v":""},null,null,0,{"$f":"SeconedPartDegrees2!K77","v":0},{"$f":"IF(ISBLANK(SeconedPartDegrees2!$G$9),\"\",SeconedPartDegrees2!$G$9)","v":""},{"$f":"SeconedPartDegrees2!L77","v":0},{"$f":"IF(ISBLANK(SeconedPartDegrees2!$G$9),\"\",SeconedPartDegrees2!$G$9)","v":""},null,null,0,0,{"$f":"FirstPartDegrees2!D77","v":0},{"$f":"IF(ISBLANK(FirstPartDegrees2!$C$9),\"\",FirstPartDegrees2!$C$9)","v":""},{"$f":"FirstPartDegrees2!E77","v":0},{"$f":"IF(ISBLANK(FirstPartDegrees2!$C$9),\"\",FirstPartDegrees2!$C$9)","v":""},null,null,0,{"$f":"FirstPartDegrees2!I77","v":0},{"$f":"IF(ISBLANK(FirstPartDegrees2!$H$9),\"\",FirstPartDegrees2!$H$9)","v":""},{"$f":"FirstPartDegrees2!J77","v":0},{"$f":"IF(ISBLANK(FirstPartDegrees2!$H$9),\"\",FirstPartDegrees2!$H$9)","v":""},null,null,0,{"$f":"FirstPartDegrees2!M77","v":0},{"$f":"IF(ISBLANK(FirstPartDegrees2!$M$9),\"\",FirstPartDegrees2!$M$9)","v":""},{"$f":"FirstPartDegrees2!N77","v":0},{"$f":"IF(ISBLANK(FirstPartDegrees2!$M$9),\"\",FirstPartDegrees2!$M$9)","v":""},null,null,0,{"$f":"SeconedPartDegrees2!D77","v":0},{"$f":"IF(ISBLANK(SeconedPartDegrees2!$D$9),\"\",SeconedPartDegrees2!$D$9)","v":""},{"$f":"SeconedPartDegrees2!F77","v":0},{"$f":"IF(ISBLANK(SeconedPartDegrees2!$F$9),\"\",SeconedPartDegrees2!$F$9)","v":""},null,null,0,0,0,{"$f":"SeconedPartDegrees2!R77","v":""}]
[{"$f":"SeconedPartDegrees2!$A79","v":34},{"$f":"FirstPartDegrees2!$B79","v":""},{"$f":"FirstPartDegrees2!$H$7","v":"7-1"},{"$f":"FirstPartDegrees2!C79","v":0},{"$f":"IF(ISBLANK(FirstPartDegrees2!$C$9),\"\",FirstPartDegrees2!$C$9)","v":""},{"$f":"FirstPartDegrees2!F79","v":0},{"$f":"IF(ISBLANK(FirstPartDegrees2!$F$9),\"\",FirstPartDegrees2!$F$9)","v":""},null,null,0,{"$f":"FirstPartDegrees2!K79","v":0},{"$f":"IF(ISBLANK(FirstPartDegrees2!$K$9),\"\",FirstPartDegrees2!$K$9)","v":""},{"$f":"FirstPartDegrees2!L79","v":0},{"$f":"IF(ISBLANK(FirstPartDegrees2!$K$9),\"\",FirstPartDegrees2!$K$9)","v":""},null,null,0,{"$f":"SeconedPartDegrees2!M79","v":0},{"$f":"IF(ISBLANK(SeconedPartDegrees2!$M$9),\"\",SeconedPartDegrees2!$M$9)","v":""},{"$f":"SeconedPartDegrees2!N79","v":0},{"$f":"IF(ISBLANK(SeconedPartDegrees2!$M$9),\"\",SeconedPartDegrees2!$M$9)","v":""},null,null,0,{"$f":"FirstPartDegrees2!H79","v":0},{"$f":"IF(ISBLANK(FirstPartDegrees2!$H$9),\"\",FirstPartDegrees2!$H$9)","v":""},{"$f":"SeconedPartDegrees2!C79","v":0},{"$f":"IF(ISBLANK(SeconedPartDegrees2!$C$9),\"\",SeconedPartDegrees2!$C$9)","v":""},null,null,0,0,{"$f":"SeconedPartDegrees2!G79","v":0},{"$f":"IF(ISBLANK(SeconedPartDegrees2!$G$9),\"\",SeconedPartDegrees2!$G$9)","v":""},{"$f":"SeconedPartDegrees2!H79","v":0},{"$f":"IF(ISBLANK(SeconedPartDegrees2!$G$9),\"\",SeconedPartDegrees2!$G$9)","v":""},null,null,0,{"$f":"SeconedPartDegrees2!I79","v":0},{"$f":"IF(ISBLANK(SeconedPartDegrees2!$G$9),\"\",SeconedPartDegrees2!$G$9)","v":""},{"$f":"SeconedPartDegrees2!J79","v":0},{"$f":"IF(ISBLANK(SeconedPartDegrees2!$G$9),\"\",SeconedPartDegrees2!$G$9)","v":""},null,null,0,{"$f":"SeconedPartDegrees2!O79","v":0},{"$f":"IF(ISBLANK(SeconedPartDegrees2!$M$9),\"\",SeconedPartDegrees2!$M$9)","v":""},{"$f":"SeconedPartDegrees2!P79","v":0},{"$f":"IF(ISBLANK(SeconedPartDegrees2!$M$9),\"\",SeconedPartDegrees2!$M$9)","v":""},null,null,0,{"$f":"SeconedPartDegrees2!K79","v":0},{"$f":"IF(ISBLANK(SeconedPartDegrees2!$G$9),\"\",SeconedPartDegrees2!$G$9)","v":""},{"$f":"SeconedPartDegrees2!L79","v":0},{"$f":"IF(ISBLANK(SeconedPartDegrees2!$G$9),\"\",SeconedPartDegrees2!$G$9)","v":""},null,null,0,0,{"$f":"FirstPartDegrees2!D79","v":0},{"$f":"IF(ISBLANK(FirstPartDegrees2!$C$9),\"\",FirstPartDegrees2!$C$9)","v":""},{"$f":"FirstPartDegrees2!E79","v":0},{"$f":"IF(ISBLANK(FirstPartDegrees2!$C$9),\"\",FirstPartDegrees2!$C$9)","v":""},null,null,0,{"$f":"FirstPartDegrees2!I79","v":0},{"$f":"IF(ISBLANK(FirstPartDegrees2!$H$9),\"\",FirstPartDegrees2!$H$9)","v":""},{"$f":"FirstPartDegrees2!J79","v":0},{"$f":"IF(ISBLANK(FirstPartDegrees2!$H$9),\"\",FirstPartDegrees2!$H$9)","v":""},null,null,0,{"$f":"FirstPartDegrees2!M79","v":0},{"$f":"IF(ISBLANK(FirstPartDegrees2!$M$9),\"\",FirstPartDegrees2!$M$9)","v":""},{"$f":"FirstPartDegrees2!N79","v":0},{"$f":"IF(ISBLANK(FirstPartDegrees2!$M$9),\"\",FirstPartDegrees2!$M$9)","v":""},null,null,0,{"$f":"SeconedPartDegrees2!D79","v":0},{"$f":"IF(ISBLANK(SeconedPartDegrees2!$D$9),\"\",SeconedPartDegrees2!$D$9)","v":""},{"$f":"SeconedPartDegrees2!F79","v":0},{"$f":"IF(ISBLANK(SeconedPartDegrees2!$F$9),\"\",SeconedPartDegrees2!$F$9)","v":""},null,null,0,0,0,{"$f":"SeconedPartDegrees2!R79","v":""}]
[{"$f":"SeconedPartDegrees2!$A81","v":35},{"$f":"FirstPartDegrees2!$B81","v":""},{"$f":"FirstPartDegrees2!$H$7","v":"7-1"},{"$f":"FirstPartDegrees2!C81","v":0},{"$f":"IF(ISBLANK(FirstPartDegrees2!$C$9),\"\",FirstPartDegrees2!$C$9)","v":""},{"$f":"FirstPartDegrees2!F81","v":0},{"$f":"IF(ISBLANK(FirstPartDegrees2!$F$9),\"\",FirstPartDegrees2!$F$9)","v":""},null,null,0,{"$f":"FirstPartDegrees2!K81","v":0},{"$f":"IF(ISBLANK(FirstPartDegrees2!$K$9),\"\",FirstPartDegrees2!$K$9)","v":""},{"$f":"FirstPartDegrees2!L81","v":0},{"$f":"IF(ISBLANK(FirstPartDegrees2!$K$9),\"\",FirstPartDegrees2!$K$9)","v":""},null,null,0,{"$f":"SeconedPartDegrees2!M81","v":0},{"$f":"IF(ISBLANK(SeconedPartDegrees2!$M$9),\"\",SeconedPartDegrees2!$M$9)","v":""},{"$f":"SeconedPartDegrees2!N81","v":0},{"$f":"IF(ISBLANK(SeconedPartDegrees2!$M$9),\"\",SeconedPartDegrees2!$M$9)","v":""},null,null,0,{"$f":"FirstPartDegrees2!H81","v":0},{"$f":"IF(ISBLANK(FirstPartDegrees2!$H$9),\"\",FirstPartDegrees2!$H$9)","v":""},{"$f":"SeconedPartDegrees2!C81","v":0},{"$f":"IF(ISBLANK(SeconedPartDegrees2!$C$9),\"\",SeconedPartDegrees2!$C$9)","v":""},null,null,0,0,{"$f":"SeconedPartDegrees2!G81","v":0},{"$f":"IF(ISBLANK(SeconedPartDegrees2!$G$9),\"\",SeconedPartDegrees2!$G$9)","v":""},{"$f":"SeconedPartDegrees2!H81","v":0},{"$f":"IF(ISBLANK(SeconedPartDegrees2!$G$9),\"\",SeconedPartDegrees2!$G$9)","v":""},null,null,0,{"$f":"SeconedPartDegrees2!I81","v":0},{"$f":"IF(ISBLANK(SeconedPartDegrees2!$G$9),\"\",SeconedPartDegrees2!$G$9)","v":""},{"$f":"SeconedPartDegrees2!J81","v":0},{"$f":"IF(ISBLANK(SeconedPartDegrees2!$G$9),\"\",SeconedPartDegrees2!$G$9)","v":""},null,null,0,{"$f":"SeconedPartDegrees2!O81","v":0},{"$f":"IF(ISBLANK(SeconedPartDegrees2!$M$9),\"\",SeconedPartDegrees2!$M$9)","v":""},{"$f":"SeconedPartDegrees2!P81","v":0},{"$f":"IF(ISBLANK(SeconedPartDegrees2!$M$9),\"\",SeconedPartDegrees2!$M$9)","v":""},null,null,0,{"$f":"SeconedPartDegrees2!K81","v":0},{"$f":"IF(ISBLANK(SeconedPartDegrees2!$G$9),\"\",SeconedPartDegrees2!$G$9)","v":""},{"$f":"SeconedPartDegrees2!L81","v":0},{"$f":"IF(ISBLANK(SeconedPartDegrees2!$G$9),\"\",SeconedPartDegrees2!$G$9)","v":""},null,null,0,0,{"$f":"FirstPartDegrees2!D81","v":0},{"$f":"IF(ISBLANK(FirstPartDegrees2!$C$9),\"\",FirstPartDegrees2!$C$9)","v":""},{"$f":"FirstPartDegrees2!E81","v":0},{"$f":"IF(ISBLANK(FirstPartDegrees2!$C$9),\"\",FirstPartDegrees2!$C$9)","v":""},null,null,0,{"$f":"FirstPartDegrees2!I81","v":0},{"$f":"IF(ISBLANK(FirstPartDegrees2!$H$9),\"\",FirstPartDegrees2!$H$9)","v":""},{"$f":"FirstPartDegrees2!J81","v":0},{"$f":"IF(ISBLANK(FirstPartDegrees2!$H$9),\"\",FirstPartDegrees2!$H$9)","v":""},null,null,0,{"$f":"FirstPartDegrees2!M81","v":0},{"$f":"IF(ISBLANK(FirstPartDegrees2!$M$9),\"\",FirstPartDegrees2!$M$9)","v":""},{"$f":"FirstPartDegrees2!N81","v":0},{"$f":"IF(ISBLANK(FirstPartDegrees2!$M$9),\"\",FirstPartDegrees2!$M$9)","v":""},null,null,0,{"$f":"SeconedPartDegrees2!D81","v":0},{"$f":"IF(ISBLANK(SeconedPartDegrees2!$D$9),\"\",SeconedPartDegrees2!$D$9)","v":""},{"$f":"SeconedPartDegrees2!F81","v":0},{"$f":"IF(ISBLANK(SeconedPartDegrees2!$F$9),\"\",SeconedPartDegrees2!$F$9)","v":""},null,null,0,0,0,{"$f":"SeconedPartDegrees2!R81","v":""}]
[{"$f":"SeconedPartDegrees2!$A83","v":36},{"$f":"FirstPartDegrees2!$B83","v":""},{"$f":"FirstPartDegrees2!$H$7","v":"7-1"},{"$f":"FirstPartDegrees2!C83","v":0},{"$f":"IF(ISBLANK(FirstPartDegrees2!$C$9),\"\",FirstPartDegrees2!$C$9)","v":""},{"$f":"FirstPartDegrees2!F83","v":0},{"$f":"IF(ISBLANK(FirstPartDegrees2!$F$9),\"\",FirstPartDegrees2!$F$9)","v":""},null,null,0,{"$f":"FirstPartDegrees2!K83","v":0},{"$f":"IF(ISBLANK(FirstPartDegrees2!$K$9),\"\",FirstPartDegrees2!$K$9)","v":""},{"$f":"FirstPartDegrees2!L83","v":0},{"$f":"IF(ISBLANK(FirstPartDegrees2!$K$9),\"\",FirstPartDegrees2!$K$9)","v":""},null,null,0,{"$f":"SeconedPartDegrees2!M83","v":0},{"$f":"IF(ISBLANK(SeconedPartDegrees2!$M$9),\"\",SeconedPartDegrees2!$M$9)","v":""},{"$f":"SeconedPartDegrees2!N83","v":0},{"$f":"IF(ISBLANK(SeconedPartDegrees2!$M$9),\"\",SeconedPartDegrees2!$M$9)","v":""},null,null,0,{"$f":"FirstPartDegrees2!H83","v":0},{"$f":"IF(ISBLANK(FirstPartDegrees2!$H$9),\"\",FirstPartDegrees2!$H$9)","v":""},{"$f":"SeconedPartDegrees2!C83","v":0},{"$f":"IF(ISBLANK(SeconedPartDegrees2!$C$9),\"\",SeconedPartDegrees2!$C$9)","v":""},null,null,0,0,{"$f":"SeconedPartDegrees2!G83","v":0},{"$f":"IF(ISBLANK(SeconedPartDegrees2!$G$9),\"\",SeconedPartDegrees2!$G$9)","v":""},{"$f":"SeconedPartDegrees2!H83","v":0},{"$f":"IF(ISBLANK(SeconedPartDegrees2!$G$9),\"\",SeconedPartDegrees2!$G$9)","v":""},null,null,0,{"$f":"SeconedPartDegrees2!I83","v":0},{"$f":"IF(ISBLANK(SeconedPartDegrees2!$G$9),\"\",SeconedPartDegrees2!$G$9)","v":""},{"$f":"SeconedPartDegrees2!J83","v":0},{"$f":"IF(ISBLANK(SeconedPartDegrees2!$G$9),\"\",SeconedPartDegrees2!$G$9)","v":""},null,null,0,{"$f":"SeconedPartDegrees2!O83","v":0},{"$f":"IF(ISBLANK(SeconedPartDegrees2!$M$9),\"\",SeconedPartDegrees2!$M$9)","v":""},{"$f":"SeconedPartDegrees2!P83","v":0},{"$f":"IF(ISBLANK(SeconedPartDegrees2!$M$9),\"\",SeconedPartDegrees2!$M$9)","v":""},null,null,0,{"$f":"SeconedPartDegrees2!K83","v":0},{"$f":"IF(ISBLANK(SeconedPartDegrees2!$G$9),\"\",SeconedPartDegrees2!$G$9)","v":""},{"$f":"SeconedPartDegrees2!L83","v":0},{"$f":"IF(ISBLANK(SeconedPartDegrees2!$G$9),\"\",SeconedPartDegrees2!$G$9)","v":""},null,null,0,0,{"$f":"FirstPartDegrees2!D83","v":0},{"$f":"IF(ISBLANK(FirstPartDegrees2!$C$9),\"\",FirstPartDegrees2!$C$9)","v":""},{"$f":"FirstPartDegrees2!E83","v":0},{"$f":"IF(ISBLANK(FirstPartDegrees2!$C$9),\"\",FirstPartDegrees2!$C$9)","v":""},null,null,0,{"$f":"FirstPartDegrees2!I83","v":0},{"$f":"IF(ISBLANK(FirstPartDegrees2!$H$9),\"\",FirstPartDegrees2!$H$9)","v":""},{"$f":"FirstPartDegrees2!J83","v":0},{"$f":"IF(ISBLANK(FirstPartDegrees2!$H$9),\"\",FirstPartDegrees2!$H$9)","v":""},null,null,0,{"$f":"FirstPartDegrees2!M83","v":0},{"$f":"IF(ISBLANK(FirstPartDegrees2!$M$9),\"\",FirstPartDegrees2!$M$9)","v":""},{"$f":"FirstPartDegrees2!N83","v":0},{"$f":"IF(ISBLANK(FirstPartDegrees2!$M$9),\"\",FirstPartDegrees2!$M$9)","v":""},null,null,0,{"$f":"SeconedPartDegrees2!D83","v":0},{"$f":"IF(ISBLANK(SeconedPartDegrees2!$D$9),\"\",SeconedPartDegrees2!$D$9)","v":""},{"$f":"SeconedPartDegrees2!F83","v":0},{"$f":"IF(ISBLANK(SeconedPartDegrees2!$F$9),\"\",SeconedPartDegrees2!$F$9)","v":""},null,null,0,0,0,{"$f":"SeconedPartDegrees2!R83","v":""}]
[{"$f":"SeconedPartDegrees2!$A85","v":37},{"$f":"FirstPartDegrees2!$B85","v":""},{"$f":"FirstPartDegrees2!$H$7","v":"7-1"},{"$f":"FirstPartDegrees2!C85","v":0},{"$f":"IF(ISBLANK(FirstPartDegrees2!$C$9),\"\",FirstPartDegrees2!$C$9)","v":""},{"$f":"FirstPartDegrees2!F85","v":0},{"$f":"IF(ISBLANK(FirstPartDegrees2!$F$9),\"\",FirstPartDegrees2!$F$9)","v":""},null,null,0,{"$f":"FirstPartDegrees2!K85","v":0},{"$f":"IF(ISBLANK(FirstPartDegrees2!$K$9),\"\",FirstPartDegrees2!$K$9)","v":""},{"$f":"FirstPartDegrees2!L85","v":0},{"$f":"IF(ISBLANK(FirstPartDegrees2!$K$9),\"\",FirstPartDegrees2!$K$9)","v":""},null,null,0,{"$f":"SeconedPartDegrees2!M85","v":0},{"$f":"IF(ISBLANK(SeconedPartDegrees2!$M$9),\"\",SeconedPartDegrees2!$M$9)","v":""},{"$f":"SeconedPartDegrees2!N85","v":0},{"$f":"IF(ISBLANK(SeconedPartDegrees2!$M$9),\"\",SeconedPartDegrees2!$M$9)","v":""},null,null,0,{"$f":"FirstPartDegrees2!H85","v":0},{"$f":"IF(ISBLANK(FirstPartDegrees2!$H$9),\"\",FirstPartDegrees2!$H$9)","v":""},{"$f":"SeconedPartDegrees2!C85","v":0},{"$f":"IF(ISBLANK(SeconedPartDegrees2!$C$9),\"\",SeconedPartDegrees2!$C$9)","v":""},null,null,0,0,{"$f":"SeconedPartDegrees2!G85","v":0},{"$f":"IF(ISBLANK(SeconedPartDegrees2!$G$9),\"\",SeconedPartDegrees2!$G$9)","v":""},{"$f":"SeconedPartDegrees2!H85","v":0},{"$f":"IF(ISBLANK(SeconedPartDegrees2!$G$9),\"\",SeconedPartDegrees2!$G$9)","v":""},null,null,0,{"$f":"SeconedPartDegrees2!I85","v":0},{"$f":"IF(ISBLANK(SeconedPartDegrees2!$G$9),\"\",SeconedPartDegrees2!$G$9)","v":""},{"$f":"SeconedPartDegrees2!J85","v":0},{"$f":"IF(ISBLANK(SeconedPartDegrees2!$G$9),\"\",SeconedPartDegrees2!$G$9)","v":""},null,null,0,{"$f":"SeconedPartDegrees2!O85","v":0},{"$f":"IF(ISBLANK(SeconedPartDegrees2!$M$9),\"\",SeconedPartDegrees2!$M$9)","v":""},{"$f":"SeconedPartDegrees2!P85","v":0},{"$f":"IF(ISBLANK(SeconedPartDegrees2!$M$9),\"\",SeconedPartDegrees2!$M$9)","v":""},null,null,0,{"$f":"SeconedPartDegrees2!K85","v":0},{"$f":"IF(ISBLANK(SeconedPartDegrees2!$G$9),\"\",SeconedPartDegrees2!$G$9)","v":""},{"$f":"SeconedPartDegrees2!L85","v":0},{"$f":"IF(ISBLANK(SeconedPartDegrees2!$G$9),\"\",SeconedPartDegrees2!$G$9)","v":""},null,null,0,0,{"$f":"FirstPartDegrees2!D85","v":0},{"$f":"IF(ISBLANK(FirstPartDegrees2!$C$9),\"\",FirstPartDegrees2!$C$9)","v":""},{"$f":"FirstPartDegrees2!E85","v":0},{"$f":"IF(ISBLANK(FirstPartDegrees2!$C$9),\"\",FirstPartDegrees2!$C$9)","v":""},null,null,0,{"$f":"FirstPartDegrees2!I85","v":0},{"$f":"IF(ISBLANK(FirstPartDegrees2!$H$9),\"\",FirstPartDegrees2!$H$9)","v":""},{"$f":"FirstPartDegrees2!J85","v":0},{"$f":"IF(ISBLANK(FirstPartDegrees2!$H$9),\"\",FirstPartDegrees2!$H$9)","v":""},null,null,0,{"$f":"FirstPartDegrees2!M85","v":0},{"$f":"IF(ISBLANK(FirstPartDegrees2!$M$9),\"\",FirstPartDegrees2!$M$9)","v":""},{"$f":"FirstPartDegrees2!N85","v":0},{"$f":"IF(ISBLANK(FirstPartDegrees2!$M$9),\"\",FirstPartDegrees2!$M$9)","v":""},null,null,0,{"$f":"SeconedPartDegrees2!D85","v":0},{"$f":"IF(ISBLANK(SeconedPartDegrees2!$D$9),\"\",SeconedPartDegrees2!$D$9)","v":""},{"$f":"SeconedPartDegrees2!F85","v":0},{"$f":"IF(ISBLANK(SeconedPartDegrees2!$F$9),\"\",SeconedPartDegrees2!$F$9)","v":""},null,null,0,0,0,{"$f":"SeconedPartDegrees2!R85","v":""}]
[{"$f":"SeconedPartDegrees2!$A87","v":38},{"$f":"FirstPartDegrees2!$B87","v":""},{"$f":"FirstPartDegrees2!$H$7","v":"7-1"},{"$f":"FirstPartDegrees2!C87","v":0},{"$f":"IF(ISBLANK(FirstPartDegrees2!$C$9),\"\",FirstPartDegrees2!$C$9)","v":""},{"$f":"FirstPartDegrees2!F87","v":0},{"$f":"IF(ISBLANK(FirstPartDegrees2!$F$9),\"\",FirstPartDegrees2!$F$9)","v":""},null,null,0,{"$f":"FirstPartDegrees2!K87","v":0},{"$f":"IF(ISBLANK(FirstPartDegrees2!$K$9),\"\",FirstPartDegrees2!$K$9)","v":""},{"$f":"FirstPartDegrees2!L87","v":0},{"$f":"IF(ISBLANK(FirstPartDegrees2!$K$9),\"\",FirstPartDegrees2!$K$9)","v":""},null,null,0,{"$f":"SeconedPartDegrees2!M87","v":0},{"$f":"IF(ISBLANK(SeconedPartDegrees2!$M$9),\"\",SeconedPartDegrees2!$M$9)","v":""},{"$f":"SeconedPartDegrees2!N87","v":0},{"$f":"IF(ISBLANK(SeconedPartDegrees2!$M$9),\"\",SeconedPartDegrees2!$M$9)","v":""},null,null,0,{"$f":"FirstPartDegrees2!H87","v":0},{"$f":"IF(ISBLANK(FirstPartDegrees2!$H$9),\"\",FirstPartDegrees2!$H$9)","v":""},{"$f":"SeconedPartDegrees2!C87","v":0},{"$f":"IF(ISBLANK(SeconedPartDegrees2!$C$9),\"\",SeconedPartDegrees2!$C$9)","v":""},null,null,0,0,{"$f":"SeconedPartDegrees2!G87","v":0},{"$f":"IF(ISBLANK(SeconedPartDegrees2!$G$9),\"\",SeconedPartDegrees2!$G$9)","v":""},{"$f":"SeconedPartDegrees2!H87","v":0},{"$f":"IF(ISBLANK(SeconedPartDegrees2!$G$9),\"\",SeconedPartDegrees2!$G$9)","v":""},null,null,0,{"$f":"SeconedPartDegrees2!I87","v":0},{"$f":"IF(ISBLANK(SeconedPartDegrees2!$G$9),\"\",SeconedPartDegrees2!$G$9)","v":""},{"$f":"SeconedPartDegrees2!J87","v":0},{"$f":"IF(ISBLANK(SeconedPartDegrees2!$G$9),\"\",SeconedPartDegrees2!$G$9)","v":""},null,null,0,{"$f":"SeconedPartDegrees2!O87","v":0},{"$f":"IF(ISBLANK(SeconedPartDegrees2!$M$9),\"\",SeconedPartDegrees2!$M$9)","v":""},{"$f":"SeconedPartDegrees2!P87","v":0},{"$f":"IF(ISBLANK(SeconedPartDegrees2!$M$9),\"\",SeconedPartDegrees2!$M$9)","v":""},null,null,0,{"$f":"SeconedPartDegrees2!K87","v":0},{"$f":"IF(ISBLANK(SeconedPartDegrees2!$G$9),\"\",SeconedPartDegrees2!$G$9)","v":""},{"$f":"SeconedPartDegrees2!L87","v":0},{"$f":"IF(ISBLANK(SeconedPartDegrees2!$G$9),\"\",SeconedPartDegrees2!$G$9)","v":""},null,null,0,0,{"$f":"FirstPartDegrees2!D87","v":0},{"$f":"IF(ISBLANK(FirstPartDegrees2!$C$9),\"\",FirstPartDegrees2!$C$9)","v":""},{"$f":"FirstPartDegrees2!E87","v":0},{"$f":"IF(ISBLANK(FirstPartDegrees2!$C$9),\"\",FirstPartDegrees2!$C$9)","v":""},null,null,0,{"$f":"FirstPartDegrees2!I87","v":0},{"$f":"IF(ISBLANK(FirstPartDegrees2!$H$9),\"\",FirstPartDegrees2!$H$9)","v":""},{"$f":"FirstPartDegrees2!J87","v":0},{"$f":"IF(ISBLANK(FirstPartDegrees2!$H$9),\"\",FirstPartDegrees2!$H$9)","v":""},null,null,0,{"$f":"FirstPartDegrees2!M87","v":0},{"$f":"IF(ISBLANK(FirstPartDegrees2!$M$9),\"\",FirstPartDegrees2!$M$9)","v":""},{"$f":"FirstPartDegrees2!N87","v":0},{"$f":"IF(ISBLANK(FirstPartDegrees2!$M$9),\"\",FirstPartDegrees2!$M$9)","v":""},null,null,0,{"$f":"SeconedPartDegrees2!D87","v":0},{"$f":"IF(ISBLANK(SeconedPartDegrees2!$D$9),\"\",SeconedPartDegrees2!$D$9)","v":""},{"$f":"SeconedPartDegrees2!F87","v":0},{"$f":"IF(ISBLANK(SeconedPartDegrees2!$F$9),\"\",SeconedPartDegrees2!$F$9)","v":""},null,null,0,0,0,{"$f":"SeconedPartDegrees2!R87","v":""}]
[{"$f":"SeconedPartDegrees2!$A89","v":39},{"$f":"FirstPartDegrees2!$B89","v":""},{"$f":"FirstPartDegrees2!$H$7","v":"7-1"},{"$f":"FirstPartDegrees2!C89","v":0},{"$f":"IF(ISBLANK(FirstPartDegrees2!$C$9),\"\",FirstPartDegrees2!$C$9)","v":""},{"$f":"FirstPartDegrees2!F89","v":0},{"$f":"IF(ISBLANK(FirstPartDegrees2!$F$9),\"\",FirstPartDegrees2!$F$9)","v":""},null,null,{"$f":"(F40+D40)/2","v":0},{"$f":"FirstPartDegrees2!K89","v":0},{"$f":"IF(ISBLANK(FirstPartDegrees2!$K$9),\"\",FirstPartDegrees2!$K$9)","v":""},{"$f":"FirstPartDegrees2!L89","v":0},{"$f":"IF(ISBLANK(FirstPartDegrees2!$K$9),\"\",FirstPartDegrees2!$K$9)","v":""},null,null,{"$f":"(M40+K40)/2","v":0},{"$f":"SeconedPartDegrees2!M89","v":0},{"$f":"IF(ISBLANK(SeconedPartDegrees2!$M$9),\"\",SeconedPartDegrees2!$M$9)","v":""},{"$f":"SeconedPartDegrees2!N89","v":0},{"$f":"IF(ISBLANK(SeconedPartDegrees2!$M$9),\"\",SeconedPartDegrees2!$M$9)","v":""},null,null,{"$f":"(T40+R40)/2","v":0},{"$f":"FirstPartDegrees2!H89","v":0},{"$f":"IF(ISBLANK(FirstPartDegrees2!$H$9),\"\",FirstPartDegrees2!$H$9)","v":""},{"$f":"SeconedPartDegrees2!C89","v":0},{"$f":"IF(ISBLANK(SeconedPartDegrees2!$C$9),\"\",SeconedPartDegrees2!$C$9)","v":""},null,null,{"$f":"(AA40+Y40)/2","v":0},{"$f":"ROUNDUP((J40+Q40+X40+AE40)/4,0)","v":0},{"$f":"SeconedPartDegrees2!G89","v":0},{"$f":"IF(ISBLANK(SeconedPartDegrees2!$G$9),\"\",SeconedPartDegrees2!$G$9)","v":""},{"$f":"SeconedPartDegrees2!H89","v":0},{"$f":"IF(ISBLANK(SeconedPartDegrees2!$G$9),\"\",SeconedPartDegrees2!$G$9)","v":""},null,null,{"$f":"(AI40+AG40)/2","v":0},{"$f":"SeconedPartDegrees2!I89","v":0},{"$f":"IF(ISBLANK(SeconedPartDegrees2!$G$9),\"\",SeconedPartDegrees2!$G$9)","v":""},{"$f":"SeconedPartDegrees2!J89","v":0},{"$f":"IF(ISBLANK(SeconedPartDegrees2!$G$9),\"\",SeconedPartDegrees2!$G$9)","v":""},null,null,{"$f":"(AP40+AN40)/2","v":0},{"$f":"SeconedPartDegrees2!O89","v":0},{"$f":"IF(ISBLANK(SeconedPartDegrees2!$M$9),\"\",SeconedPartDegrees2!$M$9)","v":""},{"$f":"SeconedPartDegrees2!P89","v":0},{"$f":"IF(ISBLANK(SeconedPartDegrees2!$M$9),\"\",SeconedPartDegrees2!$M$9)","v":""},null,null,{"$f":"(AW40+AU40)/2","v":0},{"$f":"SeconedPartDegrees2!K89","v":0},{"$f":"IF(ISBLANK(SeconedPartDegrees2!$G$9),\"\",SeconedPartDegrees2!$G$9)","v":""},{"$f":"SeconedPartDegrees2!L89","v":0},{"$f":"IF(ISBLANK(SeconedPartDegrees2!$G$9),\"\",SeconedPartDegrees2!$G$9)","v":""},null,null,{"$f":"(BD40+BB40)/2","v":0},{"$f":"ROUNDUP((AM40+AT40+BA40+BH40)/4,0)","v":0},{"$f":"FirstPartDegrees2!D89","v":0},{"$f":"IF(ISBLANK(FirstPartDegrees2!$C$9),\"\",FirstPartDegrees2!$C$9)","v":""},{"$f":"FirstPartDegrees2!E89","v":0},{"$f":"IF(ISBLANK(FirstPartDegrees2!$C$9),\"\",FirstPartDegrees2!$C$9)","v":""},null,null,{"$f":"(BL40+BJ40)/2","v":0},{"$f":"FirstPartDegrees2!I89","v":0},{"$f":"IF(ISBLANK(FirstPartDegrees2!$H$9),\"\",FirstPartDegrees2!$H$9)","v":""},{"$f":"FirstPartDegrees2!J89","v":0},{"$f":"IF(ISBLANK(FirstPartDegrees2!$H$9),\"\",FirstPartDegrees2!$H$9)","v":""},null,null,{"$f":"(BS40+BQ40)/2","v":0},{"$f":"FirstPartDegrees2!M89","v":0},{"$f":"IF(ISBLANK(FirstPartDegrees2!$M$9),\"\",FirstPartDegrees2!$M$9)","v":""},{"$f":"FirstPartDegrees2!N89","v":0},{"$f":"IF(ISBLANK(FirstPartDegrees2!$M$9),\"\",FirstPartDegrees2!$M$9)","v":""},null,null,{"$f":"(BZ40+BX40)/2","v":0},{"$f":"SeconedPartDegrees2!D89","v":0},{"$f":"IF(ISBLANK(SeconedPartDegrees2!$D$9),\"\",SeconedPartDegrees2!$D$9)","v":""},{"$f":"SeconedPartDegrees2!F89","v":0},{"$f":"IF(ISBLANK(SeconedPartDegrees2!$F$9),\"\",SeconedPartDegrees2!$F$9)","v":""},null,null,{"$f":"(CG40+CE40)/2","v":0},{"$f":"ROUNDUP((BP40+BW40+CD40+CK40)/4,0)","v":0},{"$f":"(CL40+AF40+BI40)*40/12","v":0},{"$f":"SeconedPartDegrees2!R89","v":""}]
[{"$f":"SeconedPartDegrees2!$A91","v":40},{"$f":"FirstPartDegrees2!$B91","v":""},{"$f":"FirstPartDegrees2!$H$7","v":"7-1"},{"$f":"FirstPartDegrees2!C91","v":0},{"$f":"IF(ISBLANK(FirstPartDegrees2!$C$9),\"\",FirstPartDegrees2!$C$9)","v":""},{"$f":"FirstPartDegrees2!F91","v":0},{"$f":"IF(ISBLANK(FirstPartDegrees2!$F$9),\"\",FirstPartDegrees2!$F$9)","v":""},null,null,{"$f":"(F41+D41)/2","v":0},{"$f":"FirstPartDegrees2!K91","v":0},{"$f":"IF(ISBLANK(FirstPartDegrees2!$K$9),\"\",FirstPartDegrees2!$K$9)","v":""},{"$f":"FirstPartDegrees2!L91","v":0},{"$f":"IF(ISBLANK(FirstPartDegrees2!$K$9),\"\",FirstPartDegrees2!$K$9)","v":""},null,null,{"$f":"(M41+K41)/2","v":0},{"$f":"SeconedPartDegrees2!M91","v":0},{"$f":"IF(ISBLANK(SeconedPartDegrees2!$M$9),\"\",SeconedPartDegrees2!$M$9)","v":""},{"$f":"SeconedPartDegrees2!N91","v":0},{"$f":"IF(ISBLANK(SeconedPartDegrees2!$M$9),\"\",SeconedPartDegrees2!$M$9)","v":""},null,null,{"$f":"(T41+R41)/2","v":0},{"$f":"FirstPartDegrees2!H91","v":0},{"$f":"IF(ISBLANK(FirstPartDegrees2!$H$9),\"\",FirstPartDegrees2!$H$9)","v":""},{"$f":"SeconedPartDegrees2!C91","v":0},{"$f":"IF(ISBLANK(SeconedPartDegrees2!$C$9),\"\",SeconedPartDegrees2!$C$9)","v":""},null,null,{"$f":"(AA41+Y41)/2","v":0},{"$f":"ROUNDUP((J41+Q41+X41+AE41)/4,0)","v":0},{"$f":"SeconedPartDegrees2!G91","v":0},{"$f":"IF(ISBLANK(SeconedPartDegrees2!$G$9),\"\",SeconedPartDegrees2!$G$9)","v":""},{"$f":"SeconedPartDegrees2!H91","v":0},{"$f":"IF(ISBLANK(SeconedPartDegrees2!$G$9),\"\",SeconedPartDegrees2!$G$9)","v":""},null,null,{"$f":"(AI41+AG41)/2","v":0},{"$f":"SeconedPartDegrees2!I91","v":0},{"$f":"IF(ISBLANK(SeconedPartDegrees2!$G$9),\"\",SeconedPartDegrees2!$G$9)","v":""},{"$f":"SeconedPartDegrees2!J91","v":0},{"$f":"IF(ISBLANK(SeconedPartDegrees2!$G$9),\"\",SeconedPartDegrees2!$G$9)","v":""},null,null,{"$f":"(AP41+AN41)/2","v":0},{"$f":"SeconedPartDegrees2!O91","v":0},{"$f":"IF(ISBLANK(SeconedPartDegrees2!$M$9),\"\",SeconedPartDegrees2!$M$9)","v":""},{"$f":"SeconedPartDegrees2!P91","v":0},{"$f":"IF(ISBLANK(SeconedPartDegrees2!$M$9),\"\",SeconedPartDegrees2!$M$9)","v":""},null,null,{"$f":"(AW41+AU41)/2","v":0},{"$f":"SeconedPartDegrees2!K91","v":0},{"$f":"IF(ISBLANK(SeconedPartDegrees2!$G$9),\"\",SeconedPartDegrees2!$G$9)","v":""},{"$f":"SeconedPartDegrees2!L91","v":0},{"$f":"IF(ISBLANK(SeconedPartDegrees2!$G$9),\"\",SeconedPartDegrees2!$G$9)","v":""},null,null,{"$f":"(BD41+BB41)/2","v":0},{"$f":"ROUNDUP((AM41+AT41+BA41+BH41)/4,0)","v":0},{"$f":"FirstPartDegrees2!D91","v":0},{"$f":"IF(ISBLANK(FirstPartDegrees2!$C$9),\"\",FirstPartDegrees2!$C$9)","v":""},{"$f":"FirstPartDegrees2!E91","v":0},{"$f":"IF(ISBLANK(FirstPartDegrees2!$C$9),\"\",FirstPartDegrees2!$C$9)","v":""},null,null,{"$f":"(BL41+BJ41)/2","v":0},{"$f":"FirstPartDegrees2!I91","v":0},{"$f":"IF(ISBLANK(FirstPartDegrees2!$H$9),\"\",FirstPartDegrees2!$H$9)","v":""},{"$f":"FirstPartDegrees2!J91","v":0},{"$f":"IF(ISBLANK(FirstPartDegrees2!$H$9),\"\",FirstPartDegrees2!$H$9)","v":""},null,null,{"$f":"(BS41+BQ41)/2","v":0},{"$f":"FirstPartDegrees2!M91","v":0},{"$f":"IF(ISBLANK(FirstPartDegrees2!$M$9),\"\",FirstPartDegrees2!$M$9)","v":""},{"$f":"FirstPartDegrees2!N91","v":0},{"$f":"IF(ISBLANK(FirstPartDegrees2!$M$9),\"\",FirstPartDegrees2!$M$9)","v":""},null,null,{"$f":"(BZ41+BX41)/2","v":0},{"$f":"SeconedPartDegrees2!D91","v":0},{"$f":"IF(ISBLANK(SeconedPartDegrees2!$D$9),\"\",SeconedPartDegrees2!$D$9)","v":""},{"$f":"SeconedPartDegrees2!F91","v":0},{"$f":"IF(ISBLANK(SeconedPartDegrees2!$F$9),\"\",SeconedPartDegrees2!$F$9)","v":""},null,null,{"$f":"(CG41+CE41)/2","v":0},{"$f":"ROUNDUP((BP41+BW41+CD41+CK41)/4,0)","v":0},{"$f":"(CL41+AF41+BI41)*40/12","v":0},{"$f":"SeconedPartDegrees2!R91","v":""}]
[{"$f":"SeconedPartDegrees2!$A93","v":41},{"$f":"FirstPartDegrees2!$B93","v":""},{"$f":"FirstPartDegrees2!$H$7","v":"7-1"},{"$f":"FirstPartDegrees2!C93","v":0},{"$f":"IF(ISBLANK(FirstPartDegrees2!$C$9),\"\",FirstPartDegrees2!$C$9)","v":""},{"$f":"FirstPartDegrees2!F93","v":0},{"$f":"IF(ISBLANK(FirstPartDegrees2!$F$9),\"\",FirstPartDegrees2!$F$9)","v":""},null,null,{"$f":"(F42+D42)/2","v":0},{"$f":"FirstPartDegrees2!K93","v":0},{"$f":"IF(ISBLANK(FirstPartDegrees2!$K$9),\"\",FirstPartDegrees2!$K$9)","v":""},{"$f":"FirstPartDegrees2!L93","v":0},{"$f":"IF(ISBLANK(FirstPartDegrees2!$K$9),\"\",FirstPartDegrees2!$K$9)","v":""},null,null,{"$f":"(M42+K42)/2","v":0},{"$f":"SeconedPartDegrees2!M93","v":0},{"$f":"IF(ISBLANK(SeconedPartDegrees2!$M$9),\"\",SeconedPartDegrees2!$M$9)","v":""},{"$f":"SeconedPartDegrees2!N93","v":0},{"$f":"IF(ISBLANK(SeconedPartDegrees2!$M$9),\"\",SeconedPartDegrees2!$M$9)","v":""},null,null,{"$f":"(T42+R42)/2","v":0},{"$f":"FirstPartDegrees2!H93","v":0},{"$f":"IF(ISBLANK(FirstPartDegrees2!$H$9),\"\",FirstPartDegrees2!$H$9)","v":""},{"$f":"SeconedPartDegrees2!C93","v":0},{"$f":"IF(ISBLANK(SeconedPartDegrees2!$C$9),\"\",SeconedPartDegrees2!$C$9)","v":""},null,null,{"$f":"(AA42+Y42)/2","v":0},{"$f":"ROUNDUP((J42+Q42+X42+AE42)/4,0)","v":0},{"$f":"SeconedPartDegrees2!G93","v":0},{"$f":"IF(ISBLANK(SeconedPartDegrees2!$G$9),\"\",SeconedPartDegrees2!$G$9)","v":""},{"$f":"SeconedPartDegrees2!H93","v":0},{"$f":"IF(ISBLANK(SeconedPartDegrees2!$G$9),\"\",SeconedPartDegrees2!$G$9)","v":""},null,null,{"$f":"(AI42+AG42)/2","v":0},{"$f":"SeconedPartDegrees2!I93","v":0},{"$f":"IF(ISBLANK(SeconedPartDegrees2!$G$9),\"\",SeconedPartDegrees2!$G$9)","v":""},{"$f":"SeconedPartDegrees2!J93","v":0},{"$f":"IF(ISBLANK(SeconedPartDegrees2!$G$9),\"\",SeconedPartDegrees2!$G$9)","v":""},null,null,{"$f":"(AP42+AN42)/2","v":0},{"$f":"SeconedPartDegrees2!O93","v":0},{"$f":"IF(ISBLANK(SeconedPartDegrees2!$M$9),\"\",SeconedPartDegrees2!$M$9)","v":""},{"$f":"SeconedPartDegrees2!P93","v":0},{"$f":"IF(ISBLANK(SeconedPartDegrees2!$M$9),\"\",SeconedPartDegrees2!$M$9)","v":""},null,null,{"$f":"(AW42+AU42)/2","v":0},{"$f":"SeconedPartDegrees2!K93","v":0},{"$f":"IF(ISBLANK(SeconedPartDegrees2!$G$9),\"\",SeconedPartDegrees2!$G$9)","v":""},{"$f":"SeconedPartDegrees2!L93","v":0},{"$f":"IF(ISBLANK(SeconedPartDegrees2!$G$9),\"\",SeconedPartDegrees2!$G$9)","v":""},null,null,{"$f":"(BD42+BB42)/2","v":0},{"$f":"ROUNDUP((AM42+AT42+BA42+BH42)/4,0)","v":0},{"$f":"FirstPartDegrees2!D93","v":0},{"$f":"IF(ISBLANK(FirstPartDegrees2!$C$9),\"\",FirstPartDegrees2!$C$9)","v":""},{"$f":"FirstPartDegrees2!E93","v":0},{"$f":"IF(ISBLANK(FirstPartDegrees2!$C$9),\"\",FirstPartDegrees2!$C$9)","v":""},null,null,{"$f":"(BL42+BJ42)/2","v":0},{"$f":"FirstPartDegrees2!I93","v":0},{"$f":"IF(ISBLANK(FirstPartDegrees2!$H$9),\"\",FirstPartDegrees2!$H$9)","v":""},{"$f":"FirstPartDegrees2!J93","v":0},{"$f":"IF(ISBLANK(FirstPartDegrees2!$H$9),\"\",FirstPartDegrees2!$H$9)","v":""},null,null,{"$f":"(BS42+BQ42)/2","v":0},{"$f":"FirstPartDegrees2!M93","v":0},{"$f":"IF(ISBLANK(FirstPartDegrees2!$M$9),\"\",FirstPartDegrees2!$M$9)","v":""},{"$f":"FirstPartDegrees2!N93","v":0},{"$f":"IF(ISBLANK(FirstPartDegrees2!$M$9),\"\",FirstPartDegrees2!$M$9)","v":""},null,null,{"$f":"(BZ42+BX42)/2","v":0},{"$f":"SeconedPartDegrees2!D93","v":0},{"$f":"IF(ISBLANK(SeconedPartDegrees2!$D$9),\"\",SeconedPartDegrees2!$D$9)","v":""},{"$f":"SeconedPartDegrees2!F93","v":0},{"$f":"IF(ISBLANK(SeconedPartDegrees2!$F$9),\"\",SeconedPartDegrees2!$F$9)","v":""},null,null,{"$f":"(CG42+CE42)/2","v":0},{"$f":"ROUNDUP((BP42+BW42+CD42+CK42)/4,0)","v":0},{"$f":"(CL42+AF42+BI42)*40/12","v":0},{"$f":"SeconedPartDegrees2!R93","v":""}]
[{"$f":"SeconedPartDegrees2!$A95","v":42},{"$f":"FirstPartDegrees2!$B95","v":""},{"$f":"FirstPartDegrees2!$H$7","v":"7-1"},{"$f":"FirstPartDegrees2!C95","v":0},{"$f":"IF(ISBLANK(FirstPartDegrees2!$C$9),\"\",FirstPartDegrees2!$C$9)","v":""},{"$f":"FirstPartDegrees2!F95","v":0},{"$f":"IF(ISBLANK(FirstPartDegrees2!$F$9),\"\",FirstPartDegrees2!$F$9)","v":""},null,null,0,{"$f":"FirstPartDegrees2!K95","v":0},{"$f":"IF(ISBLANK(FirstPartDegrees2!$K$9),\"\",FirstPartDegrees2!$K$9)","v":""},{"$f":"FirstPartDegrees2!L95","v":0},{"$f":"IF(ISBLANK(FirstPartDegrees2!$K$9),\"\",FirstPartDegrees2!$K$9)","v":""},null,null,0,{"$f":"SeconedPartDegrees2!M95","v":0},{"$f":"IF(ISBLANK(SeconedPartDegrees2!$M$9),\"\",SeconedPartDegrees2!$M$9)","v":""},{"$f":"SeconedPartDegrees2!N95","v":0},{"$f":"IF(ISBLANK(SeconedPartDegrees2!$M$9),\"\",SeconedPartDegrees2!$M$9)","v":""},null,null,0,{"$f":"FirstPartDegrees2!H95","v":0},{"$f":"IF(ISBLANK(FirstPartDegrees2!$H$9),\"\",FirstPartDegrees2!$H$9)","v":""},{"$f":"SeconedPartDegrees2!C95","v":0},{"$f":"IF(ISBLANK(SeconedPartDegrees2!$C$9),\"\",SeconedPartDegrees2!$C$9)","v":""},null,null,0,0,{"$f":"SeconedPartDegrees2!G95","v":0},{"$f":"IF(ISBLANK(SeconedPartDegrees2!$G$9),\"\",SeconedPartDegrees2!$G$9)","v":""},{"$f":"SeconedPartDegrees2!H95","v":0},{"$f":"IF(ISBLANK(SeconedPartDegrees2!$G$9),\"\",SeconedPartDegrees2!$G$9)","v":""},null,null,0,{"$f":"SeconedPartDegrees2!I95","v":0},{"$f":"IF(ISBLANK(SeconedPartDegrees2!$G$9),\"\",SeconedPartDegrees2!$G$9)","v":""},{"$f":"SeconedPartDegrees2!J95","v":0},{"$f":"IF(ISBLANK(SeconedPartDegrees2!$G$9),\"\",SeconedPartDegrees2!$G$9)","v":""},null,null,0,{"$f":"SeconedPartDegrees2!O95","v":0},{"$f":"IF(ISBLANK(SeconedPartDegrees2!$M$9),\"\",SeconedPartDegrees2!$M$9)","v":""},{"$f":"SeconedPartDegrees2!P95","v":0},{"$f":"IF(ISBLANK(SeconedPartDegrees2!$M$9),\"\",SeconedPartDegrees2!$M$9)","v":""},null,null,0,{"$f":"SeconedPartDegrees2!K95","v":0},{"$f":"IF(ISBLANK(SeconedPartDegrees2!$G$9),\"\",SeconedPartDegrees2!$G$9)","v":""},{"$f":"SeconedPartDegrees2!L95","v":0},{"$f":"IF(ISBLANK(SeconedPartDegrees2!$G$9),\"\",SeconedPartDegrees2!$G$9)","v":""},null,null,0,0,{"$f":"FirstPartDegrees2!D95","v":0},{"$f":"IF(ISBLANK(FirstPartDegrees2!$C$9),\"\",FirstPartDegrees2!$C$9)","v":""},{"$f":"FirstPartDegrees2!E95","v":0},{"$f":"IF(ISBLANK(FirstPartDegrees2!$C$9),\"\",FirstPartDegrees2!$C$9)","v":""},null,null,0,{"$f":"FirstPartDegrees2!I95","v":0},{"$f":"IF(ISBLANK(FirstPartDegrees2!$H$9),\"\",FirstPartDegrees2!$H$9)","v":""},{"$f":"FirstPartDegrees2!J95","v":0},{"$f":"IF(ISBLANK(FirstPartDegrees2!$H$9),\"\",FirstPartDegrees2!$H$9)","v":""},null,null,0,{"$f":"FirstPartDegrees2!M95","v":0},{"$f":"IF(ISBLANK(FirstPartDegrees2!$M$9),\"\",FirstPartDegrees2!$M$9)","v":""},{"$f":"FirstPartDegrees2!N95","v":0},{"$f":"IF(ISBLANK(FirstPartDegrees2!$M$9),\"\",FirstPartDegrees2!$M$9)","v":""},null,null,0,{"$f":"SeconedPartDegrees2!D95","v":0},{"$f":"IF(ISBLANK(SeconedPartDegrees2!$D$9),\"\",SeconedPartDegrees2!$D$9)","v":""},{"$f":"SeconedPartDegrees2!F95","v":0},{"$f":"IF(ISBLANK(SeconedPartDegrees2!$F$9),\"\",SeconedPartDegrees2!$F$9)","v":""},null,null,0,0,0,{"$f":"SeconedPartDegrees2!R95","v":""}]
[{"$f":"SeconedPartDegrees2!$A97","v":43},{"$f":"FirstPartDegrees2!$B97","v":""},{"$f":"FirstPartDegrees2!$H$7","v":"7-1"},{"$f":"FirstPartDegrees2!C97","v":0},{"$f":"IF(ISBLANK(FirstPartDegrees2!$C$9),\"\",FirstPartDegrees2!$C$9)","v":""},{"$f":"FirstPartDegrees2!F97","v":0},{"$f":"IF(ISBLANK(FirstPartDegrees2!$F$9),\"\",FirstPartDegrees2!$F$9)","v":""},null,null,0,{"$f":"FirstPartDegrees2!K97","v":0},{"$f":"IF(ISBLANK(FirstPartDegrees2!$K$9),\"\",FirstPartDegrees2!$K$9)","v":""},{"$f":"FirstPartDegrees2!L97","v":0},{"$f":"IF(ISBLANK(FirstPartDegrees2!$K$9),\"\",FirstPartDegrees2!$K$9)","v":""},null,null,0,{"$f":"SeconedPartDegrees2!M97","v":0},{"$f":"IF(ISBLANK(SeconedPartDegrees2!$M$9),\"\",SeconedPartDegrees2!$M$9)","v":""},{"$f":"SeconedPartDegrees2!N97","v":0},{"$f":"IF(ISBLANK(SeconedPartDegrees2!$M$9),\"\",SeconedPartDegrees2!$M$9)","v":""},null,null,0,{"$f":"FirstPartDegrees2!H97","v":0},{"$f":"IF(ISBLANK(FirstPartDegrees2!$H$9),\"\",FirstPartDegrees2!$H$9)","v":""},{"$f":"SeconedPartDegrees2!C97","v":0},{"$f":"IF(ISBLANK(SeconedPartDegrees2!$C$9),\"\",SeconedPartDegrees2!$C$9)","v":""},null,null,0,0,{"$f":"SeconedPartDegrees2!G97","v":0},{"$f":"IF(ISBLANK(SeconedPartDegrees2!$G$9),\"\",SeconedPartDegrees2!$G$9)","v":""},{"$f":"SeconedPartDegrees2!H97","v":0},{"$f":"IF(ISBLANK(SeconedPartDegrees2!$G$9),\"\",SeconedPartDegrees2!$G$9)","v":""},null,null,0,{"$f":"SeconedPartDegrees2!I97","v":0},{"$f":"IF(ISBLANK(SeconedPartDegrees2!$G$9),\"\",SeconedPartDegrees2!$G$9)","v":""},{"$f":"SeconedPartDegrees2!J97","v":0},{"$f":"IF(ISBLANK(SeconedPartDegrees2!$G$9),\"\",SeconedPartDegrees2!$G$9)","v":""},null,null,0,{"$f":"SeconedPartDegrees2!O97","v":0},{"$f":"IF(ISBLANK(SeconedPartDegrees2!$M$9),\"\",SeconedPartDegrees2!$M$9)","v":""},{"$f":"SeconedPartDegrees2!P97","v":0},{"$f":"IF(ISBLANK(SeconedPartDegrees2!$M$9),\"\",SeconedPartDegrees2!$M$9)","v":""},null,null,0,{"$f":"SeconedPartDegrees2!K97","v":0},{"$f":"IF(ISBLANK(SeconedPartDegrees2!$G$9),\"\",SeconedPartDegrees2!$G$9)","v":""},{"$f":"SeconedPartDegrees2!L97","v":0},{"$f":"IF(ISBLANK(SeconedPartDegrees2!$G$9),\"\",SeconedPartDegrees2!$G$9)","v":""},null,null,0,0,{"$f":"FirstPartDegrees2!D97","v":0},{"$f":"IF(ISBLANK(FirstPartDegrees2!$C$9),\"\",FirstPartDegrees2!$C$9)","v":""},{"$f":"FirstPartDegrees2!E97","v":0},{"$f":"IF(ISBLANK(FirstPartDegrees2!$C$9),\"\",FirstPartDegrees2!$C$9)","v":""},null,null,0,{"$f":"FirstPartDegrees2!I97","v":0},{"$f":"IF(ISBLANK(FirstPartDegrees2!$H$9),\"\",FirstPartDegrees2!$H$9)","v":""},{"$f":"FirstPartDegrees2!J97","v":0},{"$f":"IF(ISBLANK(FirstPartDegrees2!$H$9),\"\",FirstPartDegrees2!$H$9)","v":""},null,null,0,{"$f":"FirstPartDegrees2!M97","v":0},{"$f":"IF(ISBLANK(FirstPartDegrees2!$M$9),\"\",FirstPartDegrees2!$M$9)","v":""},{"$f":"FirstPartDegrees2!N97","v":0},{"$f":"IF(ISBLANK(FirstPartDegrees2!$M$9),\"\",FirstPartDegrees2!$M$9)","v":""},null,null,0,{"$f":"SeconedPartDegrees2!D97","v":0},{"$f":"IF(ISBLANK(SeconedPartDegrees2!$D$9),\"\",SeconedPartDegrees2!$D$9)","v":""},{"$f":"SeconedPartDegrees2!F97","v":0},{"$f":"IF(ISBLANK(SeconedPartDegrees2!$F$9),\"\",SeconedPartDegrees2!$F$9)","v":""},null,null,0,0,0,{"$f":"SeconedPartDegrees2!R97","v":""}]
[{"$f":"SeconedPartDegrees2!$A99","v":44},{"$f":"FirstPartDegrees2!$B99","v":""},{"$f":"FirstPartDegrees2!$H$7","v":"7-1"},{"$f":"FirstPartDegrees2!C99","v":0},{"$f":"IF(ISBLANK(FirstPartDegrees2!$C$9),\"\",FirstPartDegrees2!$C$9)","v":""},{"$f":"FirstPartDegrees2!F99","v":0},{"$f":"IF(ISBLANK(FirstPartDegrees2!$F$9),\"\",FirstPartDegrees2!$F$9)","v":""},null,null,0,{"$f":"FirstPartDegrees2!K99","v":0},{"$f":"IF(ISBLANK(FirstPartDegrees2!$K$9),\"\",FirstPartDegrees2!$K$9)","v":""},{"$f":"FirstPartDegrees2!L99","v":0},{"$f":"IF(ISBLANK(FirstPartDegrees2!$K$9),\"\",FirstPartDegrees2!$K$9)","v":""},null,null,0,{"$f":"SeconedPartDegrees2!M99","v":0},{"$f":"IF(ISBLANK(SeconedPartDegrees2!$M$9),\"\",SeconedPartDegrees2!$M$9)","v":""},{"$f":"SeconedPartDegrees2!N99","v":0},{"$f":"IF(ISBLANK(SeconedPartDegrees2!$M$9),\"\",SeconedPartDegrees2!$M$9)","v":""},null,null,0,{"$f":"FirstPartDegrees2!H99","v":0},{"$f":"IF(ISBLANK(FirstPartDegrees2!$H$9),\"\",FirstPartDegrees2!$H$9)","v":""},{"$f":"SeconedPartDegrees2!C99","v":0},{"$f":"IF(ISBLANK(SeconedPartDegrees2!$C$9),\"\",SeconedPartDegrees2!$C$9)","v":""},null,null,0,0,{"$f":"SeconedPartDegrees2!G99","v":0},{"$f":"IF(ISBLANK(SeconedPartDegrees2!$G$9),\"\",SeconedPartDegrees2!$G$9)","v":""},{"$f":"SeconedPartDegrees2!H99","v":0},{"$f":"IF(ISBLANK(SeconedPartDegrees2!$G$9),\"\",SeconedPartDegrees2!$G$9)","v":""},null,null,0,{"$f":"SeconedPartDegrees2!I99","v":0},{"$f":"IF(ISBLANK(SeconedPartDegrees2!$G$9),\"\",SeconedPartDegrees2!$G$9)","v":""},{"$f":"SeconedPartDegrees2!J99","v":0},{"$f":"IF(ISBLANK(SeconedPartDegrees2!$G$9),\"\",SeconedPartDegrees2!$G$9)","v":""},null,null,0,{"$f":"SeconedPartDegrees2!O99","v":0},{"$f":"IF(ISBLANK(SeconedPartDegrees2!$M$9),\"\",SeconedPartDegrees2!$M$9)","v":""},{"$f":"SeconedPartDegrees2!P99","v":0},{"$f":"IF(ISBLANK(SeconedPartDegrees2!$M$9),\"\",SeconedPartDegrees2!$M$9)","v":""},null,null,0,{"$f":"SeconedPartDegrees2!K99","v":0},{"$f":"IF(ISBLANK(SeconedPartDegrees2!$G$9),\"\",SeconedPartDegrees2!$G$9)","v":""},{"$f":"SeconedPartDegrees2!L99","v":0},{"$f":"IF(ISBLANK(SeconedPartDegrees2!$G$9),\"\",SeconedPartDegrees2!$G$9)","v":""},null,null,0,0,{"$f":"FirstPartDegrees2!D99","v":0},{"$f":"IF(ISBLANK(FirstPartDegrees2!$C$9),\"\",FirstPartDegrees2!$C$9)","v":""},{"$f":"FirstPartDegrees2!E99","v":0},{"$f":"IF(ISBLANK(FirstPartDegrees2!$C$9),\"\",FirstPartDegrees2!$C$9)","v":""},null,null,0,{"$f":"FirstPartDegrees2!I99","v":0},{"$f":"IF(ISBLANK(FirstPartDegrees2!$H$9),\"\",FirstPartDegrees2!$H$9)","v":""},{"$f":"FirstPartDegrees2!J99","v":0},{"$f":"IF(ISBLANK(FirstPartDegrees2!$H$9),\"\",FirstPartDegrees2!$H$9)","v":""},null,null,0,{"$f":"FirstPartDegrees2!M99","v":0},{"$f":"IF(ISBLANK(FirstPartDegrees2!$M$9),\"\",FirstPartDegrees2!$M$9)","v":""},{"$f":"FirstPartDegrees2!N99","v":0},{"$f":"IF(ISBLANK(FirstPartDegrees2!$M$9),\"\",FirstPartDegrees2!$M$9)","v":""},null,null,0,{"$f":"SeconedPartDegrees2!D99","v":0},{"$f":"IF(ISBLANK(SeconedPartDegrees2!$D$9),\"\",SeconedPartDegrees2!$D$9)","v":""},{"$f":"SeconedPartDegrees2!F99","v":0},{"$f":"IF(ISBLANK(SeconedPartDegrees2!$F$9),\"\",SeconedPartDegrees2!$F$9)","v":""},null,null,0,0,0,{"$f":"SeconedPartDegrees2!R99","v":""}]
[{"$f":"SeconedPartDegrees2!$A101","v":45},{"$f":"FirstPartDegrees2!$B101","v":""},{"$f":"FirstPartDegrees2!$H$7","v":"7-1"},{"$f":"FirstPartDegrees2!C101","v":0},{"$f":"IF(ISBLANK(FirstPartDegrees2!$C$9),\"\",FirstPartDegrees2!$C$9)","v":""},{"$f":"FirstPartDegrees2!F101","v":0},{"$f":"IF(ISBLANK(FirstPartDegrees2!$F$9),\"\",FirstPartDegrees2!$F$9)","v":""},null,null,0,{"$f":"FirstPartDegrees2!K101","v":0},{"$f":"IF(ISBLANK(FirstPartDegrees2!$K$9),\"\",FirstPartDegrees2!$K$9)","v":""},{"$f":"FirstPartDegrees2!L101","v":0},{"$f":"IF(ISBLANK(FirstPartDegrees2!$K$9),\"\",FirstPartDegrees2!$K$9)","v":""},null,null,0,{"$f":"SeconedPartDegrees2!M101","v":0},{"$f":"IF(ISBLANK(SeconedPartDegrees2!$M$9),\"\",SeconedPartDegrees2!$M$9)","v":""},{"$f":"SeconedPartDegrees2!N101","v":0},{"$f":"IF(ISBLANK(SeconedPartDegrees2!$M$9),\"\",SeconedPartDegrees2!$M$9)","v":""},null,null,0,{"$f":"FirstPartDegrees2!H101","v":0},{"$f":"IF(ISBLANK(FirstPartDegrees2!$H$9),\"\",FirstPartDegrees2!$H$9)","v":""},{"$f":"SeconedPartDegrees2!C101","v":0},{"$f":"IF(ISBLANK(SeconedPartDegrees2!$C$9),\"\",SeconedPartDegrees2!$C$9)","v":""},null,null,0,0,{"$f":"SeconedPartDegrees2!G101","v":0},{"$f":"IF(ISBLANK(SeconedPartDegrees2!$G$9),\"\",SeconedPartDegrees2!$G$9)","v":""},{"$f":"SeconedPartDegrees2!H101","v":0},{"$f":"IF(ISBLANK(SeconedPartDegrees2!$G$9),\"\",SeconedPartDegrees2!$G$9)","v":""},null,null,0,{"$f":"SeconedPartDegrees2!I101","v":0},{"$f":"IF(ISBLANK(SeconedPartDegrees2!$G$9),\"\",SeconedPartDegrees2!$G$9)","v":""},{"$f":"SeconedPartDegrees2!J101","v":0},{"$f":"IF(ISBLANK(SeconedPartDegrees2!$G$9),\"\",SeconedPartDegrees2!$G$9)","v":""},null,null,0,{"$f":"SeconedPartDegrees2!O101","v":0},{"$f":"IF(ISBLANK(SeconedPartDegrees2!$M$9),\"\",SeconedPartDegrees2!$M$9)","v":""},{"$f":"SeconedPartDegrees2!P101","v":0},{"$f":"IF(ISBLANK(SeconedPartDegrees2!$M$9),\"\",SeconedPartDegrees2!$M$9)","v":""},null,null,0,{"$f":"SeconedPartDegrees2!K101","v":0},{"$f":"IF(ISBLANK(SeconedPartDegrees2!$G$9),\"\",SeconedPartDegrees2!$G$9)","v":""},{"$f":"SeconedPartDegrees2!L101","v":0},{"$f":"IF(ISBLANK(SeconedPartDegrees2!$G$9),\"\",SeconedPartDegrees2!$G$9)","v":""},null,null,0,0,{"$f":"FirstPartDegrees2!D101","v":0},{"$f":"IF(ISBLANK(FirstPartDegrees2!$C$9),\"\",FirstPartDegrees2!$C$9)","v":""},{"$f":"FirstPartDegrees2!E101","v":0},{"$f":"IF(ISBLANK(FirstPartDegrees2!$C$9),\"\",FirstPartDegrees2!$C$9)","v":""},null,null,0,{"$f":"FirstPartDegrees2!I101","v":0},{"$f":"IF(ISBLANK(FirstPartDegrees2!$H$9),\"\",FirstPartDegrees2!$H$9)","v":""},{"$f":"FirstPartDegrees2!J101","v":0},{"$f":"IF(ISBLANK(FirstPartDegrees2!$H$9),\"\",FirstPartDegrees2!$H$9)","v":""},null,null,0,{"$f":"FirstPartDegrees2!M101","v":0},{"$f":"IF(ISBLANK(FirstPartDegrees2!$M$9),\"\",FirstPartDegrees2!$M$9)","v":""},{"$f":"FirstPartDegrees2!N101","v":0},{"$f":"IF(ISBLANK(FirstPartDegrees2!$M$9),\"\",FirstPartDegrees2!$M$9)","v":""},null,null,0,{"$f":"SeconedPartDegrees2!D101","v":0},{"$f":"IF(ISBLANK(SeconedPartDegrees2!$D$9),\"\",SeconedPartDegrees2!$D$9)","v":""},{"$f":"SeconedPartDegrees2!F101","v":0},{"$f":"IF(ISBLANK(SeconedPartDegrees2!$F$9),\"\",SeconedPartDegrees2!$F$9)","v":""},null,null,0,0,0,{"$f":"SeconedPartDegrees2!R101","v":""}]
[{"$f":"SeconedPartDegrees2!$A103","v":46},{"$f":"FirstPartDegrees2!$B103","v":""},{"$f":"FirstPartDegrees2!$H$7","v":"7-1"},{"$f":"FirstPartDegrees2!C103","v":0},{"$f":"IF(ISBLANK(FirstPartDegrees2!$C$9),\"\",FirstPartDegrees2!$C$9)","v":""},{"$f":"FirstPartDegrees2!F103","v":0},{"$f":"IF(ISBLANK(FirstPartDegrees2!$F$9),\"\",FirstPartDegrees2!$F$9)","v":""},null,null,0,{"$f":"FirstPartDegrees2!K103","v":0},{"$f":"IF(ISBLANK(FirstPartDegrees2!$K$9),\"\",FirstPartDegrees2!$K$9)","v":""},{"$f":"FirstPartDegrees2!L103","v":0},{"$f":"IF(ISBLANK(FirstPartDegrees2!$K$9),\"\",FirstPartDegrees2!$K$9)","v":""},null,null,0,{"$f":"SeconedPartDegrees2!M103","v":0},{"$f":"IF(ISBLANK(SeconedPartDegrees2!$M$9),\"\",SeconedPartDegrees2!$M$9)","v":""},{"$f":"SeconedPartDegrees2!N103","v":0},{"$f":"IF(ISBLANK(SeconedPartDegrees2!$M$9),\"\",SeconedPartDegrees2!$M$9)","v":""},null,null,0,{"$f":"FirstPartDegrees2!H103","v":0},{"$f":"IF(ISBLANK(FirstPartDegrees2!$H$9),\"\",FirstPartDegrees2!$H$9)","v":""},{"$f":"SeconedPartDegrees2!C103","v":0},{"$f":"IF(ISBLANK(SeconedPartDegrees2!$C$9),\"\",SeconedPartDegrees2!$C$9)","v":""},null,null,0,0,{"$f":"SeconedPartDegrees2!G103","v":0},{"$f":"IF(ISBLANK(SeconedPartDegrees2!$G$9),\"\",SeconedPartDegrees2!$G$9)","v":""},{"$f":"SeconedPartDegrees2!H103","v":0},{"$f":"IF(ISBLANK(SeconedPartDegrees2!$G$9),\"\",SeconedPartDegrees2!$G$9)","v":""},null,null,0,{"$f":"SeconedPartDegrees2!I103","v":0},{"$f":"IF(ISBLANK(SeconedPartDegrees2!$G$9),\"\",SeconedPartDegrees2!$G$9)","v":""},{"$f":"SeconedPartDegrees2!J103","v":0},{"$f":"IF(ISBLANK(SeconedPartDegrees2!$G$9),\"\",SeconedPartDegrees2!$G$9)","v":""},null,null,0,{"$f":"SeconedPartDegrees2!O103","v":0},{"$f":"IF(ISBLANK(SeconedPartDegrees2!$M$9),\"\",SeconedPartDegrees2!$M$9)","v":""},{"$f":"SeconedPartDegrees2!P103","v":0},{"$f":"IF(ISBLANK(SeconedPartDegrees2!$M$9),\"\",SeconedPartDegrees2!$M$9)","v":""},null,null,0,{"$f":"SeconedPartDegrees2!K103","v":0},{"$f":"IF(ISBLANK(SeconedPartDegrees2!$G$9),\"\",SeconedPartDegrees2!$G$9)","v":""},{"$f":"SeconedPartDegrees2!L103","v":0},{"$f":"IF(ISBLANK(SeconedPartDegrees2!$G$9),\"\",SeconedPartDegrees2!$G$9)","v":""},null,null,0,0,{"$f":"FirstPartDegrees2!D103","v":0},{"$f":"IF(ISBLANK(FirstPartDegrees2!$C$9),\"\",FirstPartDegrees2!$C$9)","v":""},{"$f":"FirstPartDegrees2!E103","v":0},{"$f":"IF(ISBLANK(FirstPartDegrees2!$C$9),\"\",FirstPartDegrees2!$C$9)","v":""},null,null,0,{"$f":"FirstPartDegrees2!I103","v":0},{"$f":"IF(ISBLANK(FirstPartDegrees2!$H$9),\"\",FirstPartDegrees2!$H$9)","v":""},{"$f":"FirstPartDegrees2!J103","v":0},{"$f":"IF(ISBLANK(FirstPartDegrees2!$H$9),\"\",FirstPartDegrees2!$H$9)","v":""},null,null,0,{"$f":"FirstPartDegrees2!M103","v":0},{"$f":"IF(ISBLANK(FirstPartDegrees2!$M$9),\"\",FirstPartDegrees2!$M$9)","v":""},{"$f":"FirstPartDegrees2!N103","v":0},{"$f":"IF(ISBLANK(FirstPartDegrees2!$M$9),\"\",FirstPartDegrees2!$M$9)","v":""},null,null,0,{"$f":"SeconedPartDegrees2!D103","v":0},{"$f":"IF(ISBLANK(SeconedPartDegrees2!$D$9),\"\",SeconedPartDegrees2!$D$9)","v":""},{"$f":"SeconedPartDegrees2!F103","v":0},{"$f":"IF(ISBLANK(SeconedPartDegrees2!$F$9),\"\",SeconedPartDegrees2!$F$9)","v":""},null,null,0,0,0,{"$f":"SeconedPartDegrees2!R103","v":""}]
[{"$f":"SeconedPartDegrees2!$A105","v":47},{"$f":"FirstPartDegrees2!$B105","v":""},{"$f":"FirstPartDegrees2!$H$7","v":"7-1"},{"$f":"FirstPartDegrees2!C105","v":0},{"$f":"IF(ISBLANK(FirstPartDegrees2!$C$9),\"\",FirstPartDegrees2!$C$9)","v":""},{"$f":"FirstPartDegrees2!F105","v":0},{"$f":"IF(ISBLANK(FirstPartDegrees2!$F$9),\"\",FirstPartDegrees2!$F$9)","v":""},null,null,0,{"$f":"FirstPartDegrees2!K105","v":0},{"$f":"IF(ISBLANK(FirstPartDegrees2!$K$9),\"\",FirstPartDegrees2!$K$9)","v":""},{"$f":"FirstPartDegrees2!L105","v":0},{"$f":"IF(ISBLANK(FirstPartDegrees2!$K$9),\"\",FirstPartDegrees2!$K$9)","v":""},null,null,0,{"$f":"SeconedPartDegrees2!M105","v":0},{"$f":"IF(ISBLANK(SeconedPartDegrees2!$M$9),\"\",SeconedPartDegrees2!$M$9)","v":""},{"$f":"SeconedPartDegrees2!N105","v":0},{"$f":"IF(ISBLANK(SeconedPartDegrees2!$M$9),\"\",SeconedPartDegrees2!$M$9)","v":""},null,null,0,{"$f":"FirstPartDegrees2!H105","v":0},{"$f":"IF(ISBLANK(FirstPartDegrees2!$H$9),\"\",FirstPartDegrees2!$H$9)","v":""},{"$f":"SeconedPartDegrees2!C105","v":0},{"$f":"IF(ISBLANK(SeconedPartDegrees2!$C$9),\"\",SeconedPartDegrees2!$C$9)","v":""},null,null,0,0,{"$f":"SeconedPartDegrees2!G105","v":0},{"$f":"IF(ISBLANK(SeconedPartDegrees2!$G$9),\"\",SeconedPartDegrees2!$G$9)","v":""},{"$f":"SeconedPartDegrees2!H105","v":0},{"$f":"IF(ISBLANK(SeconedPartDegrees2!$G$9),\"\",SeconedPartDegrees2!$G$9)","v":""},null,null,0,{"$f":"SeconedPartDegrees2!I105","v":0},{"$f":"IF(ISBLANK(SeconedPartDegrees2!$G$9),\"\",SeconedPartDegrees2!$G$9)","v":""},{"$f":"SeconedPartDegrees2!J105","v":0},{"$f":"IF(ISBLANK(SeconedPartDegrees2!$G$9),\"\",SeconedPartDegrees2!$G$9)","v":""},null,null,0,{"$f":"SeconedPartDegrees2!O105","v":0},{"$f":"IF(ISBLANK(SeconedPartDegrees2!$M$9),\"\",SeconedPartDegrees2!$M$9)","v":""},{"$f":"SeconedPartDegrees2!P105","v":0},{"$f":"IF(ISBLANK(SeconedPartDegrees2!$M$9),\"\",SeconedPartDegrees2!$M$9)","v":""},null,null,0,{"$f":"SeconedPartDegrees2!K105","v":0},{"$f":"IF(ISBLANK(SeconedPartDegrees2!$G$9),\"\",SeconedPartDegrees2!$G$9)","v":""},{"$f":"SeconedPartDegrees2!L105","v":0},{"$f":"IF(ISBLANK(SeconedPartDegrees2!$G$9),\"\",SeconedPartDegrees2!$G$9)","v":""},null,null,0,0,{"$f":"FirstPartDegrees2!D105","v":0},{"$f":"IF(ISBLANK(FirstPartDegrees2!$C$9),\"\",FirstPartDegrees2!$C$9)","v":""},{"$f":"FirstPartDegrees2!E105","v":0},{"$f":"IF(ISBLANK(FirstPartDegrees2!$C$9),\"\",FirstPartDegrees2!$C$9)","v":""},null,null,0,{"$f":"FirstPartDegrees2!I105","v":0},{"$f":"IF(ISBLANK(FirstPartDegrees2!$H$9),\"\",FirstPartDegrees2!$H$9)","v":""},{"$f":"FirstPartDegrees2!J105","v":0},{"$f":"IF(ISBLANK(FirstPartDegrees2!$H$9),\"\",FirstPartDegrees2!$H$9)","v":""},null,null,0,{"$f":"FirstPartDegrees2!M105","v":0},{"$f":"IF(ISBLANK(FirstPartDegrees2!$M$9),\"\",FirstPartDegrees2!$M$9)","v":""},{"$f":"FirstPartDegrees2!N105","v":0},{"$f":"IF(ISBLANK(FirstPartDegrees2!$M$9),\"\",FirstPartDegrees2!$M$9)","v":""},null,null,0,{"$f":"SeconedPartDegrees2!D105","v":0},{"$f":"IF(ISBLANK(SeconedPartDegrees2!$D$9),\"\",SeconedPartDegrees2!$D$9)","v":""},{"$f":"SeconedPartDegrees2!F105","v":0},{"$f":"IF(ISBLANK(SeconedPartDegrees2!$F$9),\"\",SeconedPartDegrees2!$F$9)","v":""},null,null,0,0,0,{"$f":"SeconedPartDegrees2!R105","v":""}]
[{"$f":"SeconedPartDegrees2!$A107","v":48},{"$f":"FirstPartDegrees2!$B107","v":""},{"$f":"FirstPartDegrees2!$H$7","v":"7-1"},{"$f":"FirstPartDegrees2!C107","v":0},{"$f":"IF(ISBLANK(FirstPartDegrees2!$C$9),\"\",FirstPartDegrees2!$C$9)","v":""},{"$f":"FirstPartDegrees2!F107","v":0},{"$f":"IF(ISBLANK(FirstPartDegrees2!$F$9),\"\",FirstPartDegrees2!$F$9)","v":""},null,null,0,{"$f":"FirstPartDegrees2!K107","v":0},{"$f":"IF(ISBLANK(FirstPartDegrees2!$K$9),\"\",FirstPartDegrees2!$K$9)","v":""},{"$f":"FirstPartDegrees2!L107","v":0},{"$f":"IF(ISBLANK(FirstPartDegrees2!$K$9),\"\",FirstPartDegrees2!$K$9)","v":""},null,null,0,{"$f":"SeconedPartDegrees2!M107","v":0},{"$f":"IF(ISBLANK(SeconedPartDegrees2!$M$9),\"\",SeconedPartDegrees2!$M$9)","v":""},{"$f":"SeconedPartDegrees2!N107","v":0},{"$f":"IF(ISBLANK(SeconedPartDegrees2!$M$9),\"\",SeconedPartDegrees2!$M$9)","v":""},null,null,0,{"$f":"FirstPartDegrees2!H107","v":0},{"$f":"IF(ISBLANK(FirstPartDegrees2!$H$9),\"\",FirstPartDegrees2!$H$9)","v":""},{"$f":"SeconedPartDegrees2!C107","v":0},{"$f":"IF(ISBLANK(SeconedPartDegrees2!$C$9),\"\",SeconedPartDegrees2!$C$9)","v":""},null,null,0,0,{"$f":"SeconedPartDegrees2!G107","v":0},{"$f":"IF(ISBLANK(SeconedPartDegrees2!$G$9),\"\",SeconedPartDegrees2!$G$9)","v":""},{"$f":"SeconedPartDegrees2!H107","v":0},{"$f":"IF(ISBLANK(SeconedPartDegrees2!$G$9),\"\",SeconedPartDegrees2!$G$9)","v":""},null,null,0,{"$f":"SeconedPartDegrees2!I107","v":0},{"$f":"IF(ISBLANK(SeconedPartDegrees2!$G$9),\"\",SeconedPartDegrees2!$G$9)","v":""},{"$f":"SeconedPartDegrees2!J107","v":0},{"$f":"IF(ISBLANK(SeconedPartDegrees2!$G$9),\"\",SeconedPartDegrees2!$G$9)","v":""},null,null,0,{"$f":"SeconedPartDegrees2!O107","v":0},{"$f":"IF(ISBLANK(SeconedPartDegrees2!$M$9),\"\",SeconedPartDegrees2!$M$9)","v":""},{"$f":"SeconedPartDegrees2!P107","v":0},{"$f":"IF(ISBLANK(SeconedPartDegrees2!$M$9),\"\",SeconedPartDegrees2!$M$9)","v":""},null,null,0,{"$f":"SeconedPartDegrees2!K107","v":0},{"$f":"IF(ISBLANK(SeconedPartDegrees2!$G$9),\"\",SeconedPartDegrees2!$G$9)","v":""},{"$f":"SeconedPartDegrees2!L107","v":0},{"$f":"IF(ISBLANK(SeconedPartDegrees2!$G$9),\"\",SeconedPartDegrees2!$G$9)","v":""},null,null,0,0,{"$f":"FirstPartDegrees2!D107","v":0},{"$f":"IF(ISBLANK(FirstPartDegrees2!$C$9),\"\",FirstPartDegrees2!$C$9)","v":""},{"$f":"FirstPartDegrees2!E107","v":0},{"$f":"IF(ISBLANK(FirstPartDegrees2!$C$9),\"\",FirstPartDegrees2!$C$9)","v":""},null,null,0,{"$f":"FirstPartDegrees2!I107","v":0},{"$f":"IF(ISBLANK(FirstPartDegrees2!$H$9),\"\",FirstPartDegrees2!$H$9)","v":""},{"$f":"FirstPartDegrees2!J107","v":0},{"$f":"IF(ISBLANK(FirstPartDegrees2!$H$9),\"\",FirstPartDegrees2!$H$9)","v":""},null,null,0,{"$f":"FirstPartDegrees2!M107","v":0},{"$f":"IF(ISBLANK(FirstPartDegrees2!$M$9),\"\",FirstPartDegrees2!$M$9)","v":""},{"$f":"FirstPartDegrees2!N107","v":0},{"$f":"IF(ISBLANK(FirstPartDegrees2!$M$9),\"\",FirstPartDegrees2!$M$9)","v":""},null,null,0,{"$f":"SeconedPartDegrees2!D107","v":0},{"$f":"IF(ISBLANK(SeconedPartDegrees2!$D$9),\"\",SeconedPartDegrees2!$D$9)","v":""},{"$f":"SeconedPartDegrees2!F107","v":0},{"$f":"IF(ISBLANK(SeconedPartDegrees2!$F$9),\"\",SeconedPartDegrees2!$F$9)","v":""},null,null,0,0,0,{"$f":"SeconedPartDegrees2!R107","v":""}]
[{"$f":"SeconedPartDegrees2!$A109","v":49},{"$f":"FirstPartDegrees2!$B109","v":""},{"$f":"FirstPartDegrees2!$H$7","v":"7-1"},{"$f":"FirstPartDegrees2!C109","v":0},{"$f":"IF(ISBLANK(FirstPartDegrees2!$C$9),\"\",FirstPartDegrees2!$C$9)","v":""},{"$f":"FirstPartDegrees2!F109","v":0},{"$f":"IF(ISBLANK(FirstPartDegrees2!$F$9),\"\",FirstPartDegrees2!$F$9)","v":""},null,null,0,{"$f":"FirstPartDegrees2!K109","v":0},{"$f":"IF(ISBLANK(FirstPartDegrees2!$K$9),\"\",FirstPartDegrees2!$K$9)","v":""},{"$f":"FirstPartDegrees2!L109","v":0},{"$f":"IF(ISBLANK(FirstPartDegrees2!$K$9),\"\",FirstPartDegrees2!$K$9)","v":""},null,null,0,{"$f":"SeconedPartDegrees2!M109","v":0},{"$f":"IF(ISBLANK(SeconedPartDegrees2!$M$9),\"\",SeconedPartDegrees2!$M$9)","v":""},{"$f":"SeconedPartDegrees2!N109","v":0},{"$f":"IF(ISBLANK(SeconedPartDegrees2!$M$9),\"\",SeconedPartDegrees2!$M$9)","v":""},null,null,0,{"$f":"FirstPartDegrees2!H109","v":0},{"$f":"IF(ISBLANK(FirstPartDegrees2!$H$9),\"\",FirstPartDegrees2!$H$9)","v":""},{"$f":"SeconedPartDegrees2!C109","v":0},{"$f":"IF(ISBLANK(SeconedPartDegrees2!$C$9),\"\",SeconedPartDegrees2!$C$9)","v":""},null,null,0,0,{"$f":"SeconedPartDegrees2!G109","v":0},{"$f":"IF(ISBLANK(SeconedPartDegrees2!$G$9),\"\",SeconedPartDegrees2!$G$9)","v":""},{"$f":"SeconedPartDegrees2!H109","v":0},{"$f":"IF(ISBLANK(SeconedPartDegrees2!$G$9),\"\",SeconedPartDegrees2!$G$9)","v":""},null,null,0,{"$f":"SeconedPartDegrees2!I109","v":0},{"$f":"IF(ISBLANK(SeconedPartDegrees2!$G$9),\"\",SeconedPartDegrees2!$G$9)","v":""},{"$f":"SeconedPartDegrees2!J109","v":0},{"$f":"IF(ISBLANK(SeconedPartDegrees2!$G$9),\"\",SeconedPartDegrees2!$G$9)","v":""},null,null,0,{"$f":"SeconedPartDegrees2!O109","v":0},{"$f":"IF(ISBLANK(SeconedPartDegrees2!$M$9),\"\",SeconedPartDegrees2!$M$9)","v":""},{"$f":"SeconedPartDegrees2!P109","v":0},{"$f":"IF(ISBLANK(SeconedPartDegrees2!$M$9),\"\",SeconedPartDegrees2!$M$9)","v":""},null,null,0,{"$f":"SeconedPartDegrees2!K109","v":0},{"$f":"IF(ISBLANK(SeconedPartDegrees2!$G$9),\"\",SeconedPartDegrees2!$G$9)","v":""},{"$f":"SeconedPartDegrees2!L109","v":0},{"$f":"IF(ISBLANK(SeconedPartDegrees2!$G$9),\"\",SeconedPartDegrees2!$G$9)","v":""},null,null,0,0,{"$f":"FirstPartDegrees2!D109","v":0},{"$f":"IF(ISBLANK(FirstPartDegrees2!$C$9),\"\",FirstPartDegrees2!$C$9)","v":""},{"$f":"FirstPartDegrees2!E109","v":0},{"$f":"IF(ISBLANK(FirstPartDegrees2!$C$9),\"\",FirstPartDegrees2!$C$9)","v":""},null,null,0,{"$f":"FirstPartDegrees2!I109","v":0},{"$f":"IF(ISBLANK(FirstPartDegrees2!$H$9),\"\",FirstPartDegrees2!$H$9)","v":""},{"$f":"FirstPartDegrees2!J109","v":0},{"$f":"IF(ISBLANK(FirstPartDegrees2!$H$9),\"\",FirstPartDegrees2!$H$9)","v":""},null,null,0,{"$f":"FirstPartDegrees2!M109","v":0},{"$f":"IF(ISBLANK(FirstPartDegrees2!$M$9),\"\",FirstPartDegrees2!$M$9)","v":""},{"$f":"FirstPartDegrees2!N109","v":0},{"$f":"IF(ISBLANK(FirstPartDegrees2!$M$9),\"\",FirstPartDegrees2!$M$9)","v":""},null,null,0,{"$f":"SeconedPartDegrees2!D109","v":0},{"$f":"IF(ISBLANK(SeconedPartDegrees2!$D$9),\"\",SeconedPartDegrees2!$D$9)","v":""},{"$f":"SeconedPartDegrees2!F109","v":0},{"$f":"IF(ISBLANK(SeconedPartDegrees2!$F$9),\"\",SeconedPartDegrees2!$F$9)","v":""},null,null,0,0,0,{"$f":"SeconedPartDegrees2!R109","v":""}]
[{"$f":"SeconedPartDegrees2!$A111","v":50},{"$f":"FirstPartDegrees2!$B111","v":""},{"$f":"FirstPartDegrees2!$H$7","v":"7-1"},{"$f":"FirstPartDegrees2!C111","v":0},{"$f":"IF(ISBLANK(FirstPartDegrees2!$C$9),\"\",FirstPartDegrees2!$C$9)","v":""},{"$f":"FirstPartDegrees2!F111","v":0},{"$f":"IF(ISBLANK(FirstPartDegrees2!$F$9),\"\",FirstPartDegrees2!$F$9)","v":""},null,null,0,{"$f":"FirstPartDegrees2!K111","v":0},{"$f":"IF(ISBLANK(FirstPartDegrees2!$K$9),\"\",FirstPartDegrees2!$K$9)","v":""},{"$f":"FirstPartDegrees2!L111","v":0},{"$f":"IF(ISBLANK(FirstPartDegrees2!$K$9),\"\",FirstPartDegrees2!$K$9)","v":""},null,null,0,{"$f":"SeconedPartDegrees2!M111","v":0},{"$f":"IF(ISBLANK(SeconedPartDegrees2!$M$9),\"\",SeconedPartDegrees2!$M$9)","v":""},{"$f":"SeconedPartDegrees2!N111","v":0},{"$f":"IF(ISBLANK(SeconedPartDegrees2!$M$9),\"\",SeconedPartDegrees2!$M$9)","v":""},null,null,0,{"$f":"FirstPartDegrees2!H111","v":0},{"$f":"IF(ISBLANK(FirstPartDegrees2!$H$9),\"\",FirstPartDegrees2!$H$9)","v":""},{"$f":"SeconedPartDegrees2!C111","v":0},{"$f":"IF(ISBLANK(SeconedPartDegrees2!$C$9),\"\",SeconedPartDegrees2!$C$9)","v":""},null,null,0,0,{"$f":"SeconedPartDegrees2!G111","v":0},{"$f":"IF(ISBLANK(SeconedPartDegrees2!$G$9),\"\",SeconedPartDegrees2!$G$9)","v":""},{"$f":"SeconedPartDegrees2!H111","v":0},{"$f":"IF(ISBLANK(SeconedPartDegrees2!$G$9),\"\",SeconedPartDegrees2!$G$9)","v":""},null,null,0,{"$f":"SeconedPartDegrees2!I111","v":0},{"$f":"IF(ISBLANK(SeconedPartDegrees2!$G$9),\"\",SeconedPartDegrees2!$G$9)","v":""},{"$f":"SeconedPartDegrees2!J111","v":0},{"$f":"IF(ISBLANK(SeconedPartDegrees2!$G$9),\"\",SeconedPartDegrees2!$G$9)","v":""},null,null,0,{"$f":"SeconedPartDegrees2!O111","v":0},{"$f":"IF(ISBLANK(SeconedPartDegrees2!$M$9),\"\",SeconedPartDegrees2!$M$9)","v":""},{"$f":"SeconedPartDegrees2!P111","v":0},{"$f":"IF(ISBLANK(SeconedPartDegrees2!$M$9),\"\",SeconedPartDegrees2!$M$9)","v":""},null,null,0,{"$f":"SeconedPartDegrees2!K111","v":0},{"$f":"IF(ISBLANK(SeconedPartDegrees2!$G$9),\"\",SeconedPartDegrees2!$G$9)","v":""},{"$f":"SeconedPartDegrees2!L111","v":0},{"$f":"IF(ISBLANK(SeconedPartDegrees2!$G$9),\"\",SeconedPartDegrees2!$G$9)","v":""},null,null,0,0,{"$f":"FirstPartDegrees2!D111","v":0},{"$f":"IF(ISBLANK(FirstPartDegrees2!$C$9),\"\",FirstPartDegrees2!$C$9)","v":""},{"$f":"FirstPartDegrees2!E111","v":0},{"$f":"IF(ISBLANK(FirstPartDegrees2!$C$9),\"\",FirstPartDegrees2!$C$9)","v":""},null,null,0,{"$f":"FirstPartDegrees2!I111","v":0},{"$f":"IF(ISBLANK(FirstPartDegrees2!$H$9),\"\",FirstPartDegrees2!$H$9)","v":""},{"$f":"FirstPartDegrees2!J111","v":0},{"$f":"IF(ISBLANK(FirstPartDegrees2!$H$9),\"\",FirstPartDegrees2!$H$9)","v":""},null,null,0,{"$f":"FirstPartDegrees2!M111","v":0},{"$f":"IF(ISBLANK(FirstPartDegrees2!$M$9),\"\",FirstPartDegrees2!$M$9)","v":""},{"$f":"FirstPartDegrees2!N111","v":0},{"$f":"IF(ISBLANK(FirstPartDegrees2!$M$9),\"\",FirstPartDegrees2!$M$9)","v":""},null,null,0,{"$f":"SeconedPartDegrees2!D111","v":0},{"$f":"IF(ISBLANK(SeconedPartDegrees2!$D$9),\"\",SeconedPartDegrees2!$D$9)","v":""},{"$f":"SeconedPartDegrees2!F111","v":0},{"$f":"IF(ISBLANK(SeconedPartDegrees2!$F$9),\"\",SeconedPartDegrees2!$F$9)","v":""},null,null,0,0,0,{"$f":"SeconedPartDegrees2!R111","v":""}]
[{"$f":"SeconedPartDegrees2!$A113","v":51},{"$f":"FirstPartDegrees2!$B113","v":""},{"$f":"FirstPartDegrees2!$H$7","v":"7-1"},{"$f":"FirstPartDegrees2!C113","v":0},{"$f":"IF(ISBLANK(FirstPartDegrees2!$C$9),\"\",FirstPartDegrees2!$C$9)","v":""},{"$f":"FirstPartDegrees2!F113","v":0},{"$f":"IF(ISBLANK(FirstPartDegrees2!$F$9),\"\",FirstPartDegrees2!$F$9)","v":""},null,null,0,{"$f":"FirstPartDegrees2!K113","v":0},{"$f":"IF(ISBLANK(FirstPartDegrees2!$K$9),\"\",FirstPartDegrees2!$K$9)","v":""},{"$f":"FirstPartDegrees2!L113","v":0},{"$f":"IF(ISBLANK(FirstPartDegrees2!$K$9),\"\",FirstPartDegrees2!$K$9)","v":""},null,null,0,{"$f":"SeconedPartDegrees2!M113","v":0},{"$f":"IF(ISBLANK(SeconedPartDegrees2!$M$9),\"\",SeconedPartDegrees2!$M$9)","v":""},{"$f":"SeconedPartDegrees2!N113","v":0},{"$f":"IF(ISBLANK(SeconedPartDegrees2!$M$9),\"\",SeconedPartDegrees2!$M$9)","v":""},null,null,0,{"$f":"FirstPartDegrees2!H113","v":0},{"$f":"IF(ISBLANK(FirstPartDegrees2!$H$9),\"\",FirstPartDegrees2!$H$9)","v":""},{"$f":"SeconedPartDegrees2!C113","v":0},{"$f":"IF(ISBLANK(SeconedPartDegrees2!$C$9),\"\",SeconedPartDegrees2!$C$9)","v":""},null,null,0,0,{"$f":"SeconedPartDegrees2!G113","v":0},{"$f":"IF(ISBLANK(SeconedPartDegrees2!$G$9),\"\",SeconedPartDegrees2!$G$9)","v":""},{"$f":"SeconedPartDegrees2!H113","v":0},{"$f":"IF(ISBLANK(SeconedPartDegrees2!$G$9),\"\",SeconedPartDegrees2!$G$9)","v":""},null,null,0,{"$f":"SeconedPartDegrees2!I113","v":0},{"$f":"IF(ISBLANK(SeconedPartDegrees2!$G$9),\"\",SeconedPartDegrees2!$G$9)","v":""},{"$f":"SeconedPartDegrees2!J113","v":0},{"$f":"IF(ISBLANK(SeconedPartDegrees2!$G$9),\"\",SeconedPartDegrees2!$G$9)","v":""},null,null,0,{"$f":"SeconedPartDegrees2!O113","v":0},{"$f":"IF(ISBLANK(SeconedPartDegrees2!$M$9),\"\",SeconedPartDegrees2!$M$9)","v":""},{"$f":"SeconedPartDegrees2!P113","v":0},{"$f":"IF(ISBLANK(SeconedPartDegrees2!$M$9),\"\",SeconedPartDegrees2!$M$9)","v":""},null,null,0,{"$f":"SeconedPartDegrees2!K113","v":0},{"$f":"IF(ISBLANK(SeconedPartDegrees2!$G$9),\"\",SeconedPartDegrees2!$G$9)","v":""},{"$f":"SeconedPartDegrees2!L113","v":0},{"$f":"IF(ISBLANK(SeconedPartDegrees2!$G$9),\"\",SeconedPartDegrees2!$G$9)","v":""},null,null,0,0,{"$f":"FirstPartDegrees2!D113","v":0},{"$f":"IF(ISBLANK(FirstPartDegrees2!$C$9),\"\",FirstPartDegrees2!$C$9)","v":""},{"$f":"FirstPartDegrees2!E113","v":0},{"$f":"IF(ISBLANK(FirstPartDegrees2!$C$9),\"\",FirstPartDegrees2!$C$9)","v":""},null,null,0,{"$f":"FirstPartDegrees2!I113","v":0},{"$f":"IF(ISBLANK(FirstPartDegrees2!$H$9),\"\",FirstPartDegrees2!$H$9)","v":""},{"$f":"FirstPartDegrees2!J113","v":0},{"$f":"IF(ISBLANK(FirstPartDegrees2!$H$9),\"\",FirstPartDegrees2!$H$9)","v":""},null,null,0,{"$f":"FirstPartDegrees2!M113","v":0},{"$f":"IF(ISBLANK(FirstPartDegrees2!$M$9),\"\",FirstPartDegrees2!$M$9)","v":""},{"$f":"FirstPartDegrees2!N113","v":0},{"$f":"IF(ISBLANK(FirstPartDegrees2!$M$9),\"\",FirstPartDegrees2!$M$9)","v":""},null,null,0,{"$f":"SeconedPartDegrees2!D113","v":0},{"$f":"IF(ISBLANK(SeconedPartDegrees2!$D$9),\"\",SeconedPartDegrees2!$D$9)","v":""},{"$f":"SeconedPartDegrees2!F113","v":0},{"$f":"IF(ISBLANK(SeconedPartDegrees2!$F$9),\"\",SeconedPartDegrees2!$F$9)","v":""},null,null,0,0,0,{"$f":"SeconedPartDegrees2!R113","v":""}]
[{"$f":"SeconedPartDegrees2!$A115","v":52},{"$f":"FirstPartDegrees2!$B115","v":""},{"$f":"FirstPartDegrees2!$H$7","v":"7-1"},{"$f":"FirstPartDegrees2!C115","v":0},{"$f":"IF(ISBLANK(FirstPartDegrees2!$C$9),\"\",FirstPartDegrees2!$C$9)","v":""},{"$f":"FirstPartDegrees2!F115","v":0},{"$f":"IF(ISBLANK(FirstPartDegrees2!$F$9),\"\",FirstPartDegrees2!$F$9)","v":""},null,null,0,{"$f":"FirstPartDegrees2!K115","v":0},{"$f":"IF(ISBLANK(FirstPartDegrees2!$K$9),\"\",FirstPartDegrees2!$K$9)","v":""},{"$f":"FirstPartDegrees2!L115","v":0},{"$f":"IF(ISBLANK(FirstPartDegrees2!$K$9),\"\",FirstPartDegrees2!$K$9)","v":""},null,null,0,{"$f":"SeconedPartDegrees2!M115","v":0},{"$f":"IF(ISBLANK(SeconedPartDegrees2!$M$9),\"\",SeconedPartDegrees2!$M$9)","v":""},{"$f":"SeconedPartDegrees2!N115","v":0},{"$f":"IF(ISBLANK(SeconedPartDegrees2!$M$9),\"\",SeconedPartDegrees2!$M$9)","v":""},null,null,0,{"$f":"FirstPartDegrees2!H115","v":0},{"$f":"IF(ISBLANK(FirstPartDegrees2!$H$9),\"\",FirstPartDegrees2!$H$9)","v":""},{"$f":"SeconedPartDegrees2!C115","v":0},{"$f":"IF(ISBLANK(SeconedPartDegrees2!$C$9),\"\",SeconedPartDegrees2!$C$9)","v":""},null,null,0,0,{"$f":"SeconedPartDegrees2!G115","v":0},{"$f":"IF(ISBLANK(SeconedPartDegrees2!$G$9),\"\",SeconedPartDegrees2!$G$9)","v":""},{"$f":"SeconedPartDegrees2!H115","v":0},{"$f":"IF(ISBLANK(SeconedPartDegrees2!$G$9),\"\",SeconedPartDegrees2!$G$9)","v":""},null,null,0,{"$f":"SeconedPartDegrees2!I115","v":0},{"$f":"IF(ISBLANK(SeconedPartDegrees2!$G$9),\"\",SeconedPartDegrees2!$G$9)","v":""},{"$f":"SeconedPartDegrees2!J115","v":0},{"$f":"IF(ISBLANK(SeconedPartDegrees2!$G$9),\"\",SeconedPartDegrees2!$G$9)","v":""},null,null,0,{"$f":"SeconedPartDegrees2!O115","v":0},{"$f":"IF(ISBLANK(SeconedPartDegrees2!$M$9),\"\",SeconedPartDegrees2!$M$9)","v":""},{"$f":"SeconedPartDegrees2!P115","v":0},{"$f":"IF(ISBLANK(SeconedPartDegrees2!$M$9),\"\",SeconedPartDegrees2!$M$9)","v":""},null,null,0,{"$f":"SeconedPartDegrees2!K115","v":0},{"$f":"IF(ISBLANK(SeconedPartDegrees2!$G$9),\"\",SeconedPartDegrees2!$G$9)","v":""},{"$f":"SeconedPartDegrees2!L115","v":0},{"$f":"IF(ISBLANK(SeconedPartDegrees2!$G$9),\"\",SeconedPartDegrees2!$G$9)","v":""},null,null,0,0,{"$f":"FirstPartDegrees2!D115","v":0},{"$f":"IF(ISBLANK(FirstPartDegrees2!$C$9),\"\",FirstPartDegrees2!$C$9)","v":""},{"$f":"FirstPartDegrees2!E115","v":0},{"$f":"IF(ISBLANK(FirstPartDegrees2!$C$9),\"\",FirstPartDegrees2!$C$9)","v":""},null,null,0,{"$f":"FirstPartDegrees2!I115","v":0},{"$f":"IF(ISBLANK(FirstPartDegrees2!$H$9),\"\",FirstPartDegrees2!$H$9)","v":""},{"$f":"FirstPartDegrees2!J115","v":0},{"$f":"IF(ISBLANK(FirstPartDegrees2!$H$9),\"\",FirstPartDegrees2!$H$9)","v":""},null,null,0,{"$f":"FirstPartDegrees2!M115","v":0},{"$f":"IF(ISBLANK(FirstPartDegrees2!$M$9),\"\",FirstPartDegrees2!$M$9)","v":""},{"$f":"FirstPartDegrees2!N115","v":0},{"$f":"IF(ISBLANK(FirstPartDegrees2!$M$9),\"\",FirstPartDegrees2!$M$9)","v":""},null,null,0,{"$f":"SeconedPartDegrees2!D115","v":0},{"$f":"IF(ISBLANK(SeconedPartDegrees2!$D$9),\"\",SeconedPartDegrees2!$D$9)","v":""},{"$f":"SeconedPartDegrees2!F115","v":0},{"$f":"IF(ISBLANK(SeconedPartDegrees2!$F$9),\"\",SeconedPartDegrees2!$F$9)","v":""},null,null,0,0,0,{"$f":"SeconedPartDegrees2!R115","v":""}]
[{"$f":"SeconedPartDegrees2!$A117","v":53},{"$f":"FirstPartDegrees2!$B117","v":""},{"$f":"FirstPartDegrees2!$H$7","v":"7-1"},{"$f":"FirstPartDegrees2!C117","v":0},{"$f":"IF(ISBLANK(FirstPartDegrees2!$C$9),\"\",FirstPartDegrees2!$C$9)","v":""},{"$f":"FirstPartDegrees2!F117","v":0},{"$f":"IF(ISBLANK(FirstPartDegrees2!$F$9),\"\",FirstPartDegrees2!$F$9)","v":""},null,null,0,{"$f":"FirstPartDegrees2!K117","v":0},{"$f":"IF(ISBLANK(FirstPartDegrees2!$K$9),\"\",FirstPartDegrees2!$K$9)","v":""},{"$f":"FirstPartDegrees2!L117","v":0},{"$f":"IF(ISBLANK(FirstPartDegrees2!$K$9),\"\",FirstPartDegrees2!$K$9)","v":""},null,null,0,{"$f":"SeconedPartDegrees2!M117","v":0},{"$f":"IF(ISBLANK(SeconedPartDegrees2!$M$9),\"\",SeconedPartDegrees2!$M$9)","v":""},{"$f":"SeconedPartDegrees2!N117","v":0},{"$f":"IF(ISBLANK(SeconedPartDegrees2!$M$9),\"\",SeconedPartDegrees2!$M$9)","v":""},null,null,0,{"$f":"FirstPartDegrees2!H117","v":0},{"$f":"IF(ISBLANK(FirstPartDegrees2!$H$9),\"\",FirstPartDegrees2!$H$9)","v":""},{"$f":"SeconedPartDegrees2!C117","v":0},{"$f":"IF(ISBLANK(SeconedPartDegrees2!$C$9),\"\",SeconedPartDegrees2!$C$9)","v":""},null,null,0,0,{"$f":"SeconedPartDegrees2!G117","v":0},{"$f":"IF(ISBLANK(SeconedPartDegrees2!$G$9),\"\",SeconedPartDegrees2!$G$9)","v":""},{"$f":"SeconedPartDegrees2!H117","v":0},{"$f":"IF(ISBLANK(SeconedPartDegrees2!$G$9),\"\",SeconedPartDegrees2!$G$9)","v":""},null,null,0,{"$f":"SeconedPartDegrees2!I117","v":0},{"$f":"IF(ISBLANK(SeconedPartDegrees2!$G$9),\"\",SeconedPartDegrees2!$G$9)","v":""},{"$f":"SeconedPartDegrees2!J117","v":0},{"$f":"IF(ISBLANK(SeconedPartDegrees2!$G$9),\"\",SeconedPartDegrees2!$G$9)","v":""},null,null,0,{"$f":"SeconedPartDegrees2!O117","v":0},{"$f":"IF(ISBLANK(SeconedPartDegrees2!$M$9),\"\",SeconedPartDegrees2!$M$9)","v":""},{"$f":"SeconedPartDegrees2!P117","v":0},{"$f":"IF(ISBLANK(SeconedPartDegrees2!$M$9),\"\",SeconedPartDegrees2!$M$9)","v":""},null,null,0,{"$f":"SeconedPartDegrees2!K117","v":0},{"$f":"IF(ISBLANK(SeconedPartDegrees2!$G$9),\"\",SeconedPartDegrees2!$G$9)","v":""},{"$f":"SeconedPartDegrees2!L117","v":0},{"$f":"IF(ISBLANK(SeconedPartDegrees2!$G$9),\"\",SeconedPartDegrees2!$G$9)","v":""},null,null,0,0,{"$f":"FirstPartDegrees2!D117","v":0},{"$f":"IF(ISBLANK(FirstPartDegrees2!$C$9),\"\",FirstPartDegrees2!$C$9)","v":""},{"$f":"FirstPartDegrees2!E117","v":0},{"$f":"IF(ISBLANK(FirstPartDegrees2!$C$9),\"\",FirstPartDegrees2!$C$9)","v":""},null,null,0,{"$f":"FirstPartDegrees2!I117","v":0},{"$f":"IF(ISBLANK(FirstPartDegrees2!$H$9),\"\",FirstPartDegrees2!$H$9)","v":""},{"$f":"FirstPartDegrees2!J117","v":0},{"$f":"IF(ISBLANK(FirstPartDegrees2!$H$9),\"\",FirstPartDegrees2!$H$9)","v":""},null,null,0,{"$f":"FirstPartDegrees2!M117","v":0},{"$f":"IF(ISBLANK(FirstPartDegrees2!$M$9),\"\",FirstPartDegrees2!$M$9)","v":""},{"$f":"FirstPartDegrees2!N117","v":0},{"$f":"IF(ISBLANK(FirstPartDegrees2!$M$9),\"\",FirstPartDegrees2!$M$9)","v":""},null,null,0,{"$f":"SeconedPartDegrees2!D117","v":0},{"$f":"IF(ISBLANK(SeconedPartDegrees2!$D$9),\"\",SeconedPartDegrees2!$D$9)","v":""},{"$f":"SeconedPartDegrees2!F117","v":0},{"$f":"IF(ISBLANK(SeconedPartDegrees2!$F$9),\"\",SeconedPartDegrees2!$F$9)","v":""},null,null,0,0,0,{"$f":"SeconedPartDegrees2!R117","v":""}]
[{"$f":"SeconedPartDegrees2!$A119","v":54},{"$f":"FirstPartDegrees2!$B119","v":""},{"$f":"FirstPartDegrees2!$H$7","v":"7-1"},{"$f":"FirstPartDegrees2!C119","v":0},{"$f":"IF(ISBLANK(FirstPartDegrees2!$C$9),\"\",FirstPartDegrees2!$C$9)","v":""},{"$f":"FirstPartDegrees2!F119","v":0},{"$f":"IF(ISBLANK(FirstPartDegrees2!$F$9),\"\",FirstPartDegrees2!$F$9)","v":""},null,null,0,{"$f":"FirstPartDegrees2!K119","v":0},{"$f":"IF(ISBLANK(FirstPartDegrees2!$K$9),\"\",FirstPartDegrees2!$K$9)","v":""},{"$f":"FirstPartDegrees2!L119","v":0},{"$f":"IF(ISBLANK(FirstPartDegrees2!$K$9),\"\",FirstPartDegrees2!$K$9)","v":""},null,null,0,{"$f":"SeconedPartDegrees2!M119","v":0},{"$f":"IF(ISBLANK(SeconedPartDegrees2!$M$9),\"\",SeconedPartDegrees2!$M$9)","v":""},{"$f":"SeconedPartDegrees2!N119","v":0},{"$f":"IF(ISBLANK(SeconedPartDegrees2!$M$9),\"\",SeconedPartDegrees2!$M$9)","v":""},null,null,0,{"$f":"FirstPartDegrees2!H119","v":0},{"$f":"IF(ISBLANK(FirstPartDegrees2!$H$9),\"\",FirstPartDegrees2!$H$9)","v":""},{"$f":"SeconedPartDegrees2!C119","v":0},{"$f":"IF(ISBLANK(SeconedPartDegrees2!$C$9),\"\",SeconedPartDegrees2!$C$9)","v":""},null,null,0,0,{"$f":"SeconedPartDegrees2!G119","v":0},{"$f":"IF(ISBLANK(SeconedPartDegrees2!$G$9),\"\",SeconedPartDegrees2!$G$9)","v":""},{"$f":"SeconedPartDegrees2!H119","v":0},{"$f":"IF(ISBLANK(SeconedPartDegrees2!$G$9),\"\",SeconedPartDegrees2!$G$9)","v":""},null,null,0,{"$f":"SeconedPartDegrees2!I119","v":0},{"$f":"IF(ISBLANK(SeconedPartDegrees2!$G$9),\"\",SeconedPartDegrees2!$G$9)","v":""},{"$f":"SeconedPartDegrees2!J119","v":0},{"$f":"IF(ISBLANK(SeconedPartDegrees2!$G$9),\"\",SeconedPartDegrees2!$G$9)","v":""},null,null,0,{"$f":"SeconedPartDegrees2!O119","v":0},{"$f":"IF(ISBLANK(SeconedPartDegrees2!$M$9),\"\",SeconedPartDegrees2!$M$9)","v":""},{"$f":"SeconedPartDegrees2!P119","v":0},{"$f":"IF(ISBLANK(SeconedPartDegrees2!$M$9),\"\",SeconedPartDegrees2!$M$9)","v":""},null,null,0,{"$f":"SeconedPartDegrees2!K119","v":0},{"$f":"IF(ISBLANK(SeconedPartDegrees2!$G$9),\"\",SeconedPartDegrees2!$G$9)","v":""},{"$f":"SeconedPartDegrees2!L119","v":0},{"$f":"IF(ISBLANK(SeconedPartDegrees2!$G$9),\"\",SeconedPartDegrees2!$G$9)","v":""},null,null,0,0,{"$f":"FirstPartDegrees2!D119","v":0},{"$f":"IF(ISBLANK(FirstPartDegrees2!$C$9),\"\",FirstPartDegrees2!$C$9)","v":""},{"$f":"FirstPartDegrees2!E119","v":0},{"$f":"IF(ISBLANK(FirstPartDegrees2!$C$9),\"\",FirstPartDegrees2!$C$9)","v":""},null,null,0,{"$f":"FirstPartDegrees2!I119","v":0},{"$f":"IF(ISBLANK(FirstPartDegrees2!$H$9),\"\",FirstPartDegrees2!$H$9)","v":""},{"$f":"FirstPartDegrees2!J119","v":0},{"$f":"IF(ISBLANK(FirstPartDegrees2!$H$9),\"\",FirstPartDegrees2!$H$9)","v":""},null,null,0,{"$f":"FirstPartDegrees2!M119","v":0},{"$f":"IF(ISBLANK(FirstPartDegrees2!$M$9),\"\",FirstPartDegrees2!$M$9)","v":""},{"$f":"FirstPartDegrees2!N119","v":0},{"$f":"IF(ISBLANK(FirstPartDegrees2!$M$9),\"\",FirstPartDegrees2!$M$9)","v":""},null,null,0,{"$f":"SeconedPartDegrees2!D119","v":0},{"$f":"IF(ISBLANK(SeconedPartDegrees2!$D$9),\"\",SeconedPartDegrees2!$D$9)","v":""},{"$f":"SeconedPartDegrees2!F119","v":0},{"$f":"IF(ISBLANK(SeconedPartDegrees2!$F$9),\"\",SeconedPartDegrees2!$F$9)","v":""},null,null,0,0,0,{"$f":"SeconedPartDegrees2!R119","v":""}]
[{"$f":"SeconedPartDegrees2!$A121","v":55},{"$f":"FirstPartDegrees2!$B121","v":""},{"$f":"FirstPartDegrees2!$H$7","v":"7-1"},{"$f":"FirstPartDegrees2!C121","v":0},{"$f":"IF(ISBLANK(FirstPartDegrees2!$C$9),\"\",FirstPartDegrees2!$C$9)","v":""},{"$f":"FirstPartDegrees2!F121","v":0},{"$f":"IF(ISBLANK(FirstPartDegrees2!$F$9),\"\",FirstPartDegrees2!$F$9)","v":""},null,null,0,{"$f":"FirstPartDegrees2!K121","v":0},{"$f":"IF(ISBLANK(FirstPartDegrees2!$K$9),\"\",FirstPartDegrees2!$K$9)","v":""},{"$f":"FirstPartDegrees2!L121","v":0},{"$f":"IF(ISBLANK(FirstPartDegrees2!$K$9),\"\",FirstPartDegrees2!$K$9)","v":""},null,null,0,{"$f":"SeconedPartDegrees2!M121","v":0},{"$f":"IF(ISBLANK(SeconedPartDegrees2!$M$9),\"\",SeconedPartDegrees2!$M$9)","v":""},{"$f":"SeconedPartDegrees2!N121","v":0},{"$f":"IF(ISBLANK(SeconedPartDegrees2!$M$9),\"\",SeconedPartDegrees2!$M$9)","v":""},null,null,0,{"$f":"FirstPartDegrees2!H121","v":0},{"$f":"IF(ISBLANK(FirstPartDegrees2!$H$9),\"\",FirstPartDegrees2!$H$9)","v":""},{"$f":"SeconedPartDegrees2!C121","v":0},{"$f":"IF(ISBLANK(SeconedPartDegrees2!$C$9),\"\",SeconedPartDegrees2!$C$9)","v":""},null,null,0,0,{"$f":"SeconedPartDegrees2!G121","v":0},{"$f":"IF(ISBLANK(SeconedPartDegrees2!$G$9),\"\",SeconedPartDegrees2!$G$9)","v":""},{"$f":"SeconedPartDegrees2!H121","v":0},{"$f":"IF(ISBLANK(SeconedPartDegrees2!$G$9),\"\",SeconedPartDegrees2!$G$9)","v":""},null,null,0,{"$f":"SeconedPartDegrees2!I121","v":0},{"$f":"IF(ISBLANK(SeconedPartDegrees2!$G$9),\"\",SeconedPartDegrees2!$G$9)","v":""},{"$f":"SeconedPartDegrees2!J121","v":0},{"$f":"IF(ISBLANK(SeconedPartDegrees2!$G$9),\"\",SeconedPartDegrees2!$G$9)","v":""},null,null,0,{"$f":"SeconedPartDegrees2!O121","v":0},{"$f":"IF(ISBLANK(SeconedPartDegrees2!$M$9),\"\",SeconedPartDegrees2!$M$9)","v":""},{"$f":"SeconedPartDegrees2!P121","v":0},{"$f":"IF(ISBLANK(SeconedPartDegrees2!$M$9),\"\",SeconedPartDegrees2!$M$9)","v":""},null,null,0,{"$f":"SeconedPartDegrees2!K121","v":0},{"$f":"IF(ISBLANK(SeconedPartDegrees2!$G$9),\"\",SeconedPartDegrees2!$G$9)","v":""},{"$f":"SeconedPartDegrees2!L121","v":0},{"$f":"IF(ISBLANK(SeconedPartDegrees2!$G$9),\"\",SeconedPartDegrees2!$G$9)","v":""},null,null,0,0,{"$f":"FirstPartDegrees2!D121","v":0},{"$f":"IF(ISBLANK(FirstPartDegrees2!$C$9),\"\",FirstPartDegrees2!$C$9)","v":""},{"$f":"FirstPartDegrees2!E121","v":0},{"$f":"IF(ISBLANK(FirstPartDegrees2!$C$9),\"\",FirstPartDegrees2!$C$9)","v":""},null,null,0,{"$f":"FirstPartDegrees2!I121","v":0},{"$f":"IF(ISBLANK(FirstPartDegrees2!$H$9),\"\",FirstPartDegrees2!$H$9)","v":""},{"$f":"FirstPartDegrees2!J121","v":0},{"$f":"IF(ISBLANK(FirstPartDegrees2!$H$9),\"\",FirstPartDegrees2!$H$9)","v":""},null,null,0,{"$f":"FirstPartDegrees2!M121","v":0},{"$f":"IF(ISBLANK(FirstPartDegrees2!$M$9),\"\",FirstPartDegrees2!$M$9)","v":""},{"$f":"FirstPartDegrees2!N121","v":0},{"$f":"IF(ISBLANK(FirstPartDegrees2!$M$9),\"\",FirstPartDegrees2!$M$9)","v":""},null,null,0,{"$f":"SeconedPartDegrees2!D121","v":0},{"$f":"IF(ISBLANK(SeconedPartDegrees2!$D$9),\"\",SeconedPartDegrees2!$D$9)","v":""},{"$f":"SeconedPartDegrees2!F121","v":0},{"$f":"IF(ISBLANK(SeconedPartDegrees2!$F$9),\"\",SeconedPartDegrees2!$F$9)","v":""},null,null,0,0,0,{"$f":"SeconedPartDegrees2!R121","v":""}]
[{"$f":"SeconedPartDegrees2!$A123","v":56},{"$f":"FirstPartDegrees2!$B123","v":""},{"$f":"FirstPartDegrees2!$H$7","v":"7-1"},{"$f":"FirstPartDegrees2!C123","v":0},{"$f":"IF(ISBLANK(FirstPartDegrees2!$C$9),\"\",FirstPartDegrees2!$C$9)","v":""},{"$f":"FirstPartDegrees2!F123","v":0},{"$f":"IF(ISBLANK(FirstPartDegrees2!$F$9),\"\",FirstPartDegrees2!$F$9)","v":""},null,null,0,{"$f":"FirstPartDegrees2!K123","v":0},{"$f":"IF(ISBLANK(FirstPartDegrees2!$K$9),\"\",FirstPartDegrees2!$K$9)","v":""},{"$f":"FirstPartDegrees2!L123","v":0},{"$f":"IF(ISBLANK(FirstPartDegrees2!$K$9),\"\",FirstPartDegrees2!$K$9)","v":""},null,null,0,{"$f":"SeconedPartDegrees2!M123","v":0},{"$f":"IF(ISBLANK(SeconedPartDegrees2!$M$9),\"\",SeconedPartDegrees2!$M$9)","v":""},{"$f":"SeconedPartDegrees2!N123","v":0},{"$f":"IF(ISBLANK(SeconedPartDegrees2!$M$9),\"\",SeconedPartDegrees2!$M$9)","v":""},null,null,0,{"$f":"FirstPartDegrees2!H123","v":0},{"$f":"IF(ISBLANK(FirstPartDegrees2!$H$9),\"\",FirstPartDegrees2!$H$9)","v":""},{"$f":"SeconedPartDegrees2!C123","v":0},{"$f":"IF(ISBLANK(SeconedPartDegrees2!$C$9),\"\",SeconedPartDegrees2!$C$9)","v":""},null,null,0,0,{"$f":"SeconedPartDegrees2!G123","v":0},{"$f":"IF(ISBLANK(SeconedPartDegrees2!$G$9),\"\",SeconedPartDegrees2!$G$9)","v":""},{"$f":"SeconedPartDegrees2!H123","v":0},{"$f":"IF(ISBLANK(SeconedPartDegrees2!$G$9),\"\",SeconedPartDegrees2!$G$9)","v":""},null,null,0,{"$f":"SeconedPartDegrees2!I123","v":0},{"$f":"IF(ISBLANK(SeconedPartDegrees2!$G$9),\"\",SeconedPartDegrees2!$G$9)","v":""},{"$f":"SeconedPartDegrees2!J123","v":0},{"$f":"IF(ISBLANK(SeconedPartDegrees2!$G$9),\"\",SeconedPartDegrees2!$G$9)","v":""},null,null,0,{"$f":"SeconedPartDegrees2!O123","v":0},{"$f":"IF(ISBLANK(SeconedPartDegrees2!$M$9),\"\",SeconedPartDegrees2!$M$9)","v":""},{"$f":"SeconedPartDegrees2!P123","v":0},{"$f":"IF(ISBLANK(SeconedPartDegrees2!$M$9),\"\",SeconedPartDegrees2!$M$9)","v":""},null,null,0,{"$f":"SeconedPartDegrees2!K123","v":0},{"$f":"IF(ISBLANK(SeconedPartDegrees2!$G$9),\"\",SeconedPartDegrees2!$G$9)","v":""},{"$f":"SeconedPartDegrees2!L123","v":0},{"$f":"IF(ISBLANK(SeconedPartDegrees2!$G$9),\"\",SeconedPartDegrees2!$G$9)","v":""},null,null,0,0,{"$f":"FirstPartDegrees2!D123","v":0},{"$f":"IF(ISBLANK(FirstPartDegrees2!$C$9),\"\",FirstPartDegrees2!$C$9)","v":""},{"$f":"FirstPartDegrees2!E123","v":0},{"$f":"IF(ISBLANK(FirstPartDegrees2!$C$9),\"\",FirstPartDegrees2!$C$9)","v":""},null,null,0,{"$f":"FirstPartDegrees2!I123","v":0},{"$f":"IF(ISBLANK(FirstPartDegrees2!$H$9),\"\",FirstPartDegrees2!$H$9)","v":""},{"$f":"FirstPartDegrees2!J123","v":0},{"$f":"IF(ISBLANK(FirstPartDegrees2!$H$9),\"\",FirstPartDegrees2!$H$9)","v":""},null,null,0,{"$f":"FirstPartDegrees2!M123","v":0},{"$f":"IF(ISBLANK(FirstPartDegrees2!$M$9),\"\",FirstPartDegrees2!$M$9)","v":""},{"$f":"FirstPartDegrees2!N123","v":0},{"$f":"IF(ISBLANK(FirstPartDegrees2!$M$9),\"\",FirstPartDegrees2!$M$9)","v":""},null,null,0,{"$f":"SeconedPartDegrees2!D123","v":0},{"$f":"IF(ISBLANK(SeconedPartDegrees2!$D$9),\"\",SeconedPartDegrees2!$D$9)","v":""},{"$f":"SeconedPartDegrees2!F123","v":0},{"$f":"IF(ISBLANK(SeconedPartDegrees2!$F$9),\"\",SeconedPartDegrees2!$F$9)","v":""},null,null,0,0,0,{"$f":"SeconedPartDegrees2!R123","v":""}]
[{"$f":"SeconedPartDegrees2!$A125","v":57},{"$f":"FirstPartDegrees2!$B125","v":""},{"$f":"FirstPartDegrees2!$H$7","v":"7-1"},{"$f":"FirstPartDegrees2!C125","v":0},{"$f":"IF(ISBLANK(FirstPartDegrees2!$C$9),\"\",FirstPartDegrees2!$C$9)","v":""},{"$f":"FirstPartDegrees2!F125","v":0},{"$f":"IF(ISBLANK(FirstPartDegrees2!$F$9),\"\",FirstPartDegrees2!$F$9)","v":""},null,null,0,{"$f":"FirstPartDegrees2!K125","v":0},{"$f":"IF(ISBLANK(FirstPartDegrees2!$K$9),\"\",FirstPartDegrees2!$K$9)","v":""},{"$f":"FirstPartDegrees2!L125","v":0},{"$f":"IF(ISBLANK(FirstPartDegrees2!$K$9),\"\",FirstPartDegrees2!$K$9)","v":""},null,null,0,{"$f":"SeconedPartDegrees2!M125","v":0},{"$f":"IF(ISBLANK(SeconedPartDegrees2!$M$9),\"\",SeconedPartDegrees2!$M$9)","v":""},{"$f":"SeconedPartDegrees2!N125","v":0},{"$f":"IF(ISBLANK(SeconedPartDegrees2!$M$9),\"\",SeconedPartDegrees2!$M$9)","v":""},null,null,0,{"$f":"FirstPartDegrees2!H125","v":0},{"$f":"IF(ISBLANK(FirstPartDegrees2!$H$9),\"\",FirstPartDegrees2!$H$9)","v":""},{"$f":"SeconedPartDegrees2!C125","v":0},{"$f":"IF(ISBLANK(SeconedPartDegrees2!$C$9),\"\",SeconedPartDegrees2!$C$9)","v":""},null,null,0,0,{"$f":"SeconedPartDegrees2!G125","v":0},{"$f":"IF(ISBLANK(SeconedPartDegrees2!$G$9),\"\",SeconedPartDegrees2!$G$9)","v":""},{"$f":"SeconedPartDegrees2!H125","v":0},{"$f":"IF(ISBLANK(SeconedPartDegrees2!$G$9),\"\",SeconedPartDegrees2!$G$9)","v":""},null,null,0,{"$f":"SeconedPartDegrees2!I125","v":0},{"$f":"IF(ISBLANK(SeconedPartDegrees2!$G$9),\"\",SeconedPartDegrees2!$G$9)","v":""},{"$f":"SeconedPartDegrees2!J125","v":0},{"$f":"IF(ISBLANK(SeconedPartDegrees2!$G$9),\"\",SeconedPartDegrees2!$G$9)","v":""},null,null,0,{"$f":"SeconedPartDegrees2!O125","v":0},{"$f":"IF(ISBLANK(SeconedPartDegrees2!$M$9),\"\",SeconedPartDegrees2!$M$9)","v":""},{"$f":"SeconedPartDegrees2!P125","v":0},{"$f":"IF(ISBLANK(SeconedPartDegrees2!$M$9),\"\",SeconedPartDegrees2!$M$9)","v":""},null,null,0,{"$f":"SeconedPartDegrees2!K125","v":0},{"$f":"IF(ISBLANK(SeconedPartDegrees2!$G$9),\"\",SeconedPartDegrees2!$G$9)","v":""},{"$f":"SeconedPartDegrees2!L125","v":0},{"$f":"IF(ISBLANK(SeconedPartDegrees2!$G$9),\"\",SeconedPartDegrees2!$G$9)","v":""},null,null,0,0,{"$f":"FirstPartDegrees2!D125","v":0},{"$f":"IF(ISBLANK(FirstPartDegrees2!$C$9),\"\",FirstPartDegrees2!$C$9)","v":""},{"$f":"FirstPartDegrees2!E125","v":0},{"$f":"IF(ISBLANK(FirstPartDegrees2!$C$9),\"\",FirstPartDegrees2!$C$9)","v":""},null,null,0,{"$f":"FirstPartDegrees2!I125","v":0},{"$f":"IF(ISBLANK(FirstPartDegrees2!$H$9),\"\",FirstPartDegrees2!$H$9)","v":""},{"$f":"FirstPartDegrees2!J125","v":0},{"$f":"IF(ISBLANK(FirstPartDegrees2!$H$9),\"\",FirstPartDegrees2!$H$9)","v":""},null,null,0,{"$f":"FirstPartDegrees2!M125","v":0},{"$f":"IF(ISBLANK(FirstPartDegrees2!$M$9),\"\",FirstPartDegrees2!$M$9)","v":""},{"$f":"FirstPartDegrees2!N125","v":0},{"$f":"IF(ISBLANK(FirstPartDegrees2!$M$9),\"\",FirstPartDegrees2!$M$9)","v":""},null,null,0,{"$f":"SeconedPartDegrees2!D125","v":0},{"$f":"IF(ISBLANK(SeconedPartDegrees2!$D$9),\"\",SeconedPartDegrees2!$D$9)","v":""},{"$f":"SeconedPartDegrees2!F125","v":0},{"$f":"IF(ISBLANK(SeconedPartDegrees2!$F$9),\"\",SeconedPartDegrees2!$F$9)","v":""},null,null,0,0,0,{"$f":"SeconedPartDegrees2!R125","v":""}]
[{"$f":"SeconedPartDegrees2!$A127","v":58},{"$f":"FirstPartDegrees2!$B127","v":""},{"$f":"FirstPartDegrees2!$H$7","v":"7-1"},{"$f":"FirstPartDegrees2!C127","v":0},{"$f":"IF(ISBLANK(FirstPartDegrees2!$C$9),\"\",FirstPartDegrees2!$C$9)","v":""},{"$f":"FirstPartDegrees2!F127","v":0},{"$f":"IF(ISBLANK(FirstPartDegrees2!$F$9),\"\",FirstPartDegrees2!$F$9)","v":""},null,null,0,{"$f":"FirstPartDegrees2!K127","v":0},{"$f":"IF(ISBLANK(FirstPartDegrees2!$K$9),\"\",FirstPartDegrees2!$K$9)","v":""},{"$f":"FirstPartDegrees2!L127","v":0},{"$f":"IF(ISBLANK(FirstPartDegrees2!$K$9),\"\",FirstPartDegrees2!$K$9)","v":""},null,null,0,{"$f":"SeconedPartDegrees2!M127","v":0},{"$f":"IF(ISBLANK(SeconedPartDegrees2!$M$9),\"\",SeconedPartDegrees2!$M$9)","v":""},{"$f":"SeconedPartDegrees2!N127","v":0},{"$f":"IF(ISBLANK(SeconedPartDegrees2!$M$9),\"\",SeconedPartDegrees2!$M$9)","v":""},null,null,0,{"$f":"FirstPartDegrees2!H127","v":0},{"$f":"IF(ISBLANK(FirstPartDegrees2!$H$9),\"\",FirstPartDegrees2!$H$9)","v":""},{"$f":"SeconedPartDegrees2!C127","v":0},{"$f":"IF(ISBLANK(SeconedPartDegrees2!$C$9),\"\",SeconedPartDegrees2!$C$9)","v":""},null,null,0,0,{"$f":"SeconedPartDegrees2!G127","v":0},{"$f":"IF(ISBLANK(SeconedPartDegrees2!$G$9),\"\",SeconedPartDegrees2!$G$9)","v":""},{"$f":"SeconedPartDegrees2!H127","v":0},{"$f":"IF(ISBLANK(SeconedPartDegrees2!$G$9),\"\",SeconedPartDegrees2!$G$9)","v":""},null,null,0,{"$f":"SeconedPartDegrees2!I127","v":0},{"$f":"IF(ISBLANK(SeconedPartDegrees2!$G$9),\"\",SeconedPartDegrees2!$G$9)","v":""},{"$f":"SeconedPartDegrees2!J127","v":0},{"$f":"IF(ISBLANK(SeconedPartDegrees2!$G$9),\"\",SeconedPartDegrees2!$G$9)","v":""},null,null,0,{"$f":"SeconedPartDegrees2!O127","v":0},{"$f":"IF(ISBLANK(SeconedPartDegrees2!$M$9),\"\",SeconedPartDegrees2!$M$9)","v":""},{"$f":"SeconedPartDegrees2!P127","v":0},{"$f":"IF(ISBLANK(SeconedPartDegrees2!$M$9),\"\",SeconedPartDegrees2!$M$9)","v":""},null,null,0,{"$f":"SeconedPartDegrees2!K127","v":0},{"$f":"IF(ISBLANK(SeconedPartDegrees2!$G$9),\"\",SeconedPartDegrees2!$G$9)","v":""},{"$f":"SeconedPartDegrees2!L127","v":0},{"$f":"IF(ISBLANK(SeconedPartDegrees2!$G$9),\"\",SeconedPartDegrees2!$G$9)","v":""},null,null,0,0,{"$f":"FirstPartDegrees2!D127","v":0},{"$f":"IF(ISBLANK(FirstPartDegrees2!$C$9),\"\",FirstPartDegrees2!$C$9)","v":""},{"$f":"FirstPartDegrees2!E127","v":0},{"$f":"IF(ISBLANK(FirstPartDegrees2!$C$9),\"\",FirstPartDegrees2!$C$9)","v":""},null,null,0,{"$f":"FirstPartDegrees2!I127","v":0},{"$f":"IF(ISBLANK(FirstPartDegrees2!$H$9),\"\",FirstPartDegrees2!$H$9)","v":""},{"$f":"FirstPartDegrees2!J127","v":0},{"$f":"IF(ISBLANK(FirstPartDegrees2!$H$9),\"\",FirstPartDegrees2!$H$9)","v":""},null,null,0,{"$f":"FirstPartDegrees2!M127","v":0},{"$f":"IF(ISBLANK(FirstPartDegrees2!$M$9),\"\",FirstPartDegrees2!$M$9)","v":""},{"$f":"FirstPartDegrees2!N127","v":0},{"$f":"IF(ISBLANK(FirstPartDegrees2!$M$9),\"\",FirstPartDegrees2!$M$9)","v":""},null,null,0,{"$f":"SeconedPartDegrees2!D127","v":0},{"$f":"IF(ISBLANK(SeconedPartDegrees2!$D$9),\"\",SeconedPartDegrees2!$D$9)","v":""},{"$f":"SeconedPartDegrees2!F127","v":0},{"$f":"IF(ISBLANK(SeconedPartDegrees2!$F$9),\"\",SeconedPartDegrees2!$F$9)","v":""},null,null,0,0,0,{"$f":"SeconedPartDegrees2!R127","v":""}]
[{"$f":"SeconedPartDegrees2!$A129","v":59},{"$f":"FirstPartDegrees2!$B129","v":""},{"$f":"FirstPartDegrees2!$H$7","v":"7-1"},{"$f":"FirstPartDegrees2!C129","v":0},{"$f":"IF(ISBLANK(FirstPartDegrees2!$C$9),\"\",FirstPartDegrees2!$C$9)","v":""},{"$f":"FirstPartDegrees2!F129","v":0},{"$f":"IF(ISBLANK(FirstPartDegrees2!$F$9),\"\",FirstPartDegrees2!$F$9)","v":""},null,null,0,{"$f":"FirstPartDegrees2!K129","v":0},{"$f":"IF(ISBLANK(FirstPartDegrees2!$K$9),\"\",FirstPartDegrees2!$K$9)","v":""},{"$f":"FirstPartDegrees2!L129","v":0},{"$f":"IF(ISBLANK(FirstPartDegrees2!$K$9),\"\",FirstPartDegrees2!$K$9)","v":""},null,null,0,{"$f":"SeconedPartDegrees2!M129","v":0},{"$f":"IF(ISBLANK(SeconedPartDegrees2!$M$9),\"\",SeconedPartDegrees2!$M$9)","v":""},{"$f":"SeconedPartDegrees2!N129","v":0},{"$f":"IF(ISBLANK(SeconedPartDegrees2!$M$9),\"\",SeconedPartDegrees2!$M$9)","v":""},null,null,0,{"$f":"FirstPartDegrees2!H129","v":0},{"$f":"IF(ISBLANK(FirstPartDegrees2!$H$9),\"\",FirstPartDegrees2!$H$9)","v":""},{"$f":"SeconedPartDegrees2!C129","v":0},{"$f":"IF(ISBLANK(SeconedPartDegrees2!$C$9),\"\",SeconedPartDegrees2!$C$9)","v":""},null,null,0,0,{"$f":"SeconedPartDegrees2!G129","v":0},{"$f":"IF(ISBLANK(SeconedPartDegrees2!$G$9),\"\",SeconedPartDegrees2!$G$9)","v":""},{"$f":"SeconedPartDegrees2!H129","v":0},{"$f":"IF(ISBLANK(SeconedPartDegrees2!$G$9),\"\",SeconedPartDegrees2!$G$9)","v":""},null,null,0,{"$f":"SeconedPartDegrees2!I129","v":0},{"$f":"IF(ISBLANK(SeconedPartDegrees2!$G$9),\"\",SeconedPartDegrees2!$G$9)","v":""},{"$f":"SeconedPartDegrees2!J129","v":0},{"$f":"IF(ISBLANK(SeconedPartDegrees2!$G$9),\"\",SeconedPartDegrees2!$G$9)","v":""},null,null,0,{"$f":"SeconedPartDegrees2!O129","v":0},{"$f":"IF(ISBLANK(SeconedPartDegrees2!$M$9),\"\",SeconedPartDegrees2!$M$9)","v":""},{"$f":"SeconedPartDegrees2!P129","v":0},{"$f":"IF(ISBLANK(SeconedPartDegrees2!$M$9),\"\",SeconedPartDegrees2!$M$9)","v":""},null,null,0,{"$f":"SeconedPartDegrees2!K129","v":0},{"$f":"IF(ISBLANK(SeconedPartDegrees2!$G$9),\"\",SeconedPartDegrees2!$G$9)","v":""},{"$f":"SeconedPartDegrees2!L129","v":0},{"$f":"IF(ISBLANK(SeconedPartDegrees2!$G$9),\"\",SeconedPartDegrees2!$G$9)","v":""},null,null,0,0,{"$f":"FirstPartDegrees2!D129","v":0},{"$f":"IF(ISBLANK(FirstPartDegrees2!$C$9),\"\",FirstPartDegrees2!$C$9)","v":""},{"$f":"FirstPartDegrees2!E129","v":0},{"$f":"IF(ISBLANK(FirstPartDegrees2!$C$9),\"\",FirstPartDegrees2!$C$9)","v":""},null,null,0,{"$f":"FirstPartDegrees2!I129","v":0},{"$f":"IF(ISBLANK(FirstPartDegrees2!$H$9),\"\",FirstPartDegrees2!$H$9)","v":""},{"$f":"FirstPartDegrees2!J129","v":0},{"$f":"IF(ISBLANK(FirstPartDegrees2!$H$9),\"\",FirstPartDegrees2!$H$9)","v":""},null,null,0,{"$f":"FirstPartDegrees2!M129","v":0},{"$f":"IF(ISBLANK(FirstPartDegrees2!$M$9),\"\",FirstPartDegrees2!$M$9)","v":""},{"$f":"FirstPartDegrees2!N129","v":0},{"$f":"IF(ISBLANK(FirstPartDegrees2!$M$9),\"\",FirstPartDegrees2!$M$9)","v":""},null,null,0,{"$f":"SeconedPartDegrees2!D129","v":0},{"$f":"IF(ISBLANK(SeconedPartDegrees2!$D$9),\"\",SeconedPartDegrees2!$D$9)","v":""},{"$f":"SeconedPartDegrees2!F129","v":0},{"$f":"IF(ISBLANK(SeconedPartDegrees2!$F$9),\"\",SeconedPartDegrees2!$F$9)","v":""},null,null,0,0,0,{"$f":"SeconedPartDegrees2!R129","v":""}]
[{"$f":"SeconedPartDegrees2!$A131","v":60},{"$f":"FirstPartDegrees2!$B131","v":""},{"$f":"FirstPartDegrees2!$H$7","v":"7-1"},{"$f":"FirstPartDegrees2!C131","v":0},{"$f":"IF(ISBLANK(FirstPartDegrees2!$C$9),\"\",FirstPartDegrees2!$C$9)","v":""},{"$f":"FirstPartDegrees2!F131","v":0},{"$f":"IF(ISBLANK(FirstPartDegrees2!$F$9),\"\",FirstPartDegrees2!$F$9)","v":""},null,null,0,{"$f":"FirstPartDegrees2!K131","v":0},{"$f":"IF(ISBLANK(FirstPartDegrees2!$K$9),\"\",FirstPartDegrees2!$K$9)","v":""},{"$f":"FirstPartDegrees2!L131","v":0},{"$f":"IF(ISBLANK(FirstPartDegrees2!$K$9),\"\",FirstPartDegrees2!$K$9)","v":""},null,null,0,{"$f":"SeconedPartDegrees2!M131","v":0},{"$f":"IF(ISBLANK(SeconedPartDegrees2!$M$9),\"\",SeconedPartDegrees2!$M$9)","v":""},{"$f":"SeconedPartDegrees2!N131","v":0},{"$f":"IF(ISBLANK(SeconedPartDegrees2!$M$9),\"\",SeconedPartDegrees2!$M$9)","v":""},null,null,0,{"$f":"FirstPartDegrees2!H131","v":0},{"$f":"IF(ISBLANK(FirstPartDegrees2!$H$9),\"\",FirstPartDegrees2!$H$9)","v":""},{"$f":"SeconedPartDegrees2!C131","v":0},{"$f":"IF(ISBLANK(SeconedPartDegrees2!$C$9),\"\",SeconedPartDegrees2!$C$9)","v":""},null,null,0,0,{"$f":"SeconedPartDegrees2!G131","v":0},{"$f":"IF(ISBLANK(SeconedPartDegrees2!$G$9),\"\",SeconedPartDegrees2!$G$9)","v":""},{"$f":"SeconedPartDegrees2!H131","v":0},{"$f":"IF(ISBLANK(SeconedPartDegrees2!$G$9),\"\",SeconedPartDegrees2!$G$9)","v":""},null,null,0,{"$f":"SeconedPartDegrees2!I131","v":0},{"$f":"IF(ISBLANK(SeconedPartDegrees2!$G$9),\"\",SeconedPartDegrees2!$G$9)","v":""},{"$f":"SeconedPartDegrees2!J131","v":0},{"$f":"IF(ISBLANK(SeconedPartDegrees2!$G$9),\"\",SeconedPartDegrees2!$G$9)","v":""},null,null,0,{"$f":"SeconedPartDegrees2!O131","v":0},{"$f":"IF(ISBLANK(SeconedPartDegrees2!$M$9),\"\",SeconedPartDegrees2!$M$9)","v":""},{"$f":"SeconedPartDegrees2!P131","v":0},{"$f":"IF(ISBLANK(SeconedPartDegrees2!$M$9),\"\",SeconedPartDegrees2!$M$9)","v":""},null,null,0,{"$f":"SeconedPartDegrees2!K131","v":0},{"$f":"IF(ISBLANK(SeconedPartDegrees2!$G$9),\"\",SeconedPartDegrees2!$G$9)","v":""},{"$f":"SeconedPartDegrees2!L131","v":0},{"$f":"IF(ISBLANK(SeconedPartDegrees2!$G$9),\"\",SeconedPartDegrees2!$G$9)","v":""},null,null,0,0,{"$f":"FirstPartDegrees2!D131","v":0},{"$f":"IF(ISBLANK(FirstPartDegrees2!$C$9),\"\",FirstPartDegrees2!$C$9)","v":""},{"$f":"FirstPartDegrees2!E131","v":0},{"$f":"IF(ISBLANK(FirstPartDegrees2!$C$9),\"\",FirstPartDegrees2!$C$9)","v":""},null,null,0,{"$f":"FirstPartDegrees2!I131","v":0},{"$f":"IF(ISBLANK(FirstPartDegrees2!$H$9),\"\",FirstPartDegrees2!$H$9)","v":""},{"$f":"FirstPartDegrees2!J131","v":0},{"$f":"IF(ISBLANK(FirstPartDegrees2!$H$9),\"\",FirstPartDegrees2!$H$9)","v":""},null,null,0,{"$f":"FirstPartDegrees2!M131","v":0},{"$f":"IF(ISBLANK(FirstPartDegrees2!$M$9),\"\",FirstPartDegrees2!$M$9)","v":""},{"$f":"FirstPartDegrees2!N131","v":0},{"$f":"IF(ISBLANK(FirstPartDegrees2!$M$9),\"\",FirstPartDegrees2!$M$9)","v":""},null,null,0,{"$f":"SeconedPartDegrees2!D131","v":0},{"$f":"IF(ISBLANK(SeconedPartDegrees2!$D$9),\"\",SeconedPartDegrees2!$D$9)","v":""},{"$f":"SeconedPartDegrees2!F131","v":0},{"$f":"IF(ISBLANK(SeconedPartDegrees2!$F$9),\"\",SeconedPartDegrees2!$F$9)","v":""},null,null,0,0,0,{"$f":"SeconedPartDegrees2!R131","v":""}]
[{"$f":"SeconedPartDegrees2!$A133","v":61},{"$f":"FirstPartDegrees2!$B133","v":""},{"$f":"FirstPartDegrees2!$H$7","v":"7-1"},{"$f":"FirstPartDegrees2!C133","v":0},{"$f":"IF(ISBLANK(FirstPartDegrees2!$C$9),\"\",FirstPartDegrees2!$C$9)","v":""},{"$f":"FirstPartDegrees2!F133","v":0},{"$f":"IF(ISBLANK(FirstPartDegrees2!$F$9),\"\",FirstPartDegrees2!$F$9)","v":""},null,null,0,{"$f":"FirstPartDegrees2!K133","v":0},{"$f":"IF(ISBLANK(FirstPartDegrees2!$K$9),\"\",FirstPartDegrees2!$K$9)","v":""},{"$f":"FirstPartDegrees2!L133","v":0},{"$f":"IF(ISBLANK(FirstPartDegrees2!$K$9),\"\",FirstPartDegrees2!$K$9)","v":""},null,null,0,{"$f":"SeconedPartDegrees2!M133","v":0},{"$f":"IF(ISBLANK(SeconedPartDegrees2!$M$9),\"\",SeconedPartDegrees2!$M$9)","v":""},{"$f":"SeconedPartDegrees2!N133","v":0},{"$f":"IF(ISBLANK(SeconedPartDegrees2!$M$9),\"\",SeconedPartDegrees2!$M$9)","v":""},null,null,0,{"$f":"FirstPartDegrees2!H133","v":0},{"$f":"IF(ISBLANK(FirstPartDegrees2!$H$9),\"\",FirstPartDegrees2!$H$9)","v":""},{"$f":"SeconedPartDegrees2!C133","v":0},{"$f":"IF(ISBLANK(SeconedPartDegrees2!$C$9),\"\",SeconedPartDegrees2!$C$9)","v":""},null,null,0,0,{"$f":"SeconedPartDegrees2!G133","v":0},{"$f":"IF(ISBLANK(SeconedPartDegrees2!$G$9),\"\",SeconedPartDegrees2!$G$9)","v":""},{"$f":"SeconedPartDegrees2!H133","v":0},{"$f":"IF(ISBLANK(SeconedPartDegrees2!$G$9),\"\",SeconedPartDegrees2!$G$9)","v":""},null,null,0,{"$f":"SeconedPartDegrees2!I133","v":0},{"$f":"IF(ISBLANK(SeconedPartDegrees2!$G$9),\"\",SeconedPartDegrees2!$G$9)","v":""},{"$f":"SeconedPartDegrees2!J133","v":0},{"$f":"IF(ISBLANK(SeconedPartDegrees2!$G$9),\"\",SeconedPartDegrees2!$G$9)","v":""},null,null,0,{"$f":"SeconedPartDegrees2!O133","v":0},{"$f":"IF(ISBLANK(SeconedPartDegrees2!$M$9),\"\",SeconedPartDegrees2!$M$9)","v":""},{"$f":"SeconedPartDegrees2!P133","v":0},{"$f":"IF(ISBLANK(SeconedPartDegrees2!$M$9),\"\",SeconedPartDegrees2!$M$9)","v":""},null,null,0,{"$f":"SeconedPartDegrees2!K133","v":0},{"$f":"IF(ISBLANK(SeconedPartDegrees2!$G$9),\"\",SeconedPartDegrees2!$G$9)","v":""},{"$f":"SeconedPartDegrees2!L133","v":0},{"$f":"IF(ISBLANK(SeconedPartDegrees2!$G$9),\"\",SeconedPartDegrees2!$G$9)","v":""},null,null,0,0,{"$f":"FirstPartDegrees2!D133","v":0},{"$f":"IF(ISBLANK(FirstPartDegrees2!$C$9),\"\",FirstPartDegrees2!$C$9)","v":""},{"$f":"FirstPartDegrees2!E133","v":0},{"$f":"IF(ISBLANK(FirstPartDegrees2!$C$9),\"\",FirstPartDegrees2!$C$9)","v":""},null,null,0,{"$f":"FirstPartDegrees2!I133","v":0},{"$f":"IF(ISBLANK(FirstPartDegrees2!$H$9),\"\",FirstPartDegrees2!$H$9)","v":""},{"$f":"FirstPartDegrees2!J133","v":0},{"$f":"IF(ISBLANK(FirstPartDegrees2!$H$9),\"\",FirstPartDegrees2!$H$9)","v":""},null,null,0,{"$f":"FirstPartDegrees2!M133","v":0},{"$f":"IF(ISBLANK(FirstPartDegrees2!$M$9),\"\",FirstPartDegrees2!$M$9)","v":""},{"$f":"FirstPartDegrees2!N133","v":0},{"$f":"IF(ISBLANK(FirstPartDegrees2!$M$9),\"\",FirstPartDegrees2!$M$9)","v":""},null,null,0,{"$f":"SeconedPartDegrees2!D133","v":0},{"$f":"IF(ISBLANK(SeconedPartDegrees2!$D$9),\"\",SeconedPartDegrees2!$D$9)","v":""},{"$f":"SeconedPartDegrees2!F133","v":0},{"$f":"IF(ISBLANK(SeconedPartDegrees2!$F$9),\"\",SeconedPartDegrees2!$F$9)","v":""},null,null,0,0,0,{"$f":"SeconedPartDegrees2!R133","v":""}]
[{"$f":"SeconedPartDegrees2!$A135","v":62},{"$f":"FirstPartDegrees2!$B135","v":""},{"$f":"FirstPartDegrees2!$H$7","v":"7-1"},{"$f":"FirstPartDegrees2!C135","v":0},{"$f":"IF(ISBLANK(FirstPartDegrees2!$C$9),\"\",FirstPartDegrees2!$C$9)","v":""},{"$f":"FirstPartDegrees2!F135","v":0},{"$f":"IF(ISBLANK(FirstPartDegrees2!$F$9),\"\",FirstPartDegrees2!$F$9)","v":""},null,null,0,{"$f":"FirstPartDegrees2!K135","v":0},{"$f":"IF(ISBLANK(FirstPartDegrees2!$K$9),\"\",FirstPartDegrees2!$K$9)","v":""},{"$f":"FirstPartDegrees2!L135","v":0},{"$f":"IF(ISBLANK(FirstPartDegrees2!$K$9),\"\",FirstPartDegrees2!$K$9)","v":""},null,null,0,{"$f":"SeconedPartDegrees2!M135","v":0},{"$f":"IF(ISBLANK(SeconedPartDegrees2!$M$9),\"\",SeconedPartDegrees2!$M$9)","v":""},{"$f":"SeconedPartDegrees2!N135","v":0},{"$f":"IF(ISBLANK(SeconedPartDegrees2!$M$9),\"\",SeconedPartDegrees2!$M$9)","v":""},null,null,0,{"$f":"FirstPartDegrees2!H135","v":0},{"$f":"IF(ISBLANK(FirstPartDegrees2!$H$9),\"\",FirstPartDegrees2!$H$9)","v":""},{"$f":"SeconedPartDegrees2!C135","v":0},{"$f":"IF(ISBLANK(SeconedPartDegrees2!$C$9),\"\",SeconedPartDegrees2!$C$9)","v":""},null,null,0,0,{"$f":"SeconedPartDegrees2!G135","v":0},{"$f":"IF(ISBLANK(SeconedPartDegrees2!$G$9),\"\",SeconedPartDegrees2!$G$9)","v":""},{"$f":"SeconedPartDegrees2!H135","v":0},{"$f":"IF(ISBLANK(SeconedPartDegrees2!$G$9),\"\",SeconedPartDegrees2!$G$9)","v":""},null,null,0,{"$f":"SeconedPartDegrees2!I135","v":0},{"$f":"IF(ISBLANK(SeconedPartDegrees2!$G$9),\"\",SeconedPartDegrees2!$G$9)","v":""},{"$f":"SeconedPartDegrees2!J135","v":0},{"$f":"IF(ISBLANK(SeconedPartDegrees2!$G$9),\"\",SeconedPartDegrees2!$G$9)","v":""},null,null,0,{"$f":"SeconedPartDegrees2!O135","v":0},{"$f":"IF(ISBLANK(SeconedPartDegrees2!$M$9),\"\",SeconedPartDegrees2!$M$9)","v":""},{"$f":"SeconedPartDegrees2!P135","v":0},{"$f":"IF(ISBLANK(SeconedPartDegrees2!$M$9),\"\",SeconedPartDegrees2!$M$9)","v":""},null,null,0,{"$f":"SeconedPartDegrees2!K135","v":0},{"$f":"IF(ISBLANK(SeconedPartDegrees2!$G$9),\"\",SeconedPartDegrees2!$G$9)","v":""},{"$f":"SeconedPartDegrees2!L135","v":0},{"$f":"IF(ISBLANK(SeconedPartDegrees2!$G$9),\"\",SeconedPartDegrees2!$G$9)","v":""},null,null,0,0,{"$f":"FirstPartDegrees2!D135","v":0},{"$f":"IF(ISBLANK(FirstPartDegrees2!$C$9),\"\",FirstPartDegrees2!$C$9)","v":""},{"$f":"FirstPartDegrees2!E135","v":0},{"$f":"IF(ISBLANK(FirstPartDegrees2!$C$9),\"\",FirstPartDegrees2!$C$9)","v":""},null,null,0,{"$f":"FirstPartDegrees2!I135","v":0},{"$f":"IF(ISBLANK(FirstPartDegrees2!$H$9),\"\",FirstPartDegrees2!$H$9)","v":""},{"$f":"FirstPartDegrees2!J135","v":0},{"$f":"IF(ISBLANK(FirstPartDegrees2!$H$9),\"\",FirstPartDegrees2!$H$9)","v":""},null,null,0,{"$f":"FirstPartDegrees2!M135","v":0},{"$f":"IF(ISBLANK(FirstPartDegrees2!$M$9),\"\",FirstPartDegrees2!$M$9)","v":""},{"$f":"FirstPartDegrees2!N135","v":0},{"$f":"IF(ISBLANK(FirstPartDegrees2!$M$9),\"\",FirstPartDegrees2!$M$9)","v":""},null,null,0,{"$f":"SeconedPartDegrees2!D135","v":0},{"$f":"IF(ISBLANK(SeconedPartDegrees2!$D$9),\"\",SeconedPartDegrees2!$D$9)","v":""},{"$f":"SeconedPartDegrees2!F135","v":0},{"$f":"IF(ISBLANK(SeconedPartDegrees2!$F$9),\"\",SeconedPartDegrees2!$F$9)","v":""},null,null,0,0,0,{"$f":"SeconedPartDegrees2!R135","v":""}]
[{"$f":"SeconedPartDegrees2!$A137","v":63},{"$f":"FirstPartDegrees2!$B137","v":""},{"$f":"FirstPartDegrees2!$H$7","v":"7-1"},{"$f":"FirstPartDegrees2!C137","v":0},{"$f":"IF(ISBLANK(FirstPartDegrees2!$C$9),\"\",FirstPartDegrees2!$C$9)","v":""},{"$f":"FirstPartDegrees2!F137","v":0},{"$f":"IF(ISBLANK(FirstPartDegrees2!$F$9),\"\",FirstPartDegrees2!$F$9)","v":""},null,null,0,{"$f":"FirstPartDegrees2!K137","v":0},{"$f":"IF(ISBLANK(FirstPartDegrees2!$K$9),\"\",FirstPartDegrees2!$K$9)","v":""},{"$f":"FirstPartDegrees2!L137","v":0},{"$f":"IF(ISBLANK(FirstPartDegrees2!$K$9),\"\",FirstPartDegrees2!$K$9)","v":""},null,null,0,{"$f":"SeconedPartDegrees2!M137","v":0},{"$f":"IF(ISBLANK(SeconedPartDegrees2!$M$9),\"\",SeconedPartDegrees2!$M$9)","v":""},{"$f":"SeconedPartDegrees2!N137","v":0},{"$f":"IF(ISBLANK(SeconedPartDegrees2!$M$9),\"\",SeconedPartDegrees2!$M$9)","v":""},null,null,0,{"$f":"FirstPartDegrees2!H137","v":0},{"$f":"IF(ISBLANK(FirstPartDegrees2!$H$9),\"\",FirstPartDegrees2!$H$9)","v":""},{"$f":"SeconedPartDegrees2!C137","v":0},{"$f":"IF(ISBLANK(SeconedPartDegrees2!$C$9),\"\",SeconedPartDegrees2!$C$9)","v":""},null,null,0,0,{"$f":"SeconedPartDegrees2!G137","v":0},{"$f":"IF(ISBLANK(SeconedPartDegrees2!$G$9),\"\",SeconedPartDegrees2!$G$9)","v":""},{"$f":"SeconedPartDegrees2!H137","v":0},{"$f":"IF(ISBLANK(SeconedPartDegrees2!$G$9),\"\",SeconedPartDegrees2!$G$9)","v":""},null,null,0,{"$f":"SeconedPartDegrees2!I137","v":0},{"$f":"IF(ISBLANK(SeconedPartDegrees2!$G$9),\"\",SeconedPartDegrees2!$G$9)","v":""},{"$f":"SeconedPartDegrees2!J137","v":0},{"$f":"IF(ISBLANK(SeconedPartDegrees2!$G$9),\"\",SeconedPartDegrees2!$G$9)","v":""},null,null,0,{"$f":"SeconedPartDegrees2!O137","v":0},{"$f":"IF(ISBLANK(SeconedPartDegrees2!$M$9),\"\",SeconedPartDegrees2!$M$9)","v":""},{"$f":"SeconedPartDegrees2!P137","v":0},{"$f":"IF(ISBLANK(SeconedPartDegrees2!$M$9),\"\",SeconedPartDegrees2!$M$9)","v":""},null,null,0,{"$f":"SeconedPartDegrees2!K137","v":0},{"$f":"IF(ISBLANK(SeconedPartDegrees2!$G$9),\"\",SeconedPartDegrees2!$G$9)","v":""},{"$f":"SeconedPartDegrees2!L137","v":0},{"$f":"IF(ISBLANK(SeconedPartDegrees2!$G$9),\"\",SeconedPartDegrees2!$G$9)","v":""},null,null,0,0,{"$f":"FirstPartDegrees2!D137","v":0},{"$f":"IF(ISBLANK(FirstPartDegrees2!$C$9),\"\",FirstPartDegrees2!$C$9)","v":""},{"$f":"FirstPartDegrees2!E137","v":0},{"$f":"IF(ISBLANK(FirstPartDegrees2!$C$9),\"\",FirstPartDegrees2!$C$9)","v":""},null,null,0,{"$f":"FirstPartDegrees2!I137","v":0},{"$f":"IF(ISBLANK(FirstPartDegrees2!$H$9),\"\",FirstPartDegrees2!$H$9)","v":""},{"$f":"FirstPartDegrees2!J137","v":0},{"$f":"IF(ISBLANK(FirstPartDegrees2!$H$9),\"\",FirstPartDegrees2!$H$9)","v":""},null,null,0,{"$f":"FirstPartDegrees2!M137","v":0},{"$f":"IF(ISBLANK(FirstPartDegrees2!$M$9),\"\",FirstPartDegrees2!$M$9)","v":""},{"$f":"FirstPartDegrees2!N137","v":0},{"$f":"IF(ISBLANK(FirstPartDegrees2!$M$9),\"\",FirstPartDegrees2!$M$9)","v":""},null,null,0,{"$f":"SeconedPartDegrees2!D137","v":0},{"$f":"IF(ISBLANK(SeconedPartDegrees2!$D$9),\"\",SeconedPartDegrees2!$D$9)","v":""},{"$f":"SeconedPartDegrees2!F137","v":0},{"$f":"IF(ISBLANK(SeconedPartDegrees2!$F$9),\"\",SeconedPartDegrees2!$F$9)","v":""},null,null,0,0,0,{"$f":"SeconedPartDegrees2!R137","v":""}]
[{"$f":"SeconedPartDegrees2!$A139","v":64},{"$f":"FirstPartDegrees2!$B139","v":""},{"$f":"FirstPartDegrees2!$H$7","v":"7-1"},{"$f":"FirstPartDegrees2!C139","v":0},{"$f":"IF(ISBLANK(FirstPartDegrees2!$C$9),\"\",FirstPartDegrees2!$C$9)","v":""},{"$f":"FirstPartDegrees2!F139","v":0},{"$f":"IF(ISBLANK(FirstPartDegrees2!$F$9),\"\",FirstPartDegrees2!$F$9)","v":""},null,null,0,{"$f":"FirstPartDegrees2!K139","v":0},{"$f":"IF(ISBLANK(FirstPartDegrees2!$K$9),\"\",FirstPartDegrees2!$K$9)","v":""},{"$f":"FirstPartDegrees2!L139","v":0},{"$f":"IF(ISBLANK(FirstPartDegrees2!$K$9),\"\",FirstPartDegrees2!$K$9)","v":""},null,null,0,{"$f":"SeconedPartDegrees2!M139","v":0},{"$f":"IF(ISBLANK(SeconedPartDegrees2!$M$9),\"\",SeconedPartDegrees2!$M$9)","v":""},{"$f":"SeconedPartDegrees2!N139","v":0},{"$f":"IF(ISBLANK(SeconedPartDegrees2!$M$9),\"\",SeconedPartDegrees2!$M$9)","v":""},null,null,0,{"$f":"FirstPartDegrees2!H139","v":0},{"$f":"IF(ISBLANK(FirstPartDegrees2!$H$9),\"\",FirstPartDegrees2!$H$9)","v":""},{"$f":"SeconedPartDegrees2!C139","v":0},{"$f":"IF(ISBLANK(SeconedPartDegrees2!$C$9),\"\",SeconedPartDegrees2!$C$9)","v":""},null,null,0,0,{"$f":"SeconedPartDegrees2!G139","v":0},{"$f":"IF(ISBLANK(SeconedPartDegrees2!$G$9),\"\",SeconedPartDegrees2!$G$9)","v":""},{"$f":"SeconedPartDegrees2!H139","v":0},{"$f":"IF(ISBLANK(SeconedPartDegrees2!$G$9),\"\",SeconedPartDegrees2!$G$9)","v":""},null,null,0,{"$f":"SeconedPartDegrees2!I139","v":0},{"$f":"IF(ISBLANK(SeconedPartDegrees2!$G$9),\"\",SeconedPartDegrees2!$G$9)","v":""},{"$f":"SeconedPartDegrees2!J139","v":0},{"$f":"IF(ISBLANK(SeconedPartDegrees2!$G$9),\"\",SeconedPartDegrees2!$G$9)","v":""},null,null,0,{"$f":"SeconedPartDegrees2!O139","v":0},{"$f":"IF(ISBLANK(SeconedPartDegrees2!$M$9),\"\",SeconedPartDegrees2!$M$9)","v":""},{"$f":"SeconedPartDegrees2!P139","v":0},{"$f":"IF(ISBLANK(SeconedPartDegrees2!$M$9),\"\",SeconedPartDegrees2!$M$9)","v":""},null,null,0,{"$f":"SeconedPartDegrees2!K139","v":0},{"$f":"IF(ISBLANK(SeconedPartDegrees2!$G$9),\"\",SeconedPartDegrees2!$G$9)","v":""},{"$f":"SeconedPartDegrees2!L139","v":0},{"$f":"IF(ISBLANK(SeconedPartDegrees2!$G$9),\"\",SeconedPartDegrees2!$G$9)","v":""},null,null,0,0,{"$f":"FirstPartDegrees2!D139","v":0},{"$f":"IF(ISBLANK(FirstPartDegrees2!$C$9),\"\",FirstPartDegrees2!$C$9)","v":""},{"$f":"FirstPartDegrees2!E139","v":0},{"$f":"IF(ISBLANK(FirstPartDegrees2!$C$9),\"\",FirstPartDegrees2!$C$9)","v":""},null,null,0,{"$f":"FirstPartDegrees2!I139","v":0},{"$f":"IF(ISBLANK(FirstPartDegrees2!$H$9),\"\",FirstPartDegrees2!$H$9)","v":""},{"$f":"FirstPartDegrees2!J139","v":0},{"$f":"IF(ISBLANK(FirstPartDegrees2!$H$9),\"\",FirstPartDegrees2!$H$9)","v":""},null,null,0,{"$f":"FirstPartDegrees2!M139","v":0},{"$f":"IF(ISBLANK(FirstPartDegrees2!$M$9),\"\",FirstPartDegrees2!$M$9)","v":""},{"$f":"FirstPartDegrees2!N139","v":0},{"$f":"IF(ISBLANK(FirstPartDegrees2!$M$9),\"\",FirstPartDegrees2!$M$9)","v":""},null,null,0,{"$f":"SeconedPartDegrees2!D139","v":0},{"$f":"IF(ISBLANK(SeconedPartDegrees2!$D$9),\"\",SeconedPartDegrees2!$D$9)","v":""},{"$f":"SeconedPartDegrees2!F139","v":0},{"$f":"IF(ISBLANK(SeconedPartDegrees2!$F$9),\"\",SeconedPartDegrees2!$F$9)","v":""},null,null,0,0,0,{"$f":"SeconedPartDegrees2!R139","v":""}]
[{"$f":"SeconedPartDegrees2!$A141","v":65},{"$f":"FirstPartDegrees2!$B141","v":""},{"$f":"FirstPartDegrees2!$H$7","v":"7-1"},{"$f":"FirstPartDegrees2!C141","v":0},{"$f":"IF(ISBLANK(FirstPartDegrees2!$C$9),\"\",FirstPartDegrees2!$C$9)","v":""},{"$f":"FirstPartDegrees2!F141","v":0},{"$f":"IF(ISBLANK(FirstPartDegrees2!$F$9),\"\",FirstPartDegrees2!$F$9)","v":""},null,null,0,{"$f":"FirstPartDegrees2!K141","v":0},{"$f":"IF(ISBLANK(FirstPartDegrees2!$K$9),\"\",FirstPartDegrees2!$K$9)","v":""},{"$f":"FirstPartDegrees2!L141","v":0},{"$f":"IF(ISBLANK(FirstPartDegrees2!$K$9),\"\",FirstPartDegrees2!$K$9)","v":""},null,null,0,{"$f":"SeconedPartDegrees2!M141","v":0},{"$f":"IF(ISBLANK(SeconedPartDegrees2!$M$9),\"\",SeconedPartDegrees2!$M$9)","v":""},{"$f":"SeconedPartDegrees2!N141","v":0},{"$f":"IF(ISBLANK(SeconedPartDegrees2!$M$9),\"\",SeconedPartDegrees2!$M$9)","v":""},null,null,0,{"$f":"FirstPartDegrees2!H141","v":0},{"$f":"IF(ISBLANK(FirstPartDegrees2!$H$9),\"\",FirstPartDegrees2!$H$9)","v":""},{"$f":"SeconedPartDegrees2!C141","v":0},{"$f":"IF(ISBLANK(SeconedPartDegrees2!$C$9),\"\",SeconedPartDegrees2!$C$9)","v":""},null,null,0,0,{"$f":"SeconedPartDegrees2!G141","v":0},{"$f":"IF(ISBLANK(SeconedPartDegrees2!$G$9),\"\",SeconedPartDegrees2!$G$9)","v":""},{"$f":"SeconedPartDegrees2!H141","v":0},{"$f":"IF(ISBLANK(SeconedPartDegrees2!$G$9),\"\",SeconedPartDegrees2!$G$9)","v":""},null,null,0,{"$f":"SeconedPartDegrees2!I141","v":0},{"$f":"IF(ISBLANK(SeconedPartDegrees2!$G$9),\"\",SeconedPartDegrees2!$G$9)","v":""},{"$f":"SeconedPartDegrees2!J141","v":0},{"$f":"IF(ISBLANK(SeconedPartDegrees2!$G$9),\"\",SeconedPartDegrees2!$G$9)","v":""},null,null,0,{"$f":"SeconedPartDegrees2!O141","v":0},{"$f":"IF(ISBLANK(SeconedPartDegrees2!$M$9),\"\",SeconedPartDegrees2!$M$9)","v":""},{"$f":"SeconedPartDegrees2!P141","v":0},{"$f":"IF(ISBLANK(SeconedPartDegrees2!$M$9),\"\",SeconedPartDegrees2!$M$9)","v":""},null,null,0,{"$f":"SeconedPartDegrees2!K141","v":0},{"$f":"IF(ISBLANK(SeconedPartDegrees2!$G$9),\"\",SeconedPartDegrees2!$G$9)","v":""},{"$f":"SeconedPartDegrees2!L141","v":0},{"$f":"IF(ISBLANK(SeconedPartDegrees2!$G$9),\"\",SeconedPartDegrees2!$G$9)","v":""},null,null,0,0,{"$f":"FirstPartDegrees2!D141","v":0},{"$f":"IF(ISBLANK(FirstPartDegrees2!$C$9),\"\",FirstPartDegrees2!$C$9)","v":""},{"$f":"FirstPartDegrees2!E141","v":0},{"$f":"IF(ISBLANK(FirstPartDegrees2!$C$9),\"\",FirstPartDegrees2!$C$9)","v":""},null,null,0,{"$f":"FirstPartDegrees2!I141","v":0},{"$f":"IF(ISBLANK(FirstPartDegrees2!$H$9),\"\",FirstPartDegrees2!$H$9)","v":""},{"$f":"FirstPartDegrees2!J141","v":0},{"$f":"IF(ISBLANK(FirstPartDegrees2!$H$9),\"\",FirstPartDegrees2!$H$9)","v":""},null,null,0,{"$f":"FirstPartDegrees2!M141","v":0},{"$f":"IF(ISBLANK(FirstPartDegrees2!$M$9),\"\",FirstPartDegrees2!$M$9)","v":""},{"$f":"FirstPartDegrees2!N141","v":0},{"$f":"IF(ISBLANK(FirstPartDegrees2!$M$9),\"\",FirstPartDegrees2!$M$9)","v":""},null,null,0,{"$f":"SeconedPartDegrees2!D141","v":0},{"$f":"IF(ISBLANK(SeconedPartDegrees2!$D$9),\"\",SeconedPartDegrees2!$D$9)","v":""},{"$f":"SeconedPartDegrees2!F141","v":0},{"$f":"IF(ISBLANK(SeconedPartDegrees2!$F$9),\"\",SeconedPartDegrees2!$F$9)","v":""},null,null,0,0,0,{"$f":"SeconedPartDegrees2!R141","v":""}]
[{"$f":"SeconedPartDegrees2!$A143","v":66},{"$f":"FirstPartDegrees2!$B143","v":""},{"$f":"FirstPartDegrees2!$H$7","v":"7-1"},{"$f":"FirstPartDegrees2!C143","v":0},{"$f":"IF(ISBLANK(FirstPartDegrees2!$C$9),\"\",FirstPartDegrees2!$C$9)","v":""},{"$f":"FirstPartDegrees2!F143","v":0},{"$f":"IF(ISBLANK(FirstPartDegrees2!$F$9),\"\",FirstPartDegrees2!$F$9)","v":""},null,null,0,{"$f":"FirstPartDegrees2!K143","v":0},{"$f":"IF(ISBLANK(FirstPartDegrees2!$K$9),\"\",FirstPartDegrees2!$K$9)","v":""},{"$f":"FirstPartDegrees2!L143","v":0},{"$f":"IF(ISBLANK(FirstPartDegrees2!$K$9),\"\",FirstPartDegrees2!$K$9)","v":""},null,null,0,{"$f":"SeconedPartDegrees2!M143","v":0},{"$f":"IF(ISBLANK(SeconedPartDegrees2!$M$9),\"\",SeconedPartDegrees2!$M$9)","v":""},{"$f":"SeconedPartDegrees2!N143","v":0},{"$f":"IF(ISBLANK(SeconedPartDegrees2!$M$9),\"\",SeconedPartDegrees2!$M$9)","v":""},null,null,0,{"$f":"FirstPartDegrees2!H143","v":0},{"$f":"IF(ISBLANK(FirstPartDegrees2!$H$9),\"\",FirstPartDegrees2!$H$9)","v":""},{"$f":"SeconedPartDegrees2!C143","v":0},{"$f":"IF(ISBLANK(SeconedPartDegrees2!$C$9),\"\",SeconedPartDegrees2!$C$9)","v":""},null,null,0,0,{"$f":"SeconedPartDegrees2!G143","v":0},{"$f":"IF(ISBLANK(SeconedPartDegrees2!$G$9),\"\",SeconedPartDegrees2!$G$9)","v":""},{"$f":"SeconedPartDegrees2!H143","v":0},{"$f":"IF(ISBLANK(SeconedPartDegrees2!$G$9),\"\",SeconedPartDegrees2!$G$9)","v":""},null,null,0,{"$f":"SeconedPartDegrees2!I143","v":0},{"$f":"IF(ISBLANK(SeconedPartDegrees2!$G$9),\"\",SeconedPartDegrees2!$G$9)","v":""},{"$f":"SeconedPartDegrees2!J143","v":0},{"$f":"IF(ISBLANK(SeconedPartDegrees2!$G$9),\"\",SeconedPartDegrees2!$G$9)","v":""},null,null,0,{"$f":"SeconedPartDegrees2!O143","v":0},{"$f":"IF(ISBLANK(SeconedPartDegrees2!$M$9),\"\",SeconedPartDegrees2!$M$9)","v":""},{"$f":"SeconedPartDegrees2!P143","v":0},{"$f":"IF(ISBLANK(SeconedPartDegrees2!$M$9),\"\",SeconedPartDegrees2!$M$9)","v":""},null,null,0,{"$f":"SeconedPartDegrees2!K143","v":0},{"$f":"IF(ISBLANK(SeconedPartDegrees2!$G$9),\"\",SeconedPartDegrees2!$G$9)","v":""},{"$f":"SeconedPartDegrees2!L143","v":0},{"$f":"IF(ISBLANK(SeconedPartDegrees2!$G$9),\"\",SeconedPartDegrees2!$G$9)","v":""},null,null,0,0,{"$f":"FirstPartDegrees2!D143","v":0},{"$f":"IF(ISBLANK(FirstPartDegrees2!$C$9),\"\",FirstPartDegrees2!$C$9)","v":""},{"$f":"FirstPartDegrees2!E143","v":0},{"$f":"IF(ISBLANK(FirstPartDegrees2!$C$9),\"\",FirstPartDegrees2!$C$9)","v":""},null,null,0,{"$f":"FirstPartDegrees2!I143","v":0},{"$f":"IF(ISBLANK(FirstPartDegrees2!$H$9),\"\",FirstPartDegrees2!$H$9)","v":""},{"$f":"FirstPartDegrees2!J143","v":0},{"$f":"IF(ISBLANK(FirstPartDegrees2!$H$9),\"\",FirstPartDegrees2!$H$9)","v":""},null,null,0,{"$f":"FirstPartDegrees2!M143","v":0},{"$f":"IF(ISBLANK(FirstPartDegrees2!$M$9),\"\",FirstPartDegrees2!$M$9)","v":""},{"$f":"FirstPartDegrees2!N143","v":0},{"$f":"IF(ISBLANK(FirstPartDegrees2!$M$9),\"\",FirstPartDegrees2!$M$9)","v":""},null,null,0,{"$f":"SeconedPartDegrees2!D143","v":0},{"$f":"IF(ISBLANK(SeconedPartDegrees2!$D$9),\"\",SeconedPartDegrees2!$D$9)","v":""},{"$f":"SeconedPartDegrees2!F143","v":0},{"$f":"IF(ISBLANK(SeconedPartDegrees2!$F$9),\"\",SeconedPartDegrees2!$F$9)","v":""},null,null,0,0,0,{"$f":"SeconedPartDegrees2!R143","v":""}]
[{"$f":"SeconedPartDegrees2!$A145","v":67},{"$f":"FirstPartDegrees2!$B145","v":""},{"$f":"FirstPartDegrees2!$H$7","v":"7-1"},{"$f":"FirstPartDegrees2!C145","v":0},{"$f":"IF(ISBLANK(FirstPartDegrees2!$C$9),\"\",FirstPartDegrees2!$C$9)","v":""},{"$f":"FirstPartDegrees2!F145","v":0},{"$f":"IF(ISBLANK(FirstPartDegrees2!$F$9),\"\",FirstPartDegrees2!$F$9)","v":""},null,null,0,{"$f":"FirstPartDegrees2!K145","v":0},{"$f":"IF(ISBLANK(FirstPartDegrees2!$K$9),\"\",FirstPartDegrees2!$K$9)","v":""},{"$f":"FirstPartDegrees2!L145","v":0},{"$f":"IF(ISBLANK(FirstPartDegrees2!$K$9),\"\",FirstPartDegrees2!$K$9)","v":""},null,null,0,{"$f":"SeconedPartDegrees2!M145","v":0},{"$f":"IF(ISBLANK(SeconedPartDegrees2!$M$9),\"\",SeconedPartDegrees2!$M$9)","v":""},{"$f":"SeconedPartDegrees2!N145","v":0},{"$f":"IF(ISBLANK(SeconedPartDegrees2!$M$9),\"\",SeconedPartDegrees2!$M$9)","v":""},null,null,0,{"$f":"FirstPartDegrees2!H145","v":0},{"$f":"IF(ISBLANK(FirstPartDegrees2!$H$9),\"\",FirstPartDegrees2!$H$9)","v":""},{"$f":"SeconedPartDegrees2!C145","v":0},{"$f":"IF(ISBLANK(SeconedPartDegrees2!$C$9),\"\",SeconedPartDegrees2!$C$9)","v":""},null,null,0,0,{"$f":"SeconedPartDegrees2!G145","v":0},{"$f":"IF(ISBLANK(SeconedPartDegrees2!$G$9),\"\",SeconedPartDegrees2!$G$9)","v":""},{"$f":"SeconedPartDegrees2!H145","v":0},{"$f":"IF(ISBLANK(SeconedPartDegrees2!$G$9),\"\",SeconedPartDegrees2!$G$9)","v":""},null,null,0,{"$f":"SeconedPartDegrees2!I145","v":0},{"$f":"IF(ISBLANK(SeconedPartDegrees2!$G$9),\"\",SeconedPartDegrees2!$G$9)","v":""},{"$f":"SeconedPartDegrees2!J145","v":0},{"$f":"IF(ISBLANK(SeconedPartDegrees2!$G$9),\"\",SeconedPartDegrees2!$G$9)","v":""},null,null,0,{"$f":"SeconedPartDegrees2!O145","v":0},{"$f":"IF(ISBLANK(SeconedPartDegrees2!$M$9),\"\",SeconedPartDegrees2!$M$9)","v":""},{"$f":"SeconedPartDegrees2!P145","v":0},{"$f":"IF(ISBLANK(SeconedPartDegrees2!$M$9),\"\",SeconedPartDegrees2!$M$9)","v":""},null,null,0,{"$f":"SeconedPartDegrees2!K145","v":0},{"$f":"IF(ISBLANK(SeconedPartDegrees2!$G$9),\"\",SeconedPartDegrees2!$G$9)","v":""},{"$f":"SeconedPartDegrees2!L145","v":0},{"$f":"IF(ISBLANK(SeconedPartDegrees2!$G$9),\"\",SeconedPartDegrees2!$G$9)","v":""},null,null,0,0,{"$f":"FirstPartDegrees2!D145","v":0},{"$f":"IF(ISBLANK(FirstPartDegrees2!$C$9),\"\",FirstPartDegrees2!$C$9)","v":""},{"$f":"FirstPartDegrees2!E145","v":0},{"$f":"IF(ISBLANK(FirstPartDegrees2!$C$9),\"\",FirstPartDegrees2!$C$9)","v":""},null,null,0,{"$f":"FirstPartDegrees2!I145","v":0},{"$f":"IF(ISBLANK(FirstPartDegrees2!$H$9),\"\",FirstPartDegrees2!$H$9)","v":""},{"$f":"FirstPartDegrees2!J145","v":0},{"$f":"IF(ISBLANK(FirstPartDegrees2!$H$9),\"\",FirstPartDegrees2!$H$9)","v":""},null,null,0,{"$f":"FirstPartDegrees2!M145","v":0},{"$f":"IF(ISBLANK(FirstPartDegrees2!$M$9),\"\",FirstPartDegrees2!$M$9)","v":""},{"$f":"FirstPartDegrees2!N145","v":0},{"$f":"IF(ISBLANK(FirstPartDegrees2!$M$9),\"\",FirstPartDegrees2!$M$9)","v":""},null,null,0,{"$f":"SeconedPartDegrees2!D145","v":0},{"$f":"IF(ISBLANK(SeconedPartDegrees2!$D$9),\"\",SeconedPartDegrees2!$D$9)","v":""},{"$f":"SeconedPartDegrees2!F145","v":0},{"$f":"IF(ISBLANK(SeconedPartDegrees2!$F$9),\"\",SeconedPartDegrees2!$F$9)","v":""},null,null,0,0,0,{"$f":"SeconedPartDegrees2!R145","v":""}]
[{"$f":"SeconedPartDegrees2!$A147","v":68},{"$f":"FirstPartDegrees2!$B147","v":""},{"$f":"FirstPartDegrees2!$H$7","v":"7-1"},{"$f":"FirstPartDegrees2!C147","v":0},{"$f":"IF(ISBLANK(FirstPartDegrees2!$C$9),\"\",FirstPartDegrees2!$C$9)","v":""},{"$f":"FirstPartDegrees2!F147","v":0},{"$f":"IF(ISBLANK(FirstPartDegrees2!$F$9),\"\",FirstPartDegrees2!$F$9)","v":""},null,null,0,{"$f":"FirstPartDegrees2!K147","v":0},{"$f":"IF(ISBLANK(FirstPartDegrees2!$K$9),\"\",FirstPartDegrees2!$K$9)","v":""},{"$f":"FirstPartDegrees2!L147","v":0},{"$f":"IF(ISBLANK(FirstPartDegrees2!$K$9),\"\",FirstPartDegrees2!$K$9)","v":""},null,null,0,{"$f":"SeconedPartDegrees2!M147","v":0},{"$f":"IF(ISBLANK(SeconedPartDegrees2!$M$9),\"\",SeconedPartDegrees2!$M$9)","v":""},{"$f":"SeconedPartDegrees2!N147","v":0},{"$f":"IF(ISBLANK(SeconedPartDegrees2!$M$9),\"\",SeconedPartDegrees2!$M$9)","v":""},null,null,0,{"$f":"FirstPartDegrees2!H147","v":0},{"$f":"IF(ISBLANK(FirstPartDegrees2!$H$9),\"\",FirstPartDegrees2!$H$9)","v":""},{"$f":"SeconedPartDegrees2!C147","v":0},{"$f":"IF(ISBLANK(SeconedPartDegrees2!$C$9),\"\",SeconedPartDegrees2!$C$9)","v":""},null,null,0,0,{"$f":"SeconedPartDegrees2!G147","v":0},{"$f":"IF(ISBLANK(SeconedPartDegrees2!$G$9),\"\",SeconedPartDegrees2!$G$9)","v":""},{"$f":"SeconedPartDegrees2!H147","v":0},{"$f":"IF(ISBLANK(SeconedPartDegrees2!$G$9),\"\",SeconedPartDegrees2!$G$9)","v":""},null,null,0,{"$f":"SeconedPartDegrees2!I147","v":0},{"$f":"IF(ISBLANK(SeconedPartDegrees2!$G$9),\"\",SeconedPartDegrees2!$G$9)","v":""},{"$f":"SeconedPartDegrees2!J147","v":0},{"$f":"IF(ISBLANK(SeconedPartDegrees2!$G$9),\"\",SeconedPartDegrees2!$G$9)","v":""},null,null,0,{"$f":"SeconedPartDegrees2!O147","v":0},{"$f":"IF(ISBLANK(SeconedPartDegrees2!$M$9),\"\",SeconedPartDegrees2!$M$9)","v":""},{"$f":"SeconedPartDegrees2!P147","v":0},{"$f":"IF(ISBLANK(SeconedPartDegrees2!$M$9),\"\",SeconedPartDegrees2!$M$9)","v":""},null,null,0,{"$f":"SeconedPartDegrees2!K147","v":0},{"$f":"IF(ISBLANK(SeconedPartDegrees2!$G$9),\"\",SeconedPartDegrees2!$G$9)","v":""},{"$f":"SeconedPartDegrees2!L147","v":0},{"$f":"IF(ISBLANK(SeconedPartDegrees2!$G$9),\"\",SeconedPartDegrees2!$G$9)","v":""},null,null,0,0,{"$f":"FirstPartDegrees2!D147","v":0},{"$f":"IF(ISBLANK(FirstPartDegrees2!$C$9),\"\",FirstPartDegrees2!$C$9)","v":""},{"$f":"FirstPartDegrees2!E147","v":0},{"$f":"IF(ISBLANK(FirstPartDegrees2!$C$9),\"\",FirstPartDegrees2!$C$9)","v":""},null,null,0,{"$f":"FirstPartDegrees2!I147","v":0},{"$f":"IF(ISBLANK(FirstPartDegrees2!$H$9),\"\",FirstPartDegrees2!$H$9)","v":""},{"$f":"FirstPartDegrees2!J147","v":0},{"$f":"IF(ISBLANK(FirstPartDegrees2!$H$9),\"\",FirstPartDegrees2!$H$9)","v":""},null,null,0,{"$f":"FirstPartDegrees2!M147","v":0},{"$f":"IF(ISBLANK(FirstPartDegrees2!$M$9),\"\",FirstPartDegrees2!$M$9)","v":""},{"$f":"FirstPartDegrees2!N147","v":0},{"$f":"IF(ISBLANK(FirstPartDegrees2!$M$9),\"\",FirstPartDegrees2!$M$9)","v":""},null,null,0,{"$f":"SeconedPartDegrees2!D147","v":0},{"$f":"IF(ISBLANK(SeconedPartDegrees2!$D$9),\"\",SeconedPartDegrees2!$D$9)","v":""},{"$f":"SeconedPartDegrees2!F147","v":0},{"$f":"IF(ISBLANK(SeconedPartDegrees2!$F$9),\"\",SeconedPartDegrees2!$F$9)","v":""},null,null,0,0,0,{"$f":"SeconedPartDegrees2!R147","v":""}]
[{"$f":"SeconedPartDegrees2!$A149","v":69},{"$f":"FirstPartDegrees2!$B149","v":""},{"$f":"FirstPartDegrees2!$H$7","v":"7-1"},{"$f":"FirstPartDegrees2!C149","v":0},{"$f":"IF(ISBLANK(FirstPartDegrees2!$C$9),\"\",FirstPartDegrees2!$C$9)","v":""},{"$f":"FirstPartDegrees2!F149","v":0},{"$f":"IF(ISBLANK(FirstPartDegrees2!$F$9),\"\",FirstPartDegrees2!$F$9)","v":""},null,null,0,{"$f":"FirstPartDegrees2!K149","v":0},{"$f":"IF(ISBLANK(FirstPartDegrees2!$K$9),\"\",FirstPartDegrees2!$K$9)","v":""},{"$f":"FirstPartDegrees2!L149","v":0},{"$f":"IF(ISBLANK(FirstPartDegrees2!$K$9),\"\",FirstPartDegrees2!$K$9)","v":""},null,null,0,{"$f":"SeconedPartDegrees2!M149","v":0},{"$f":"IF(ISBLANK(SeconedPartDegrees2!$M$9),\"\",SeconedPartDegrees2!$M$9)","v":""},{"$f":"SeconedPartDegrees2!N149","v":0},{"$f":"IF(ISBLANK(SeconedPartDegrees2!$M$9),\"\",SeconedPartDegrees2!$M$9)","v":""},null,null,0,{"$f":"FirstPartDegrees2!H149","v":0},{"$f":"IF(ISBLANK(FirstPartDegrees2!$H$9),\"\",FirstPartDegrees2!$H$9)","v":""},{"$f":"SeconedPartDegrees2!C149","v":0},{"$f":"IF(ISBLANK(SeconedPartDegrees2!$C$9),\"\",SeconedPartDegrees2!$C$9)","v":""},null,null,0,0,{"$f":"SeconedPartDegrees2!G149","v":0},{"$f":"IF(ISBLANK(SeconedPartDegrees2!$G$9),\"\",SeconedPartDegrees2!$G$9)","v":""},{"$f":"SeconedPartDegrees2!H149","v":0},{"$f":"IF(ISBLANK(SeconedPartDegrees2!$G$9),\"\",SeconedPartDegrees2!$G$9)","v":""},null,null,0,{"$f":"SeconedPartDegrees2!I149","v":0},{"$f":"IF(ISBLANK(SeconedPartDegrees2!$G$9),\"\",SeconedPartDegrees2!$G$9)","v":""},{"$f":"SeconedPartDegrees2!J149","v":0},{"$f":"IF(ISBLANK(SeconedPartDegrees2!$G$9),\"\",SeconedPartDegrees2!$G$9)","v":""},null,null,0,{"$f":"SeconedPartDegrees2!O149","v":0},{"$f":"IF(ISBLANK(SeconedPartDegrees2!$M$9),\"\",SeconedPartDegrees2!$M$9)","v":""},{"$f":"SeconedPartDegrees2!P149","v":0},{"$f":"IF(ISBLANK(SeconedPartDegrees2!$M$9),\"\",SeconedPartDegrees2!$M$9)","v":""},null,null,0,{"$f":"SeconedPartDegrees2!K149","v":0},{"$f":"IF(ISBLANK(SeconedPartDegrees2!$G$9),\"\",SeconedPartDegrees2!$G$9)","v":""},{"$f":"SeconedPartDegrees2!L149","v":0},{"$f":"IF(ISBLANK(SeconedPartDegrees2!$G$9),\"\",SeconedPartDegrees2!$G$9)","v":""},null,null,0,0,{"$f":"FirstPartDegrees2!D149","v":0},{"$f":"IF(ISBLANK(FirstPartDegrees2!$C$9),\"\",FirstPartDegrees2!$C$9)","v":""},{"$f":"FirstPartDegrees2!E149","v":0},{"$f":"IF(ISBLANK(FirstPartDegrees2!$C$9),\"\",FirstPartDegrees2!$C$9)","v":""},null,null,0,{"$f":"FirstPartDegrees2!I149","v":0},{"$f":"IF(ISBLANK(FirstPartDegrees2!$H$9),\"\",FirstPartDegrees2!$H$9)","v":""},{"$f":"FirstPartDegrees2!J149","v":0},{"$f":"IF(ISBLANK(FirstPartDegrees2!$H$9),\"\",FirstPartDegrees2!$H$9)","v":""},null,null,0,{"$f":"FirstPartDegrees2!M149","v":0},{"$f":"IF(ISBLANK(FirstPartDegrees2!$M$9),\"\",FirstPartDegrees2!$M$9)","v":""},{"$f":"FirstPartDegrees2!N149","v":0},{"$f":"IF(ISBLANK(FirstPartDegrees2!$M$9),\"\",FirstPartDegrees2!$M$9)","v":""},null,null,0,{"$f":"SeconedPartDegrees2!D149","v":0},{"$f":"IF(ISBLANK(SeconedPartDegrees2!$D$9),\"\",SeconedPartDegrees2!$D$9)","v":""},{"$f":"SeconedPartDegrees2!F149","v":0},{"$f":"IF(ISBLANK(SeconedPartDegrees2!$F$9),\"\",SeconedPartDegrees2!$F$9)","v":""},null,null,0,0,0,{"$f":"SeconedPartDegrees2!R149","v":""}]
[{"$f":"SeconedPartDegrees2!$A151","v":70},{"$f":"FirstPartDegrees2!$B151","v":""},{"$f":"FirstPartDegrees2!$H$7","v":"7-1"},{"$f":"FirstPartDegrees2!C151","v":0},{"$f":"IF(ISBLANK(FirstPartDegrees2!$C$9),\"\",FirstPartDegrees2!$C$9)","v":""},{"$f":"FirstPartDegrees2!F151","v":0},{"$f":"IF(ISBLANK(FirstPartDegrees2!$F$9),\"\",FirstPartDegrees2!$F$9)","v":""},null,null,0,{"$f":"FirstPartDegrees2!K151","v":0},{"$f":"IF(ISBLANK(FirstPartDegrees2!$K$9),\"\",FirstPartDegrees2!$K$9)","v":""},{"$f":"FirstPartDegrees2!L151","v":0},{"$f":"IF(ISBLANK(FirstPartDegrees2!$K$9),\"\",FirstPartDegrees2!$K$9)","v":""},null,null,0,{"$f":"SeconedPartDegrees2!M151","v":0},{"$f":"IF(ISBLANK(SeconedPartDegrees2!$M$9),\"\",SeconedPartDegrees2!$M$9)","v":""},{"$f":"SeconedPartDegrees2!N151","v":0},{"$f":"IF(ISBLANK(SeconedPartDegrees2!$M$9),\"\",SeconedPartDegrees2!$M$9)","v":""},null,null,0,{"$f":"FirstPartDegrees2!H151","v":0},{"$f":"IF(ISBLANK(FirstPartDegrees2!$H$9),\"\",FirstPartDegrees2!$H$9)","v":""},{"$f":"SeconedPartDegrees2!C151","v":0},{"$f":"IF(ISBLANK(SeconedPartDegrees2!$C$9),\"\",SeconedPartDegrees2!$C$9)","v":""},null,null,0,0,{"$f":"SeconedPartDegrees2!G151","v":0},{"$f":"IF(ISBLANK(SeconedPartDegrees2!$G$9),\"\",SeconedPartDegrees2!$G$9)","v":""},{"$f":"SeconedPartDegrees2!H151","v":0},{"$f":"IF(ISBLANK(SeconedPartDegrees2!$G$9),\"\",SeconedPartDegrees2!$G$9)","v":""},null,null,0,{"$f":"SeconedPartDegrees2!I151","v":0},{"$f":"IF(ISBLANK(SeconedPartDegrees2!$G$9),\"\",SeconedPartDegrees2!$G$9)","v":""},{"$f":"SeconedPartDegrees2!J151","v":0},{"$f":"IF(ISBLANK(SeconedPartDegrees2!$G$9),\"\",SeconedPartDegrees2!$G$9)","v":""},null,null,0,{"$f":"SeconedPartDegrees2!O151","v":0},{"$f":"IF(ISBLANK(SeconedPartDegrees2!$M$9),\"\",SeconedPartDegrees2!$M$9)","v":""},{"$f":"SeconedPartDegrees2!P151","v":0},{"$f":"IF(ISBLANK(SeconedPartDegrees2!$M$9),\"\",SeconedPartDegrees2!$M$9)","v":""},null,null,0,{"$f":"SeconedPartDegrees2!K151","v":0},{"$f":"IF(ISBLANK(SeconedPartDegrees2!$G$9),\"\",SeconedPartDegrees2!$G$9)","v":""},{"$f":"SeconedPartDegrees2!L151","v":0},{"$f":"IF(ISBLANK(SeconedPartDegrees2!$G$9),\"\",SeconedPartDegrees2!$G$9)","v":""},null,null,0,0,{"$f":"FirstPartDegrees2!D151","v":0},{"$f":"IF(ISBLANK(FirstPartDegrees2!$C$9),\"\",FirstPartDegrees2!$C$9)","v":""},{"$f":"FirstPartDegrees2!E151","v":0},{"$f":"IF(ISBLANK(FirstPartDegrees2!$C$9),\"\",FirstPartDegrees2!$C$9)","v":""},null,null,0,{"$f":"FirstPartDegrees2!I151","v":0},{"$f":"IF(ISBLANK(FirstPartDegrees2!$H$9),\"\",FirstPartDegrees2!$H$9)","v":""},{"$f":"FirstPartDegrees2!J151","v":0},{"$f":"IF(ISBLANK(FirstPartDegrees2!$H$9),\"\",FirstPartDegrees2!$H$9)","v":""},null,null,0,{"$f":"FirstPartDegrees2!M151","v":0},{"$f":"IF(ISBLANK(FirstPartDegrees2!$M$9),\"\",FirstPartDegrees2!$M$9)","v":""},{"$f":"FirstPartDegrees2!N151","v":0},{"$f":"IF(ISBLANK(FirstPartDegrees2!$M$9),\"\",FirstPartDegrees2!$M$9)","v":""},null,null,0,{"$f":"SeconedPartDegrees2!D151","v":0},{"$f":"IF(ISBLANK(SeconedPartDegrees2!$D$9),\"\",SeconedPartDegrees2!$D$9)","v":""},{"$f":"SeconedPartDegrees2!F151","v":0},{"$f":"IF(ISBLANK(SeconedPartDegrees2!$F$9),\"\",SeconedPartDegrees2!$F$9)","v":""},null,null,0,0,0,{"$f":"SeconedPartDegrees2!R151","v":""}]
[]
[]
[]
[1,2,3,4,5,6,7,8,9,10,11,12,13,14,15,16,17,18,19,20,21,22,23,24,25,26,27,28,29,30,31,32,33,34,35,36,37,38,39,40,41,42,43,44,45,46,47,48,49,50,51,52,53,54,55,56,57,58,59,60,61,62,63,64,65,66,67,68,69,70,71,72,73,74,75,76,77,78,79,80,81,82,83,84,85,86,87,88,89,90,91,92]
["ser","full name","class","k111","d111","k112","d112","k113","d113","11avg","k121","d121","k122","d122","k123","d123","12avg","k131","d131","k132","d132","k133","d133","13avg","k141","d141","k142","d142","k143","d143","14avg","general1","k211","d211","k212","d212","k213","d213","21avg","k221","d221","k222","d222","k223","d223","22avg","k231","d231","k232","d232","k233","d233","23avg","k241","d241","k242","d242","k243","d243","24avg","general2","k311","d311","k312","d312","k313","d313","31avg","k321","d321","k322","d322","k323","d323","32avg","k331","d331","k332","d332","k333","d333","33avg","k341","d341","k342","d342","k343","d343","34avg","generl3","generalTotal","final"]